{"text_format":"1","workbook":"xlsx","n_sheets":65,"sheets":["All years 2 bed","Summary table","Contents","Chart 1","Table 1, Chart 2","Chart 3","Table 2, Chart 4","Chart 5","Table 3, Chart 6","Chart 7","Table 4, Chart 8","Chart 9","Table 5, Chart 10","Chart 11","BRMA Profile - Aberdeen and Shi","BRMA Profile - Argyll and Bute","BRMA Profile - Ayrshires","BRMA Profile - Dumfries and Gal","BRMA Profile - Dundee and Angus","BRMA Profile - East Dunbartonsh","BRMA Profile - Fife","BRMA Profile - Forth Valley","BRMA Profile - Greater Glasgow","BRMA Profile - Highlands and Is","BRMA Profile - Lothian","BRMA Profile - North Lanarkshir","BRMA Profile - Perth and Kinros","BRMA Profile - Renfrewshire  In","BRMA Profile - Scottish Borders","BRMA Profile - South Lanarkshir","BRMA Profile - West Dunbartonsh","BRMA Profile - West Lothian","Table 6, Chart 12","Table 7","Table 8","Table 9","Table 10","Table 11","Table 12","Table 13","Table 14","Chart A1","Table C1, Chart C1","Chart C2","Chart C3","BRMA Profile Master","NEW BRMA PROFILE MASTER","Aberdeen & Shire","Argyll & Bute","Ayrshires","Dumfries & Galloway","Dundee & Angus","East Dunbartonshire","Fife","Forth Valley","Greater Glasgow","Highlands & Islands","Lothian","North Lanarkshire","Perth & Kinross","Renfrewshire Inverclyde","Scottish Borders","South Lanarkshire","West Dunbartonshire","West Lothian"],"not_rendered":{"charts":528,"images":18,"macros":1,"external_links":1,"defined_names":515,"comments":0,"pivot_tables":0},"unopened":[],"bounds":{"document_bytes":16777216,"sheet_cells":100000,"rows_first":2000,"rows_last":500,"rows_between":2000,"halvings":0,"cell_chars":16384,"cell_head_chars":4096},"cells_cut":0,"cells_raw":0,"read":"whole","date_system":"1900"}

{"sheet":"All years 2 bed","index":0,"n_rows":42,"n_cols":10,"rows_kept":42,"cut":false,"hidden":true,"merged":[]}
[]
[]
[null,2010,2011,2012,2013,2014,2015,2016,2017]
["Aberdeen and Shire",{"$f":"'Table 7'!$K6","v":642.58000000000004},{"$f":"'Table 8'!$K6","v":670.81},{"$f":"'Table 9'!$K6","v":701.44},{"$f":"'Table 10'!$K6","v":819.48},{"$f":"'Table 11'!$K6","v":898.08},{"$f":"'Table 12'!$K6","v":873.8},{"$f":"'Table 13'!$K6","v":754.39},{"$f":"'Table 14'!$K6","v":681.97}]
["Argyll and Bute",{"$f":"'Table 7'!$K7","v":503.03},{"$f":"'Table 8'!$K7","v":499.54},{"$f":"'Table 9'!$K7","v":508.31},{"$f":"'Table 10'!$K7","v":502.51},{"$f":"'Table 11'!$K7","v":495.44},{"$f":"'Table 12'!$K7","v":508.79},{"$f":"'Table 13'!$K7","v":524.75},{"$f":"'Table 14'!$K7","v":515.92999999999995}]
["Ayrshires",{"$f":"'Table 7'!$K8","v":464.47},{"$f":"'Table 8'!$K8","v":469.47},{"$f":"'Table 9'!$K8","v":459.24},{"$f":"'Table 10'!$K8","v":469.51},{"$f":"'Table 11'!$K8","v":460.9},{"$f":"'Table 12'!$K8","v":460.63},{"$f":"'Table 13'!$K8","v":463.38},{"$f":"'Table 14'!$K8","v":466.59}]
["Dumfries and Galloway",{"$f":"'Table 7'!$K9","v":435.12},{"$f":"'Table 8'!$K9","v":444.21},{"$f":"'Table 9'!$K9","v":443.75},{"$f":"'Table 10'!$K9","v":444.46},{"$f":"'Table 11'!$K9","v":442.14},{"$f":"'Table 12'!$K9","v":446.25},{"$f":"'Table 13'!$K9","v":446.89},{"$f":"'Table 14'!$K9","v":453.39}]
["Dundee and Angus",{"$f":"'Table 7'!$K10","v":497.46},{"$f":"'Table 8'!$K10","v":520.5},{"$f":"'Table 9'!$K10","v":502.96},{"$f":"'Table 10'!$K10","v":515.07000000000005},{"$f":"'Table 11'!$K10","v":517.76},{"$f":"'Table 12'!$K10","v":530.9},{"$f":"'Table 13'!$K10","v":545.96},{"$f":"'Table 14'!$K10","v":554.96}]
["East Dunbartonshire",{"$f":"'Table 7'!$K11","v":581.12},{"$f":"'Table 8'!$K11","v":571.97},{"$f":"'Table 9'!$K11","v":608.66},{"$f":"'Table 10'!$K11","v":587.11},{"$f":"'Table 11'!$K11","v":603.70000000000005},{"$f":"'Table 12'!$K11","v":610.75},{"$f":"'Table 13'!$K11","v":635.52},{"$f":"'Table 14'!$K11","v":653.4}]
["Fife",{"$f":"'Table 7'!$K12","v":463.99},{"$f":"'Table 8'!$K12","v":476.96},{"$f":"'Table 9'!$K12","v":481.34},{"$f":"'Table 10'!$K12","v":485.39},{"$f":"'Table 11'!$K12","v":509.51},{"$f":"'Table 12'!$K12","v":497.96},{"$f":"'Table 13'!$K12","v":510.77},{"$f":"'Table 14'!$K12","v":533.29}]
["Forth Valley",{"$f":"'Table 7'!$K13","v":492.41},{"$f":"'Table 8'!$K13","v":506.53},{"$f":"'Table 9'!$K13","v":510.32},{"$f":"'Table 10'!$K13","v":505.6},{"$f":"'Table 11'!$K13","v":506.37},{"$f":"'Table 12'!$K13","v":508.44},{"$f":"'Table 13'!$K13","v":529.72},{"$f":"'Table 14'!$K13","v":562.54999999999995}]
["Greater Glasgow",{"$f":"'Table 7'!$K14","v":563.64},{"$f":"'Table 8'!$K14","v":588.04999999999995},{"$f":"'Table 9'!$K14","v":572.74},{"$f":"'Table 10'!$K14","v":593.71},{"$f":"'Table 11'!$K14","v":626.38},{"$f":"'Table 12'!$K14","v":667.74},{"$f":"'Table 13'!$K14","v":695.92},{"$f":"'Table 14'!$K14","v":744.8}]
["Highland and Islands",{"$f":"'Table 7'!$K15","v":503.41},{"$f":"'Table 8'!$K15","v":513.76},{"$f":"'Table 9'!$K15","v":516.38},{"$f":"'Table 10'!$K15","v":527.24},{"$f":"'Table 11'!$K15","v":532.32000000000005},{"$f":"'Table 12'!$K15","v":544.54999999999995},{"$f":"'Table 13'!$K15","v":560.95000000000005},{"$f":"'Table 14'!$K15","v":575.09}]
["Lothian",{"$f":"'Table 7'!$K16","v":664.51},{"$f":"'Table 8'!$K16","v":688.96},{"$f":"'Table 9'!$K16","v":699.53},{"$f":"'Table 10'!$K16","v":728.57},{"$f":"'Table 11'!$K16","v":779.12},{"$f":"'Table 12'!$K16","v":828.92},{"$f":"'Table 13'!$K16","v":830.97},{"$f":"'Table 14'!$K16","v":888.18}]
["North Lanarkshire",{"$f":"'Table 7'!$K17","v":454.65},{"$f":"'Table 8'!$K17","v":463.08},{"$f":"'Table 9'!$K17","v":464.37},{"$f":"'Table 10'!$K17","v":463.09},{"$f":"'Table 11'!$K17","v":463.85},{"$f":"'Table 12'!$K17","v":474.83},{"$f":"'Table 13'!$K17","v":475.8},{"$f":"'Table 14'!$K17","v":480.25}]
["Perth and Kinross",{"$f":"'Table 7'!$K18","v":506.44},{"$f":"'Table 8'!$K18","v":512.44000000000005},{"$f":"'Table 9'!$K18","v":504.82},{"$f":"'Table 10'!$K18","v":518.61},{"$f":"'Table 11'!$K18","v":520.45000000000005},{"$f":"'Table 12'!$K18","v":528.99},{"$f":"'Table 13'!$K18","v":539.95000000000005},{"$f":"'Table 14'!$K18","v":549.21}]
["Renfrewshire / Inverclyde",{"$f":"'Table 7'!$K19","v":472.96},{"$f":"'Table 8'!$K19","v":477.94},{"$f":"'Table 9'!$K19","v":484.84},{"$f":"'Table 10'!$K19","v":480.45},{"$f":"'Table 11'!$K19","v":483},{"$f":"'Table 12'!$K19","v":488.37},{"$f":"'Table 13'!$K19","v":493.93},{"$f":"'Table 14'!$K19","v":507.56}]
["Scottish Borders",{"$f":"'Table 7'!$K20","v":441.58},{"$f":"'Table 8'!$K20","v":446.24},{"$f":"'Table 9'!$K20","v":444.92},{"$f":"'Table 10'!$K20","v":443.86},{"$f":"'Table 11'!$K20","v":444.22},{"$f":"'Table 12'!$K20","v":443.93},{"$f":"'Table 13'!$K20","v":452.23},{"$f":"'Table 14'!$K20","v":458.64}]
["South Lanarkshire",{"$f":"'Table 7'!$K21","v":480.55},{"$f":"'Table 8'!$K21","v":492.1},{"$f":"'Table 9'!$K21","v":485.26},{"$f":"'Table 10'!$K21","v":490.7},{"$f":"'Table 11'!$K21","v":494.06},{"$f":"'Table 12'!$K21","v":497.05},{"$f":"'Table 13'!$K21","v":500.05},{"$f":"'Table 14'!$K21","v":520.08000000000004}]
["West Dunbartonshire",{"$f":"'Table 7'!$K22","v":492.17},{"$f":"'Table 8'!$K22","v":493.6},{"$f":"'Table 9'!$K22","v":493.9},{"$f":"'Table 10'!$K22","v":486.03},{"$f":"'Table 11'!$K22","v":479},{"$f":"'Table 12'!$K22","v":476.44},{"$f":"'Table 13'!$K22","v":498.22},{"$f":"'Table 14'!$K22","v":495.63}]
["West Lothian",{"$f":"'Table 7'!$K23","v":527.37},{"$f":"'Table 8'!$K23","v":525.86},{"$f":"'Table 9'!$K23","v":527.74},{"$f":"'Table 10'!$K23","v":536.71},{"$f":"'Table 11'!$K23","v":542.6},{"$f":"'Table 12'!$K23","v":559.54},{"$f":"'Table 13'!$K23","v":577.79999999999995},{"$f":"'Table 14'!$K23","v":598.79}]
["Scotland averages",{"$f":"'Table 7'!$K5","v":536.27},{"$f":"'Table 8'!$K5","v":546.41999999999996},{"$f":"'Table 9'!$K5","v":552.89},{"$f":"'Table 10'!$K5","v":575.84},{"$f":"'Table 11'!$K5","v":596.45000000000005},{"$f":"'Table 12'!$K5","v":609.52},{"$f":"'Table 13'!$K5","v":615.64},{"$f":"'Table 14'!$K5","v":642.79999999999995}]
[]
["Aberdeen and Shire",null,{"$f":"(C4/B4)-1","v":4.3932273024370305E-2},{"$f":"(D4/C4)-1","v":4.5661215545385492E-2},0.16828239051094873,9.5914482354664043E-2,-2.7035453411722865E-2,-0.13665598535133894,{"$f":"(I4/H4)-1","v":-9.5998091173000621E-2},{"$f":"I24-H24","v":4.0657894178338316E-2}]
["Argyll and Bute",null,{"$f":"(C5/B5)-1","v":-6.9379559867204232E-3},1.755615165952662E-2,-1.1410359819794991E-2,-1.4069371753795967E-2,2.6945745196189197E-2,3.1368541048369725E-2,-1.6808003811338845E-2,{"$f":"I25-H25","v":-4.817654485970857E-2}]
["Ayrshires",null,{"$f":"(C6/B6)-1","v":1.076495790901455E-2},-2.1790529746309684E-2,2.2363034578869456E-2,-1.8338267555536691E-2,-5.8581037101324007E-4,5.9700844495582661E-3,6.927359834261182E-3,9.5727538470291584E-4]
["Dumfries and Galloway",null,{"$f":"(C7/B7)-1","v":2.0890788747931488E-2},-1.035546250647168E-3,1.6000000000000458E-3,-5.2198173063943143E-3,9.295698195141755E-3,1.4341736694678531E-3,1.4544966322808772E-2,1.3110792653340919E-2]
["Dundee and Angus",null,{"$f":"(C8/B8)-1","v":4.6315281630683991E-2},-3.3698366954851178E-2,2.4077461428344327E-2,5.2225911041217099E-3,2.5378553770086576E-2,2.8366924091166146E-2,1.648472415561586E-2,-1.1882199935550286E-2]
["East Dunbartonshire",null,{"$f":"(C9/B9)-1","v":-1.5745457048458089E-2},6.4146720981869576E-2,-3.5405645187789547E-2,2.8257055747645365E-2,1.1677985754513731E-2,4.0556692591076526E-2,2.8134441087613205E-2,-1.2422251503463322E-2]
["Fife",null,{"$f":"(C10/B10)-1","v":2.7953188646306915E-2},9.1831600134182345E-3,8.4140108862758023E-3,4.9692000247223866E-2,-2.2668838688151394E-2,2.5724957827937933E-2,4.4090295044736383E-2,1.836533721679845E-2]
["Forth Valley",null,{"$f":"(C11/B11)-1","v":2.8675290916106322E-2},7.482281404852742E-3,-9.2490986047969459E-3,1.5229430379746223E-3,4.0879199004679734E-3,4.1853512705530616E-2,6.1976138337234588E-2,2.0122625631703972E-2]
["Greater Glasgow",null,{"$f":"(C12/B12)-1","v":4.3307785111063701E-2},-2.6035201088342785E-2,3.6613472081572729E-2,5.5026864967745226E-2,6.6030205306682799E-2,4.2202054691945934E-2,7.0237958386021315E-2,2.8035903694075381E-2]
["Highland and Islands",null,{"$f":"(C13/B13)-1","v":2.0559782284817585E-2},5.0996574275925521E-3,2.1031023664743076E-2,9.6350807981184783E-3,2.297490231439725E-2,3.0116610044991443E-2,2.5207237721722064E-2,-4.9093723232693787E-3]
["Lothian",null,{"$f":"(C14/B14)-1","v":3.6794028682788804E-2},1.5341964700417821E-2,4.1513587694595122E-2,6.938248898527255E-2,6.3918266762501119E-2,2.4730975244897646E-3,6.8847250803278026E-2,6.6374153278788262E-2]
["North Lanarkshire",null,{"$f":"(C15/B15)-1","v":1.8541735400857906E-2},2.7856957761078771E-3,-2.7564226801903846E-3,1.6411496685311278E-3,2.3671445510401901E-2,2.0428363835478525E-3,9.3526691887346747E-3,7.3098328051868222E-3]
["Perth and Kinross",null,{"$f":"(C16/B16)-1","v":1.1847405418213608E-2},-1.4870033564905238E-2,2.7316667326968025E-2,3.5479454696207835E-3,1.6408876933422967E-2,2.0718728142308906E-2,1.7149736086674583E-2,-3.5689920556343235E-3]
["Renfrewshire / Inverclyde",null,{"$f":"(C17/B17)-1","v":1.0529431664411337E-2},1.4436958614052031E-2,-9.0545334543353784E-3,5.3075241960662822E-3,1.1118012422360213E-2,1.1384810696807746E-2,2.7595003340554314E-2,1.6210192643746568E-2]
["Scottish Borders",null,{"$f":"(C18/B18)-1","v":1.0553014176366782E-2},-2.9580494801003665E-3,-2.382450777667855E-3,8.1106655251650395E-4,-6.5282967898794286E-4,1.8696641362377031E-2,1.4174203392079088E-2,-4.5224379702979434E-3]
["South Lanarkshire",null,{"$f":"(C19/B19)-1","v":2.4034959941733547E-2},-1.3899613899613916E-2,1.1210485100770606E-2,6.8473609129815483E-3,6.0518965307858608E-3,6.0356100995875295E-3,4.0055994400560069E-2,3.4020384300972539E-2]
["West Dunbartonshire",null,{"$f":"(C20/B20)-1","v":2.9055001320681395E-3},6.0777957860613796E-4,-1.5934399676047817E-2,-1.446412772874095E-2,-5.3444676409185599E-3,4.5714045839979844E-2,-5.1985066837944016E-3,-5.0912552523774246E-2]
["West Lothian",null,{"$f":"(C21/B21)-1","v":-2.8632648804444161E-3},3.5750960331646375E-3,1.6997006101489465E-2,1.0974269158390948E-2,3.1220051603390919E-2,3.2633949315509225E-2,3.6327448944271312E-2,3.6934996287620869E-3]
["Scotland averages",null,{"$f":"(C22/B22)-1","v":1.8927033024409345E-2},1.1840708612422812E-2,4.1509160954258606E-2,3.5791191997777139E-2,2.1912985162209742E-2,1.004068775429845E-2,4.4116691572997135E-2,3.4076003818698686E-2]

{"sheet":"Summary table","index":1,"n_rows":36,"n_cols":13,"rows_kept":36,"cut":false,"hidden":true,"merged":[]}
["Change in average rents from 2016 to 2017",null,null,null,null,null,null,"Change in average rents from 2010 to 2017"]
[null,null,null,"Number of bedrooms",null,null,null,null,null,null,"Number of bedrooms"]
[null,1,2,3,4,"1, shared",null,null,1,2,3,4,"1, shared"]
["Aberdeen and Shire",{"$f":"VLOOKUP(A4,'Table 1, Chart 2'!$A$4:$F$23,6,FALSE)","v":-0.11525615424037328},{"$f":"VLOOKUP(A4,'Table 2, Chart 4'!$A$5:$F$23,6,FALSE)","v":-9.5998091173000621E-2},{"$f":"VLOOKUP(A4,'Table 3, Chart 6'!$A$4:$F$23,6,FALSE)","v":-6.9236144707842784E-2},{"$f":"VLOOKUP(A4,'Table 4, Chart 8'!$A$4:$F$23,6,FALSE)","v":-9.4793739787660702E-2},{"$f":"VLOOKUP(A4,'Table 5, Chart 10'!$A$4:$F$23,6,FALSE)","v":-0.11333547796392074},null,"Aberdeen and Shire",{"$f":"VLOOKUP(A4,'Table 1, Chart 2'!$A$4:$F$23,5,FALSE)","v":-5.2947185230024285E-2},{"$f":"VLOOKUP(A4,'Table 2, Chart 4'!$A$5:$F$23,5,FALSE)","v":6.129976034112472E-2},{"$f":"VLOOKUP(A4,'Table 3, Chart 6'!$A$4:$F$23,5,FALSE)","v":0.16415883389137664},{"$f":"VLOOKUP(A4,'Table 4, Chart 8'!$A$4:$F$23,5,FALSE)","v":0.23870885700358202},{"$f":"VLOOKUP(A4,'Table 5, Chart 10'!$A$4:$F$23,5,FALSE)","v":9.1011509652274558E-2}]
["Argyll and Bute",{"$f":"VLOOKUP(A5,'Table 1, Chart 2'!$A$4:$F$23,6,FALSE)","v":1.1689666044187863E-2},{"$f":"VLOOKUP(A5,'Table 2, Chart 4'!$A$5:$F$23,6,FALSE)","v":-1.6808003811338845E-2},{"$f":"VLOOKUP(A5,'Table 3, Chart 6'!$A$4:$F$23,6,FALSE)","v":-2.1429965910285453E-2},{"$f":"VLOOKUP(A5,'Table 4, Chart 8'!$A$4:$F$23,6,FALSE)","v":-8.4060815116785426E-3},{"$f":"VLOOKUP(A5,'Table 5, Chart 10'!$A$4:$F$23,6,FALSE)","v":-3.3791618353488095E-3},null,"Argyll and Bute",{"$f":"VLOOKUP(A5,'Table 1, Chart 2'!$A$4:$F$23,5,FALSE)","v":9.1844212950845439E-2},{"$f":"VLOOKUP(A5,'Table 2, Chart 4'!$A$5:$F$23,5,FALSE)","v":2.5644593761803502E-2},{"$f":"VLOOKUP(A5,'Table 3, Chart 6'!$A$4:$F$23,5,FALSE)","v":2.2084888791291668E-2},{"$f":"VLOOKUP(A5,'Table 4, Chart 8'!$A$4:$F$23,5,FALSE)","v":6.0990789146128987E-2},{"$f":"VLOOKUP(A5,'Table 5, Chart 10'!$A$4:$F$23,5,FALSE)","v":-4.6799746514575524E-2}]
["Ayrshires",{"$f":"VLOOKUP(A6,'Table 1, Chart 2'!$A$4:$F$23,6,FALSE)","v":1.0129416261672075E-2},{"$f":"VLOOKUP(A6,'Table 2, Chart 4'!$A$5:$F$23,6,FALSE)","v":6.927359834261182E-3},{"$f":"VLOOKUP(A6,'Table 3, Chart 6'!$A$4:$F$23,6,FALSE)","v":1.8502522285951173E-2},{"$f":"VLOOKUP(A6,'Table 4, Chart 8'!$A$4:$F$23,6,FALSE)","v":-7.9337094499298821E-4},{"$f":"VLOOKUP(A6,'Table 5, Chart 10'!$A$4:$F$23,6,FALSE)","v":8.8920717333571542E-3},null,"Ayrshires",{"$f":"VLOOKUP(A6,'Table 1, Chart 2'!$A$4:$F$23,5,FALSE)","v":-1.4517074210217862E-2},{"$f":"VLOOKUP(A6,'Table 2, Chart 4'!$A$5:$F$23,5,FALSE)","v":4.5643421534220519E-3},{"$f":"VLOOKUP(A6,'Table 3, Chart 6'!$A$4:$F$23,5,FALSE)","v":6.0151051969070224E-2},{"$f":"VLOOKUP(A6,'Table 4, Chart 8'!$A$4:$F$23,5,FALSE)","v":0.19621138168482699},{"$f":"VLOOKUP(A6,'Table 5, Chart 10'!$A$4:$F$23,5,FALSE)","v":0.12068279748094146}]
["Dumfries and Galloway",{"$f":"VLOOKUP(A7,'Table 1, Chart 2'!$A$4:$F$23,6,FALSE)","v":-2.0559531554977806E-3},{"$f":"VLOOKUP(A7,'Table 2, Chart 4'!$A$5:$F$23,6,FALSE)","v":1.4544966322808772E-2},{"$f":"VLOOKUP(A7,'Table 3, Chart 6'!$A$4:$F$23,6,FALSE)","v":2.3914693234224016E-2},{"$f":"VLOOKUP(A7,'Table 4, Chart 8'!$A$4:$F$23,6,FALSE)","v":8.7719298245614086E-2},{"$f":"VLOOKUP(A7,'Table 5, Chart 10'!$A$4:$F$23,6,FALSE)","v":2.5393368923854798E-2},null,"Dumfries and Galloway",{"$f":"VLOOKUP(A7,'Table 1, Chart 2'!$A$4:$F$23,5,FALSE)","v":6.8312252744191282E-2},{"$f":"VLOOKUP(A7,'Table 2, Chart 4'!$A$5:$F$23,5,FALSE)","v":4.1988416988417043E-2},{"$f":"VLOOKUP(A7,'Table 3, Chart 6'!$A$4:$F$23,5,FALSE)","v":5.3179352721013595E-2},{"$f":"VLOOKUP(A7,'Table 4, Chart 8'!$A$4:$F$23,5,FALSE)","v":0.13285382531286283},{"$f":"VLOOKUP(A7,'Table 5, Chart 10'!$A$4:$F$23,5,FALSE)","v":5.0633366920973089E-2}]
["Dundee and Angus",{"$f":"VLOOKUP(A8,'Table 1, Chart 2'!$A$4:$F$23,6,FALSE)","v":2.7509526543822105E-2},{"$f":"VLOOKUP(A8,'Table 2, Chart 4'!$A$5:$F$23,6,FALSE)","v":1.648472415561586E-2},{"$f":"VLOOKUP(A8,'Table 3, Chart 6'!$A$4:$F$23,6,FALSE)","v":2.2205119434467901E-2},{"$f":"VLOOKUP(A8,'Table 4, Chart 8'!$A$4:$F$23,6,FALSE)","v":7.6545088202639944E-2},{"$f":"VLOOKUP(A8,'Table 5, Chart 10'!$A$4:$F$23,6,FALSE)","v":4.5617475990801903E-2},null,"Dundee and Angus",{"$f":"VLOOKUP(A8,'Table 1, Chart 2'!$A$4:$F$23,5,FALSE)","v":0.12201100122552511},{"$f":"VLOOKUP(A8,'Table 2, Chart 4'!$A$5:$F$23,5,FALSE)","v":0.11558718288907666},{"$f":"VLOOKUP(A8,'Table 3, Chart 6'!$A$4:$F$23,5,FALSE)","v":0.13390880920761417},{"$f":"VLOOKUP(A8,'Table 4, Chart 8'!$A$4:$F$23,5,FALSE)","v":0.29084028745054047},{"$f":"VLOOKUP(A8,'Table 5, Chart 10'!$A$4:$F$23,5,FALSE)","v":0.17632960511298768}]
["East Dunbartonshire",{"$f":"VLOOKUP(A9,'Table 1, Chart 2'!$A$4:$F$23,6,FALSE)","v":1.8583479495531519E-2},{"$f":"VLOOKUP(A9,'Table 2, Chart 4'!$A$5:$F$23,6,FALSE)","v":2.8134441087613205E-2},{"$f":"VLOOKUP(A9,'Table 3, Chart 6'!$A$4:$F$23,6,FALSE)","v":7.5222011429369573E-2},{"$f":"VLOOKUP(A9,'Table 4, Chart 8'!$A$4:$F$23,6,FALSE)","v":0.21520424785414449},{"$f":"VLOOKUP(A9,'Table 5, Chart 10'!$A$4:$F$23,6,FALSE)","v":0.18664942422562958},null,"East Dunbartonshire",{"$f":"VLOOKUP(A9,'Table 1, Chart 2'!$A$4:$F$23,5,FALSE)","v":8.5033030094085804E-2},{"$f":"VLOOKUP(A9,'Table 2, Chart 4'!$A$5:$F$23,5,FALSE)","v":0.12438050660792954},{"$f":"VLOOKUP(A9,'Table 3, Chart 6'!$A$4:$F$23,5,FALSE)","v":0.2317271539425616},{"$f":"VLOOKUP(A9,'Table 4, Chart 8'!$A$4:$F$23,5,FALSE)","v":0.36688131502215482},{"$f":"VLOOKUP(A9,'Table 5, Chart 10'!$A$4:$F$23,5,FALSE)","v":0.28312691436942328}]
["Fife",{"$f":"VLOOKUP(A10,'Table 1, Chart 2'!$A$4:$F$23,6,FALSE)","v":2.1601489757914205E-2},{"$f":"VLOOKUP(A10,'Table 2, Chart 4'!$A$5:$F$23,6,FALSE)","v":4.4090295044736383E-2},{"$f":"VLOOKUP(A10,'Table 3, Chart 6'!$A$4:$F$23,6,FALSE)","v":6.4748784440842755E-2},{"$f":"VLOOKUP(A10,'Table 4, Chart 8'!$A$4:$F$23,6,FALSE)","v":1.8296067677687322E-2},{"$f":"VLOOKUP(A10,'Table 5, Chart 10'!$A$4:$F$23,6,FALSE)","v":-5.5629535016441634E-2},null,"Fife",{"$f":"VLOOKUP(A10,'Table 1, Chart 2'!$A$4:$F$23,5,FALSE)","v":8.564869785482454E-2},{"$f":"VLOOKUP(A10,'Table 2, Chart 4'!$A$5:$F$23,5,FALSE)","v":0.14935666716955098},{"$f":"VLOOKUP(A10,'Table 3, Chart 6'!$A$4:$F$23,5,FALSE)","v":0.16683243934496117},{"$f":"VLOOKUP(A10,'Table 4, Chart 8'!$A$4:$F$23,5,FALSE)","v":0.18609613221088583},{"$f":"VLOOKUP(A10,'Table 5, Chart 10'!$A$4:$F$23,5,FALSE)","v":0.28389861819256623}]
["Forth Valley",{"$f":"VLOOKUP(A11,'Table 1, Chart 2'!$A$4:$F$23,6,FALSE)","v":1.7790537887711011E-2},{"$f":"VLOOKUP(A11,'Table 2, Chart 4'!$A$5:$F$23,6,FALSE)","v":6.1976138337234588E-2},{"$f":"VLOOKUP(A11,'Table 3, Chart 6'!$A$4:$F$23,6,FALSE)","v":0.10925745641207185},{"$f":"VLOOKUP(A11,'Table 4, Chart 8'!$A$4:$F$23,6,FALSE)","v":4.0887139706441644E-2},{"$f":"VLOOKUP(A11,'Table 5, Chart 10'!$A$4:$F$23,6,FALSE)","v":1.7554858934169415E-2},null,"Forth Valley",{"$f":"VLOOKUP(A11,'Table 1, Chart 2'!$A$4:$F$23,5,FALSE)","v":7.2311271975180835E-2},{"$f":"VLOOKUP(A11,'Table 2, Chart 4'!$A$5:$F$23,5,FALSE)","v":0.14244227371499352},{"$f":"VLOOKUP(A11,'Table 3, Chart 6'!$A$4:$F$23,5,FALSE)","v":0.17000653452406889},{"$f":"VLOOKUP(A11,'Table 4, Chart 8'!$A$4:$F$23,5,FALSE)","v":0.27751201754795352},{"$f":"VLOOKUP(A11,'Table 5, Chart 10'!$A$4:$F$23,5,FALSE)","v":0.29543228240757546}]
["Greater Glasgow",{"$f":"VLOOKUP(A12,'Table 1, Chart 2'!$A$4:$F$23,6,FALSE)","v":5.5804472818875794E-2},{"$f":"VLOOKUP(A12,'Table 2, Chart 4'!$A$5:$F$23,6,FALSE)","v":7.0237958386021315E-2},{"$f":"VLOOKUP(A12,'Table 3, Chart 6'!$A$4:$F$23,6,FALSE)","v":5.4280000437124887E-2},{"$f":"VLOOKUP(A12,'Table 4, Chart 8'!$A$4:$F$23,6,FALSE)","v":0.17267039639237525},{"$f":"VLOOKUP(A12,'Table 5, Chart 10'!$A$4:$F$23,6,FALSE)","v":3.608759908638981E-2},null,"Greater Glasgow",{"$f":"VLOOKUP(A12,'Table 1, Chart 2'!$A$4:$F$23,5,FALSE)","v":0.25600494120876593},{"$f":"VLOOKUP(A12,'Table 2, Chart 4'!$A$5:$F$23,5,FALSE)","v":0.32141082960755085},{"$f":"VLOOKUP(A12,'Table 3, Chart 6'!$A$4:$F$23,5,FALSE)","v":0.32484653730482416},{"$f":"VLOOKUP(A12,'Table 4, Chart 8'!$A$4:$F$23,5,FALSE)","v":0.42790880724144698},{"$f":"VLOOKUP(A12,'Table 5, Chart 10'!$A$4:$F$23,5,FALSE)","v":0.23149153625039909}]
["Highland and Islands",{"$f":"VLOOKUP(A13,'Table 1, Chart 2'!$A$4:$F$23,6,FALSE)","v":2.1454940282301882E-2},{"$f":"VLOOKUP(A13,'Table 2, Chart 4'!$A$5:$F$23,6,FALSE)","v":2.5207237721722064E-2},{"$f":"VLOOKUP(A13,'Table 3, Chart 6'!$A$4:$F$23,6,FALSE)","v":3.0651283959806541E-2},{"$f":"VLOOKUP(A13,'Table 4, Chart 8'!$A$4:$F$23,6,FALSE)","v":6.6020645129913902E-3},{"$f":"VLOOKUP(A13,'Table 5, Chart 10'!$A$4:$F$23,6,FALSE)","v":2.3388887151746474E-2},null,"Highland and Islands",{"$f":"VLOOKUP(A13,'Table 1, Chart 2'!$A$4:$F$23,5,FALSE)","v":0.13341847184405187},{"$f":"VLOOKUP(A13,'Table 2, Chart 4'!$A$5:$F$23,5,FALSE)","v":0.14238890764982814},{"$f":"VLOOKUP(A13,'Table 3, Chart 6'!$A$4:$F$23,5,FALSE)","v":0.16404660625115608},{"$f":"VLOOKUP(A13,'Table 4, Chart 8'!$A$4:$F$23,5,FALSE)","v":0.10286673416102743},{"$f":"VLOOKUP(A13,'Table 5, Chart 10'!$A$4:$F$23,5,FALSE)","v":0.13891498764658805}]
["Lothian",{"$f":"VLOOKUP(A14,'Table 1, Chart 2'!$A$4:$F$23,6,FALSE)","v":7.8646694847760878E-2},{"$f":"VLOOKUP(A14,'Table 2, Chart 4'!$A$5:$F$23,6,FALSE)","v":6.8847250803278026E-2},{"$f":"VLOOKUP(A14,'Table 3, Chart 6'!$A$4:$F$23,6,FALSE)","v":2.8912237774818994E-2},{"$f":"VLOOKUP(A14,'Table 4, Chart 8'!$A$4:$F$23,6,FALSE)","v":5.2859183241642071E-2},{"$f":"VLOOKUP(A14,'Table 5, Chart 10'!$A$4:$F$23,6,FALSE)","v":6.0566519871690261E-2},null,"Lothian",{"$f":"VLOOKUP(A14,'Table 1, Chart 2'!$A$4:$F$23,5,FALSE)","v":0.35342839572603579},{"$f":"VLOOKUP(A14,'Table 2, Chart 4'!$A$5:$F$23,5,FALSE)","v":0.33659388120570033},{"$f":"VLOOKUP(A14,'Table 3, Chart 6'!$A$4:$F$23,5,FALSE)","v":0.24638218115247157},{"$f":"VLOOKUP(A14,'Table 4, Chart 8'!$A$4:$F$23,5,FALSE)","v":0.23365977624198098},{"$f":"VLOOKUP(A14,'Table 5, Chart 10'!$A$4:$F$23,5,FALSE)","v":0.21975926215413466}]
["North Lanarkshire",{"$f":"VLOOKUP(A15,'Table 1, Chart 2'!$A$4:$F$23,6,FALSE)","v":2.23941261308509E-2},{"$f":"VLOOKUP(A15,'Table 2, Chart 4'!$A$5:$F$23,6,FALSE)","v":9.3526691887346747E-3},{"$f":"VLOOKUP(A15,'Table 3, Chart 6'!$A$4:$F$23,6,FALSE)","v":-1.599957476213254E-2},{"$f":"VLOOKUP(A15,'Table 4, Chart 8'!$A$4:$F$23,6,FALSE)","v":8.0179742530969156E-2},{"$f":"VLOOKUP(A15,'Table 5, Chart 10'!$A$4:$F$23,6,FALSE)","v":8.357294661832726E-2},null,"North Lanarkshire",{"$f":"VLOOKUP(A15,'Table 1, Chart 2'!$A$4:$F$23,5,FALSE)","v":4.4833315467895707E-2},{"$f":"VLOOKUP(A15,'Table 2, Chart 4'!$A$5:$F$23,5,FALSE)","v":5.6307049378643059E-2},{"$f":"VLOOKUP(A15,'Table 3, Chart 6'!$A$4:$F$23,5,FALSE)","v":1.2469919054911349E-2},{"$f":"VLOOKUP(A15,'Table 4, Chart 8'!$A$4:$F$23,5,FALSE)","v":0.14579066022544285},{"$f":"VLOOKUP(A15,'Table 5, Chart 10'!$A$4:$F$23,5,FALSE)","v":0.16781191053624367}]
["Perth and Kinross",{"$f":"VLOOKUP(A16,'Table 1, Chart 2'!$A$4:$F$23,6,FALSE)","v":1.9576136224427332E-2},{"$f":"VLOOKUP(A16,'Table 2, Chart 4'!$A$5:$F$23,6,FALSE)","v":1.7149736086674583E-2},{"$f":"VLOOKUP(A16,'Table 3, Chart 6'!$A$4:$F$23,6,FALSE)","v":7.8468092406221324E-2},{"$f":"VLOOKUP(A16,'Table 4, Chart 8'!$A$4:$F$23,6,FALSE)","v":3.7326627637424004E-4},{"$f":"VLOOKUP(A16,'Table 5, Chart 10'!$A$4:$F$23,6,FALSE)","v":6.7834229235304244E-2},null,"Perth and Kinross",{"$f":"VLOOKUP(A16,'Table 1, Chart 2'!$A$4:$F$23,5,FALSE)","v":0.10253285290377279},{"$f":"VLOOKUP(A16,'Table 2, Chart 4'!$A$5:$F$23,5,FALSE)","v":8.4452254956164596E-2},{"$f":"VLOOKUP(A16,'Table 3, Chart 6'!$A$4:$F$23,5,FALSE)","v":0.16552597833979643},{"$f":"VLOOKUP(A16,'Table 4, Chart 8'!$A$4:$F$23,5,FALSE)","v":0.18766180758017481},{"$f":"VLOOKUP(A16,'Table 5, Chart 10'!$A$4:$F$23,5,FALSE)","v":0.17585732834338974}]
["Renfrewshire / Inverclyde",{"$f":"VLOOKUP(A17,'Table 1, Chart 2'!$A$4:$F$23,6,FALSE)","v":-1.2742594484167591E-2},{"$f":"VLOOKUP(A17,'Table 2, Chart 4'!$A$5:$F$23,6,FALSE)","v":2.7595003340554314E-2},{"$f":"VLOOKUP(A17,'Table 3, Chart 6'!$A$4:$F$23,6,FALSE)","v":1.3061732234489254E-2},{"$f":"VLOOKUP(A17,'Table 4, Chart 8'!$A$4:$F$23,6,FALSE)","v":7.9529328287606393E-2},{"$f":"VLOOKUP(A17,'Table 5, Chart 10'!$A$4:$F$23,6,FALSE)","v":5.9204683748315112E-4},null,"Renfrewshire / Inverclyde",{"$f":"VLOOKUP(A17,'Table 1, Chart 2'!$A$4:$F$23,5,FALSE)","v":3.2639760677368512E-2},{"$f":"VLOOKUP(A17,'Table 2, Chart 4'!$A$5:$F$23,5,FALSE)","v":7.3156292286874258E-2},{"$f":"VLOOKUP(A17,'Table 3, Chart 6'!$A$4:$F$23,5,FALSE)","v":6.5221301155965472E-2},{"$f":"VLOOKUP(A17,'Table 4, Chart 8'!$A$4:$F$23,5,FALSE)","v":0.31395739372421083},{"$f":"VLOOKUP(A17,'Table 5, Chart 10'!$A$4:$F$23,5,FALSE)","v":2.6834537230810751E-2}]
["Scottish Borders",{"$f":"VLOOKUP(A18,'Table 1, Chart 2'!$A$4:$F$23,6,FALSE)","v":2.0803740530302983E-2},{"$f":"VLOOKUP(A18,'Table 2, Chart 4'!$A$5:$F$23,6,FALSE)","v":1.4174203392079088E-2},{"$f":"VLOOKUP(A18,'Table 3, Chart 6'!$A$4:$F$23,6,FALSE)","v":3.6265728886202497E-2},{"$f":"VLOOKUP(A18,'Table 4, Chart 8'!$A$4:$F$23,6,FALSE)","v":1.4031577809019202E-2},{"$f":"VLOOKUP(A18,'Table 5, Chart 10'!$A$4:$F$23,6,FALSE)","v":0.15528088224409742},null,"Scottish Borders",{"$f":"VLOOKUP(A18,'Table 1, Chart 2'!$A$4:$F$23,5,FALSE)","v":2.6056694131294744E-2},{"$f":"VLOOKUP(A18,'Table 2, Chart 4'!$A$5:$F$23,5,FALSE)","v":3.863399610489604E-2},{"$f":"VLOOKUP(A18,'Table 3, Chart 6'!$A$4:$F$23,5,FALSE)","v":9.8667857697685157E-2},{"$f":"VLOOKUP(A18,'Table 4, Chart 8'!$A$4:$F$23,5,FALSE)","v":8.7679614888279911E-2},{"$f":"VLOOKUP(A18,'Table 5, Chart 10'!$A$4:$F$23,5,FALSE)","v":0.22121816688182139}]
["South Lanarkshire",{"$f":"VLOOKUP(A19,'Table 1, Chart 2'!$A$4:$F$23,6,FALSE)","v":2.7532808398950115E-2},{"$f":"VLOOKUP(A19,'Table 2, Chart 4'!$A$5:$F$23,6,FALSE)","v":4.0055994400560069E-2},{"$f":"VLOOKUP(A19,'Table 3, Chart 6'!$A$4:$F$23,6,FALSE)","v":3.9178108014703561E-2},{"$f":"VLOOKUP(A19,'Table 4, Chart 8'!$A$4:$F$23,6,FALSE)","v":7.2972206188794519E-2},{"$f":"VLOOKUP(A19,'Table 5, Chart 10'!$A$4:$F$23,6,FALSE)","v":0.17794350999682629},null,"South Lanarkshire",{"$f":"VLOOKUP(A19,'Table 1, Chart 2'!$A$4:$F$23,5,FALSE)","v":2.3583549036525708E-2},{"$f":"VLOOKUP(A19,'Table 2, Chart 4'!$A$5:$F$23,5,FALSE)","v":8.2259910519196788E-2},{"$f":"VLOOKUP(A19,'Table 3, Chart 6'!$A$4:$F$23,5,FALSE)","v":5.5257784583971459E-2},{"$f":"VLOOKUP(A19,'Table 4, Chart 8'!$A$4:$F$23,5,FALSE)","v":0.1866999924259638},{"$f":"VLOOKUP(A19,'Table 5, Chart 10'!$A$4:$F$23,5,FALSE)","v":0.20092535671530731}]
["West Dunbartonshire",{"$f":"VLOOKUP(A20,'Table 1, Chart 2'!$A$4:$F$23,6,FALSE)","v":-4.4703061785126286E-3},{"$f":"VLOOKUP(A20,'Table 2, Chart 4'!$A$5:$F$23,6,FALSE)","v":-5.1985066837944016E-3},{"$f":"VLOOKUP(A20,'Table 3, Chart 6'!$A$4:$F$23,6,FALSE)","v":4.966979492526935E-2},{"$f":"VLOOKUP(A20,'Table 4, Chart 8'!$A$4:$F$23,6,FALSE)","v":-2.2614451185879791E-2},{"$f":"VLOOKUP(A20,'Table 5, Chart 10'!$A$4:$F$23,6,FALSE)","v":2.7694122760719031E-2},null,"West Dunbartonshire",{"$f":"VLOOKUP(A20,'Table 1, Chart 2'!$A$4:$F$23,5,FALSE)","v":4.5106340086684682E-3},{"$f":"VLOOKUP(A20,'Table 2, Chart 4'!$A$5:$F$23,5,FALSE)","v":7.0300912286405115E-3},{"$f":"VLOOKUP(A20,'Table 3, Chart 6'!$A$4:$F$23,5,FALSE)","v":2.1859032923899457E-2},{"$f":"VLOOKUP(A20,'Table 4, Chart 8'!$A$4:$F$23,5,FALSE)","v":7.9106022775714102E-2},{"$f":"VLOOKUP(A20,'Table 5, Chart 10'!$A$4:$F$23,5,FALSE)","v":0.14579943923292604}]
["West Lothian",{"$f":"VLOOKUP(A21,'Table 1, Chart 2'!$A$4:$F$23,6,FALSE)","v":1.5450424567452048E-2},{"$f":"VLOOKUP(A21,'Table 2, Chart 4'!$A$5:$F$23,6,FALSE)","v":3.6327448944271312E-2},{"$f":"VLOOKUP(A21,'Table 3, Chart 6'!$A$4:$F$23,6,FALSE)","v":2.6081793431037559E-2},{"$f":"VLOOKUP(A21,'Table 4, Chart 8'!$A$4:$F$23,6,FALSE)","v":5.9511262264622555E-2},{"$f":"VLOOKUP(A21,'Table 5, Chart 10'!$A$4:$F$23,6,FALSE)","v":4.1907514450867156E-2},null,"West Lothian",{"$f":"VLOOKUP(A21,'Table 1, Chart 2'!$A$4:$F$23,5,FALSE)","v":0.11436778924751256},{"$f":"VLOOKUP(A21,'Table 2, Chart 4'!$A$5:$F$23,5,FALSE)","v":0.13542674023930057},{"$f":"VLOOKUP(A21,'Table 3, Chart 6'!$A$4:$F$23,5,FALSE)","v":0.15026705846063915},{"$f":"VLOOKUP(A21,'Table 4, Chart 8'!$A$4:$F$23,5,FALSE)","v":0.16891835193421167},{"$f":"VLOOKUP(A21,'Table 5, Chart 10'!$A$4:$F$23,5,FALSE)","v":0.18981165919282517}]
["Scotland",{"$f":"VLOOKUP(A22,'Table 1, Chart 2'!$A$4:$F$23,6,FALSE)","v":4.0263299970929145E-2},{"$f":"VLOOKUP(A22,'Table 2, Chart 4'!$A$5:$F$23,6,FALSE)","v":4.4116691572997135E-2},{"$f":"VLOOKUP(A22,'Table 3, Chart 6'!$A$4:$F$23,6,FALSE)","v":4.566950053134966E-2},{"$f":"VLOOKUP(A22,'Table 4, Chart 8'!$A$4:$F$23,6,FALSE)","v":4.8711311818482095E-2},{"$f":"VLOOKUP(A22,'Table 5, Chart 10'!$A$4:$F$23,6,FALSE)","v":2.9777332704995274E-2},null,"Scotland",{"$f":"VLOOKUP(A22,'Table 1, Chart 2'!$A$4:$F$23,5,FALSE)","v":0.14956745221322199},{"$f":"VLOOKUP(A22,'Table 2, Chart 4'!$A$5:$F$23,5,FALSE)","v":0.19864993380200269},{"$f":"VLOOKUP(A22,'Table 3, Chart 6'!$A$4:$F$23,5,FALSE)","v":0.15949329798202982},{"$f":"VLOOKUP(A22,'Table 4, Chart 8'!$A$4:$F$23,5,FALSE)","v":0.19200634317847487},{"$f":"VLOOKUP(A22,'Table 5, Chart 10'!$A$4:$F$23,5,FALSE)","v":0.16621080720480319}]
[]
["CPI inflation 2016 to 2017 = 3.0%",null,null,null,null,null,null,"CPI inflation 2010 to 2016 = 15.9%"]
[]
["Key:","number and percentage of table cells:",null,null,null,null,null,"Key:","number and percentage of table cells:"]
["Rents have decreased",{"$f":"COUNTIF(B4:F21,\"<0%\")","v":17},{"$f":"B27/90","v":0.18888888888888888},null,null,null,null,"Rents have decreased",{"$f":"COUNTIF(I4:M21,\"<0%\")","v":3},{"$f":"I27/90","v":3.3333333333333333E-2}]
["Rents have increased, but not above inflation",{"$f":"90-B27-B29","v":37},{"$f":"B28/90","v":0.41111111111111109},null,null,null,null,"Rents have increased, but not above inflation",{"$f":"90-I27-I29","v":52},{"$f":"I28/90","v":0.57777777777777772}]
["Rents have increased above inflation",{"$f":"COUNTIF(B4:F21,\">3.0%\")","v":36},{"$f":"B29/90","v":0.4},null,null,null,null,"Rents have increased above inflation",{"$f":"COUNTIF(I4:M21,\">15.9%\")","v":35},{"$f":"I29/90","v":0.3888888888888889}]
[]
[]
[]
[]
[]
["2010 to 2017 inflation",0.15924276169265039]
["2016 to 2017 inflation",2.9673590504450953E-2]

{"sheet":"Contents","index":2,"n_rows":55,"n_cols":3,"rows_kept":55,"cut":false,"hidden":false,"merged":[]}
[]
[null,"Contents"]
[]
[null,"Chart 1","Cumulative % Change in Average (mean) Rents from 2010 to 2017 (years to end-Sept), by Broad Rental Market Area - 2-Bedroom Properties  "]
[null,"Table 1","1 Bedroom Properties - Average (mean) Monthly Rents (£): Cumulative Changes 2010 to 2017, by Broad Rental Market Area"]
[null,"Chart 2","Cumulative % Change in Average (mean) Rents from 2010 to 2017 (years to end-Sept), by Broad Rental Market Area - 1-Bedroom Properties  "]
[null,"Chart 3","Average (mean) Monthly Rents 2017 (year to end-Sept), by Broad Rental Market Area -  1-Bedroom Properties  "]
[null,"Table 2","2 Bedroom Properties - Average (mean) Monthly Rents (£): Cumulative Changes 2010 to 2017, by Broad Rental Market Area"]
[null,"Chart 4","Cumulative % Change in Average (mean) Rents from 2010 to 2017 (years to end-Sept), by Broad Rental Market Area - 2-Bedroom Properties  "]
[null,"Chart 5","Average (mean) Monthly Rents 2017 (year to end-Sept), by Broad Rental Market Area -  2-Bedroom Properties  "]
[null,"Table 3","3 Bedroom Properties - Average (mean) Monthly Rents (£): Cumulative Changes 2010 to 2017, by Broad Rental Market Area"]
[null,"Chart 6","Cumulative % Change in Average (mean) Rents from 2010 to 2017 (years to end-Sept), by Broad Rental Market Area - 3-Bedroom Properties  "]
[null,"Chart 7","Average (mean) Monthly Rents 2017 (year to end-Sept), by Broad Rental Market Area -  3-Bedroom Properties  "]
[null,"Table 4","4 Bedroom Properties - Average (mean) Monthly Rents (£): Cumulative Changes 2010 to 2017, by Broad Rental Market Area"]
[null,"Chart 8","Cumulative % Change in Average (mean) Rents from 2010 to 2017 (years to end-Sept), by Broad Rental Market Area - 4-Bedroom Properties  "]
[null,"Chart 9","Average (mean) Monthly Rents 2017 (year to end-Sept), by Broad Rental Market Area - 4-Bedroom Properties  "]
[null,"Table 5","1 Bedroom Shared Properties - Average (mean) Monthly Rents (£): Cumulative Changes 2010 to 2017, by Broad Rental Market Area"]
[null,"Chart 10","Cumulative % Change in Average (mean) Rents from 2010 to 2017 (years to end-Sept), by Broad Rental Market Area - 1 bedroom shared properties  "]
[null,"Chart 11","Average (mean) Monthly Rents 2017 (year to end-Sept), by Broad Rental Market Area -  1-Bedroom Shared Properties  "]
[null,"Table 6","Summary of Average (mean) Private Rents (£ monthly): Scotland, 2010 to 2017 (years to end Sept)"]
[null,"Chart 12","Average (mean) monthly rents, by Property Size: Scotland, 2010 to 2017"]
[null,"Table 7","Private Rents (£ Monthly), by Broad Rental Market Area, 2010 (year to end Sept)"]
[null,"Table 8","Private Rents (£ Monthly), by Broad Rental Market Area, 2011 (year to end Sept)"]
[null,"Table 9","Private Rents (£ Monthly), by Broad Rental Market Area, 2012 (year to end Sept)"]
[null,"Table 10","Private Rents (£ Monthly), by Broad Rental Market Area, 2013 (year to end Sept)"]
[null,"Table 11","Private Rents (£ Monthly), by Broad Rental Market Area, 2014 (year to end Sept)"]
[null,"Table 12","Private Rents (£ Monthly), by Broad Rental Market Area, 2015 (year to end Sept)"]
[null,"Table 13","Private Rents (£ Monthly), by Broad Rental Market Area, 2016 (year to end Sept)"]
[null,"Table 14","Private Rents (£ Monthly), by Broad Rental Market Area, 2017 (year to end Sept)"]
[null,"Chart A1","Number of Dwelllings by Tenure, Scotland, 1981 to 2017"]
[null,"Table C1","Sample Sizes by Broad Rental Market Area and size of property, 2017 (year to end Sept)"]
[null,"Chart C1","2017 Sample Data Profiles"]
[null,"Chart C2","An Example of Sample Data Profiles that can Change Over Time - Argyll and Bute broad rental market area"]
[null,"Chart C3","Sample Numbers in Broad Rental Market Areas, as proportions of the Scotland total"]
[]
[]
[null,"BRMA Profiles"]
[null,"Aberdeen & Shire"]
[null,"Argyll & Bute"]
[null,"Ayrshires"]
[null,"Dumfries & Galloway"]
[null,"Dundee & Angus"]
[null,"East Dunbartonshire"]
[null,"Fife"]
[null,"Forth Valley"]
[null,"Greater Glasgow"]
[null,"Highlands & Islands"]
[null,"Lothian"]
[null,"North Lanarkshire"]
[null,"Perth & Kinross"]
[null,"Renfrewshire / Inverclyde"]
[null,"Scottish Borders"]
[null,"South Lanarkshire"]
[null,"West Dunbartonshire"]
[null,"West Lothian"]

{"sheet":"Chart 1","index":3,"n_rows":23,"n_cols":20,"rows_kept":23,"cut":false,"hidden":false,"merged":[[2,0,2,6]]}
["Back to contents"]
[]
["2 Bedroom Properties - Average (mean) Monthly Rents (£): Cumulative Changes 2010 to 2017, by Broad Rental Market Area"]
[null,2010,2016,2017,"2010 to 2017 change","2016 to 2017 change",null,null,null,null,null,null,null,null,null,null,null,null,null,"Cumulative CPI - 2010 to 2017"]
["Lothian",664.51,830.97,888.18,0.33659388120570033,6.8847250803278026E-2,null,null,null,null,null,null,null,null,null,null,null,null,null,{"$f":"'Summary table'!$B$35","v":0.15924276169265039}]
["Greater Glasgow",563.64,695.92,744.8,0.32141082960755085,7.0237958386021315E-2,null,null,null,null,null,null,null,null,null,null,null,null,null,{"$f":"'Summary table'!$B$35","v":0.15924276169265039}]
["Scotland",536.27,615.64,642.79999999999995,0.19864993380200269,4.4116691572997135E-2,null,null,null,null,null,null,null,null,null,null,null,null,null,{"$f":"'Summary table'!$B$35","v":0.15924276169265039}]
["Fife",463.99,510.77,533.29,0.14935666716955098,4.4090295044736383E-2,null,null,null,null,null,null,null,null,null,null,null,null,null,{"$f":"'Summary table'!$B$35","v":0.15924276169265039}]
["Forth Valley",492.41,529.72,562.54999999999995,0.14244227371499352,6.1976138337234588E-2,null,null,null,null,null,null,null,null,null,null,null,null,null,{"$f":"'Summary table'!$B$35","v":0.15924276169265039}]
["Highland and Islands",503.41,560.95000000000005,575.09,0.14238890764982814,2.5207237721722064E-2,null,null,null,null,null,null,null,null,null,null,null,null,null,{"$f":"'Summary table'!$B$35","v":0.15924276169265039}]
["West Lothian",527.37,577.79999999999995,598.79,0.13542674023930057,3.6327448944271312E-2,null,null,null,null,null,null,null,null,null,null,null,null,null,{"$f":"'Summary table'!$B$35","v":0.15924276169265039}]
["East Dunbartonshire",581.12,635.52,653.4,0.12438050660792954,2.8134441087613205E-2,null,null,null,null,null,null,null,null,null,null,null,null,null,{"$f":"'Summary table'!$B$35","v":0.15924276169265039}]
["Dundee and Angus",497.46,545.96,554.96,0.11558718288907666,1.648472415561586E-2,null,null,null,null,null,null,null,null,null,null,null,null,null,{"$f":"'Summary table'!$B$35","v":0.15924276169265039}]
["Perth and Kinross",506.44,539.95000000000005,549.21,8.4452254956164596E-2,1.7149736086674583E-2,null,null,null,null,null,null,null,null,null,null,null,null,null,{"$f":"'Summary table'!$B$35","v":0.15924276169265039}]
["South Lanarkshire",480.55,500.05,520.08000000000004,8.2259910519196788E-2,4.0055994400560069E-2,null,null,null,null,null,null,null,null,null,null,null,null,null,{"$f":"'Summary table'!$B$35","v":0.15924276169265039}]
["Renfrewshire / Inverclyde",472.96,493.93,507.56,7.3156292286874258E-2,2.7595003340554314E-2,null,null,null,null,null,null,null,null,null,null,null,null,null,{"$f":"'Summary table'!$B$35","v":0.15924276169265039}]
["Aberdeen and Shire",642.58000000000004,754.39,681.97,6.129976034112472E-2,-9.5998091173000621E-2,null,null,null,null,null,null,null,null,null,null,null,null,null,{"$f":"'Summary table'!$B$35","v":0.15924276169265039}]
["North Lanarkshire",454.65,475.8,480.25,5.6307049378643059E-2,9.3526691887346747E-3,null,null,null,null,null,null,null,null,null,null,null,null,null,{"$f":"'Summary table'!$B$35","v":0.15924276169265039}]
["Dumfries and Galloway",435.12,446.89,453.39,4.1988416988417043E-2,1.4544966322808772E-2,null,null,null,null,null,null,null,null,null,null,null,null,null,{"$f":"'Summary table'!$B$35","v":0.15924276169265039}]
["Scottish Borders",441.58,452.23,458.64,3.863399610489604E-2,1.4174203392079088E-2,null,null,null,null,null,null,null,null,null,null,null,null,null,{"$f":"'Summary table'!$B$35","v":0.15924276169265039}]
["Argyll and Bute",503.03,524.75,515.92999999999995,2.5644593761803502E-2,-1.6808003811338845E-2,null,null,null,null,null,null,null,null,null,null,null,null,null,{"$f":"'Summary table'!$B$35","v":0.15924276169265039}]
["West Dunbartonshire",492.17,498.22,495.63,7.0300912286405115E-3,-5.1985066837944016E-3,null,null,null,null,null,null,null,null,null,null,null,null,null,{"$f":"'Summary table'!$B$35","v":0.15924276169265039}]
["Ayrshires",464.47,463.38,466.59,4.5643421534220519E-3,6.927359834261182E-3,null,null,null,null,null,null,null,null,null,null,null,null,null,{"$f":"'Summary table'!$B$35","v":0.15924276169265039}]

{"sheet":"Table 1, Chart 2","index":4,"n_rows":23,"n_cols":18,"rows_kept":23,"cut":false,"hidden":false,"merged":[[2,0,2,5]]}
["Back to contents"]
[]
["TABLE 1: 1 Bedroom Properties - Average (mean) Monthly Rents (£): Cumulative Changes 2010 to 2017, by Broad Rental Market Area"]
[null,2010,2016,2017,"2010 to 2017 change","2016 to 2017 change",null,null,null,null,null,null,null,null,null,null,null,"Cumulative CPI - 2010 to 2017"]
["Lothian",520.36,652.91999999999996,704.27,0.35342839572603579,7.8646694847760878E-2,null,null,null,null,null,null,null,null,null,null,null,{"$f":"'Summary table'!$B$35","v":0.15924276169265039}]
["Greater Glasgow",437.14,520.03,549.04999999999995,0.25600494120876593,5.5804472818875794E-2,null,null,null,null,null,null,null,null,null,null,null,{"$f":"'Summary table'!$B$35","v":0.15924276169265039}]
["Scotland",435.79,481.58,500.97,0.14956745221322199,4.0263299970929145E-2,null,null,null,null,null,null,null,null,null,null,null,{"$f":"'Summary table'!$B$35","v":0.15924276169265039}]
["Highland and Islands",415.01,460.5,470.38,0.13341847184405187,2.1454940282301882E-2,null,null,null,null,null,null,null,null,null,null,null,{"$f":"'Summary table'!$B$35","v":0.15924276169265039}]
["Dundee and Angus",350.87,383.14,393.68,0.12201100122552511,2.7509526543822105E-2,null,null,null,null,null,null,null,null,null,null,null,{"$f":"'Summary table'!$B$35","v":0.15924276169265039}]
["West Lothian",428.18,469.89,477.15,0.11436778924751256,1.5450424567452048E-2,null,null,null,null,null,null,null,null,null,null,null,{"$f":"'Summary table'!$B$35","v":0.15924276169265039}]
["Perth and Kinross",377.44,408.15,416.14,0.10253285290377279,1.9576136224427332E-2,null,null,null,null,null,null,null,null,null,null,null,{"$f":"'Summary table'!$B$35","v":0.15924276169265039}]
["Argyll and Bute",382.06,412.33,417.15,9.1844212950845439E-2,1.1689666044187863E-2,null,null,null,null,null,null,null,null,null,null,null,{"$f":"'Summary table'!$B$35","v":0.15924276169265039}]
["Fife",378.99,402.75,411.45,8.564869785482454E-2,2.1601489757914205E-2,null,null,null,null,null,null,null,null,null,null,null,{"$f":"'Summary table'!$B$35","v":0.15924276169265039}]
["East Dunbartonshire",449.59,478.92,487.82,8.5033030094085804E-2,1.8583479495531519E-2,null,null,null,null,null,null,null,null,null,null,null,{"$f":"'Summary table'!$B$35","v":0.15924276169265039}]
["Forth Valley",386.8,407.52,414.77,7.2311271975180835E-2,1.7790537887711011E-2,null,null,null,null,null,null,null,null,null,null,null,{"$f":"'Summary table'!$B$35","v":0.15924276169265039}]
["Dumfries and Galloway",358.94,384.25,383.46,6.8312252744191282E-2,-2.0559531554977806E-3,null,null,null,null,null,null,null,null,null,null,null,{"$f":"'Summary table'!$B$35","v":0.15924276169265039}]
["North Lanarkshire",373.16,381.35,389.89,4.4833315467895707E-2,2.23941261308509E-2,null,null,null,null,null,null,null,null,null,null,null,{"$f":"'Summary table'!$B$35","v":0.15924276169265039}]
["Renfrewshire / Inverclyde",374.39,391.6,386.61,3.2639760677368512E-2,-1.2742594484167591E-2,null,null,null,null,null,null,null,null,null,null,null,{"$f":"'Summary table'!$B$35","v":0.15924276169265039}]
["Scottish Borders",336.19,337.92,344.95,2.6056694131294744E-2,2.0803740530302983E-2,null,null,null,null,null,null,null,null,null,null,null,{"$f":"'Summary table'!$B$35","v":0.15924276169265039}]
["South Lanarkshire",382.47,381,391.49,2.3583549036525708E-2,2.7532808398950115E-2,null,null,null,null,null,null,null,null,null,null,null,{"$f":"'Summary table'!$B$35","v":0.15924276169265039}]
["West Dunbartonshire",396.84,400.42,398.63,4.5106340086684682E-3,-4.4703061785126286E-3,null,null,null,null,null,null,null,null,null,null,null,{"$f":"'Summary table'!$B$35","v":0.15924276169265039}]
["Ayrshires",375.42,366.26,369.97,-1.4517074210217862E-2,1.0129416261672075E-2,null,null,null,null,null,null,null,null,null,null,null,{"$f":"'Summary table'!$B$35","v":0.15924276169265039}]
["Aberdeen and Shire",528.64,565.87,500.65,-5.2947185230024285E-2,-0.11525615424037328,null,null,null,null,null,null,null,null,null,null,null,{"$f":"'Summary table'!$B$35","v":0.15924276169265039}]

{"sheet":"Chart 3","index":5,"n_rows":23,"n_cols":2,"rows_kept":23,"cut":false,"hidden":false,"merged":[[2,0,2,1]]}
["Back to contents"]
[]
["Average (mean) monthly rents for 1 Bedroom Properties in 2017 (year to end-Sept)"]
["1 Bedroom Properties","£ monthly"]
["Lothian",704.27]
["Greater Glasgow",549.04999999999995]
["Scotland",500.97]
["Aberdeen and Shire",500.65]
["East Dunbartonshire",487.82]
["West Lothian",477.15]
["Highland and Islands",470.38]
["Argyll and Bute",417.15]
["Perth and Kinross",416.14]
["Forth Valley",414.77]
["Fife",411.45]
["West Dunbartonshire",398.63]
["Dundee and Angus",393.68]
["South Lanarkshire",391.49]
["North Lanarkshire",389.89]
["Renfrewshire / Inverclyde",386.61]
["Dumfries and Galloway",383.46]
["Ayrshires",369.97]
["Scottish Borders",344.95]

{"sheet":"Table 2, Chart 4","index":6,"n_rows":23,"n_cols":22,"rows_kept":23,"cut":false,"hidden":false,"merged":[[2,0,2,5]]}
["Back to contents"]
[]
["TABLE 2: 2 Bedroom Properties - Average (mean) Monthly Rents (£): Cumulative Changes 2010 to 2017, by Broad Rental Market Area"]
[null,2010,2016,2017,"2010 to 2017 change","2016 to 2017 change",null,null,null,null,null,null,null,null,null,null,null,null,null,null,null,"Cumulative CPI - 2010 to 2017"]
["Lothian",664.51,830.97,888.18,0.33659388120570033,6.8847250803278026E-2,null,null,null,null,null,null,null,null,null,null,null,null,null,null,null,{"$f":"'Summary table'!$B$35","v":0.15924276169265039}]
["Greater Glasgow",563.64,695.92,744.8,0.32141082960755085,7.0237958386021315E-2,null,null,null,null,null,null,null,null,null,null,null,null,null,null,null,{"$f":"'Summary table'!$B$35","v":0.15924276169265039}]
["Scotland",536.27,615.64,642.79999999999995,0.19864993380200269,4.4116691572997135E-2,null,null,null,null,null,null,null,null,null,null,null,null,null,null,null,{"$f":"'Summary table'!$B$35","v":0.15924276169265039}]
["Fife",463.99,510.77,533.29,0.14935666716955098,4.4090295044736383E-2,null,null,null,null,null,null,null,null,null,null,null,null,null,null,null,{"$f":"'Summary table'!$B$35","v":0.15924276169265039}]
["Forth Valley",492.41,529.72,562.54999999999995,0.14244227371499352,6.1976138337234588E-2,null,null,null,null,null,null,null,null,null,null,null,null,null,null,null,{"$f":"'Summary table'!$B$35","v":0.15924276169265039}]
["Highland and Islands",503.41,560.95000000000005,575.09,0.14238890764982814,2.5207237721722064E-2,null,null,null,null,null,null,null,null,null,null,null,null,null,null,null,{"$f":"'Summary table'!$B$35","v":0.15924276169265039}]
["West Lothian",527.37,577.79999999999995,598.79,0.13542674023930057,3.6327448944271312E-2,null,null,null,null,null,null,null,null,null,null,null,null,null,null,null,{"$f":"'Summary table'!$B$35","v":0.15924276169265039}]
["East Dunbartonshire",581.12,635.52,653.4,0.12438050660792954,2.8134441087613205E-2,null,null,null,null,null,null,null,null,null,null,null,null,null,null,null,{"$f":"'Summary table'!$B$35","v":0.15924276169265039}]
["Dundee and Angus",497.46,545.96,554.96,0.11558718288907666,1.648472415561586E-2,null,null,null,null,null,null,null,null,null,null,null,null,null,null,null,{"$f":"'Summary table'!$B$35","v":0.15924276169265039}]
["Perth and Kinross",506.44,539.95000000000005,549.21,8.4452254956164596E-2,1.7149736086674583E-2,null,null,null,null,null,null,null,null,null,null,null,null,null,null,null,{"$f":"'Summary table'!$B$35","v":0.15924276169265039}]
["South Lanarkshire",480.55,500.05,520.08000000000004,8.2259910519196788E-2,4.0055994400560069E-2,null,null,null,null,null,null,null,null,null,null,null,null,null,null,null,{"$f":"'Summary table'!$B$35","v":0.15924276169265039}]
["Renfrewshire / Inverclyde",472.96,493.93,507.56,7.3156292286874258E-2,2.7595003340554314E-2,null,null,null,null,null,null,null,null,null,null,null,null,null,null,null,{"$f":"'Summary table'!$B$35","v":0.15924276169265039}]
["Aberdeen and Shire",642.58000000000004,754.39,681.97,6.129976034112472E-2,-9.5998091173000621E-2,null,null,null,null,null,null,null,null,null,null,null,null,null,null,null,{"$f":"'Summary table'!$B$35","v":0.15924276169265039}]
["North Lanarkshire",454.65,475.8,480.25,5.6307049378643059E-2,9.3526691887346747E-3,null,null,null,null,null,null,null,null,null,null,null,null,null,null,null,{"$f":"'Summary table'!$B$35","v":0.15924276169265039}]
["Dumfries and Galloway",435.12,446.89,453.39,4.1988416988417043E-2,1.4544966322808772E-2,null,null,null,null,null,null,null,null,null,null,null,null,null,null,null,{"$f":"'Summary table'!$B$35","v":0.15924276169265039}]
["Scottish Borders",441.58,452.23,458.64,3.863399610489604E-2,1.4174203392079088E-2,null,null,null,null,null,null,null,null,null,null,null,null,null,null,null,{"$f":"'Summary table'!$B$35","v":0.15924276169265039}]
["Argyll and Bute",503.03,524.75,515.92999999999995,2.5644593761803502E-2,-1.6808003811338845E-2,null,null,null,null,null,null,null,null,null,null,null,null,null,null,null,{"$f":"'Summary table'!$B$35","v":0.15924276169265039}]
["West Dunbartonshire",492.17,498.22,495.63,7.0300912286405115E-3,-5.1985066837944016E-3,null,null,null,null,null,null,null,null,null,null,null,null,null,null,null,{"$f":"'Summary table'!$B$35","v":0.15924276169265039}]
["Ayrshires",464.47,463.38,466.59,4.5643421534220519E-3,6.927359834261182E-3,null,null,null,null,null,null,null,null,null,null,null,null,null,null,null,{"$f":"'Summary table'!$B$35","v":0.15924276169265039}]

{"sheet":"Chart 5","index":7,"n_rows":23,"n_cols":2,"rows_kept":23,"cut":false,"hidden":false,"merged":[[2,0,2,1]]}
["Back to contents"]
[]
["Average (mean) monthly rents for 2 Bedroom Properties in 2017 (year to end-Sept)"]
["2 Bedroom Properties","£ monthly"]
["Lothian",888.18]
["Greater Glasgow",744.8]
["Aberdeen and Shire",681.97]
["East Dunbartonshire",653.4]
["Scotland",642.79999999999995]
["West Lothian",598.79]
["Highland and Islands",575.09]
["Forth Valley",562.54999999999995]
["Dundee and Angus",554.96]
["Perth and Kinross",549.21]
["Fife",533.29]
["South Lanarkshire",520.08000000000004]
["Argyll and Bute",515.92999999999995]
["Renfrewshire / Inverclyde",507.56]
["West Dunbartonshire",495.63]
["North Lanarkshire",480.25]
["Ayrshires",466.59]
["Scottish Borders",458.64]
["Dumfries and Galloway",453.39]

{"sheet":"Table 3, Chart 6","index":8,"n_rows":23,"n_cols":20,"rows_kept":23,"cut":false,"hidden":false,"merged":[[2,0,2,5]]}
["Back to contents"]
[]
["TABLE 3: 3 Bedroom Properties - Average (mean) Monthly Rents (£): Cumulative Changes 2010 to 2017, by Broad Rental Market Area"]
[null,2010,2016,2017,"2010 to 2017 change","2016 to 2017 change",null,null,null,null,null,null,null,null,null,null,null,null,null,"Cumulative CPI - 2010 to 2017"]
["Greater Glasgow",728.19,915.07,964.74,0.32484653730482416,5.4280000437124887E-2,null,null,null,null,null,null,null,null,null,null,null,null,null,{"$f":"'Summary table'!$B$35","v":0.15924276169265039}]
["Lothian",917.68,1111.6400000000001,1143.78,0.24638218115247157,2.8912237774818994E-2,null,null,null,null,null,null,null,null,null,null,null,null,null,{"$f":"'Summary table'!$B$35","v":0.15924276169265039}]
["East Dunbartonshire",750.02,859.19,923.82,0.2317271539425616,7.5222011429369573E-2,null,null,null,null,null,null,null,null,null,null,null,null,null,{"$f":"'Summary table'!$B$35","v":0.15924276169265039}]
["Forth Valley",642.74,677.94,752.01,0.17000653452406889,0.10925745641207185,null,null,null,null,null,null,null,null,null,null,null,null,null,{"$f":"'Summary table'!$B$35","v":0.15924276169265039}]
["Fife",563.02,617,656.95,0.16683243934496117,6.4748784440842755E-2,null,null,null,null,null,null,null,null,null,null,null,null,null,{"$f":"'Summary table'!$B$35","v":0.15924276169265039}]
["Perth and Kinross",647.27,699.52,754.41,0.16552597833979643,7.8468092406221324E-2,null,null,null,null,null,null,null,null,null,null,null,null,null,{"$f":"'Summary table'!$B$35","v":0.15924276169265039}]
["Aberdeen and Shire",743.67,930.15,865.75,0.16415883389137664,-6.9236144707842784E-2,null,null,null,null,null,null,null,null,null,null,null,null,null,{"$f":"'Summary table'!$B$35","v":0.15924276169265039}]
["Highland and Islands",594.77,671.75,692.34,0.16404660625115608,3.0651283959806541E-2,null,null,null,null,null,null,null,null,null,null,null,null,null,{"$f":"'Summary table'!$B$35","v":0.15924276169265039}]
["Scotland",678.9,752.8,787.18,0.15949329798202982,4.566950053134966E-2,null,null,null,null,null,null,null,null,null,null,null,null,null,{"$f":"'Summary table'!$B$35","v":0.15924276169265039}]
["West Lothian",615.97,690.52,708.53,0.15026705846063915,2.6081793431037559E-2,null,null,null,null,null,null,null,null,null,null,null,null,null,{"$f":"'Summary table'!$B$35","v":0.15924276169265039}]
["Dundee and Angus",632.52,701.64,717.22,0.13390880920761417,2.2205119434467901E-2,null,null,null,null,null,null,null,null,null,null,null,null,null,{"$f":"'Summary table'!$B$35","v":0.15924276169265039}]
["Scottish Borders",514.96,545.97,565.77,9.8667857697685157E-2,3.6265728886202497E-2,null,null,null,null,null,null,null,null,null,null,null,null,null,{"$f":"'Summary table'!$B$35","v":0.15924276169265039}]
["Renfrewshire / Inverclyde",611.61,643.1,651.5,6.5221301155965472E-2,1.3061732234489254E-2,null,null,null,null,null,null,null,null,null,null,null,null,null,{"$f":"'Summary table'!$B$35","v":0.15924276169265039}]
["Ayrshires",556.1,578.84,589.54999999999995,6.0151051969070224E-2,1.8502522285951173E-2,null,null,null,null,null,null,null,null,null,null,null,null,null,{"$f":"'Summary table'!$B$35","v":0.15924276169265039}]
["South Lanarkshire",626.88,636.58000000000004,661.52,5.5257784583971459E-2,3.9178108014703561E-2,null,null,null,null,null,null,null,null,null,null,null,null,null,{"$f":"'Summary table'!$B$35","v":0.15924276169265039}]
["Dumfries and Galloway",499.63,513.91,526.20000000000005,5.3179352721013595E-2,2.3914693234224016E-2,null,null,null,null,null,null,null,null,null,null,null,null,null,{"$f":"'Summary table'!$B$35","v":0.15924276169265039}]
["Argyll and Bute",637.54,665.89,651.62,2.2084888791291668E-2,-2.1429965910285453E-2,null,null,null,null,null,null,null,null,null,null,null,null,null,{"$f":"'Summary table'!$B$35","v":0.15924276169265039}]
["West Dunbartonshire",591.05999999999995,575.4,603.98,2.1859032923899457E-2,4.966979492526935E-2,null,null,null,null,null,null,null,null,null,null,null,null,null,{"$f":"'Summary table'!$B$35","v":0.15924276169265039}]
["North Lanarkshire",548.52,564.39,555.36,1.2469919054911349E-2,-1.599957476213254E-2,null,null,null,null,null,null,null,null,null,null,null,null,null,{"$f":"'Summary table'!$B$35","v":0.15924276169265039}]

{"sheet":"Chart 7","index":9,"n_rows":23,"n_cols":2,"rows_kept":23,"cut":false,"hidden":false,"merged":[[2,0,2,1]]}
["Back to contents"]
[]
["Average (mean) monthly rents for 3 Bedroom Properties in 2017 (year to end-Sept)"]
["3 Bedroom Properties","£ monthly"]
["Lothian",1143.78]
["Greater Glasgow",964.74]
["East Dunbartonshire",923.82]
["Aberdeen and Shire",865.75]
["Scotland",787.18]
["Perth and Kinross",754.41]
["Forth Valley",752.01]
["Dundee and Angus",717.22]
["West Lothian",708.53]
["Highland and Islands",692.34]
["South Lanarkshire",661.52]
["Fife",656.95]
["Argyll and Bute",651.62]
["Renfrewshire / Inverclyde",651.5]
["West Dunbartonshire",603.98]
["Ayrshires",589.54999999999995]
["Scottish Borders",565.77]
["North Lanarkshire",555.36]
["Dumfries and Galloway",526.20000000000005]

{"sheet":"Table 4, Chart 8","index":10,"n_rows":23,"n_cols":20,"rows_kept":23,"cut":false,"hidden":false,"merged":[[2,0,2,5]]}
["Back to contents"]
[]
["TABLE 4: 4 Bedroom Properties - Average (mean) Monthly Rents (£): Cumulative Changes 2010 to 2017, by Broad Rental Market Area"]
[null,2010,2016,2017,"2010 to 2017 change","2016 to 2017 change",null,null,null,null,null,null,null,null,null,null,null,null,null,"Cumulative CPI - 2010 to 2017"]
["Greater Glasgow",1067.19,1299.47,1523.85,0.42790880724144698,0.17267039639237525,null,null,null,null,null,null,null,null,null,null,null,null,null,{"$f":"'Summary table'!$B$35","v":0.15924276169265039}]
["East Dunbartonshire",1135.19,1276.8800000000001,1551.67,0.36688131502215482,0.21520424785414449,null,null,null,null,null,null,null,null,null,null,null,null,null,{"$f":"'Summary table'!$B$35","v":0.15924276169265039}]
["Renfrewshire / Inverclyde",833.68,1014.72,1095.42,0.31395739372421083,7.9529328287606393E-2,null,null,null,null,null,null,null,null,null,null,null,null,null,{"$f":"'Summary table'!$B$35","v":0.15924276169265039}]
["Dundee and Angus",811.27,972.76,1047.22,0.29084028745054047,7.6545088202639944E-2,null,null,null,null,null,null,null,null,null,null,null,null,null,{"$f":"'Summary table'!$B$35","v":0.15924276169265039}]
["Forth Valley",857.08,1051.92,1094.93,0.27751201754795352,4.0887139706441644E-2,null,null,null,null,null,null,null,null,null,null,null,null,null,{"$f":"'Summary table'!$B$35","v":0.15924276169265039}]
["Aberdeen and Shire",943.66,1291.33,1168.92,0.23870885700358202,-9.4793739787660702E-2,null,null,null,null,null,null,null,null,null,null,null,null,null,{"$f":"'Summary table'!$B$35","v":0.15924276169265039}]
["Lothian",1290.68,1512.32,1592.26,0.23365977624198098,5.2859183241642071E-2,null,null,null,null,null,null,null,null,null,null,null,null,null,{"$f":"'Summary table'!$B$35","v":0.15924276169265039}]
["Ayrshires",758.06,907.52,906.8,0.19621138168482699,-7.9337094499298821E-4,null,null,null,null,null,null,null,null,null,null,null,null,null,{"$f":"'Summary table'!$B$35","v":0.15924276169265039}]
["Scotland",958.51,1089.48,1142.55,0.19200634317847487,4.8711311818482095E-2,null,null,null,null,null,null,null,null,null,null,null,null,null,{"$f":"'Summary table'!$B$35","v":0.15924276169265039}]
["Perth and Kinross",857.5,1018.04,1018.42,0.18766180758017481,3.7326627637424004E-4,null,null,null,null,null,null,null,null,null,null,null,null,null,{"$f":"'Summary table'!$B$35","v":0.15924276169265039}]
["South Lanarkshire",924.21,1022.17,1096.76,0.1866999924259638,7.2972206188794519E-2,null,null,null,null,null,null,null,null,null,null,null,null,null,{"$f":"'Summary table'!$B$35","v":0.15924276169265039}]
["Fife",773.31,900.74,917.22,0.18609613221088583,1.8296067677687322E-2,null,null,null,null,null,null,null,null,null,null,null,null,null,{"$f":"'Summary table'!$B$35","v":0.15924276169265039}]
["West Lothian",834.19,920.33,975.1,0.16891835193421167,5.9511262264622555E-2,null,null,null,null,null,null,null,null,null,null,null,null,null,{"$f":"'Summary table'!$B$35","v":0.15924276169265039}]
["North Lanarkshire",776.25,823.4,889.42,0.14579066022544285,8.0179742530969156E-2,null,null,null,null,null,null,null,null,null,null,null,null,null,{"$f":"'Summary table'!$B$35","v":0.15924276169265039}]
["Dumfries and Galloway",620.08000000000004,645.80999999999995,702.46,0.13285382531286283,8.7719298245614086E-2,null,null,null,null,null,null,null,null,null,null,null,null,null,{"$f":"'Summary table'!$B$35","v":0.15924276169265039}]
["Highland and Islands",750.68,822.47,827.9,0.10286673416102743,6.6020645129913902E-3,null,null,null,null,null,null,null,null,null,null,null,null,null,{"$f":"'Summary table'!$B$35","v":0.15924276169265039}]
["Scottish Borders",689.67,739.76,750.14,8.7679614888279911E-2,1.4031577809019202E-2,null,null,null,null,null,null,null,null,null,null,null,null,null,{"$f":"'Summary table'!$B$35","v":0.15924276169265039}]
["West Dunbartonshire",821.05,906.5,886,7.9106022775714102E-2,-2.2614451185879791E-2,null,null,null,null,null,null,null,null,null,null,null,null,null,{"$f":"'Summary table'!$B$35","v":0.15924276169265039}]
["Argyll and Bute",923.91,988.57,980.26,6.0990789146128987E-2,-8.4060815116785426E-3,null,null,null,null,null,null,null,null,null,null,null,null,null,{"$f":"'Summary table'!$B$35","v":0.15924276169265039}]

{"sheet":"Chart 9","index":11,"n_rows":23,"n_cols":2,"rows_kept":23,"cut":false,"hidden":false,"merged":[[2,0,2,1]]}
["Back to contents"]
[]
["Average (mean) monthly rents for 4 Bedroom Properties in 2017 (year to end-Sept)"]
["4 Bedroom Properties","£ monthly"]
["Lothian",1592.26]
["East Dunbartonshire",1551.67]
["Greater Glasgow",1523.85]
["Aberdeen and Shire",1168.92]
["Scotland",1142.55]
["South Lanarkshire",1096.76]
["Renfrewshire / Inverclyde",1095.42]
["Forth Valley",1094.93]
["Dundee and Angus",1047.22]
["Perth and Kinross",1018.42]
["Argyll and Bute",980.26]
["West Lothian",975.1]
["Fife",917.22]
["Ayrshires",906.8]
["North Lanarkshire",889.42]
["West Dunbartonshire",886]
["Highland and Islands",827.9]
["Scottish Borders",750.14]
["Dumfries and Galloway",702.46]

{"sheet":"Table 5, Chart 10","index":12,"n_rows":23,"n_cols":19,"rows_kept":23,"cut":false,"hidden":false,"merged":[[2,0,2,5]]}
["Back to contents"]
[]
["TABLE 5: 1 Bedroom Shared Properties - Average (mean) Monthly Rents (£): Cumulative Changes 2010 to 2017, by Broad Rental Market Area"]
[null,2010,2016,2017,"2010 to 2017 change","2016 to 2017 change",null,null,null,null,null,null,null,null,null,null,null,null,"Cumulative CPI - 2010 to 2017"]
["Forth Valley",275.63,350.9,357.06,0.29543228240757546,1.7554858934169415E-2,null,null,null,null,null,null,null,null,null,null,null,null,{"$f":"'Summary table'!$B$35","v":0.15924276169265039}]
["Fife",270.66000000000003,367.97,347.5,0.28389861819256623,-5.5629535016441634E-2,null,null,null,null,null,null,null,null,null,null,null,null,{"$f":"'Summary table'!$B$35","v":0.15924276169265039}]
["East Dunbartonshire",300.36,324.77999999999997,385.4,0.28312691436942328,0.18664942422562958,null,null,null,null,null,null,null,null,null,null,null,null,{"$f":"'Summary table'!$B$35","v":0.15924276169265039}]
["Greater Glasgow",313.10000000000002,372.15,385.58,0.23149153625039909,3.608759908638981E-2,null,null,null,null,null,null,null,null,null,null,null,null,{"$f":"'Summary table'!$B$35","v":0.15924276169265039}]
["Scottish Borders",255.63,270.22000000000003,312.18,0.22121816688182139,0.15528088224409742,null,null,null,null,null,null,null,null,null,null,null,null,{"$f":"'Summary table'!$B$35","v":0.15924276169265039}]
["Lothian",319.85000000000002,367.86,390.14,0.21975926215413466,6.0566519871690261E-2,null,null,null,null,null,null,null,null,null,null,null,null,{"$f":"'Summary table'!$B$35","v":0.15924276169265039}]
["South Lanarkshire",309.07,315.10000000000002,371.17,0.20092535671530731,0.17794350999682629,null,null,null,null,null,null,null,null,null,null,null,null,{"$f":"'Summary table'!$B$35","v":0.15924276169265039}]
["West Lothian",278.75,318.32,331.66,0.18981165919282517,4.1907514450867156E-2,null,null,null,null,null,null,null,null,null,null,null,null,{"$f":"'Summary table'!$B$35","v":0.15924276169265039}]
["Dundee and Angus",262.86,295.72000000000003,309.20999999999998,0.17632960511298768,4.5617475990801903E-2,null,null,null,null,null,null,null,null,null,null,null,null,{"$f":"'Summary table'!$B$35","v":0.15924276169265039}]
["Perth and Kinross",261.86,288.35000000000002,307.91000000000003,0.17585732834338974,6.7834229235304244E-2,null,null,null,null,null,null,null,null,null,null,null,null,{"$f":"'Summary table'!$B$35","v":0.15924276169265039}]
["North Lanarkshire",296.88,319.95999999999998,346.7,0.16781191053624367,8.357294661832726E-2,null,null,null,null,null,null,null,null,null,null,null,null,{"$f":"'Summary table'!$B$35","v":0.15924276169265039}]
["Scotland",299.8,339.52,349.63,0.16621080720480319,2.9777332704995274E-2,null,null,null,null,null,null,null,null,null,null,null,null,{"$f":"'Summary table'!$B$35","v":0.15924276169265039}]
["West Dunbartonshire",288.89,322.08999999999997,331.01,0.14579943923292604,2.7694122760719031E-2,null,null,null,null,null,null,null,null,null,null,null,null,{"$f":"'Summary table'!$B$35","v":0.15924276169265039}]
["Highland and Islands",287.37,319.81,327.29000000000002,0.13891498764658805,2.3388887151746474E-2,null,null,null,null,null,null,null,null,null,null,null,null,{"$f":"'Summary table'!$B$35","v":0.15924276169265039}]
["Ayrshires",301.7,335.13,338.11,0.12068279748094146,8.8920717333571542E-3,null,null,null,null,null,null,null,null,null,null,null,null,{"$f":"'Summary table'!$B$35","v":0.15924276169265039}]
["Aberdeen and Shire",328.42,404.11,358.31,9.1011509652274558E-2,-0.11333547796392074,null,null,null,null,null,null,null,null,null,null,null,null,{"$f":"'Summary table'!$B$35","v":0.15924276169265039}]
["Dumfries and Galloway",277.88,284.72000000000003,291.95,5.0633366920973089E-2,2.5393368923854798E-2,null,null,null,null,null,null,null,null,null,null,null,null,{"$f":"'Summary table'!$B$35","v":0.15924276169265039}]
["Renfrewshire / Inverclyde",296.26,304.02999999999997,304.20999999999998,2.6834537230810751E-2,5.9204683748315112E-4,null,null,null,null,null,null,null,null,null,null,null,null,{"$f":"'Summary table'!$B$35","v":0.15924276169265039}]
["Argyll and Bute",315.60000000000002,301.85000000000002,300.83,-4.6799746514575524E-2,-3.3791618353488095E-3,null,null,null,null,null,null,null,null,null,null,null,null,{"$f":"'Summary table'!$B$35","v":0.15924276169265039}]

{"sheet":"Chart 11","index":13,"n_rows":24,"n_cols":2,"rows_kept":24,"cut":false,"hidden":false,"merged":[[2,0,2,1],[23,0,23,1]]}
["Back to contents"]
[]
["Average (mean) monthly rents for 1 Bedroom Shared Properties in 2017 (year to end-Sept)"]
["1 Bedroom Shared Properties","£ monthly"]
["Lothian",390.14]
["Greater Glasgow",385.58]
["East Dunbartonshire",385.4]
["South Lanarkshire",371.17]
["Aberdeen and Shire",358.31]
["Forth Valley",357.06]
["Scotland",349.63]
["Fife",347.5]
["North Lanarkshire",346.7]
["Ayrshires",338.11]
["West Lothian",331.66]
["West Dunbartonshire",331.01]
["Highland and Islands",327.29000000000002]
["Scottish Borders",312.18]
["Dundee and Angus",309.20999999999998]
["Perth and Kinross",307.91000000000003]
["Renfrewshire / Inverclyde",304.20999999999998]
["Argyll and Bute",300.83]
["Dumfries and Galloway",291.95]
["Note:  Figures for rooms in shared properties represent \"rent only\", i.e. exclude any payments for shared services"]

{"sheet":"BRMA Profile - Aberdeen and Shi","index":14,"n_rows":146,"n_cols":16,"rows_kept":146,"cut":false,"hidden":true,"merged":[[1,0,1,2]]}
["BRMA Rent Profile for:"]
["Aberdeen and Shire",null,null,null,null,null,null,null,{"$f":"ROUND(MIN(J6:P9,J28:P31,J50:P53,J72:P75,J94:P97)-0.01,2)","v":-0.21},{"$f":"ROUND(MAX(J6:P9,J28:P31,J50:P53,J72:P75,J94:P97)+0.01,2)","v":0.51}]
[]
["1 Bedroom Properties - Quartile Measures:",null,null,null,null,null,null,null,"1 Bedroom Properties - Annual changes and 6-yr cumulative change:"]
[" ",2010,2011,2012,2013,2014,2015,2016," ","2010 to 2011","2011 to 2012","2012 to 2013","2013 to 2014","2014 to 2015","2015 to 2016","2010 to 2016"]
["Lower Quartile",{"$f":"VLOOKUP($A$2,'Table 7'!$A$5:$L$23,3,FALSE)","v":500},{"$f":"VLOOKUP($A$2,'Table 8'!$A$5:$L$23,3,FALSE)","v":500},{"$f":"VLOOKUP($A$2,'Table 9'!$A$5:$L$23,3,FALSE)","v":520},{"$f":"VLOOKUP($A$2,'Table 10'!$A$5:$L$23,3,FALSE)","v":550},{"$f":"VLOOKUP($A$2,'Table 11'!$A$5:$L$23,3,FALSE)","v":625},{"$f":"VLOOKUP($A$2,'Table 12'!$A$5:$L$23,3,FALSE)","v":625},{"$f":"VLOOKUP($A$2,'Table 13'!$A$5:$L$23,3,FALSE)","v":510},"Lower Quartile",{"$f":"C6/B6-1","v":0},4.0000000000000036E-2,5.7692307692307709E-2,0.13636363636363646,0,{"$f":"H6/G6-1","v":-0.18400000000000005},{"$f":"H6/B6-1","v":2.0000000000000018E-2}]
["Median",{"$f":"VLOOKUP($A$2,'Table 7'!$A$5:$L$23,4,FALSE)","v":525},{"$f":"VLOOKUP($A$2,'Table 8'!$A$5:$L$23,4,FALSE)","v":550},{"$f":"VLOOKUP($A$2,'Table 9'!$A$5:$L$23,4,FALSE)","v":550},{"$f":"VLOOKUP($A$2,'Table 10'!$A$5:$L$23,4,FALSE)","v":600},{"$f":"VLOOKUP($A$2,'Table 11'!$A$5:$L$23,4,FALSE)","v":650},{"$f":"VLOOKUP($A$2,'Table 12'!$A$5:$L$23,4,FALSE)","v":675},{"$f":"VLOOKUP($A$2,'Table 13'!$A$5:$L$23,4,FALSE)","v":550},"Median",{"$f":"C7/B7-1","v":4.7619047619047672E-2},0,9.0909090909090828E-2,8.3333333333333259E-2,3.8461538461538547E-2,{"$f":"H7/G7-1","v":-0.18518518518518523},{"$f":"H7/B7-1","v":4.7619047619047672E-2}]
["Mean",{"$f":"VLOOKUP($A$2,'Table 7'!$A$5:$L$23,5,FALSE)","v":528.64},{"$f":"VLOOKUP($A$2,'Table 8'!$A$5:$L$23,5,FALSE)","v":540.49},{"$f":"VLOOKUP($A$2,'Table 9'!$A$5:$L$23,5,FALSE)","v":555.25},{"$f":"VLOOKUP($A$2,'Table 10'!$A$5:$L$23,5,FALSE)","v":600.17999999999995},{"$f":"VLOOKUP($A$2,'Table 11'!$A$5:$L$23,5,FALSE)","v":663.52},{"$f":"VLOOKUP($A$2,'Table 12'!$A$5:$L$23,5,FALSE)","v":666.96},{"$f":"VLOOKUP($A$2,'Table 13'!$A$5:$L$23,5,FALSE)","v":565.87},"Mean",2.2416010895883742E-2,2.7308553349738141E-2,8.0918505177847821E-2,0.10553500616481726,5.1844707017121294E-3,-0.1515683099436248,7.04259987893463E-2]
["Upper Quartile",{"$f":"VLOOKUP($A$2,'Table 7'!$A$5:$L$23,6,FALSE)","v":575},{"$f":"VLOOKUP($A$2,'Table 8'!$A$5:$L$23,6,FALSE)","v":575},{"$f":"VLOOKUP($A$2,'Table 9'!$A$5:$L$23,6,FALSE)","v":600},{"$f":"VLOOKUP($A$2,'Table 10'!$A$5:$L$23,6,FALSE)","v":650},{"$f":"VLOOKUP($A$2,'Table 11'!$A$5:$L$23,6,FALSE)","v":725},{"$f":"VLOOKUP($A$2,'Table 12'!$A$5:$L$23,6,FALSE)","v":700},{"$f":"VLOOKUP($A$2,'Table 13'!$A$5:$L$23,6,FALSE)","v":600},"Upper Quartile",0,4.3478260869565188E-2,8.3333333333333259E-2,0.11538461538461542,-3.4482758620689613E-2,-0.1428571428571429,4.3478260869565188E-2]
[]
[]
[]
[]
[]
[]
[]
[]
[]
[]
[]
[]
[]
[]
[]
[]
["2 Bedroom Properties:",null,null,null,null,null,null,null,"2 Bedroom Properties - Annual changes and 6-yr cumulative change:"]
[null,2010,2011,2012,2013,2014,2015,2016," ","2010 to 2011","2011 to 2012","2012 to 2013","2013 to 2014","2014 to 2015","2015 to 2016","2010 to 2016"]
["Lower Quartile",{"$f":"VLOOKUP($A$2,'Table 7'!$A$5:$L$23,9,FALSE)","v":590},{"$f":"VLOOKUP($A$2,'Table 8'!$A$5:$L$23,9,FALSE)","v":600},{"$f":"VLOOKUP($A$2,'Table 9'!$A$5:$L$23,9,FALSE)","v":650},{"$f":"VLOOKUP($A$2,'Table 10'!$A$5:$L$23,9,FALSE)","v":700},{"$f":"VLOOKUP($A$2,'Table 11'!$A$5:$L$23,9,FALSE)","v":795},{"$f":"VLOOKUP($A$2,'Table 12'!$A$5:$L$23,9,FALSE)","v":795},{"$f":"VLOOKUP($A$2,'Table 13'!$A$5:$L$23,9,FALSE)","v":675},"Lower Quartile",{"$f":"C28/B28-1","v":1.6949152542372836E-2},8.3333333333333259E-2,7.6923076923076872E-2,0.13571428571428568,0,{"$f":"H28/G28-1","v":-0.15094339622641506},{"$f":"H28/B28-1","v":0.14406779661016955}]
["Median",{"$f":"VLOOKUP($A$2,'Table 7'!$A$5:$L$23,10,FALSE)","v":650},{"$f":"VLOOKUP($A$2,'Table 8'!$A$5:$L$23,10,FALSE)","v":695},{"$f":"VLOOKUP($A$2,'Table 9'!$A$5:$L$23,10,FALSE)","v":700},{"$f":"VLOOKUP($A$2,'Table 10'!$A$5:$L$23,10,FALSE)","v":800},{"$f":"VLOOKUP($A$2,'Table 11'!$A$5:$L$23,10,FALSE)","v":875},{"$f":"VLOOKUP($A$2,'Table 12'!$A$5:$L$23,10,FALSE)","v":875},{"$f":"VLOOKUP($A$2,'Table 13'!$A$5:$L$23,10,FALSE)","v":750},"Median",6.9230769230769207E-2,7.194244604316502E-3,0.14285714285714279,9.375E-2,0,{"$f":"H29/G29-1","v":-0.1428571428571429},{"$f":"H29/B29-1","v":0.15384615384615374}]
["Mean",{"$f":"VLOOKUP($A$2,'Table 7'!$A$5:$L$23,11,FALSE)","v":642.58000000000004},{"$f":"VLOOKUP($A$2,'Table 8'!$A$5:$L$23,11,FALSE)","v":670.81},{"$f":"VLOOKUP($A$2,'Table 9'!$A$5:$L$23,11,FALSE)","v":701.44},{"$f":"VLOOKUP($A$2,'Table 10'!$A$5:$L$23,11,FALSE)","v":819.48},{"$f":"VLOOKUP($A$2,'Table 11'!$A$5:$L$23,11,FALSE)","v":898.08},{"$f":"VLOOKUP($A$2,'Table 12'!$A$5:$L$23,11,FALSE)","v":873.8},{"$f":"VLOOKUP($A$2,'Table 13'!$A$5:$L$23,11,FALSE)","v":754.39},"Mean",4.3932273024370305E-2,4.5661215545385492E-2,0.16828239051094873,9.5914482354664043E-2,-2.7035453411722865E-2,{"$f":"H30/G30-1","v":-0.13665598535133894},0.174001680724579]
["Upper Quartile",{"$f":"VLOOKUP($A$2,'Table 7'!$A$5:$L$23,12,FALSE)","v":700},{"$f":"VLOOKUP($A$2,'Table 8'!$A$5:$L$23,12,FALSE)","v":750},{"$f":"VLOOKUP($A$2,'Table 9'!$A$5:$L$23,12,FALSE)","v":775},{"$f":"VLOOKUP($A$2,'Table 10'!$A$5:$L$23,12,FALSE)","v":900},{"$f":"VLOOKUP($A$2,'Table 11'!$A$5:$L$23,12,FALSE)","v":1000},{"$f":"VLOOKUP($A$2,'Table 12'!$A$5:$L$23,12,FALSE)","v":950},{"$f":"VLOOKUP($A$2,'Table 13'!$A$5:$L$23,12,FALSE)","v":800},"Upper Quartile",7.1428571428571397E-2,3.3333333333333437E-2,0.16129032258064524,0.11111111111111116,-5.0000000000000044E-2,{"$f":"H31/G31-1","v":-0.15789473684210531},0.14285714285714279]
[]
[]
[]
[]
[]
[]
[]
[]
[]
[]
[]
[]
[]
[]
[]
[]
["3 Bedroom Properties:",null,null,null,null,null,null,null,"3 Bedroom Properties - Annual changes and 6-yr cumulative change:"]
[null,2010,2011,2012,2013,2014,2015,2016," ","2010 to 2011","2011 to 2012","2012 to 2013","2013 to 2014","2014 to 2015","2015 to 2016","2010 to 2016"]
["Lower Quartile",{"$f":"VLOOKUP($A$2,'Table 7'!$A$26:$L$44,3,FALSE)","v":650},{"$f":"VLOOKUP($A$2,'Table 8'!$A$26:$L$44,3,FALSE)","v":650},{"$f":"VLOOKUP($A$2,'Table 9'!$A$26:$L$44,3,FALSE)","v":700},{"$f":"VLOOKUP($A$2,'Table 10'!$A$26:$L$44,3,FALSE)","v":775},{"$f":"VLOOKUP($A$2,'Table 11'!$A$26:$L$44,3,FALSE)","v":850},{"$f":"VLOOKUP($A$2,'Table 12'!$A$26:$L$44,3,FALSE)","v":900},{"$f":"VLOOKUP($A$2,'Table 13'!$A$26:$L$44,3,FALSE)","v":800},"Lower Quartile",{"$f":"C50/B50-1","v":0},7.6923076923076872E-2,0.10714285714285721,9.6774193548387011E-2,5.8823529411764719E-2,{"$f":"H50/G50-1","v":-0.11111111111111116},{"$f":"H50/B50-1","v":0.23076923076923084}]
["Median",{"$f":"VLOOKUP($A$2,'Table 7'!$A$26:$L$44,4,FALSE)","v":750},{"$f":"VLOOKUP($A$2,'Table 8'!$A$26:$L$44,4,FALSE)","v":750},{"$f":"VLOOKUP($A$2,'Table 9'!$A$26:$L$44,4,FALSE)","v":825},{"$f":"VLOOKUP($A$2,'Table 10'!$A$26:$L$44,4,FALSE)","v":950},{"$f":"VLOOKUP($A$2,'Table 11'!$A$26:$L$44,4,FALSE)","v":1100},{"$f":"VLOOKUP($A$2,'Table 12'!$A$26:$L$44,4,FALSE)","v":1100},{"$f":"VLOOKUP($A$2,'Table 13'!$A$26:$L$44,4,FALSE)","v":900},"Median",0,0.10000000000000009,0.1515151515151516,0.15789473684210531,0,{"$f":"H51/G51-1","v":-0.18181818181818177},{"$f":"H51/B51-1","v":0.19999999999999996}]
["Mean",{"$f":"VLOOKUP($A$2,'Table 7'!$A$26:$L$44,5,FALSE)","v":743.67},{"$f":"VLOOKUP($A$2,'Table 8'!$A$26:$L$44,5,FALSE)","v":752.95},{"$f":"VLOOKUP($A$2,'Table 9'!$A$26:$L$44,5,FALSE)","v":827.09},{"$f":"VLOOKUP($A$2,'Table 10'!$A$26:$L$44,5,FALSE)","v":1019.32},{"$f":"VLOOKUP($A$2,'Table 11'!$A$26:$L$44,5,FALSE)","v":1089.01},{"$f":"VLOOKUP($A$2,'Table 12'!$A$26:$L$44,5,FALSE)","v":1072.46},{"$f":"VLOOKUP($A$2,'Table 13'!$A$26:$L$44,5,FALSE)","v":930.15},"Mean",1.2478653166055009E-2,9.8466033601168679E-2,0.23241727018825031,6.8369108817643021E-2,-1.5197289281090098E-2,{"$f":"H52/G52-1","v":-0.13269492568487407},0.2507563838799467]
["Upper Quartile",{"$f":"VLOOKUP($A$2,'Table 7'!$A$26:$L$44,6,FALSE)","v":850},{"$f":"VLOOKUP($A$2,'Table 8'!$A$26:$L$44,6,FALSE)","v":875},{"$f":"VLOOKUP($A$2,'Table 9'!$A$26:$L$44,6,FALSE)","v":950},{"$f":"VLOOKUP($A$2,'Table 10'!$A$26:$L$44,6,FALSE)","v":1200},{"$f":"VLOOKUP($A$2,'Table 11'!$A$26:$L$44,6,FALSE)","v":1300},{"$f":"VLOOKUP($A$2,'Table 12'!$A$26:$L$44,6,FALSE)","v":1250},{"$f":"VLOOKUP($A$2,'Table 13'!$A$26:$L$44,6,FALSE)","v":1050},"Upper Quartile",2.9411764705882248E-2,8.5714285714285632E-2,0.26315789473684204,8.3333333333333259E-2,-3.8461538461538436E-2,{"$f":"H53/G53-1","v":-0.16000000000000003},0.23529411764705888]
[]
[]
[]
[]
[]
[]
[]
[]
[]
[]
[]
[]
[]
[]
[]
[]
["4 Bedroom Properties:",null,null,null,null,null,null,null,"4 Bedroom Properties - Annual changes and 6-yr cumulative change:"]
[null,2010,2011,2012,2013,2014,2015,2016," ","2010 to 2011","2011 to 2012","2012 to 2013","2013 to 2014","2014 to 2015","2015 to 2016","2010 to 2016"]
["Lower Quartile",{"$f":"VLOOKUP($A$2,'Table 7'!$A$26:$L$44,9,FALSE)","v":850},{"$f":"VLOOKUP($A$2,'Table 8'!$A$26:$L$44,9,FALSE)","v":850},{"$f":"VLOOKUP($A$2,'Table 9'!$A$26:$L$44,9,FALSE)","v":900},{"$f":"VLOOKUP($A$2,'Table 10'!$A$26:$L$44,9,FALSE)","v":1100},{"$f":"VLOOKUP($A$2,'Table 11'!$A$26:$L$44,9,FALSE)","v":1200},{"$f":"VLOOKUP($A$2,'Table 12'!$A$26:$L$44,9,FALSE)","v":1250},{"$f":"VLOOKUP($A$2,'Table 13'!$A$26:$L$44,9,FALSE)","v":1000},"Lower Quartile",{"$f":"C72/B72-1","v":0},5.8823529411764719E-2,0.22222222222222232,9.0909090909090828E-2,4.1666666666666741E-2,{"$f":"H72/G72-1","v":-0.19999999999999996},{"$f":"H72/B72-1","v":0.17647058823529416}]
["Median",{"$f":"VLOOKUP($A$2,'Table 7'!$A$26:$L$44,10,FALSE)","v":950},{"$f":"VLOOKUP($A$2,'Table 8'!$A$26:$L$44,10,FALSE)","v":995},{"$f":"VLOOKUP($A$2,'Table 9'!$A$26:$L$44,10,FALSE)","v":1100},{"$f":"VLOOKUP($A$2,'Table 10'!$A$26:$L$44,10,FALSE)","v":1400},{"$f":"VLOOKUP($A$2,'Table 11'!$A$26:$L$44,10,FALSE)","v":1550},{"$f":"VLOOKUP($A$2,'Table 12'!$A$26:$L$44,10,FALSE)","v":1450},{"$f":"VLOOKUP($A$2,'Table 13'!$A$26:$L$44,10,FALSE)","v":1200},"Median",4.7368421052631504E-2,0.10552763819095468,0.27272727272727271,0.10714285714285721,-6.4516129032258118E-2,{"$f":"H73/G73-1","v":-0.17241379310344829},{"$f":"H73/B73-1","v":0.26315789473684204}]
["Mean",{"$f":"VLOOKUP($A$2,'Table 7'!$A$26:$L$44,11,FALSE)","v":943.66},{"$f":"VLOOKUP($A$2,'Table 8'!$A$26:$L$44,11,FALSE)","v":1017.76},{"$f":"VLOOKUP($A$2,'Table 9'!$A$26:$L$44,11,FALSE)","v":1105.08},{"$f":"VLOOKUP($A$2,'Table 10'!$A$26:$L$44,11,FALSE)","v":1484.07},{"$f":"VLOOKUP($A$2,'Table 11'!$A$26:$L$44,11,FALSE)","v":1564.74},{"$f":"VLOOKUP($A$2,'Table 12'!$A$26:$L$44,11,FALSE)","v":1492.52},{"$f":"VLOOKUP($A$2,'Table 13'!$A$26:$L$44,11,FALSE)","v":1291.33},"Mean",7.8524044677108273E-2,8.5796258449929219E-2,0.34295254642197848,5.4357274252562204E-2,-4.6154632718534705E-2,-0.13479886366681859,0.36842718775830274]
["Upper Quartile",{"$f":"VLOOKUP($A$2,'Table 7'!$A$26:$L$44,12,FALSE)","v":1000},{"$f":"VLOOKUP($A$2,'Table 8'!$A$26:$L$44,12,FALSE)","v":1200},{"$f":"VLOOKUP($A$2,'Table 9'!$A$26:$L$44,12,FALSE)","v":1300},{"$f":"VLOOKUP($A$2,'Table 10'!$A$26:$L$44,12,FALSE)","v":1800},{"$f":"VLOOKUP($A$2,'Table 11'!$A$26:$L$44,12,FALSE)","v":1850},{"$f":"VLOOKUP($A$2,'Table 12'!$A$26:$L$44,12,FALSE)","v":1700},{"$f":"VLOOKUP($A$2,'Table 13'!$A$26:$L$44,12,FALSE)","v":1500},"Upper Quartile",0.19999999999999996,8.3333333333333259E-2,0.38461538461538458,2.7777777777777679E-2,-8.108108108108103E-2,-0.11764705882352944,0.5]
[]
[]
[]
[]
[]
[]
[]
[]
[]
[]
[]
[]
[]
[]
[]
[]
["1 Bedroom Shared Properties:",null,null,null,null,null,null,null,"1 Bedroom Shared Properties - Annual changes and 6-yr cumulative change:"]
[null,2010,2011,2012,2013,2014,2015,2016," ","2010 to 2011","2011 to 2012","2012 to 2013","2013 to 2014","2014 to 2015","2015 to 2016","2010 to 2016"]
["Lower Quartile",{"$f":"VLOOKUP($A$2,'Table 7'!$A$47:$F$65,3,FALSE)","v":286},{"$f":"VLOOKUP($A$2,'Table 8'!$A$47:$F$65,3,FALSE)","v":285},{"$f":"VLOOKUP($A$2,'Table 9'!$A$47:$F$65,3,FALSE)","v":300},{"$f":"VLOOKUP($A$2,'Table 10'!$A$47:$F$65,3,FALSE)","v":316.33},{"$f":"VLOOKUP($A$2,'Table 11'!$A$47:$F$65,3,FALSE)","v":345},{"$f":"VLOOKUP($A$2,'Table 12'!$A$47:$F$65,3,FALSE)","v":375},{"$f":"VLOOKUP($A$2,'Table 13'!$A$47:$F$65,3,FALSE)","v":350},"Lower Quartile",{"$f":"C94/B94-1","v":-3.4965034965035446E-3},5.2631578947368363E-2,5.4433333333333334E-2,9.063319950684412E-2,8.6956521739130377E-2,{"$f":"H94/G94-1","v":-6.6666666666666652E-2},{"$f":"H94/B94-1","v":0.22377622377622375}]
["Median",{"$f":"VLOOKUP($A$2,'Table 7'!$A$47:$F$65,4,FALSE)","v":335},{"$f":"VLOOKUP($A$2,'Table 8'!$A$47:$F$65,4,FALSE)","v":325},{"$f":"VLOOKUP($A$2,'Table 9'!$A$47:$F$65,4,FALSE)","v":340},{"$f":"VLOOKUP($A$2,'Table 10'!$A$47:$F$65,4,FALSE)","v":350},{"$f":"VLOOKUP($A$2,'Table 11'!$A$47:$F$65,4,FALSE)","v":400},{"$f":"VLOOKUP($A$2,'Table 12'!$A$47:$F$65,4,FALSE)","v":407.5},{"$f":"VLOOKUP($A$2,'Table 13'!$A$47:$F$65,4,FALSE)","v":400},"Median",-2.9850746268656692E-2,4.6153846153846212E-2,2.9411764705882248E-2,0.14285714285714279,1.8750000000000044E-2,{"$f":"H95/G95-1","v":-1.8404907975460127E-2},{"$f":"H95/B95-1","v":0.19402985074626855}]
["Mean",{"$f":"VLOOKUP($A$2,'Table 7'!$A$47:$F$65,5,FALSE)","v":328.42},{"$f":"VLOOKUP($A$2,'Table 8'!$A$47:$F$65,5,FALSE)","v":322.86},{"$f":"VLOOKUP($A$2,'Table 9'!$A$47:$F$65,5,FALSE)","v":338.34},{"$f":"VLOOKUP($A$2,'Table 10'!$A$47:$F$65,5,FALSE)","v":365.66},{"$f":"VLOOKUP($A$2,'Table 11'!$A$47:$F$65,5,FALSE)","v":401.77},{"$f":"VLOOKUP($A$2,'Table 12'!$A$47:$F$65,5,FALSE)","v":433.46},{"$f":"VLOOKUP($A$2,'Table 13'!$A$47:$F$65,5,FALSE)","v":404.11},"Mean",-1.6929541440837914E-2,4.7946478349748967E-2,8.0747177395519509E-2,9.8752939889514835E-2,7.8875973815864864E-2,-6.7710976791399369E-2,0.23046708483040002]
["Upper Quartile",{"$f":"VLOOKUP($A$2,'Table 7'!$A$47:$F$65,6,FALSE)","v":360},{"$f":"VLOOKUP($A$2,'Table 8'!$A$47:$F$65,6,FALSE)","v":355},{"$f":"VLOOKUP($A$2,'Table 9'!$A$47:$F$65,6,FALSE)","v":375},{"$f":"VLOOKUP($A$2,'Table 10'!$A$47:$F$65,6,FALSE)","v":400},{"$f":"VLOOKUP($A$2,'Table 11'!$A$47:$F$65,6,FALSE)","v":450},{"$f":"VLOOKUP($A$2,'Table 12'!$A$47:$F$65,6,FALSE)","v":500},{"$f":"VLOOKUP($A$2,'Table 13'!$A$47:$F$65,6,FALSE)","v":450},"Upper Quartile",-1.388888888888884E-2,5.6338028169014009E-2,6.6666666666666652E-2,0.125,0.11111111111111116,-9.9999999999999978E-2,0.25]
[]
[]
[]
[]
[]
[]
[]
[]
[]
[]
[]
[]
[]
[]
[]
[]
[]
[]
["Mean Rents by Property Size:",null,null,null,null,null,null,null,"Median Rents by Property Size:"]
[null,2010,2011,2012,2013,2014,2015,2016,null,2010,2011,2012,2013,2014,2015,2016]
["1 Bedroom Shared",{"$f":"B96","v":328.42},322.86,338.34,365.66,401.77,433.46,{"$f":"H96","v":404.11},"1 Bedroom Shared",{"$f":"B95","v":335},325,340,350,400,{"$f":"G95","v":407.5},{"$f":"H95","v":400}]
["1 Bedroom ",{"$f":"B8","v":528.64},540.49,555.25,600.17999999999995,663.52,666.96,{"$f":"H8","v":565.87},"1 Bedroom ",{"$f":"B7","v":525},550,550,600,650,{"$f":"G7","v":675},{"$f":"H7","v":550}]
["2 Bedrooms",{"$f":"B30","v":642.58000000000004},670.81,701.44,819.48,898.08,873.8,{"$f":"H30","v":754.39},"2 Bedrooms",{"$f":"B29","v":650},695,700,800,875,{"$f":"G29","v":875},{"$f":"H29","v":750}]
["3 Bedrooms",{"$f":"B52","v":743.67},752.95,827.09,1019.32,1089.01,1072.46,{"$f":"H52","v":930.15},"3 Bedrooms",{"$f":"B51","v":750},750,825,950,1100,{"$f":"G51","v":1100},{"$f":"H51","v":900}]
["4 Bedrooms",{"$f":"B74","v":943.66},1017.76,1105.08,1484.07,1564.74,1492.52,{"$f":"H74","v":1291.33},"4 Bedrooms",{"$f":"B73","v":950},995,1100,1400,1550,{"$f":"G73","v":1450},{"$f":"H73","v":1200}]
[]
[]
[]
[]
[]
[]
[]
[]
[]
[]
[]
[]
[]
[]
[]
[]
[]
["Sample Sizes:",null,null,null,null,null,null,null,"Sample Proportions:"]
[null,2010,2011,2012,2013,2014,2015,2016,null,2010,2011,2012,2013,2014,2015,2016]
["1 Bedroom ",{"$f":"VLOOKUP($A$2,'Table 7'!$A$5:$L$23,2,FALSE)","v":541},{"$f":"VLOOKUP($A$2,'Table 8'!$A$5:$L$23,2,FALSE)","v":691},{"$f":"VLOOKUP($A$2,'Table 9'!$A$5:$L$23,2,FALSE)","v":690},{"$f":"VLOOKUP($A$2,'Table 10'!$A$5:$L$23,2,FALSE)","v":534},{"$f":"VLOOKUP($A$2,'Table 11'!$A$5:$L$23,2,FALSE)","v":561},{"$f":"VLOOKUP($A$2,'Table 12'!$A$5:$L$23,2,FALSE)","v":596},{"$f":"VLOOKUP($A$2,'Table 13'!$A$5:$L$23,2,FALSE)","v":738},"1 Bedroom ",{"$f":"B142/SUM(B$142:B$146)","v":0.3421884882985452},{"$f":"C142/SUM(C$142:C$146)","v":0.30161501527717155},0.2547065337763012,0.22111801242236026,0.22907309105757451,{"$f":"G142/SUM(G$142:G$146)","v":0.24306688417618272},0.26357142857142857]
["2 Bedrooms",{"$f":"VLOOKUP($A$2,'Table 7'!$A$5:$L$23,8,FALSE)","v":557},{"$f":"VLOOKUP($A$2,'Table 8'!$A$5:$L$23,8,FALSE)","v":870},{"$f":"VLOOKUP($A$2,'Table 9'!$A$5:$L$23,8,FALSE)","v":1062},{"$f":"VLOOKUP($A$2,'Table 10'!$A$5:$L$23,8,FALSE)","v":967},{"$f":"VLOOKUP($A$2,'Table 11'!$A$5:$L$23,8,FALSE)","v":1025},{"$f":"VLOOKUP($A$2,'Table 12'!$A$5:$L$23,8,FALSE)","v":1009},{"$f":"VLOOKUP($A$2,'Table 13'!$A$5:$L$23,8,FALSE)","v":1271},"2 Bedrooms",{"$f":"B143/SUM(B$142:B$146)","v":0.35230866540164452},0.379746835443038,0.39202657807308972,0.40041407867494822,0.41853817884850958,0.41150081566068514,0.4539285714285714]
["3 Bedrooms",{"$f":"VLOOKUP($A$2,'Table 7'!$A$26:$L$44,2,FALSE)","v":226},{"$f":"VLOOKUP($A$2,'Table 8'!$A$26:$L$44,2,FALSE)","v":364},{"$f":"VLOOKUP($A$2,'Table 9'!$A$26:$L$44,2,FALSE)","v":486},{"$f":"VLOOKUP($A$2,'Table 10'!$A$26:$L$44,2,FALSE)","v":448},{"$f":"VLOOKUP($A$2,'Table 11'!$A$26:$L$44,2,FALSE)","v":422},{"$f":"VLOOKUP($A$2,'Table 12'!$A$26:$L$44,2,FALSE)","v":428},{"$f":"VLOOKUP($A$2,'Table 13'!$A$26:$L$44,2,FALSE)","v":412},"3 Bedrooms",{"$f":"B144/SUM(B$142:B$146)","v":0.14294750158127767},0.15888258402444347,0.17940199335548174,0.1855072463768116,0.17231523070641078,0.17455138662316477,0.14714285714285713]
["4 Bedrooms",{"$f":"VLOOKUP($A$2,'Table 7'!$A$26:$L$44,8,FALSE)","v":123},{"$f":"VLOOKUP($A$2,'Table 8'!$A$26:$L$44,8,FALSE)","v":174},{"$f":"VLOOKUP($A$2,'Table 9'!$A$26:$L$44,8,FALSE)","v":239},{"$f":"VLOOKUP($A$2,'Table 10'!$A$26:$L$44,8,FALSE)","v":324},{"$f":"VLOOKUP($A$2,'Table 11'!$A$26:$L$44,8,FALSE)","v":293},{"$f":"VLOOKUP($A$2,'Table 12'!$A$26:$L$44,8,FALSE)","v":281},{"$f":"VLOOKUP($A$2,'Table 13'!$A$26:$L$44,8,FALSE)","v":275},"4 Bedrooms",{"$f":"B145/SUM(B$142:B$146)","v":7.7798861480075907E-2},7.5949367088607597E-2,8.8224437061646357E-2,0.1341614906832298,0.11964066966108616,0.11460032626427406,9.8214285714285712E-2]
["1 Bedroom Shared",{"$f":"VLOOKUP($A$2,'Table 7'!$A$47:$L$65,2,FALSE)","v":134},{"$f":"VLOOKUP($A$2,'Table 8'!$A$47:$L$65,2,FALSE)","v":192},{"$f":"VLOOKUP($A$2,'Table 9'!$A$47:$L$65,2,FALSE)","v":232},{"$f":"VLOOKUP($A$2,'Table 10'!$A$47:$L$65,2,FALSE)","v":142},{"$f":"VLOOKUP($A$2,'Table 11'!$A$47:$L$65,2,FALSE)","v":148},{"$f":"VLOOKUP($A$2,'Table 12'!$A$47:$L$65,2,FALSE)","v":138},{"$f":"VLOOKUP($A$2,'Table 13'!$A$47:$L$65,2,FALSE)","v":104},"1 Bedroom Shared",{"$f":"B146/SUM(B$142:B$146)","v":8.4756483238456679E-2},8.3806198166739412E-2,8.5640457733480987E-2,5.8799171842650107E-2,6.0432829726418946E-2,5.6280587275693308E-2,3.7142857142857144E-2]

{"sheet":"BRMA Profile - Argyll and Bute","index":15,"n_rows":146,"n_cols":16,"rows_kept":146,"cut":false,"hidden":true,"merged":[[1,0,1,2]]}
["BRMA Rent Profile for:"]
["Aberdeen and Shire",null,null,null,null,null,null,null,{"$f":"ROUND(MIN(J6:P9,J28:P31,J50:P53,J72:P75,J94:P97)-0.01,2)","v":-0.21},{"$f":"ROUND(MAX(J6:P9,J28:P31,J50:P53,J72:P75,J94:P97)+0.01,2)","v":0.51}]
[]
["1 Bedroom Properties - Quartile Measures:",null,null,null,null,null,null,null,"1 Bedroom Properties - Annual changes and 6-yr cumulative change:"]
[" ",2010,2011,2012,2013,2014,2015,2016," ","2010 to 2011","2011 to 2012","2012 to 2013","2013 to 2014","2014 to 2015","2015 to 2016","2010 to 2016"]
["Lower Quartile",{"$f":"VLOOKUP($A$2,'Table 7'!$A$5:$L$23,3,FALSE)","v":500},{"$f":"VLOOKUP($A$2,'Table 8'!$A$5:$L$23,3,FALSE)","v":500},{"$f":"VLOOKUP($A$2,'Table 9'!$A$5:$L$23,3,FALSE)","v":520},{"$f":"VLOOKUP($A$2,'Table 10'!$A$5:$L$23,3,FALSE)","v":550},{"$f":"VLOOKUP($A$2,'Table 11'!$A$5:$L$23,3,FALSE)","v":625},{"$f":"VLOOKUP($A$2,'Table 12'!$A$5:$L$23,3,FALSE)","v":625},{"$f":"VLOOKUP($A$2,'Table 13'!$A$5:$L$23,3,FALSE)","v":510},"Lower Quartile",{"$f":"C6/B6-1","v":0},4.0000000000000036E-2,5.7692307692307709E-2,0.13636363636363646,0,{"$f":"H6/G6-1","v":-0.18400000000000005},{"$f":"H6/B6-1","v":2.0000000000000018E-2}]
["Median",{"$f":"VLOOKUP($A$2,'Table 7'!$A$5:$L$23,4,FALSE)","v":525},{"$f":"VLOOKUP($A$2,'Table 8'!$A$5:$L$23,4,FALSE)","v":550},{"$f":"VLOOKUP($A$2,'Table 9'!$A$5:$L$23,4,FALSE)","v":550},{"$f":"VLOOKUP($A$2,'Table 10'!$A$5:$L$23,4,FALSE)","v":600},{"$f":"VLOOKUP($A$2,'Table 11'!$A$5:$L$23,4,FALSE)","v":650},{"$f":"VLOOKUP($A$2,'Table 12'!$A$5:$L$23,4,FALSE)","v":675},{"$f":"VLOOKUP($A$2,'Table 13'!$A$5:$L$23,4,FALSE)","v":550},"Median",4.7619047619047672E-2,0,9.0909090909090828E-2,8.3333333333333259E-2,3.8461538461538547E-2,-0.18518518518518523,{"$f":"H7/B7-1","v":4.7619047619047672E-2}]
["Mean",{"$f":"VLOOKUP($A$2,'Table 7'!$A$5:$L$23,5,FALSE)","v":528.64},{"$f":"VLOOKUP($A$2,'Table 8'!$A$5:$L$23,5,FALSE)","v":540.49},{"$f":"VLOOKUP($A$2,'Table 9'!$A$5:$L$23,5,FALSE)","v":555.25},{"$f":"VLOOKUP($A$2,'Table 10'!$A$5:$L$23,5,FALSE)","v":600.17999999999995},{"$f":"VLOOKUP($A$2,'Table 11'!$A$5:$L$23,5,FALSE)","v":663.52},{"$f":"VLOOKUP($A$2,'Table 12'!$A$5:$L$23,5,FALSE)","v":666.96},{"$f":"VLOOKUP($A$2,'Table 13'!$A$5:$L$23,5,FALSE)","v":565.87},"Mean",2.2416010895883742E-2,2.7308553349738141E-2,8.0918505177847821E-2,0.10553500616481726,5.1844707017121294E-3,-0.1515683099436248,7.04259987893463E-2]
["Upper Quartile",{"$f":"VLOOKUP($A$2,'Table 7'!$A$5:$L$23,6,FALSE)","v":575},{"$f":"VLOOKUP($A$2,'Table 8'!$A$5:$L$23,6,FALSE)","v":575},{"$f":"VLOOKUP($A$2,'Table 9'!$A$5:$L$23,6,FALSE)","v":600},{"$f":"VLOOKUP($A$2,'Table 10'!$A$5:$L$23,6,FALSE)","v":650},{"$f":"VLOOKUP($A$2,'Table 11'!$A$5:$L$23,6,FALSE)","v":725},{"$f":"VLOOKUP($A$2,'Table 12'!$A$5:$L$23,6,FALSE)","v":700},{"$f":"VLOOKUP($A$2,'Table 13'!$A$5:$L$23,6,FALSE)","v":600},"Upper Quartile",0,4.3478260869565188E-2,8.3333333333333259E-2,0.11538461538461542,-3.4482758620689613E-2,-0.1428571428571429,4.3478260869565188E-2]
[]
[]
[]
[]
[]
[]
[]
[]
[]
[]
[]
[]
[]
[]
[]
[]
["2 Bedroom Properties:",null,null,null,null,null,null,null,"2 Bedroom Properties - Annual changes and 6-yr cumulative change:"]
[null,2010,2011,2012,2013,2014,2015,2016," ","2010 to 2011","2011 to 2012","2012 to 2013","2013 to 2014","2014 to 2015","2015 to 2016","2010 to 2016"]
["Lower Quartile",{"$f":"VLOOKUP($A$2,'Table 7'!$A$5:$L$23,9,FALSE)","v":590},{"$f":"VLOOKUP($A$2,'Table 8'!$A$5:$L$23,9,FALSE)","v":600},{"$f":"VLOOKUP($A$2,'Table 9'!$A$5:$L$23,9,FALSE)","v":650},{"$f":"VLOOKUP($A$2,'Table 10'!$A$5:$L$23,9,FALSE)","v":700},{"$f":"VLOOKUP($A$2,'Table 11'!$A$5:$L$23,9,FALSE)","v":795},{"$f":"VLOOKUP($A$2,'Table 12'!$A$5:$L$23,9,FALSE)","v":795},{"$f":"VLOOKUP($A$2,'Table 13'!$A$5:$L$23,9,FALSE)","v":675},"Lower Quartile",{"$f":"C28/B28-1","v":1.6949152542372836E-2},8.3333333333333259E-2,7.6923076923076872E-2,0.13571428571428568,0,{"$f":"H28/G28-1","v":-0.15094339622641506},{"$f":"H28/B28-1","v":0.14406779661016955}]
["Median",{"$f":"VLOOKUP($A$2,'Table 7'!$A$5:$L$23,10,FALSE)","v":650},{"$f":"VLOOKUP($A$2,'Table 8'!$A$5:$L$23,10,FALSE)","v":695},{"$f":"VLOOKUP($A$2,'Table 9'!$A$5:$L$23,10,FALSE)","v":700},{"$f":"VLOOKUP($A$2,'Table 10'!$A$5:$L$23,10,FALSE)","v":800},{"$f":"VLOOKUP($A$2,'Table 11'!$A$5:$L$23,10,FALSE)","v":875},{"$f":"VLOOKUP($A$2,'Table 12'!$A$5:$L$23,10,FALSE)","v":875},{"$f":"VLOOKUP($A$2,'Table 13'!$A$5:$L$23,10,FALSE)","v":750},"Median",6.9230769230769207E-2,7.194244604316502E-3,0.14285714285714279,9.375E-2,0,{"$f":"H29/G29-1","v":-0.1428571428571429},{"$f":"H29/B29-1","v":0.15384615384615374}]
["Mean",{"$f":"VLOOKUP($A$2,'Table 7'!$A$5:$L$23,11,FALSE)","v":642.58000000000004},{"$f":"VLOOKUP($A$2,'Table 8'!$A$5:$L$23,11,FALSE)","v":670.81},{"$f":"VLOOKUP($A$2,'Table 9'!$A$5:$L$23,11,FALSE)","v":701.44},{"$f":"VLOOKUP($A$2,'Table 10'!$A$5:$L$23,11,FALSE)","v":819.48},{"$f":"VLOOKUP($A$2,'Table 11'!$A$5:$L$23,11,FALSE)","v":898.08},{"$f":"VLOOKUP($A$2,'Table 12'!$A$5:$L$23,11,FALSE)","v":873.8},{"$f":"VLOOKUP($A$2,'Table 13'!$A$5:$L$23,11,FALSE)","v":754.39},"Mean",4.3932273024370305E-2,4.5661215545385492E-2,0.16828239051094873,9.5914482354664043E-2,-2.7035453411722865E-2,{"$f":"H30/G30-1","v":-0.13665598535133894},0.174001680724579]
["Upper Quartile",{"$f":"VLOOKUP($A$2,'Table 7'!$A$5:$L$23,12,FALSE)","v":700},{"$f":"VLOOKUP($A$2,'Table 8'!$A$5:$L$23,12,FALSE)","v":750},{"$f":"VLOOKUP($A$2,'Table 9'!$A$5:$L$23,12,FALSE)","v":775},{"$f":"VLOOKUP($A$2,'Table 10'!$A$5:$L$23,12,FALSE)","v":900},{"$f":"VLOOKUP($A$2,'Table 11'!$A$5:$L$23,12,FALSE)","v":1000},{"$f":"VLOOKUP($A$2,'Table 12'!$A$5:$L$23,12,FALSE)","v":950},{"$f":"VLOOKUP($A$2,'Table 13'!$A$5:$L$23,12,FALSE)","v":800},"Upper Quartile",7.1428571428571397E-2,3.3333333333333437E-2,0.16129032258064524,0.11111111111111116,-5.0000000000000044E-2,{"$f":"H31/G31-1","v":-0.15789473684210531},0.14285714285714279]
[]
[]
[]
[]
[]
[]
[]
[]
[]
[]
[]
[]
[]
[]
[]
[]
["3 Bedroom Properties:",null,null,null,null,null,null,null,"3 Bedroom Properties - Annual changes and 6-yr cumulative change:"]
[null,2010,2011,2012,2013,2014,2015,2016," ","2010 to 2011","2011 to 2012","2012 to 2013","2013 to 2014","2014 to 2015","2015 to 2016","2010 to 2016"]
["Lower Quartile",{"$f":"VLOOKUP($A$2,'Table 7'!$A$26:$L$44,3,FALSE)","v":650},{"$f":"VLOOKUP($A$2,'Table 8'!$A$26:$L$44,3,FALSE)","v":650},{"$f":"VLOOKUP($A$2,'Table 9'!$A$26:$L$44,3,FALSE)","v":700},{"$f":"VLOOKUP($A$2,'Table 10'!$A$26:$L$44,3,FALSE)","v":775},{"$f":"VLOOKUP($A$2,'Table 11'!$A$26:$L$44,3,FALSE)","v":850},{"$f":"VLOOKUP($A$2,'Table 12'!$A$26:$L$44,3,FALSE)","v":900},{"$f":"VLOOKUP($A$2,'Table 13'!$A$26:$L$44,3,FALSE)","v":800},"Lower Quartile",{"$f":"C50/B50-1","v":0},7.6923076923076872E-2,0.10714285714285721,9.6774193548387011E-2,5.8823529411764719E-2,{"$f":"H50/G50-1","v":-0.11111111111111116},{"$f":"H50/B50-1","v":0.23076923076923084}]
["Median",{"$f":"VLOOKUP($A$2,'Table 7'!$A$26:$L$44,4,FALSE)","v":750},{"$f":"VLOOKUP($A$2,'Table 8'!$A$26:$L$44,4,FALSE)","v":750},{"$f":"VLOOKUP($A$2,'Table 9'!$A$26:$L$44,4,FALSE)","v":825},{"$f":"VLOOKUP($A$2,'Table 10'!$A$26:$L$44,4,FALSE)","v":950},{"$f":"VLOOKUP($A$2,'Table 11'!$A$26:$L$44,4,FALSE)","v":1100},{"$f":"VLOOKUP($A$2,'Table 12'!$A$26:$L$44,4,FALSE)","v":1100},{"$f":"VLOOKUP($A$2,'Table 13'!$A$26:$L$44,4,FALSE)","v":900},"Median",0,0.10000000000000009,0.1515151515151516,0.15789473684210531,0,{"$f":"H51/G51-1","v":-0.18181818181818177},{"$f":"H51/B51-1","v":0.19999999999999996}]
["Mean",{"$f":"VLOOKUP($A$2,'Table 7'!$A$26:$L$44,5,FALSE)","v":743.67},{"$f":"VLOOKUP($A$2,'Table 8'!$A$26:$L$44,5,FALSE)","v":752.95},{"$f":"VLOOKUP($A$2,'Table 9'!$A$26:$L$44,5,FALSE)","v":827.09},{"$f":"VLOOKUP($A$2,'Table 10'!$A$26:$L$44,5,FALSE)","v":1019.32},{"$f":"VLOOKUP($A$2,'Table 11'!$A$26:$L$44,5,FALSE)","v":1089.01},{"$f":"VLOOKUP($A$2,'Table 12'!$A$26:$L$44,5,FALSE)","v":1072.46},{"$f":"VLOOKUP($A$2,'Table 13'!$A$26:$L$44,5,FALSE)","v":930.15},"Mean",1.2478653166055009E-2,9.8466033601168679E-2,0.23241727018825031,6.8369108817643021E-2,-1.5197289281090098E-2,{"$f":"H52/G52-1","v":-0.13269492568487407},0.2507563838799467]
["Upper Quartile",{"$f":"VLOOKUP($A$2,'Table 7'!$A$26:$L$44,6,FALSE)","v":850},{"$f":"VLOOKUP($A$2,'Table 8'!$A$26:$L$44,6,FALSE)","v":875},{"$f":"VLOOKUP($A$2,'Table 9'!$A$26:$L$44,6,FALSE)","v":950},{"$f":"VLOOKUP($A$2,'Table 10'!$A$26:$L$44,6,FALSE)","v":1200},{"$f":"VLOOKUP($A$2,'Table 11'!$A$26:$L$44,6,FALSE)","v":1300},{"$f":"VLOOKUP($A$2,'Table 12'!$A$26:$L$44,6,FALSE)","v":1250},{"$f":"VLOOKUP($A$2,'Table 13'!$A$26:$L$44,6,FALSE)","v":1050},"Upper Quartile",2.9411764705882248E-2,8.5714285714285632E-2,0.26315789473684204,8.3333333333333259E-2,-3.8461538461538436E-2,{"$f":"H53/G53-1","v":-0.16000000000000003},0.23529411764705888]
[]
[]
[]
[]
[]
[]
[]
[]
[]
[]
[]
[]
[]
[]
[]
[]
["4 Bedroom Properties:",null,null,null,null,null,null,null,"4 Bedroom Properties - Annual changes and 6-yr cumulative change:"]
[null,2010,2011,2012,2013,2014,2015,2016," ","2010 to 2011","2011 to 2012","2012 to 2013","2013 to 2014","2014 to 2015","2015 to 2016","2010 to 2016"]
["Lower Quartile",{"$f":"VLOOKUP($A$2,'Table 7'!$A$26:$L$44,9,FALSE)","v":850},{"$f":"VLOOKUP($A$2,'Table 8'!$A$26:$L$44,9,FALSE)","v":850},{"$f":"VLOOKUP($A$2,'Table 9'!$A$26:$L$44,9,FALSE)","v":900},{"$f":"VLOOKUP($A$2,'Table 10'!$A$26:$L$44,9,FALSE)","v":1100},{"$f":"VLOOKUP($A$2,'Table 11'!$A$26:$L$44,9,FALSE)","v":1200},{"$f":"VLOOKUP($A$2,'Table 12'!$A$26:$L$44,9,FALSE)","v":1250},{"$f":"VLOOKUP($A$2,'Table 13'!$A$26:$L$44,9,FALSE)","v":1000},"Lower Quartile",{"$f":"C72/B72-1","v":0},5.8823529411764719E-2,0.22222222222222232,9.0909090909090828E-2,4.1666666666666741E-2,{"$f":"H72/G72-1","v":-0.19999999999999996},{"$f":"H72/B72-1","v":0.17647058823529416}]
["Median",{"$f":"VLOOKUP($A$2,'Table 7'!$A$26:$L$44,10,FALSE)","v":950},{"$f":"VLOOKUP($A$2,'Table 8'!$A$26:$L$44,10,FALSE)","v":995},{"$f":"VLOOKUP($A$2,'Table 9'!$A$26:$L$44,10,FALSE)","v":1100},{"$f":"VLOOKUP($A$2,'Table 10'!$A$26:$L$44,10,FALSE)","v":1400},{"$f":"VLOOKUP($A$2,'Table 11'!$A$26:$L$44,10,FALSE)","v":1550},{"$f":"VLOOKUP($A$2,'Table 12'!$A$26:$L$44,10,FALSE)","v":1450},{"$f":"VLOOKUP($A$2,'Table 13'!$A$26:$L$44,10,FALSE)","v":1200},"Median",4.7368421052631504E-2,0.10552763819095468,0.27272727272727271,0.10714285714285721,-6.4516129032258118E-2,-0.17241379310344829,{"$f":"H73/B73-1","v":0.26315789473684204}]
["Mean",{"$f":"VLOOKUP($A$2,'Table 7'!$A$26:$L$44,11,FALSE)","v":943.66},{"$f":"VLOOKUP($A$2,'Table 8'!$A$26:$L$44,11,FALSE)","v":1017.76},{"$f":"VLOOKUP($A$2,'Table 9'!$A$26:$L$44,11,FALSE)","v":1105.08},{"$f":"VLOOKUP($A$2,'Table 10'!$A$26:$L$44,11,FALSE)","v":1484.07},{"$f":"VLOOKUP($A$2,'Table 11'!$A$26:$L$44,11,FALSE)","v":1564.74},{"$f":"VLOOKUP($A$2,'Table 12'!$A$26:$L$44,11,FALSE)","v":1492.52},{"$f":"VLOOKUP($A$2,'Table 13'!$A$26:$L$44,11,FALSE)","v":1291.33},"Mean",7.8524044677108273E-2,8.5796258449929219E-2,0.34295254642197848,5.4357274252562204E-2,-4.6154632718534705E-2,-0.13479886366681859,0.36842718775830274]
["Upper Quartile",{"$f":"VLOOKUP($A$2,'Table 7'!$A$26:$L$44,12,FALSE)","v":1000},{"$f":"VLOOKUP($A$2,'Table 8'!$A$26:$L$44,12,FALSE)","v":1200},{"$f":"VLOOKUP($A$2,'Table 9'!$A$26:$L$44,12,FALSE)","v":1300},{"$f":"VLOOKUP($A$2,'Table 10'!$A$26:$L$44,12,FALSE)","v":1800},{"$f":"VLOOKUP($A$2,'Table 11'!$A$26:$L$44,12,FALSE)","v":1850},{"$f":"VLOOKUP($A$2,'Table 12'!$A$26:$L$44,12,FALSE)","v":1700},{"$f":"VLOOKUP($A$2,'Table 13'!$A$26:$L$44,12,FALSE)","v":1500},"Upper Quartile",0.19999999999999996,8.3333333333333259E-2,0.38461538461538458,2.7777777777777679E-2,-8.108108108108103E-2,-0.11764705882352944,0.5]
[]
[]
[]
[]
[]
[]
[]
[]
[]
[]
[]
[]
[]
[]
[]
[]
["1 Bedroom Shared Properties:",null,null,null,null,null,null,null,"1 Bedroom Shared Properties - Annual changes and 6-yr cumulative change:"]
[null,2010,2011,2012,2013,2014,2015,2016," ","2010 to 2011","2011 to 2012","2012 to 2013","2013 to 2014","2014 to 2015","2015 to 2016","2010 to 2016"]
["Lower Quartile",{"$f":"VLOOKUP($A$2,'Table 7'!$A$47:$F$65,3,FALSE)","v":286},{"$f":"VLOOKUP($A$2,'Table 8'!$A$47:$F$65,3,FALSE)","v":285},{"$f":"VLOOKUP($A$2,'Table 9'!$A$47:$F$65,3,FALSE)","v":300},{"$f":"VLOOKUP($A$2,'Table 10'!$A$47:$F$65,3,FALSE)","v":316.33},{"$f":"VLOOKUP($A$2,'Table 11'!$A$47:$F$65,3,FALSE)","v":345},{"$f":"VLOOKUP($A$2,'Table 12'!$A$47:$F$65,3,FALSE)","v":375},{"$f":"VLOOKUP($A$2,'Table 13'!$A$47:$F$65,3,FALSE)","v":350},"Lower Quartile",{"$f":"C94/B94-1","v":-3.4965034965035446E-3},5.2631578947368363E-2,5.4433333333333334E-2,9.063319950684412E-2,8.6956521739130377E-2,{"$f":"H94/G94-1","v":-6.6666666666666652E-2},{"$f":"H94/B94-1","v":0.22377622377622375}]
["Median",{"$f":"VLOOKUP($A$2,'Table 7'!$A$47:$F$65,4,FALSE)","v":335},{"$f":"VLOOKUP($A$2,'Table 8'!$A$47:$F$65,4,FALSE)","v":325},{"$f":"VLOOKUP($A$2,'Table 9'!$A$47:$F$65,4,FALSE)","v":340},{"$f":"VLOOKUP($A$2,'Table 10'!$A$47:$F$65,4,FALSE)","v":350},{"$f":"VLOOKUP($A$2,'Table 11'!$A$47:$F$65,4,FALSE)","v":400},{"$f":"VLOOKUP($A$2,'Table 12'!$A$47:$F$65,4,FALSE)","v":407.5},{"$f":"VLOOKUP($A$2,'Table 13'!$A$47:$F$65,4,FALSE)","v":400},"Median",-2.9850746268656692E-2,4.6153846153846212E-2,2.9411764705882248E-2,0.14285714285714279,1.8750000000000044E-2,-1.8404907975460127E-2,{"$f":"H95/B95-1","v":0.19402985074626855}]
["Mean",{"$f":"VLOOKUP($A$2,'Table 7'!$A$47:$F$65,5,FALSE)","v":328.42},{"$f":"VLOOKUP($A$2,'Table 8'!$A$47:$F$65,5,FALSE)","v":322.86},{"$f":"VLOOKUP($A$2,'Table 9'!$A$47:$F$65,5,FALSE)","v":338.34},{"$f":"VLOOKUP($A$2,'Table 10'!$A$47:$F$65,5,FALSE)","v":365.66},{"$f":"VLOOKUP($A$2,'Table 11'!$A$47:$F$65,5,FALSE)","v":401.77},{"$f":"VLOOKUP($A$2,'Table 12'!$A$47:$F$65,5,FALSE)","v":433.46},{"$f":"VLOOKUP($A$2,'Table 13'!$A$47:$F$65,5,FALSE)","v":404.11},"Mean",-1.6929541440837914E-2,4.7946478349748967E-2,8.0747177395519509E-2,9.8752939889514835E-2,7.8875973815864864E-2,-6.7710976791399369E-2,0.23046708483040002]
["Upper Quartile",{"$f":"VLOOKUP($A$2,'Table 7'!$A$47:$F$65,6,FALSE)","v":360},{"$f":"VLOOKUP($A$2,'Table 8'!$A$47:$F$65,6,FALSE)","v":355},{"$f":"VLOOKUP($A$2,'Table 9'!$A$47:$F$65,6,FALSE)","v":375},{"$f":"VLOOKUP($A$2,'Table 10'!$A$47:$F$65,6,FALSE)","v":400},{"$f":"VLOOKUP($A$2,'Table 11'!$A$47:$F$65,6,FALSE)","v":450},{"$f":"VLOOKUP($A$2,'Table 12'!$A$47:$F$65,6,FALSE)","v":500},{"$f":"VLOOKUP($A$2,'Table 13'!$A$47:$F$65,6,FALSE)","v":450},"Upper Quartile",-1.388888888888884E-2,5.6338028169014009E-2,6.6666666666666652E-2,0.125,0.11111111111111116,-9.9999999999999978E-2,0.25]
[]
[]
[]
[]
[]
[]
[]
[]
[]
[]
[]
[]
[]
[]
[]
[]
[]
[]
["Mean Rents by Property Size:",null,null,null,null,null,null,null,"Median Rents by Property Size:"]
[null,2010,2011,2012,2013,2014,2015,2016,null,2010,2011,2012,2013,2014,2015,2016]
["1 Bedroom Shared",{"$f":"B96","v":328.42},322.86,338.34,365.66,401.77,433.46,404.11,"1 Bedroom Shared",{"$f":"B95","v":335},325,340,350,400,{"$f":"G95","v":407.5},{"$f":"H95","v":400}]
["1 Bedroom ",{"$f":"B8","v":528.64},540.49,555.25,600.17999999999995,663.52,666.96,565.87,"1 Bedroom ",{"$f":"B7","v":525},550,550,600,650,{"$f":"G7","v":675},{"$f":"H7","v":550}]
["2 Bedrooms",{"$f":"B30","v":642.58000000000004},670.81,701.44,819.48,898.08,873.8,754.39,"2 Bedrooms",{"$f":"B29","v":650},695,700,800,875,{"$f":"G29","v":875},{"$f":"H29","v":750}]
["3 Bedrooms",{"$f":"B52","v":743.67},752.95,827.09,1019.32,1089.01,1072.46,930.15,"3 Bedrooms",{"$f":"B51","v":750},750,825,950,1100,{"$f":"G51","v":1100},{"$f":"H51","v":900}]
["4 Bedrooms",{"$f":"B74","v":943.66},1017.76,1105.08,1484.07,1564.74,1492.52,1291.33,"4 Bedrooms",{"$f":"B73","v":950},995,1100,1400,1550,{"$f":"G73","v":1450},{"$f":"H73","v":1200}]
[]
[]
[]
[]
[]
[]
[]
[]
[]
[]
[]
[]
[]
[]
[]
[]
[]
["Sample Sizes:",null,null,null,null,null,null,null,"Sample Proportions:"]
[null,2010,2011,2012,2013,2014,2015,2016,null,2010,2011,2012,2013,2014,2015,2016]
["1 Bedroom ",{"$f":"VLOOKUP($A$2,'Table 7'!$A$5:$L$23,2,FALSE)","v":541},{"$f":"VLOOKUP($A$2,'Table 8'!$A$5:$L$23,2,FALSE)","v":691},{"$f":"VLOOKUP($A$2,'Table 9'!$A$5:$L$23,2,FALSE)","v":690},{"$f":"VLOOKUP($A$2,'Table 10'!$A$5:$L$23,2,FALSE)","v":534},{"$f":"VLOOKUP($A$2,'Table 11'!$A$5:$L$23,2,FALSE)","v":561},{"$f":"VLOOKUP($A$2,'Table 12'!$A$5:$L$23,2,FALSE)","v":596},{"$f":"VLOOKUP($A$2,'Table 13'!$A$5:$L$23,2,FALSE)","v":738},"1 Bedroom ",{"$f":"B142/SUM(B$142:B$146)","v":0.3421884882985452},{"$f":"C142/SUM(C$142:C$146)","v":0.30161501527717155},0.2547065337763012,0.22111801242236026,0.22907309105757451,{"$f":"G142/SUM(G$142:G$146)","v":0.24306688417618272},0.26357142857142857]
["2 Bedrooms",{"$f":"VLOOKUP($A$2,'Table 7'!$A$5:$L$23,8,FALSE)","v":557},{"$f":"VLOOKUP($A$2,'Table 8'!$A$5:$L$23,8,FALSE)","v":870},{"$f":"VLOOKUP($A$2,'Table 9'!$A$5:$L$23,8,FALSE)","v":1062},{"$f":"VLOOKUP($A$2,'Table 10'!$A$5:$L$23,8,FALSE)","v":967},{"$f":"VLOOKUP($A$2,'Table 11'!$A$5:$L$23,8,FALSE)","v":1025},{"$f":"VLOOKUP($A$2,'Table 12'!$A$5:$L$23,8,FALSE)","v":1009},{"$f":"VLOOKUP($A$2,'Table 13'!$A$5:$L$23,8,FALSE)","v":1271},"2 Bedrooms",{"$f":"B143/SUM(B$142:B$146)","v":0.35230866540164452},0.379746835443038,0.39202657807308972,0.40041407867494822,0.41853817884850958,0.41150081566068514,0.4539285714285714]
["3 Bedrooms",{"$f":"VLOOKUP($A$2,'Table 7'!$A$26:$L$44,2,FALSE)","v":226},{"$f":"VLOOKUP($A$2,'Table 8'!$A$26:$L$44,2,FALSE)","v":364},{"$f":"VLOOKUP($A$2,'Table 9'!$A$26:$L$44,2,FALSE)","v":486},{"$f":"VLOOKUP($A$2,'Table 10'!$A$26:$L$44,2,FALSE)","v":448},{"$f":"VLOOKUP($A$2,'Table 11'!$A$26:$L$44,2,FALSE)","v":422},{"$f":"VLOOKUP($A$2,'Table 12'!$A$26:$L$44,2,FALSE)","v":428},{"$f":"VLOOKUP($A$2,'Table 13'!$A$26:$L$44,2,FALSE)","v":412},"3 Bedrooms",{"$f":"B144/SUM(B$142:B$146)","v":0.14294750158127767},0.15888258402444347,0.17940199335548174,0.1855072463768116,0.17231523070641078,0.17455138662316477,0.14714285714285713]
["4 Bedrooms",{"$f":"VLOOKUP($A$2,'Table 7'!$A$26:$L$44,8,FALSE)","v":123},{"$f":"VLOOKUP($A$2,'Table 8'!$A$26:$L$44,8,FALSE)","v":174},{"$f":"VLOOKUP($A$2,'Table 9'!$A$26:$L$44,8,FALSE)","v":239},{"$f":"VLOOKUP($A$2,'Table 10'!$A$26:$L$44,8,FALSE)","v":324},{"$f":"VLOOKUP($A$2,'Table 11'!$A$26:$L$44,8,FALSE)","v":293},{"$f":"VLOOKUP($A$2,'Table 12'!$A$26:$L$44,8,FALSE)","v":281},{"$f":"VLOOKUP($A$2,'Table 13'!$A$26:$L$44,8,FALSE)","v":275},"4 Bedrooms",{"$f":"B145/SUM(B$142:B$146)","v":7.7798861480075907E-2},7.5949367088607597E-2,8.8224437061646357E-2,0.1341614906832298,0.11964066966108616,0.11460032626427406,9.8214285714285712E-2]
["1 Bedroom Shared",{"$f":"VLOOKUP($A$2,'Table 7'!$A$47:$L$65,2,FALSE)","v":134},{"$f":"VLOOKUP($A$2,'Table 8'!$A$47:$L$65,2,FALSE)","v":192},{"$f":"VLOOKUP($A$2,'Table 9'!$A$47:$L$65,2,FALSE)","v":232},{"$f":"VLOOKUP($A$2,'Table 10'!$A$47:$L$65,2,FALSE)","v":142},{"$f":"VLOOKUP($A$2,'Table 11'!$A$47:$L$65,2,FALSE)","v":148},{"$f":"VLOOKUP($A$2,'Table 12'!$A$47:$L$65,2,FALSE)","v":138},{"$f":"VLOOKUP($A$2,'Table 13'!$A$47:$L$65,2,FALSE)","v":104},"1 Bedroom Shared",{"$f":"B146/SUM(B$142:B$146)","v":8.4756483238456679E-2},8.3806198166739412E-2,8.5640457733480987E-2,5.8799171842650107E-2,6.0432829726418946E-2,5.6280587275693308E-2,3.7142857142857144E-2]

{"sheet":"BRMA Profile - Ayrshires","index":16,"n_rows":146,"n_cols":16,"rows_kept":146,"cut":false,"hidden":true,"merged":[[1,0,1,2]]}
["BRMA Rent Profile for:"]
["Ayrshires",null,null,null,null,null,null,null,{"$f":"ROUND(MIN(J6:P9,J28:P31,J50:P53,J72:P75,J94:P97)-0.01,2)","v":-0.08},{"$f":"ROUND(MAX(J6:P9,J28:P31,J50:P53,J72:P75,J94:P97)+0.01,2)","v":0.21}]
[]
["1 Bedroom Properties - Quartile Measures:",null,null,null,null,null,null,null,"1 Bedroom Properties - Annual changes and 6-yr cumulative change:"]
[" ",2010,2011,2012,2013,2014,2015,2016," ","2010 to 2011","2011 to 2012","2012 to 2013","2013 to 2014","2014 to 2015","2015 to 2016","2010 to 2016"]
["Lower Quartile",{"$f":"VLOOKUP($A$2,'Table 7'!$A$5:$L$23,3,FALSE)","v":350},{"$f":"VLOOKUP($A$2,'Table 8'!$A$5:$L$23,3,FALSE)","v":350},{"$f":"VLOOKUP($A$2,'Table 9'!$A$5:$L$23,3,FALSE)","v":330},{"$f":"VLOOKUP($A$2,'Table 10'!$A$5:$L$23,3,FALSE)","v":325},{"$f":"VLOOKUP($A$2,'Table 11'!$A$5:$L$23,3,FALSE)","v":325},{"$f":"VLOOKUP($A$2,'Table 12'!$A$5:$L$23,3,FALSE)","v":325},{"$f":"VLOOKUP($A$2,'Table 13'!$A$5:$L$23,3,FALSE)","v":327.5},"Lower Quartile",{"$f":"C6/B6-1","v":0},-5.7142857142857162E-2,-1.5151515151515138E-2,0,0,{"$f":"H6/G6-1","v":7.692307692307665E-3},{"$f":"H6/B6-1","v":-6.4285714285714279E-2}]
["Median",{"$f":"VLOOKUP($A$2,'Table 7'!$A$5:$L$23,4,FALSE)","v":375},{"$f":"VLOOKUP($A$2,'Table 8'!$A$5:$L$23,4,FALSE)","v":375},{"$f":"VLOOKUP($A$2,'Table 9'!$A$5:$L$23,4,FALSE)","v":350},{"$f":"VLOOKUP($A$2,'Table 10'!$A$5:$L$23,4,FALSE)","v":360},{"$f":"VLOOKUP($A$2,'Table 11'!$A$5:$L$23,4,FALSE)","v":360},{"$f":"VLOOKUP($A$2,'Table 12'!$A$5:$L$23,4,FALSE)","v":350},{"$f":"VLOOKUP($A$2,'Table 13'!$A$5:$L$23,4,FALSE)","v":350},"Median",0,-6.6666666666666652E-2,2.857142857142847E-2,0,-2.777777777777779E-2,0,{"$f":"H7/B7-1","v":-6.6666666666666652E-2}]
["Mean",{"$f":"VLOOKUP($A$2,'Table 7'!$A$5:$L$23,5,FALSE)","v":375.42},{"$f":"VLOOKUP($A$2,'Table 8'!$A$5:$L$23,5,FALSE)","v":378.48},{"$f":"VLOOKUP($A$2,'Table 9'!$A$5:$L$23,5,FALSE)","v":365.01},{"$f":"VLOOKUP($A$2,'Table 10'!$A$5:$L$23,5,FALSE)","v":369.38},{"$f":"VLOOKUP($A$2,'Table 11'!$A$5:$L$23,5,FALSE)","v":364.83},{"$f":"VLOOKUP($A$2,'Table 12'!$A$5:$L$23,5,FALSE)","v":362.86},{"$f":"VLOOKUP($A$2,'Table 13'!$A$5:$L$23,5,FALSE)","v":366.26},"Mean",8.1508710244526661E-3,-3.5589727330374243E-2,1.1972274732199084E-2,-1.2317938166657716E-2,-5.3997752377819008E-3,9.3700049605907054E-3,-2.4399339406531384E-2]
["Upper Quartile",{"$f":"VLOOKUP($A$2,'Table 7'!$A$5:$L$23,6,FALSE)","v":400},{"$f":"VLOOKUP($A$2,'Table 8'!$A$5:$L$23,6,FALSE)","v":400},{"$f":"VLOOKUP($A$2,'Table 9'!$A$5:$L$23,6,FALSE)","v":395},{"$f":"VLOOKUP($A$2,'Table 10'!$A$5:$L$23,6,FALSE)","v":400},{"$f":"VLOOKUP($A$2,'Table 11'!$A$5:$L$23,6,FALSE)","v":395},{"$f":"VLOOKUP($A$2,'Table 12'!$A$5:$L$23,6,FALSE)","v":395},{"$f":"VLOOKUP($A$2,'Table 13'!$A$5:$L$23,6,FALSE)","v":400},"Upper Quartile",0,-1.2499999999999956E-2,1.2658227848101333E-2,-1.2499999999999956E-2,0,1.2658227848101333E-2,0]
[]
[]
[]
[]
[]
[]
[]
[]
[]
[]
[]
[]
[]
[]
[]
[]
["2 Bedroom Properties:",null,null,null,null,null,null,null,"2 Bedroom Properties - Annual changes and 6-yr cumulative change:"]
[null,2010,2011,2012,2013,2014,2015,2016," ","2010 to 2011","2011 to 2012","2012 to 2013","2013 to 2014","2014 to 2015","2015 to 2016","2010 to 2016"]
["Lower Quartile",{"$f":"VLOOKUP($A$2,'Table 7'!$A$5:$L$23,9,FALSE)","v":425},{"$f":"VLOOKUP($A$2,'Table 8'!$A$5:$L$23,9,FALSE)","v":425},{"$f":"VLOOKUP($A$2,'Table 9'!$A$5:$L$23,9,FALSE)","v":425},{"$f":"VLOOKUP($A$2,'Table 10'!$A$5:$L$23,9,FALSE)","v":425},{"$f":"VLOOKUP($A$2,'Table 11'!$A$5:$L$23,9,FALSE)","v":425},{"$f":"VLOOKUP($A$2,'Table 12'!$A$5:$L$23,9,FALSE)","v":420},{"$f":"VLOOKUP($A$2,'Table 13'!$A$5:$L$23,9,FALSE)","v":425},"Lower Quartile",{"$f":"C28/B28-1","v":0},0,0,0,-1.1764705882352899E-2,{"$f":"H28/G28-1","v":1.1904761904761862E-2},{"$f":"H28/B28-1","v":0}]
["Median",{"$f":"VLOOKUP($A$2,'Table 7'!$A$5:$L$23,10,FALSE)","v":450},{"$f":"VLOOKUP($A$2,'Table 8'!$A$5:$L$23,10,FALSE)","v":450},{"$f":"VLOOKUP($A$2,'Table 9'!$A$5:$L$23,10,FALSE)","v":450},{"$f":"VLOOKUP($A$2,'Table 10'!$A$5:$L$23,10,FALSE)","v":450},{"$f":"VLOOKUP($A$2,'Table 11'!$A$5:$L$23,10,FALSE)","v":450},{"$f":"VLOOKUP($A$2,'Table 12'!$A$5:$L$23,10,FALSE)","v":450},{"$f":"VLOOKUP($A$2,'Table 13'!$A$5:$L$23,10,FALSE)","v":450},"Median",0,0,0,0,0,{"$f":"H29/G29-1","v":0},{"$f":"H29/B29-1","v":0}]
["Mean",{"$f":"VLOOKUP($A$2,'Table 7'!$A$5:$L$23,11,FALSE)","v":464.47},{"$f":"VLOOKUP($A$2,'Table 8'!$A$5:$L$23,11,FALSE)","v":469.47},{"$f":"VLOOKUP($A$2,'Table 9'!$A$5:$L$23,11,FALSE)","v":459.24},{"$f":"VLOOKUP($A$2,'Table 10'!$A$5:$L$23,11,FALSE)","v":469.51},{"$f":"VLOOKUP($A$2,'Table 11'!$A$5:$L$23,11,FALSE)","v":460.9},{"$f":"VLOOKUP($A$2,'Table 12'!$A$5:$L$23,11,FALSE)","v":460.63},{"$f":"VLOOKUP($A$2,'Table 13'!$A$5:$L$23,11,FALSE)","v":463.38},"Mean",1.076495790901455E-2,-2.1790529746309684E-2,2.2363034578869456E-2,-1.8338267555536691E-2,-5.8581037101324007E-4,{"$f":"H30/G30-1","v":5.9700844495582661E-3},-2.3467608241652949E-3]
["Upper Quartile",{"$f":"VLOOKUP($A$2,'Table 7'!$A$5:$L$23,12,FALSE)","v":495},{"$f":"VLOOKUP($A$2,'Table 8'!$A$5:$L$23,12,FALSE)","v":500},{"$f":"VLOOKUP($A$2,'Table 9'!$A$5:$L$23,12,FALSE)","v":495},{"$f":"VLOOKUP($A$2,'Table 10'!$A$5:$L$23,12,FALSE)","v":500},{"$f":"VLOOKUP($A$2,'Table 11'!$A$5:$L$23,12,FALSE)","v":497.5},{"$f":"VLOOKUP($A$2,'Table 12'!$A$5:$L$23,12,FALSE)","v":500},{"$f":"VLOOKUP($A$2,'Table 13'!$A$5:$L$23,12,FALSE)","v":500},"Upper Quartile",1.0101010101010166E-2,-1.0000000000000009E-2,1.0101010101010166E-2,-5.0000000000000044E-3,5.0251256281406143E-3,{"$f":"H31/G31-1","v":0},1.0101010101010166E-2]
[]
[]
[]
[]
[]
[]
[]
[]
[]
[]
[]
[]
[]
[]
[]
[]
["3 Bedroom Properties:",null,null,null,null,null,null,null,"3 Bedroom Properties - Annual changes and 6-yr cumulative change:"]
[null,2010,2011,2012,2013,2014,2015,2016," ","2010 to 2011","2011 to 2012","2012 to 2013","2013 to 2014","2014 to 2015","2015 to 2016","2010 to 2016"]
["Lower Quartile",{"$f":"VLOOKUP($A$2,'Table 7'!$A$26:$L$44,3,FALSE)","v":475},{"$f":"VLOOKUP($A$2,'Table 8'!$A$26:$L$44,3,FALSE)","v":495},{"$f":"VLOOKUP($A$2,'Table 9'!$A$26:$L$44,3,FALSE)","v":495},{"$f":"VLOOKUP($A$2,'Table 10'!$A$26:$L$44,3,FALSE)","v":495},{"$f":"VLOOKUP($A$2,'Table 11'!$A$26:$L$44,3,FALSE)","v":495},{"$f":"VLOOKUP($A$2,'Table 12'!$A$26:$L$44,3,FALSE)","v":490},{"$f":"VLOOKUP($A$2,'Table 13'!$A$26:$L$44,3,FALSE)","v":495},"Lower Quartile",{"$f":"C50/B50-1","v":4.2105263157894646E-2},0,0,0,-1.0101010101010055E-2,{"$f":"H50/G50-1","v":1.0204081632652962E-2},{"$f":"H50/B50-1","v":4.2105263157894646E-2}]
["Median",{"$f":"VLOOKUP($A$2,'Table 7'!$A$26:$L$44,4,FALSE)","v":545},{"$f":"VLOOKUP($A$2,'Table 8'!$A$26:$L$44,4,FALSE)","v":550},{"$f":"VLOOKUP($A$2,'Table 9'!$A$26:$L$44,4,FALSE)","v":550},{"$f":"VLOOKUP($A$2,'Table 10'!$A$26:$L$44,4,FALSE)","v":550},{"$f":"VLOOKUP($A$2,'Table 11'!$A$26:$L$44,4,FALSE)","v":550},{"$f":"VLOOKUP($A$2,'Table 12'!$A$26:$L$44,4,FALSE)","v":525},{"$f":"VLOOKUP($A$2,'Table 13'!$A$26:$L$44,4,FALSE)","v":550},"Median",9.1743119266054496E-3,0,0,0,-4.5454545454545414E-2,{"$f":"H51/G51-1","v":4.7619047619047672E-2},{"$f":"H51/B51-1","v":9.1743119266054496E-3}]
["Mean",{"$f":"VLOOKUP($A$2,'Table 7'!$A$26:$L$44,5,FALSE)","v":556.1},{"$f":"VLOOKUP($A$2,'Table 8'!$A$26:$L$44,5,FALSE)","v":569.88},{"$f":"VLOOKUP($A$2,'Table 9'!$A$26:$L$44,5,FALSE)","v":576.09},{"$f":"VLOOKUP($A$2,'Table 10'!$A$26:$L$44,5,FALSE)","v":574.91},{"$f":"VLOOKUP($A$2,'Table 11'!$A$26:$L$44,5,FALSE)","v":568.83000000000004},{"$f":"VLOOKUP($A$2,'Table 12'!$A$26:$L$44,5,FALSE)","v":568.07000000000005},{"$f":"VLOOKUP($A$2,'Table 13'!$A$26:$L$44,5,FALSE)","v":578.84},"Mean",2.4779715878439079E-2,1.0897030953885167E-2,-2.0482910656322018E-3,-1.0575568349828535E-2,-1.3360758047219479E-3,{"$f":"H52/G52-1","v":1.8958931117643907E-2},4.0891925912605709E-2]
["Upper Quartile",{"$f":"VLOOKUP($A$2,'Table 7'!$A$26:$L$44,6,FALSE)","v":600},{"$f":"VLOOKUP($A$2,'Table 8'!$A$26:$L$44,6,FALSE)","v":625},{"$f":"VLOOKUP($A$2,'Table 9'!$A$26:$L$44,6,FALSE)","v":650},{"$f":"VLOOKUP($A$2,'Table 10'!$A$26:$L$44,6,FALSE)","v":650},{"$f":"VLOOKUP($A$2,'Table 11'!$A$26:$L$44,6,FALSE)","v":625},{"$f":"VLOOKUP($A$2,'Table 12'!$A$26:$L$44,6,FALSE)","v":642.5},{"$f":"VLOOKUP($A$2,'Table 13'!$A$26:$L$44,6,FALSE)","v":650},"Upper Quartile",4.1666666666666741E-2,4.0000000000000036E-2,0,-3.8461538461538436E-2,2.8000000000000025E-2,{"$f":"H53/G53-1","v":1.1673151750972721E-2},8.3333333333333259E-2]
[]
[]
[]
[]
[]
[]
[]
[]
[]
[]
[]
[]
[]
[]
[]
[]
["4 Bedroom Properties:",null,null,null,null,null,null,null,"4 Bedroom Properties - Annual changes and 6-yr cumulative change:"]
[null,2010,2011,2012,2013,2014,2015,2016," ","2010 to 2011","2011 to 2012","2012 to 2013","2013 to 2014","2014 to 2015","2015 to 2016","2010 to 2016"]
["Lower Quartile",{"$f":"VLOOKUP($A$2,'Table 7'!$A$26:$L$44,9,FALSE)","v":650},{"$f":"VLOOKUP($A$2,'Table 8'!$A$26:$L$44,9,FALSE)","v":650},{"$f":"VLOOKUP($A$2,'Table 9'!$A$26:$L$44,9,FALSE)","v":650},{"$f":"VLOOKUP($A$2,'Table 10'!$A$26:$L$44,9,FALSE)","v":677.5},{"$f":"VLOOKUP($A$2,'Table 11'!$A$26:$L$44,9,FALSE)","v":675},{"$f":"VLOOKUP($A$2,'Table 12'!$A$26:$L$44,9,FALSE)","v":695},{"$f":"VLOOKUP($A$2,'Table 13'!$A$26:$L$44,9,FALSE)","v":695},"Lower Quartile",{"$f":"C72/B72-1","v":0},0,4.2307692307692379E-2,-3.6900369003689537E-3,2.9629629629629672E-2,{"$f":"H72/G72-1","v":0},{"$f":"H72/B72-1","v":6.9230769230769207E-2}]
["Median",{"$f":"VLOOKUP($A$2,'Table 7'!$A$26:$L$44,10,FALSE)","v":725},{"$f":"VLOOKUP($A$2,'Table 8'!$A$26:$L$44,10,FALSE)","v":750},{"$f":"VLOOKUP($A$2,'Table 9'!$A$26:$L$44,10,FALSE)","v":750},{"$f":"VLOOKUP($A$2,'Table 10'!$A$26:$L$44,10,FALSE)","v":795},{"$f":"VLOOKUP($A$2,'Table 11'!$A$26:$L$44,10,FALSE)","v":750},{"$f":"VLOOKUP($A$2,'Table 12'!$A$26:$L$44,10,FALSE)","v":850},{"$f":"VLOOKUP($A$2,'Table 13'!$A$26:$L$44,10,FALSE)","v":800},"Median",3.4482758620689724E-2,0,6.0000000000000053E-2,-5.6603773584905648E-2,0.1333333333333333,-5.8823529411764719E-2,{"$f":"H73/B73-1","v":0.10344827586206895}]
["Mean",{"$f":"VLOOKUP($A$2,'Table 7'!$A$26:$L$44,11,FALSE)","v":758.06},{"$f":"VLOOKUP($A$2,'Table 8'!$A$26:$L$44,11,FALSE)","v":788.66},{"$f":"VLOOKUP($A$2,'Table 9'!$A$26:$L$44,11,FALSE)","v":816.47},{"$f":"VLOOKUP($A$2,'Table 10'!$A$26:$L$44,11,FALSE)","v":834.36},{"$f":"VLOOKUP($A$2,'Table 11'!$A$26:$L$44,11,FALSE)","v":840.12},{"$f":"VLOOKUP($A$2,'Table 12'!$A$26:$L$44,11,FALSE)","v":871.69},{"$f":"VLOOKUP($A$2,'Table 13'!$A$26:$L$44,11,FALSE)","v":907.52},"Mean",4.0366197926285485E-2,3.5262343722263223E-2,2.1911399071613102E-2,6.9034948942903185E-3,3.7577965052611573E-2,4.1104062223955573E-2,0.19716117457721039]
["Upper Quartile",{"$f":"VLOOKUP($A$2,'Table 7'!$A$26:$L$44,12,FALSE)","v":850},{"$f":"VLOOKUP($A$2,'Table 8'!$A$26:$L$44,12,FALSE)","v":875},{"$f":"VLOOKUP($A$2,'Table 9'!$A$26:$L$44,12,FALSE)","v":900},{"$f":"VLOOKUP($A$2,'Table 10'!$A$26:$L$44,12,FALSE)","v":900},{"$f":"VLOOKUP($A$2,'Table 11'!$A$26:$L$44,12,FALSE)","v":1000},{"$f":"VLOOKUP($A$2,'Table 12'!$A$26:$L$44,12,FALSE)","v":995},{"$f":"VLOOKUP($A$2,'Table 13'!$A$26:$L$44,12,FALSE)","v":975},"Upper Quartile",2.9411764705882248E-2,2.857142857142847E-2,0,0.11111111111111116,-5.0000000000000044E-3,-2.010050251256279E-2,0.14705882352941169]
[]
[]
[]
[]
[]
[]
[]
[]
[]
[]
[]
[]
[]
[]
[]
[]
["1 Bedroom Shared Properties:",null,null,null,null,null,null,null,"1 Bedroom Shared Properties - Annual changes and 6-yr cumulative change:"]
[null,2010,2011,2012,2013,2014,2015,2016," ","2010 to 2011","2011 to 2012","2012 to 2013","2013 to 2014","2014 to 2015","2015 to 2016","2010 to 2016"]
["Lower Quartile",{"$f":"VLOOKUP($A$2,'Table 7'!$A$47:$F$65,3,FALSE)","v":280},{"$f":"VLOOKUP($A$2,'Table 8'!$A$47:$F$65,3,FALSE)","v":274},{"$f":"VLOOKUP($A$2,'Table 9'!$A$47:$F$65,3,FALSE)","v":273},{"$f":"VLOOKUP($A$2,'Table 10'!$A$47:$F$65,3,FALSE)","v":260},{"$f":"VLOOKUP($A$2,'Table 11'!$A$47:$F$65,3,FALSE)","v":260},{"$f":"VLOOKUP($A$2,'Table 12'!$A$47:$F$65,3,FALSE)","v":275},{"$f":"VLOOKUP($A$2,'Table 13'!$A$47:$F$65,3,FALSE)","v":275},"Lower Quartile",{"$f":"C94/B94-1","v":-2.1428571428571463E-2},-3.6496350364964014E-3,-4.7619047619047672E-2,0,5.7692307692307709E-2,{"$f":"H94/G94-1","v":0},{"$f":"H94/B94-1","v":-1.7857142857142905E-2}]
["Median",{"$f":"VLOOKUP($A$2,'Table 7'!$A$47:$F$65,4,FALSE)","v":300},{"$f":"VLOOKUP($A$2,'Table 8'!$A$47:$F$65,4,FALSE)","v":298},{"$f":"VLOOKUP($A$2,'Table 9'!$A$47:$F$65,4,FALSE)","v":300},{"$f":"VLOOKUP($A$2,'Table 10'!$A$47:$F$65,4,FALSE)","v":286.5},{"$f":"VLOOKUP($A$2,'Table 11'!$A$47:$F$65,4,FALSE)","v":276.66000000000003},{"$f":"VLOOKUP($A$2,'Table 12'!$A$47:$F$65,4,FALSE)","v":300},{"$f":"VLOOKUP($A$2,'Table 13'!$A$47:$F$65,4,FALSE)","v":325.89},"Median",-6.6666666666667096E-3,6.7114093959732557E-3,-4.500000000000004E-2,-3.4345549738219794E-2,8.4363478638039391E-2,8.6300000000000043E-2,{"$f":"H95/B95-1","v":8.6300000000000043E-2}]
["Mean",{"$f":"VLOOKUP($A$2,'Table 7'!$A$47:$F$65,5,FALSE)","v":301.7},{"$f":"VLOOKUP($A$2,'Table 8'!$A$47:$F$65,5,FALSE)","v":300.68},{"$f":"VLOOKUP($A$2,'Table 9'!$A$47:$F$65,5,FALSE)","v":301.73},{"$f":"VLOOKUP($A$2,'Table 10'!$A$47:$F$65,5,FALSE)","v":301.14999999999998},{"$f":"VLOOKUP($A$2,'Table 11'!$A$47:$F$65,5,FALSE)","v":289.5},{"$f":"VLOOKUP($A$2,'Table 12'!$A$47:$F$65,5,FALSE)","v":304.35000000000002},{"$f":"VLOOKUP($A$2,'Table 13'!$A$47:$F$65,5,FALSE)","v":335.13},"Mean",-3.3808418959230258E-3,3.4920846082213686E-3,-1.9222483677461266E-3,-3.8685040677403193E-2,5.1295336787564816E-2,0.10113356333169032,0.11080543586344049]
["Upper Quartile",{"$f":"VLOOKUP($A$2,'Table 7'!$A$47:$F$65,6,FALSE)","v":324},{"$f":"VLOOKUP($A$2,'Table 8'!$A$47:$F$65,6,FALSE)","v":324},{"$f":"VLOOKUP($A$2,'Table 9'!$A$47:$F$65,6,FALSE)","v":325},{"$f":"VLOOKUP($A$2,'Table 10'!$A$47:$F$65,6,FALSE)","v":325},{"$f":"VLOOKUP($A$2,'Table 11'!$A$47:$F$65,6,FALSE)","v":315},{"$f":"VLOOKUP($A$2,'Table 12'!$A$47:$F$65,6,FALSE)","v":333},{"$f":"VLOOKUP($A$2,'Table 13'!$A$47:$F$65,6,FALSE)","v":359.52},"Upper Quartile",0,3.0864197530864335E-3,0,-3.0769230769230771E-2,5.7142857142857162E-2,7.9639639639639492E-2,0.10962962962962952]
[]
[]
[]
[]
[]
[]
[]
[]
[]
[]
[]
[]
[]
[]
[]
[]
[]
[]
["Mean Rents by Property Size:",null,null,null,null,null,null,null,"Median Rents by Property Size:"]
[null,2010,2011,2012,2013,2014,2015,2016,null,2010,2011,2012,2013,2014,2015,2016]
["1 Bedroom Shared",{"$f":"B96","v":301.7},300.68,301.73,301.14999999999998,289.5,304.35000000000002,335.13,"1 Bedroom Shared",{"$f":"B95","v":300},298,300,286.5,276.66000000000003,{"$f":"G95","v":300},{"$f":"H95","v":325.89}]
["1 Bedroom ",{"$f":"B8","v":375.42},378.48,365.01,369.38,364.83,362.86,366.26,"1 Bedroom ",{"$f":"B7","v":375},375,350,360,360,{"$f":"G7","v":350},{"$f":"H7","v":350}]
["2 Bedrooms",{"$f":"B30","v":464.47},469.47,459.24,469.51,460.9,460.63,463.38,"2 Bedrooms",{"$f":"B29","v":450},450,450,450,450,{"$f":"G29","v":450},{"$f":"H29","v":450}]
["3 Bedrooms",{"$f":"B52","v":556.1},569.88,576.09,574.91,568.83000000000004,568.07000000000005,578.84,"3 Bedrooms",{"$f":"B51","v":545},550,550,550,550,{"$f":"G51","v":525},{"$f":"H51","v":550}]
["4 Bedrooms",{"$f":"B74","v":758.06},788.66,816.47,834.36,840.12,871.69,907.52,"4 Bedrooms",{"$f":"B73","v":725},750,750,795,750,{"$f":"G73","v":850},{"$f":"H73","v":800}]
[]
[]
[]
[]
[]
[]
[]
[]
[]
[]
[]
[]
[]
[]
[]
[]
[]
["Sample Sizes:",null,null,null,null,null,null,null,"Sample Proportions:"]
[null,2010,2011,2012,2013,2014,2015,2016,null,2010,2011,2012,2013,2014,2015,2016]
["1 Bedroom ",{"$f":"VLOOKUP($A$2,'Table 7'!$A$5:$L$23,2,FALSE)","v":359},{"$f":"VLOOKUP($A$2,'Table 8'!$A$5:$L$23,2,FALSE)","v":354},{"$f":"VLOOKUP($A$2,'Table 9'!$A$5:$L$23,2,FALSE)","v":284},{"$f":"VLOOKUP($A$2,'Table 10'!$A$5:$L$23,2,FALSE)","v":201},{"$f":"VLOOKUP($A$2,'Table 11'!$A$5:$L$23,2,FALSE)","v":206},{"$f":"VLOOKUP($A$2,'Table 12'!$A$5:$L$23,2,FALSE)","v":286},{"$f":"VLOOKUP($A$2,'Table 13'!$A$5:$L$23,2,FALSE)","v":288},"1 Bedroom ",{"$f":"B142/SUM(B$142:B$146)","v":0.21561561561561562},{"$f":"C142/SUM(C$142:C$146)","v":0.20689655172413793},0.199438202247191,0.14398280802292263,0.14949201741654572,{"$f":"G142/SUM(G$142:G$146)","v":0.17964824120603015},0.18449711723254325]
["2 Bedrooms",{"$f":"VLOOKUP($A$2,'Table 7'!$A$5:$L$23,8,FALSE)","v":759},{"$f":"VLOOKUP($A$2,'Table 8'!$A$5:$L$23,8,FALSE)","v":737},{"$f":"VLOOKUP($A$2,'Table 9'!$A$5:$L$23,8,FALSE)","v":607},{"$f":"VLOOKUP($A$2,'Table 10'!$A$5:$L$23,8,FALSE)","v":592},{"$f":"VLOOKUP($A$2,'Table 11'!$A$5:$L$23,8,FALSE)","v":604},{"$f":"VLOOKUP($A$2,'Table 12'!$A$5:$L$23,8,FALSE)","v":681},{"$f":"VLOOKUP($A$2,'Table 13'!$A$5:$L$23,8,FALSE)","v":716},"2 Bedrooms",{"$f":"B143/SUM(B$142:B$146)","v":0.45585585585585586},0.43074225599064875,0.4262640449438202,0.42406876790830944,0.43831640058055155,0.42776381909547739,0.458680333119795]
["3 Bedrooms",{"$f":"VLOOKUP($A$2,'Table 7'!$A$26:$L$44,2,FALSE)","v":390},{"$f":"VLOOKUP($A$2,'Table 8'!$A$26:$L$44,2,FALSE)","v":417},{"$f":"VLOOKUP($A$2,'Table 9'!$A$26:$L$44,2,FALSE)","v":328},{"$f":"VLOOKUP($A$2,'Table 10'!$A$26:$L$44,2,FALSE)","v":347},{"$f":"VLOOKUP($A$2,'Table 11'!$A$26:$L$44,2,FALSE)","v":346},{"$f":"VLOOKUP($A$2,'Table 12'!$A$26:$L$44,2,FALSE)","v":380},{"$f":"VLOOKUP($A$2,'Table 13'!$A$26:$L$44,2,FALSE)","v":341},"3 Bedrooms",{"$f":"B144/SUM(B$142:B$146)","v":0.23423423423423423},0.24371712448860317,0.2303370786516854,0.24856733524355301,0.25108853410740201,0.23869346733668342,0.21844971172325434]
["4 Bedrooms",{"$f":"VLOOKUP($A$2,'Table 7'!$A$26:$L$44,8,FALSE)","v":119},{"$f":"VLOOKUP($A$2,'Table 8'!$A$26:$L$44,8,FALSE)","v":136},{"$f":"VLOOKUP($A$2,'Table 9'!$A$26:$L$44,8,FALSE)","v":108},{"$f":"VLOOKUP($A$2,'Table 10'!$A$26:$L$44,8,FALSE)","v":136},{"$f":"VLOOKUP($A$2,'Table 11'!$A$26:$L$44,8,FALSE)","v":115},{"$f":"VLOOKUP($A$2,'Table 12'!$A$26:$L$44,8,FALSE)","v":106},{"$f":"VLOOKUP($A$2,'Table 13'!$A$26:$L$44,8,FALSE)","v":101},"4 Bedrooms",{"$f":"B145/SUM(B$142:B$146)","v":7.1471471471471468E-2},7.9485680888369381E-2,7.5842696629213488E-2,9.7421203438395415E-2,8.3454281567489116E-2,6.6582914572864318E-2,6.4702114029468294E-2]
["1 Bedroom Shared",{"$f":"VLOOKUP($A$2,'Table 7'!$A$47:$L$65,2,FALSE)","v":38},{"$f":"VLOOKUP($A$2,'Table 8'!$A$47:$L$65,2,FALSE)","v":67},{"$f":"VLOOKUP($A$2,'Table 9'!$A$47:$L$65,2,FALSE)","v":97},{"$f":"VLOOKUP($A$2,'Table 10'!$A$47:$L$65,2,FALSE)","v":120},{"$f":"VLOOKUP($A$2,'Table 11'!$A$47:$L$65,2,FALSE)","v":107},{"$f":"VLOOKUP($A$2,'Table 12'!$A$47:$L$65,2,FALSE)","v":139},{"$f":"VLOOKUP($A$2,'Table 13'!$A$47:$L$65,2,FALSE)","v":115},"1 Bedroom Shared",{"$f":"B146/SUM(B$142:B$146)","v":2.2822822822822823E-2},3.9158386908240791E-2,6.8117977528089887E-2,8.5959885386819479E-2,7.7648766328011612E-2,8.7311557788944727E-2,7.3670723894939144E-2]

{"sheet":"BRMA Profile - Dumfries and Gal","index":17,"n_rows":146,"n_cols":16,"rows_kept":146,"cut":false,"hidden":true,"merged":[[1,0,1,2]]}
["BRMA Rent Profile for:"]
["Dumfries and Galloway",null,null,null,null,null,null,null,{"$f":"ROUND(MIN(J6:P9,J28:P31,J50:P53,J72:P75,J94:P97)-0.01,2)","v":-0.06},{"$f":"ROUND(MAX(J6:P9,J28:P31,J50:P53,J72:P75,J94:P97)+0.01,2)","v":0.15}]
[]
["1 Bedroom Properties - Quartile Measures:",null,null,null,null,null,null,null,"1 Bedroom Properties - Annual changes and 6-yr cumulative change:"]
[" ",2010,2011,2012,2013,2014,2015,2016," ","2010 to 2011","2011 to 2012","2012 to 2013","2013 to 2014","2014 to 2015","2015 to 2016","2010 to 2016"]
["Lower Quartile",{"$f":"VLOOKUP($A$2,'Table 7'!$A$5:$L$23,3,FALSE)","v":325},{"$f":"VLOOKUP($A$2,'Table 8'!$A$5:$L$23,3,FALSE)","v":340},{"$f":"VLOOKUP($A$2,'Table 9'!$A$5:$L$23,3,FALSE)","v":350},{"$f":"VLOOKUP($A$2,'Table 10'!$A$5:$L$23,3,FALSE)","v":350},{"$f":"VLOOKUP($A$2,'Table 11'!$A$5:$L$23,3,FALSE)","v":350},{"$f":"VLOOKUP($A$2,'Table 12'!$A$5:$L$23,3,FALSE)","v":350},{"$f":"VLOOKUP($A$2,'Table 13'!$A$5:$L$23,3,FALSE)","v":369.35},"Lower Quartile",{"$f":"C6/B6-1","v":4.6153846153846212E-2},2.9411764705882248E-2,0,0,0,{"$f":"H6/G6-1","v":5.5285714285714382E-2},{"$f":"H6/B6-1","v":0.13646153846153863}]
["Median",{"$f":"VLOOKUP($A$2,'Table 7'!$A$5:$L$23,4,FALSE)","v":360},{"$f":"VLOOKUP($A$2,'Table 8'!$A$5:$L$23,4,FALSE)","v":375},{"$f":"VLOOKUP($A$2,'Table 9'!$A$5:$L$23,4,FALSE)","v":370},{"$f":"VLOOKUP($A$2,'Table 10'!$A$5:$L$23,4,FALSE)","v":375},{"$f":"VLOOKUP($A$2,'Table 11'!$A$5:$L$23,4,FALSE)","v":375},{"$f":"VLOOKUP($A$2,'Table 12'!$A$5:$L$23,4,FALSE)","v":375},{"$f":"VLOOKUP($A$2,'Table 13'!$A$5:$L$23,4,FALSE)","v":380},"Median",4.1666666666666741E-2,-1.3333333333333308E-2,1.3513513513513598E-2,0,0,1.3333333333333419E-2,{"$f":"H7/B7-1","v":5.555555555555558E-2}]
["Mean",{"$f":"VLOOKUP($A$2,'Table 7'!$A$5:$L$23,5,FALSE)","v":358.94},{"$f":"VLOOKUP($A$2,'Table 8'!$A$5:$L$23,5,FALSE)","v":367.22},{"$f":"VLOOKUP($A$2,'Table 9'!$A$5:$L$23,5,FALSE)","v":366.47},{"$f":"VLOOKUP($A$2,'Table 10'!$A$5:$L$23,5,FALSE)","v":374.15},{"$f":"VLOOKUP($A$2,'Table 11'!$A$5:$L$23,5,FALSE)","v":369.27},{"$f":"VLOOKUP($A$2,'Table 12'!$A$5:$L$23,5,FALSE)","v":373.39},{"$f":"VLOOKUP($A$2,'Table 13'!$A$5:$L$23,5,FALSE)","v":384.25},"Mean",2.3067922215412207E-2,-2.0423724198028737E-3,2.0956694954566313E-2,-1.3042897233729756E-2,1.1157147886370344E-2,2.9084871046359151E-2,7.0513177689864648E-2]
["Upper Quartile",{"$f":"VLOOKUP($A$2,'Table 7'!$A$5:$L$23,6,FALSE)","v":390},{"$f":"VLOOKUP($A$2,'Table 8'!$A$5:$L$23,6,FALSE)","v":395},{"$f":"VLOOKUP($A$2,'Table 9'!$A$5:$L$23,6,FALSE)","v":395},{"$f":"VLOOKUP($A$2,'Table 10'!$A$5:$L$23,6,FALSE)","v":395},{"$f":"VLOOKUP($A$2,'Table 11'!$A$5:$L$23,6,FALSE)","v":390},{"$f":"VLOOKUP($A$2,'Table 12'!$A$5:$L$23,6,FALSE)","v":400},{"$f":"VLOOKUP($A$2,'Table 13'!$A$5:$L$23,6,FALSE)","v":400},"Upper Quartile",1.2820512820512775E-2,0,0,-1.2658227848101222E-2,2.564102564102555E-2,0,2.564102564102555E-2]
[]
[]
[]
[]
[]
[]
[]
[]
[]
[]
[]
[]
[]
[]
[]
[]
["2 Bedroom Properties:",null,null,null,null,null,null,null,"2 Bedroom Properties - Annual changes and 6-yr cumulative change:"]
[null,2010,2011,2012,2013,2014,2015,2016," ","2010 to 2011","2011 to 2012","2012 to 2013","2013 to 2014","2014 to 2015","2015 to 2016","2010 to 2016"]
["Lower Quartile",{"$f":"VLOOKUP($A$2,'Table 7'!$A$5:$L$23,9,FALSE)","v":400},{"$f":"VLOOKUP($A$2,'Table 8'!$A$5:$L$23,9,FALSE)","v":420},{"$f":"VLOOKUP($A$2,'Table 9'!$A$5:$L$23,9,FALSE)","v":420},{"$f":"VLOOKUP($A$2,'Table 10'!$A$5:$L$23,9,FALSE)","v":425},{"$f":"VLOOKUP($A$2,'Table 11'!$A$5:$L$23,9,FALSE)","v":410},{"$f":"VLOOKUP($A$2,'Table 12'!$A$5:$L$23,9,FALSE)","v":420},{"$f":"VLOOKUP($A$2,'Table 13'!$A$5:$L$23,9,FALSE)","v":420},"Lower Quartile",{"$f":"C28/B28-1","v":5.0000000000000044E-2},0,1.1904761904761862E-2,-3.5294117647058809E-2,2.4390243902439046E-2,{"$f":"H28/G28-1","v":0},{"$f":"H28/B28-1","v":5.0000000000000044E-2}]
["Median",{"$f":"VLOOKUP($A$2,'Table 7'!$A$5:$L$23,10,FALSE)","v":430},{"$f":"VLOOKUP($A$2,'Table 8'!$A$5:$L$23,10,FALSE)","v":450},{"$f":"VLOOKUP($A$2,'Table 9'!$A$5:$L$23,10,FALSE)","v":450},{"$f":"VLOOKUP($A$2,'Table 10'!$A$5:$L$23,10,FALSE)","v":450},{"$f":"VLOOKUP($A$2,'Table 11'!$A$5:$L$23,10,FALSE)","v":450},{"$f":"VLOOKUP($A$2,'Table 12'!$A$5:$L$23,10,FALSE)","v":450},{"$f":"VLOOKUP($A$2,'Table 13'!$A$5:$L$23,10,FALSE)","v":450},"Median",4.6511627906976827E-2,0,0,0,0,{"$f":"H29/G29-1","v":0},{"$f":"H29/B29-1","v":4.6511627906976827E-2}]
["Mean",{"$f":"VLOOKUP($A$2,'Table 7'!$A$5:$L$23,11,FALSE)","v":435.12},{"$f":"VLOOKUP($A$2,'Table 8'!$A$5:$L$23,11,FALSE)","v":444.21},{"$f":"VLOOKUP($A$2,'Table 9'!$A$5:$L$23,11,FALSE)","v":443.75},{"$f":"VLOOKUP($A$2,'Table 10'!$A$5:$L$23,11,FALSE)","v":444.46},{"$f":"VLOOKUP($A$2,'Table 11'!$A$5:$L$23,11,FALSE)","v":442.14},{"$f":"VLOOKUP($A$2,'Table 12'!$A$5:$L$23,11,FALSE)","v":446.25},{"$f":"VLOOKUP($A$2,'Table 13'!$A$5:$L$23,11,FALSE)","v":446.89},"Mean",2.0890788747931488E-2,-1.035546250647168E-3,1.6000000000000458E-3,-5.2198173063943143E-3,9.295698195141755E-3,{"$f":"H30/G30-1","v":1.4341736694678531E-3},2.7050009192866264E-2]
["Upper Quartile",{"$f":"VLOOKUP($A$2,'Table 7'!$A$5:$L$23,12,FALSE)","v":475},{"$f":"VLOOKUP($A$2,'Table 8'!$A$5:$L$23,12,FALSE)","v":475},{"$f":"VLOOKUP($A$2,'Table 9'!$A$5:$L$23,12,FALSE)","v":475},{"$f":"VLOOKUP($A$2,'Table 10'!$A$5:$L$23,12,FALSE)","v":475},{"$f":"VLOOKUP($A$2,'Table 11'!$A$5:$L$23,12,FALSE)","v":475},{"$f":"VLOOKUP($A$2,'Table 12'!$A$5:$L$23,12,FALSE)","v":475},{"$f":"VLOOKUP($A$2,'Table 13'!$A$5:$L$23,12,FALSE)","v":475},"Upper Quartile",0,0,0,0,0,{"$f":"H31/G31-1","v":0},0]
[]
[]
[]
[]
[]
[]
[]
[]
[]
[]
[]
[]
[]
[]
[]
[]
["3 Bedroom Properties:",null,null,null,null,null,null,null,"3 Bedroom Properties - Annual changes and 6-yr cumulative change:"]
[null,2010,2011,2012,2013,2014,2015,2016," ","2010 to 2011","2011 to 2012","2012 to 2013","2013 to 2014","2014 to 2015","2015 to 2016","2010 to 2016"]
["Lower Quartile",{"$f":"VLOOKUP($A$2,'Table 7'!$A$26:$L$44,3,FALSE)","v":440},{"$f":"VLOOKUP($A$2,'Table 8'!$A$26:$L$44,3,FALSE)","v":450},{"$f":"VLOOKUP($A$2,'Table 9'!$A$26:$L$44,3,FALSE)","v":450},{"$f":"VLOOKUP($A$2,'Table 10'!$A$26:$L$44,3,FALSE)","v":475},{"$f":"VLOOKUP($A$2,'Table 11'!$A$26:$L$44,3,FALSE)","v":450},{"$f":"VLOOKUP($A$2,'Table 12'!$A$26:$L$44,3,FALSE)","v":450},{"$f":"VLOOKUP($A$2,'Table 13'!$A$26:$L$44,3,FALSE)","v":450},"Lower Quartile",{"$f":"C50/B50-1","v":2.2727272727272707E-2},0,5.555555555555558E-2,-5.2631578947368474E-2,0,{"$f":"H50/G50-1","v":0},{"$f":"H50/B50-1","v":2.2727272727272707E-2}]
["Median",{"$f":"VLOOKUP($A$2,'Table 7'!$A$26:$L$44,4,FALSE)","v":485},{"$f":"VLOOKUP($A$2,'Table 8'!$A$26:$L$44,4,FALSE)","v":500},{"$f":"VLOOKUP($A$2,'Table 9'!$A$26:$L$44,4,FALSE)","v":500},{"$f":"VLOOKUP($A$2,'Table 10'!$A$26:$L$44,4,FALSE)","v":500},{"$f":"VLOOKUP($A$2,'Table 11'!$A$26:$L$44,4,FALSE)","v":500},{"$f":"VLOOKUP($A$2,'Table 12'!$A$26:$L$44,4,FALSE)","v":500},{"$f":"VLOOKUP($A$2,'Table 13'!$A$26:$L$44,4,FALSE)","v":500},"Median",3.0927835051546282E-2,0,0,0,0,{"$f":"H51/G51-1","v":0},{"$f":"H51/B51-1","v":3.0927835051546282E-2}]
["Mean",{"$f":"VLOOKUP($A$2,'Table 7'!$A$26:$L$44,5,FALSE)","v":499.63},{"$f":"VLOOKUP($A$2,'Table 8'!$A$26:$L$44,5,FALSE)","v":509.58},{"$f":"VLOOKUP($A$2,'Table 9'!$A$26:$L$44,5,FALSE)","v":507.7},{"$f":"VLOOKUP($A$2,'Table 10'!$A$26:$L$44,5,FALSE)","v":508.44},{"$f":"VLOOKUP($A$2,'Table 11'!$A$26:$L$44,5,FALSE)","v":511.86},{"$f":"VLOOKUP($A$2,'Table 12'!$A$26:$L$44,5,FALSE)","v":505.94},{"$f":"VLOOKUP($A$2,'Table 13'!$A$26:$L$44,5,FALSE)","v":513.91},"Mean",1.9914736905309871E-2,-3.6893127673770509E-3,1.4575536734291461E-3,6.7264573991032695E-3,-1.1565662485836015E-2,{"$f":"H52/G52-1","v":1.5752856069889631E-2},2.8581150051037785E-2]
["Upper Quartile",{"$f":"VLOOKUP($A$2,'Table 7'!$A$26:$L$44,6,FALSE)","v":550},{"$f":"VLOOKUP($A$2,'Table 8'!$A$26:$L$44,6,FALSE)","v":560},{"$f":"VLOOKUP($A$2,'Table 9'!$A$26:$L$44,6,FALSE)","v":550},{"$f":"VLOOKUP($A$2,'Table 10'!$A$26:$L$44,6,FALSE)","v":550},{"$f":"VLOOKUP($A$2,'Table 11'!$A$26:$L$44,6,FALSE)","v":550},{"$f":"VLOOKUP($A$2,'Table 12'!$A$26:$L$44,6,FALSE)","v":550},{"$f":"VLOOKUP($A$2,'Table 13'!$A$26:$L$44,6,FALSE)","v":550},"Upper Quartile",1.8181818181818077E-2,-1.7857142857142905E-2,0,0,0,{"$f":"H53/G53-1","v":0},0]
[]
[]
[]
[]
[]
[]
[]
[]
[]
[]
[]
[]
[]
[]
[]
[]
["4 Bedroom Properties:",null,null,null,null,null,null,null,"4 Bedroom Properties - Annual changes and 6-yr cumulative change:"]
[null,2010,2011,2012,2013,2014,2015,2016," ","2010 to 2011","2011 to 2012","2012 to 2013","2013 to 2014","2014 to 2015","2015 to 2016","2010 to 2016"]
["Lower Quartile",{"$f":"VLOOKUP($A$2,'Table 7'!$A$26:$L$44,9,FALSE)","v":500},{"$f":"VLOOKUP($A$2,'Table 8'!$A$26:$L$44,9,FALSE)","v":550},{"$f":"VLOOKUP($A$2,'Table 9'!$A$26:$L$44,9,FALSE)","v":545},{"$f":"VLOOKUP($A$2,'Table 10'!$A$26:$L$44,9,FALSE)","v":550},{"$f":"VLOOKUP($A$2,'Table 11'!$A$26:$L$44,9,FALSE)","v":550},{"$f":"VLOOKUP($A$2,'Table 12'!$A$26:$L$44,9,FALSE)","v":550},{"$f":"VLOOKUP($A$2,'Table 13'!$A$26:$L$44,9,FALSE)","v":550},"Lower Quartile",{"$f":"C72/B72-1","v":0.10000000000000009},-9.0909090909090384E-3,9.1743119266054496E-3,0,0,{"$f":"H72/G72-1","v":0},{"$f":"H72/B72-1","v":0.10000000000000009}]
["Median",{"$f":"VLOOKUP($A$2,'Table 7'!$A$26:$L$44,10,FALSE)","v":600},{"$f":"VLOOKUP($A$2,'Table 8'!$A$26:$L$44,10,FALSE)","v":650},{"$f":"VLOOKUP($A$2,'Table 9'!$A$26:$L$44,10,FALSE)","v":622.5},{"$f":"VLOOKUP($A$2,'Table 10'!$A$26:$L$44,10,FALSE)","v":632.5},{"$f":"VLOOKUP($A$2,'Table 11'!$A$26:$L$44,10,FALSE)","v":650},{"$f":"VLOOKUP($A$2,'Table 12'!$A$26:$L$44,10,FALSE)","v":650},{"$f":"VLOOKUP($A$2,'Table 13'!$A$26:$L$44,10,FALSE)","v":650},"Median",8.3333333333333259E-2,-4.2307692307692268E-2,1.6064257028112428E-2,2.7667984189723382E-2,0,0,{"$f":"H73/B73-1","v":8.3333333333333259E-2}]
["Mean",{"$f":"VLOOKUP($A$2,'Table 7'!$A$26:$L$44,11,FALSE)","v":620.08000000000004},{"$f":"VLOOKUP($A$2,'Table 8'!$A$26:$L$44,11,FALSE)","v":648.78},{"$f":"VLOOKUP($A$2,'Table 9'!$A$26:$L$44,11,FALSE)","v":632.94000000000005},{"$f":"VLOOKUP($A$2,'Table 10'!$A$26:$L$44,11,FALSE)","v":635.38},{"$f":"VLOOKUP($A$2,'Table 11'!$A$26:$L$44,11,FALSE)","v":636.91999999999996},{"$f":"VLOOKUP($A$2,'Table 12'!$A$26:$L$44,11,FALSE)","v":646.85},{"$f":"VLOOKUP($A$2,'Table 13'!$A$26:$L$44,11,FALSE)","v":645.80999999999995},"Mean",4.6284350406399E-2,-2.4415055951169773E-2,3.8550257528358056E-3,2.4237464194654113E-3,1.5590655027319045E-2,-1.6077916054727526E-3,4.1494645852147904E-2]
["Upper Quartile",{"$f":"VLOOKUP($A$2,'Table 7'!$A$26:$L$44,12,FALSE)","v":700},{"$f":"VLOOKUP($A$2,'Table 8'!$A$26:$L$44,12,FALSE)","v":700},{"$f":"VLOOKUP($A$2,'Table 9'!$A$26:$L$44,12,FALSE)","v":675},{"$f":"VLOOKUP($A$2,'Table 10'!$A$26:$L$44,12,FALSE)","v":700},{"$f":"VLOOKUP($A$2,'Table 11'!$A$26:$L$44,12,FALSE)","v":700},{"$f":"VLOOKUP($A$2,'Table 12'!$A$26:$L$44,12,FALSE)","v":750},{"$f":"VLOOKUP($A$2,'Table 13'!$A$26:$L$44,12,FALSE)","v":750},"Upper Quartile",0,-3.5714285714285698E-2,3.7037037037036979E-2,0,7.1428571428571397E-2,0,7.1428571428571397E-2]
[]
[]
[]
[]
[]
[]
[]
[]
[]
[]
[]
[]
[]
[]
[]
[]
["1 Bedroom Shared Properties:",null,null,null,null,null,null,null,"1 Bedroom Shared Properties - Annual changes and 6-yr cumulative change:"]
[null,2010,2011,2012,2013,2014,2015,2016," ","2010 to 2011","2011 to 2012","2012 to 2013","2013 to 2014","2014 to 2015","2015 to 2016","2010 to 2016"]
["Lower Quartile",{"$f":"VLOOKUP($A$2,'Table 7'!$A$47:$F$65,3,FALSE)","v":260},{"$f":"VLOOKUP($A$2,'Table 8'!$A$47:$F$65,3,FALSE)","v":255},{"$f":"VLOOKUP($A$2,'Table 9'!$A$47:$F$65,3,FALSE)","v":250.47},{"$f":"VLOOKUP($A$2,'Table 10'!$A$47:$F$65,3,FALSE)","v":250},{"$f":"VLOOKUP($A$2,'Table 11'!$A$47:$F$65,3,FALSE)","v":255},{"$f":"VLOOKUP($A$2,'Table 12'!$A$47:$F$65,3,FALSE)","v":257.5},{"$f":"VLOOKUP($A$2,'Table 13'!$A$47:$F$65,3,FALSE)","v":260},"Lower Quartile",{"$f":"C94/B94-1","v":-1.9230769230769273E-2},-1.7764705882352905E-2,-1.8764722322034411E-3,2.0000000000000018E-2,9.8039215686274161E-3,{"$f":"H94/G94-1","v":9.7087378640776656E-3},{"$f":"H94/B94-1","v":0}]
["Median",{"$f":"VLOOKUP($A$2,'Table 7'!$A$47:$F$65,4,FALSE)","v":285},{"$f":"VLOOKUP($A$2,'Table 8'!$A$47:$F$65,4,FALSE)","v":275},{"$f":"VLOOKUP($A$2,'Table 9'!$A$47:$F$65,4,FALSE)","v":275},{"$f":"VLOOKUP($A$2,'Table 10'!$A$47:$F$65,4,FALSE)","v":265},{"$f":"VLOOKUP($A$2,'Table 11'!$A$47:$F$65,4,FALSE)","v":271.67},{"$f":"VLOOKUP($A$2,'Table 12'!$A$47:$F$65,4,FALSE)","v":281.81},{"$f":"VLOOKUP($A$2,'Table 13'!$A$47:$F$65,4,FALSE)","v":282.5},"Median",-3.5087719298245612E-2,0,-3.6363636363636376E-2,2.5169811320754798E-2,3.7324695402510377E-2,2.4484581810439998E-3,{"$f":"H95/B95-1","v":-8.7719298245614308E-3}]
["Mean",{"$f":"VLOOKUP($A$2,'Table 7'!$A$47:$F$65,5,FALSE)","v":277.88},{"$f":"VLOOKUP($A$2,'Table 8'!$A$47:$F$65,5,FALSE)","v":274.11},{"$f":"VLOOKUP($A$2,'Table 9'!$A$47:$F$65,5,FALSE)","v":274.66000000000003},{"$f":"VLOOKUP($A$2,'Table 10'!$A$47:$F$65,5,FALSE)","v":272.17},{"$f":"VLOOKUP($A$2,'Table 11'!$A$47:$F$65,5,FALSE)","v":268.81},{"$f":"VLOOKUP($A$2,'Table 12'!$A$47:$F$65,5,FALSE)","v":277.7},{"$f":"VLOOKUP($A$2,'Table 13'!$A$47:$F$65,5,FALSE)","v":284.72000000000003},"Mean",-1.3567007341298343E-2,2.0064937433876828E-3,-9.0657540231559031E-3,-1.2345225410589022E-2,3.3071686321193283E-2,2.5279078141879907E-2,2.4614941701454063E-2]
["Upper Quartile",{"$f":"VLOOKUP($A$2,'Table 7'!$A$47:$F$65,6,FALSE)","v":299.99},{"$f":"VLOOKUP($A$2,'Table 8'!$A$47:$F$65,6,FALSE)","v":290},{"$f":"VLOOKUP($A$2,'Table 9'!$A$47:$F$65,6,FALSE)","v":305},{"$f":"VLOOKUP($A$2,'Table 10'!$A$47:$F$65,6,FALSE)","v":293.8},{"$f":"VLOOKUP($A$2,'Table 11'!$A$47:$F$65,6,FALSE)","v":285},{"$f":"VLOOKUP($A$2,'Table 12'!$A$47:$F$65,6,FALSE)","v":305},{"$f":"VLOOKUP($A$2,'Table 13'!$A$47:$F$65,6,FALSE)","v":305},"Upper Quartile",-3.3301110037001314E-2,5.1724137931034475E-2,-3.6721311475409801E-2,-2.9952348536419371E-2,7.0175438596491224E-2,0,1.6700556685222745E-2]
[]
[]
[]
[]
[]
[]
[]
[]
[]
[]
[]
[]
[]
[]
[]
[]
[]
[]
["Mean Rents by Property Size:",null,null,null,null,null,null,null,"Median Rents by Property Size:"]
[null,2010,2011,2012,2013,2014,2015,2016,null,2010,2011,2012,2013,2014,2015,2016]
["1 Bedroom Shared",{"$f":"B96","v":277.88},274.11,274.66000000000003,272.17,268.81,277.7,284.72000000000003,"1 Bedroom Shared",{"$f":"B95","v":285},275,275,265,271.67,{"$f":"G95","v":281.81},{"$f":"H95","v":282.5}]
["1 Bedroom ",{"$f":"B8","v":358.94},367.22,366.47,374.15,369.27,373.39,384.25,"1 Bedroom ",{"$f":"B7","v":360},375,370,375,375,{"$f":"G7","v":375},{"$f":"H7","v":380}]
["2 Bedrooms",{"$f":"B30","v":435.12},444.21,443.75,444.46,442.14,446.25,446.89,"2 Bedrooms",{"$f":"B29","v":430},450,450,450,450,{"$f":"G29","v":450},{"$f":"H29","v":450}]
["3 Bedrooms",{"$f":"B52","v":499.63},509.58,507.7,508.44,511.86,505.94,513.91,"3 Bedrooms",{"$f":"B51","v":485},500,500,500,500,{"$f":"G51","v":500},{"$f":"H51","v":500}]
["4 Bedrooms",{"$f":"B74","v":620.08000000000004},648.78,632.94000000000005,635.38,636.91999999999996,646.85,645.80999999999995,"4 Bedrooms",{"$f":"B73","v":600},650,622.5,632.5,650,{"$f":"G73","v":650},{"$f":"H73","v":650}]
[]
[]
[]
[]
[]
[]
[]
[]
[]
[]
[]
[]
[]
[]
[]
[]
[]
["Sample Sizes:",null,null,null,null,null,null,null,"Sample Proportions:"]
[null,2010,2011,2012,2013,2014,2015,2016,null,2010,2011,2012,2013,2014,2015,2016]
["1 Bedroom ",{"$f":"VLOOKUP($A$2,'Table 7'!$A$5:$L$23,2,FALSE)","v":58},{"$f":"VLOOKUP($A$2,'Table 8'!$A$5:$L$23,2,FALSE)","v":82},{"$f":"VLOOKUP($A$2,'Table 9'!$A$5:$L$23,2,FALSE)","v":97},{"$f":"VLOOKUP($A$2,'Table 10'!$A$5:$L$23,2,FALSE)","v":102},{"$f":"VLOOKUP($A$2,'Table 11'!$A$5:$L$23,2,FALSE)","v":114},{"$f":"VLOOKUP($A$2,'Table 12'!$A$5:$L$23,2,FALSE)","v":110},{"$f":"VLOOKUP($A$2,'Table 13'!$A$5:$L$23,2,FALSE)","v":109},"1 Bedroom ",{"$f":"B142/SUM(B$142:B$146)","v":0.11646586345381527},{"$f":"C142/SUM(C$142:C$146)","v":0.11697574893009986},0.11975308641975309,0.12071005917159763,0.12666666666666668,{"$f":"G142/SUM(G$142:G$146)","v":0.12835472578763127},0.13625000000000001]
["2 Bedrooms",{"$f":"VLOOKUP($A$2,'Table 7'!$A$5:$L$23,8,FALSE)","v":180},{"$f":"VLOOKUP($A$2,'Table 8'!$A$5:$L$23,8,FALSE)","v":280},{"$f":"VLOOKUP($A$2,'Table 9'!$A$5:$L$23,8,FALSE)","v":322},{"$f":"VLOOKUP($A$2,'Table 10'!$A$5:$L$23,8,FALSE)","v":339},{"$f":"VLOOKUP($A$2,'Table 11'!$A$5:$L$23,8,FALSE)","v":363},{"$f":"VLOOKUP($A$2,'Table 12'!$A$5:$L$23,8,FALSE)","v":371},{"$f":"VLOOKUP($A$2,'Table 13'!$A$5:$L$23,8,FALSE)","v":341},"2 Bedrooms",{"$f":"B143/SUM(B$142:B$146)","v":0.36144578313253012},0.39942938659058486,0.39753086419753086,0.40118343195266271,0.40333333333333332,0.43290548424737457,0.42625000000000002]
["3 Bedrooms",{"$f":"VLOOKUP($A$2,'Table 7'!$A$26:$L$44,2,FALSE)","v":145},{"$f":"VLOOKUP($A$2,'Table 8'!$A$26:$L$44,2,FALSE)","v":200},{"$f":"VLOOKUP($A$2,'Table 9'!$A$26:$L$44,2,FALSE)","v":256},{"$f":"VLOOKUP($A$2,'Table 10'!$A$26:$L$44,2,FALSE)","v":259},{"$f":"VLOOKUP($A$2,'Table 11'!$A$26:$L$44,2,FALSE)","v":284},{"$f":"VLOOKUP($A$2,'Table 12'!$A$26:$L$44,2,FALSE)","v":234},{"$f":"VLOOKUP($A$2,'Table 13'!$A$26:$L$44,2,FALSE)","v":206},"3 Bedrooms",{"$f":"B144/SUM(B$142:B$146)","v":0.29116465863453816},0.28530670470756064,0.31604938271604938,0.30650887573964497,0.31555555555555553,0.27304550758459745,0.25750000000000001]
["4 Bedrooms",{"$f":"VLOOKUP($A$2,'Table 7'!$A$26:$L$44,8,FALSE)","v":65},{"$f":"VLOOKUP($A$2,'Table 8'!$A$26:$L$44,8,FALSE)","v":80},{"$f":"VLOOKUP($A$2,'Table 9'!$A$26:$L$44,8,FALSE)","v":80},{"$f":"VLOOKUP($A$2,'Table 10'!$A$26:$L$44,8,FALSE)","v":80},{"$f":"VLOOKUP($A$2,'Table 11'!$A$26:$L$44,8,FALSE)","v":65},{"$f":"VLOOKUP($A$2,'Table 12'!$A$26:$L$44,8,FALSE)","v":62},{"$f":"VLOOKUP($A$2,'Table 13'!$A$26:$L$44,8,FALSE)","v":62},"4 Bedrooms",{"$f":"B145/SUM(B$142:B$146)","v":0.13052208835341367},0.11412268188302425,9.8765432098765427E-2,9.4674556213017749E-2,7.2222222222222215E-2,7.2345390898483075E-2,7.7499999999999999E-2]
["1 Bedroom Shared",{"$f":"VLOOKUP($A$2,'Table 7'!$A$47:$L$65,2,FALSE)","v":50},{"$f":"VLOOKUP($A$2,'Table 8'!$A$47:$L$65,2,FALSE)","v":59},{"$f":"VLOOKUP($A$2,'Table 9'!$A$47:$L$65,2,FALSE)","v":55},{"$f":"VLOOKUP($A$2,'Table 10'!$A$47:$L$65,2,FALSE)","v":65},{"$f":"VLOOKUP($A$2,'Table 11'!$A$47:$L$65,2,FALSE)","v":74},{"$f":"VLOOKUP($A$2,'Table 12'!$A$47:$L$65,2,FALSE)","v":80},{"$f":"VLOOKUP($A$2,'Table 13'!$A$47:$L$65,2,FALSE)","v":82},"1 Bedroom Shared",{"$f":"B146/SUM(B$142:B$146)","v":0.10040160642570281},8.4165477888730383E-2,6.7901234567901231E-2,7.6923076923076927E-2,8.2222222222222224E-2,9.3348891481913651E-2,0.10249999999999999]

{"sheet":"BRMA Profile - Dundee and Angus","index":18,"n_rows":146,"n_cols":16,"rows_kept":146,"cut":false,"hidden":true,"merged":[[1,0,1,2]]}
["BRMA Rent Profile for:"]
["Dundee and Angus",null,null,null,null,null,null,null,{"$f":"ROUND(MIN(J6:P9,J28:P31,J50:P53,J72:P75,J94:P97)-0.01,2)","v":-0.06},{"$f":"ROUND(MAX(J6:P9,J28:P31,J50:P53,J72:P75,J94:P97)+0.01,2)","v":0.36}]
[]
["1 Bedroom Properties - Quartile Measures:",null,null,null,null,null,null,null,"1 Bedroom Properties - Annual changes and 6-yr cumulative change:"]
[" ",2010,2011,2012,2013,2014,2015,2016," ","2010 to 2011","2011 to 2012","2012 to 2013","2013 to 2014","2014 to 2015","2015 to 2016","2010 to 2016"]
["Lower Quartile",{"$f":"VLOOKUP($A$2,'Table 7'!$A$5:$L$23,3,FALSE)","v":320},{"$f":"VLOOKUP($A$2,'Table 8'!$A$5:$L$23,3,FALSE)","v":325},{"$f":"VLOOKUP($A$2,'Table 9'!$A$5:$L$23,3,FALSE)","v":330},{"$f":"VLOOKUP($A$2,'Table 10'!$A$5:$L$23,3,FALSE)","v":330},{"$f":"VLOOKUP($A$2,'Table 11'!$A$5:$L$23,3,FALSE)","v":335},{"$f":"VLOOKUP($A$2,'Table 12'!$A$5:$L$23,3,FALSE)","v":350},{"$f":"VLOOKUP($A$2,'Table 13'!$A$5:$L$23,3,FALSE)","v":350},"Lower Quartile",{"$f":"C6/B6-1","v":1.5625E-2},1.538461538461533E-2,0,1.5151515151515138E-2,4.4776119402984982E-2,{"$f":"H6/G6-1","v":0},{"$f":"H6/B6-1","v":9.375E-2}]
["Median",{"$f":"VLOOKUP($A$2,'Table 7'!$A$5:$L$23,4,FALSE)","v":350},{"$f":"VLOOKUP($A$2,'Table 8'!$A$5:$L$23,4,FALSE)","v":350},{"$f":"VLOOKUP($A$2,'Table 9'!$A$5:$L$23,4,FALSE)","v":360},{"$f":"VLOOKUP($A$2,'Table 10'!$A$5:$L$23,4,FALSE)","v":350},{"$f":"VLOOKUP($A$2,'Table 11'!$A$5:$L$23,4,FALSE)","v":365},{"$f":"VLOOKUP($A$2,'Table 12'!$A$5:$L$23,4,FALSE)","v":375},{"$f":"VLOOKUP($A$2,'Table 13'!$A$5:$L$23,4,FALSE)","v":375},"Median",0,2.857142857142847E-2,-2.777777777777779E-2,4.2857142857142927E-2,2.7397260273972712E-2,0,{"$f":"H7/B7-1","v":7.1428571428571397E-2}]
["Mean",{"$f":"VLOOKUP($A$2,'Table 7'!$A$5:$L$23,5,FALSE)","v":350.87},{"$f":"VLOOKUP($A$2,'Table 8'!$A$5:$L$23,5,FALSE)","v":360.3},{"$f":"VLOOKUP($A$2,'Table 9'!$A$5:$L$23,5,FALSE)","v":361.48},{"$f":"VLOOKUP($A$2,'Table 10'!$A$5:$L$23,5,FALSE)","v":362.12},{"$f":"VLOOKUP($A$2,'Table 11'!$A$5:$L$23,5,FALSE)","v":369.12},{"$f":"VLOOKUP($A$2,'Table 12'!$A$5:$L$23,5,FALSE)","v":381.24},{"$f":"VLOOKUP($A$2,'Table 13'!$A$5:$L$23,5,FALSE)","v":383.14},"Mean",2.6876050959044662E-2,3.2750485706356525E-3,1.7704990594222814E-3,1.9330608638020497E-2,3.2834850455136566E-2,4.9837372783547718E-3,9.1971385413400997E-2]
["Upper Quartile",{"$f":"VLOOKUP($A$2,'Table 7'!$A$5:$L$23,6,FALSE)","v":375},{"$f":"VLOOKUP($A$2,'Table 8'!$A$5:$L$23,6,FALSE)","v":385},{"$f":"VLOOKUP($A$2,'Table 9'!$A$5:$L$23,6,FALSE)","v":380},{"$f":"VLOOKUP($A$2,'Table 10'!$A$5:$L$23,6,FALSE)","v":385},{"$f":"VLOOKUP($A$2,'Table 11'!$A$5:$L$23,6,FALSE)","v":400},{"$f":"VLOOKUP($A$2,'Table 12'!$A$5:$L$23,6,FALSE)","v":400},{"$f":"VLOOKUP($A$2,'Table 13'!$A$5:$L$23,6,FALSE)","v":400},"Upper Quartile",2.6666666666666616E-2,-1.2987012987012991E-2,1.3157894736842035E-2,3.8961038961038863E-2,0,0,6.6666666666666652E-2]
[]
[]
[]
[]
[]
[]
[]
[]
[]
[]
[]
[]
[]
[]
[]
[]
["2 Bedroom Properties:",null,null,null,null,null,null,null,"2 Bedroom Properties - Annual changes and 6-yr cumulative change:"]
[null,2010,2011,2012,2013,2014,2015,2016," ","2010 to 2011","2011 to 2012","2012 to 2013","2013 to 2014","2014 to 2015","2015 to 2016","2010 to 2016"]
["Lower Quartile",{"$f":"VLOOKUP($A$2,'Table 7'!$A$5:$L$23,9,FALSE)","v":440},{"$f":"VLOOKUP($A$2,'Table 8'!$A$5:$L$23,9,FALSE)","v":450},{"$f":"VLOOKUP($A$2,'Table 9'!$A$5:$L$23,9,FALSE)","v":440},{"$f":"VLOOKUP($A$2,'Table 10'!$A$5:$L$23,9,FALSE)","v":450},{"$f":"VLOOKUP($A$2,'Table 11'!$A$5:$L$23,9,FALSE)","v":450},{"$f":"VLOOKUP($A$2,'Table 12'!$A$5:$L$23,9,FALSE)","v":450},{"$f":"VLOOKUP($A$2,'Table 13'!$A$5:$L$23,9,FALSE)","v":465},"Lower Quartile",{"$f":"C28/B28-1","v":2.2727272727272707E-2},-2.2222222222222254E-2,2.2727272727272707E-2,0,0,{"$f":"H28/G28-1","v":3.3333333333333437E-2},{"$f":"H28/B28-1","v":5.6818181818181879E-2}]
["Median",{"$f":"VLOOKUP($A$2,'Table 7'!$A$5:$L$23,10,FALSE)","v":480},{"$f":"VLOOKUP($A$2,'Table 8'!$A$5:$L$23,10,FALSE)","v":500},{"$f":"VLOOKUP($A$2,'Table 9'!$A$5:$L$23,10,FALSE)","v":490},{"$f":"VLOOKUP($A$2,'Table 10'!$A$5:$L$23,10,FALSE)","v":500},{"$f":"VLOOKUP($A$2,'Table 11'!$A$5:$L$23,10,FALSE)","v":500},{"$f":"VLOOKUP($A$2,'Table 12'!$A$5:$L$23,10,FALSE)","v":517.5},{"$f":"VLOOKUP($A$2,'Table 13'!$A$5:$L$23,10,FALSE)","v":530},"Median",4.1666666666666741E-2,-2.0000000000000018E-2,2.0408163265306145E-2,0,3.499999999999992E-2,{"$f":"H29/G29-1","v":2.4154589371980784E-2},{"$f":"H29/B29-1","v":0.10416666666666674}]
["Mean",{"$f":"VLOOKUP($A$2,'Table 7'!$A$5:$L$23,11,FALSE)","v":497.46},{"$f":"VLOOKUP($A$2,'Table 8'!$A$5:$L$23,11,FALSE)","v":520.5},{"$f":"VLOOKUP($A$2,'Table 9'!$A$5:$L$23,11,FALSE)","v":502.96},{"$f":"VLOOKUP($A$2,'Table 10'!$A$5:$L$23,11,FALSE)","v":515.07000000000005},{"$f":"VLOOKUP($A$2,'Table 11'!$A$5:$L$23,11,FALSE)","v":517.76},{"$f":"VLOOKUP($A$2,'Table 12'!$A$5:$L$23,11,FALSE)","v":530.9},{"$f":"VLOOKUP($A$2,'Table 13'!$A$5:$L$23,11,FALSE)","v":545.96},"Mean",4.6315281630683991E-2,-3.3698366954851178E-2,2.4077461428344327E-2,5.2225911041217099E-3,2.5378553770086576E-2,{"$f":"H30/G30-1","v":2.8366924091166146E-2},9.7495276002090847E-2]
["Upper Quartile",{"$f":"VLOOKUP($A$2,'Table 7'!$A$5:$L$23,12,FALSE)","v":550},{"$f":"VLOOKUP($A$2,'Table 8'!$A$5:$L$23,12,FALSE)","v":585},{"$f":"VLOOKUP($A$2,'Table 9'!$A$5:$L$23,12,FALSE)","v":560},{"$f":"VLOOKUP($A$2,'Table 10'!$A$5:$L$23,12,FALSE)","v":575},{"$f":"VLOOKUP($A$2,'Table 11'!$A$5:$L$23,12,FALSE)","v":575},{"$f":"VLOOKUP($A$2,'Table 12'!$A$5:$L$23,12,FALSE)","v":600},{"$f":"VLOOKUP($A$2,'Table 13'!$A$5:$L$23,12,FALSE)","v":600},"Upper Quartile",6.3636363636363713E-2,-4.2735042735042694E-2,2.6785714285714191E-2,0,4.3478260869565188E-2,{"$f":"H31/G31-1","v":0},9.0909090909090828E-2]
[]
[]
[]
[]
[]
[]
[]
[]
[]
[]
[]
[]
[]
[]
[]
[]
["3 Bedroom Properties:",null,null,null,null,null,null,null,"3 Bedroom Properties - Annual changes and 6-yr cumulative change:"]
[null,2010,2011,2012,2013,2014,2015,2016," ","2010 to 2011","2011 to 2012","2012 to 2013","2013 to 2014","2014 to 2015","2015 to 2016","2010 to 2016"]
["Lower Quartile",{"$f":"VLOOKUP($A$2,'Table 7'!$A$26:$L$44,3,FALSE)","v":550},{"$f":"VLOOKUP($A$2,'Table 8'!$A$26:$L$44,3,FALSE)","v":575},{"$f":"VLOOKUP($A$2,'Table 9'!$A$26:$L$44,3,FALSE)","v":550},{"$f":"VLOOKUP($A$2,'Table 10'!$A$26:$L$44,3,FALSE)","v":550},{"$f":"VLOOKUP($A$2,'Table 11'!$A$26:$L$44,3,FALSE)","v":550},{"$f":"VLOOKUP($A$2,'Table 12'!$A$26:$L$44,3,FALSE)","v":560},{"$f":"VLOOKUP($A$2,'Table 13'!$A$26:$L$44,3,FALSE)","v":600},"Lower Quartile",{"$f":"C50/B50-1","v":4.5454545454545414E-2},-4.3478260869565188E-2,0,0,1.8181818181818077E-2,{"$f":"H50/G50-1","v":7.1428571428571397E-2},{"$f":"H50/B50-1","v":9.0909090909090828E-2}]
["Median",{"$f":"VLOOKUP($A$2,'Table 7'!$A$26:$L$44,4,FALSE)","v":650},{"$f":"VLOOKUP($A$2,'Table 8'!$A$26:$L$44,4,FALSE)","v":650},{"$f":"VLOOKUP($A$2,'Table 9'!$A$26:$L$44,4,FALSE)","v":650},{"$f":"VLOOKUP($A$2,'Table 10'!$A$26:$L$44,4,FALSE)","v":625},{"$f":"VLOOKUP($A$2,'Table 11'!$A$26:$L$44,4,FALSE)","v":650},{"$f":"VLOOKUP($A$2,'Table 12'!$A$26:$L$44,4,FALSE)","v":690},{"$f":"VLOOKUP($A$2,'Table 13'!$A$26:$L$44,4,FALSE)","v":700},"Median",0,0,-3.8461538461538436E-2,4.0000000000000036E-2,6.1538461538461542E-2,{"$f":"H51/G51-1","v":1.449275362318847E-2},{"$f":"H51/B51-1","v":7.6923076923076872E-2}]
["Mean",{"$f":"VLOOKUP($A$2,'Table 7'!$A$26:$L$44,5,FALSE)","v":632.52},{"$f":"VLOOKUP($A$2,'Table 8'!$A$26:$L$44,5,FALSE)","v":651.09},{"$f":"VLOOKUP($A$2,'Table 9'!$A$26:$L$44,5,FALSE)","v":643.12},{"$f":"VLOOKUP($A$2,'Table 10'!$A$26:$L$44,5,FALSE)","v":644.39},{"$f":"VLOOKUP($A$2,'Table 11'!$A$26:$L$44,5,FALSE)","v":668.02},{"$f":"VLOOKUP($A$2,'Table 12'!$A$26:$L$44,5,FALSE)","v":684.17},{"$f":"VLOOKUP($A$2,'Table 13'!$A$26:$L$44,5,FALSE)","v":701.64},"Mean",2.9358755454373053E-2,-1.224101122732657E-2,1.9747481029979141E-3,3.6670339390741713E-2,2.4175922876560563E-2,{"$f":"H52/G52-1","v":2.553458935644648E-2},0.10927717700626061]
["Upper Quartile",{"$f":"VLOOKUP($A$2,'Table 7'!$A$26:$L$44,6,FALSE)","v":700},{"$f":"VLOOKUP($A$2,'Table 8'!$A$26:$L$44,6,FALSE)","v":750},{"$f":"VLOOKUP($A$2,'Table 9'!$A$26:$L$44,6,FALSE)","v":725},{"$f":"VLOOKUP($A$2,'Table 10'!$A$26:$L$44,6,FALSE)","v":750},{"$f":"VLOOKUP($A$2,'Table 11'!$A$26:$L$44,6,FALSE)","v":750},{"$f":"VLOOKUP($A$2,'Table 12'!$A$26:$L$44,6,FALSE)","v":795},{"$f":"VLOOKUP($A$2,'Table 13'!$A$26:$L$44,6,FALSE)","v":795},"Upper Quartile",7.1428571428571397E-2,-3.3333333333333326E-2,3.4482758620689724E-2,0,6.0000000000000053E-2,{"$f":"H53/G53-1","v":0},0.13571428571428568]
[]
[]
[]
[]
[]
[]
[]
[]
[]
[]
[]
[]
[]
[]
[]
[]
["4 Bedroom Properties:",null,null,null,null,null,null,null,"4 Bedroom Properties - Annual changes and 6-yr cumulative change:"]
[null,2010,2011,2012,2013,2014,2015,2016," ","2010 to 2011","2011 to 2012","2012 to 2013","2013 to 2014","2014 to 2015","2015 to 2016","2010 to 2016"]
["Lower Quartile",{"$f":"VLOOKUP($A$2,'Table 7'!$A$26:$L$44,9,FALSE)","v":750},{"$f":"VLOOKUP($A$2,'Table 8'!$A$26:$L$44,9,FALSE)","v":780},{"$f":"VLOOKUP($A$2,'Table 9'!$A$26:$L$44,9,FALSE)","v":750},{"$f":"VLOOKUP($A$2,'Table 10'!$A$26:$L$44,9,FALSE)","v":750},{"$f":"VLOOKUP($A$2,'Table 11'!$A$26:$L$44,9,FALSE)","v":800},{"$f":"VLOOKUP($A$2,'Table 12'!$A$26:$L$44,9,FALSE)","v":825},{"$f":"VLOOKUP($A$2,'Table 13'!$A$26:$L$44,9,FALSE)","v":800},"Lower Quartile",{"$f":"C72/B72-1","v":4.0000000000000036E-2},-3.8461538461538436E-2,0,6.6666666666666652E-2,3.125E-2,{"$f":"H72/G72-1","v":-3.0303030303030276E-2},{"$f":"H72/B72-1","v":6.6666666666666652E-2}]
["Median",{"$f":"VLOOKUP($A$2,'Table 7'!$A$26:$L$44,10,FALSE)","v":825},{"$f":"VLOOKUP($A$2,'Table 8'!$A$26:$L$44,10,FALSE)","v":850},{"$f":"VLOOKUP($A$2,'Table 9'!$A$26:$L$44,10,FALSE)","v":850},{"$f":"VLOOKUP($A$2,'Table 10'!$A$26:$L$44,10,FALSE)","v":850},{"$f":"VLOOKUP($A$2,'Table 11'!$A$26:$L$44,10,FALSE)","v":950},{"$f":"VLOOKUP($A$2,'Table 12'!$A$26:$L$44,10,FALSE)","v":950},{"$f":"VLOOKUP($A$2,'Table 13'!$A$26:$L$44,10,FALSE)","v":995},"Median",3.0303030303030276E-2,0,0,0.11764705882352944,0,4.7368421052631504E-2,{"$f":"H73/B73-1","v":0.20606060606060606}]
["Mean",{"$f":"VLOOKUP($A$2,'Table 7'!$A$26:$L$44,11,FALSE)","v":811.27},{"$f":"VLOOKUP($A$2,'Table 8'!$A$26:$L$44,11,FALSE)","v":894.44},{"$f":"VLOOKUP($A$2,'Table 9'!$A$26:$L$44,11,FALSE)","v":849.5},{"$f":"VLOOKUP($A$2,'Table 10'!$A$26:$L$44,11,FALSE)","v":883.13},{"$f":"VLOOKUP($A$2,'Table 11'!$A$26:$L$44,11,FALSE)","v":961.21},{"$f":"VLOOKUP($A$2,'Table 12'!$A$26:$L$44,11,FALSE)","v":967.81},{"$f":"VLOOKUP($A$2,'Table 13'!$A$26:$L$44,11,FALSE)","v":972.76},"Mean",0.10251827381759471,-5.0243727919144998E-2,3.9587992937021754E-2,8.8412804456875049E-2,6.8663455436375198E-3,5.1146402703010629E-3,0.19905826666831028]
["Upper Quartile",{"$f":"VLOOKUP($A$2,'Table 7'!$A$26:$L$44,12,FALSE)","v":890},{"$f":"VLOOKUP($A$2,'Table 8'!$A$26:$L$44,12,FALSE)","v":1000},{"$f":"VLOOKUP($A$2,'Table 9'!$A$26:$L$44,12,FALSE)","v":950},{"$f":"VLOOKUP($A$2,'Table 10'!$A$26:$L$44,12,FALSE)","v":950},{"$f":"VLOOKUP($A$2,'Table 11'!$A$26:$L$44,12,FALSE)","v":1140},{"$f":"VLOOKUP($A$2,'Table 12'!$A$26:$L$44,12,FALSE)","v":1140},{"$f":"VLOOKUP($A$2,'Table 13'!$A$26:$L$44,12,FALSE)","v":1200},"Upper Quartile",0.12359550561797761,-5.0000000000000044E-2,0,0.19999999999999996,0,5.2631578947368363E-2,0.348314606741573]
[]
[]
[]
[]
[]
[]
[]
[]
[]
[]
[]
[]
[]
[]
[]
[]
["1 Bedroom Shared Properties:",null,null,null,null,null,null,null,"1 Bedroom Shared Properties - Annual changes and 6-yr cumulative change:"]
[null,2010,2011,2012,2013,2014,2015,2016," ","2010 to 2011","2011 to 2012","2012 to 2013","2013 to 2014","2014 to 2015","2015 to 2016","2010 to 2016"]
["Lower Quartile",{"$f":"VLOOKUP($A$2,'Table 7'!$A$47:$F$65,3,FALSE)","v":225},{"$f":"VLOOKUP($A$2,'Table 8'!$A$47:$F$65,3,FALSE)","v":235},{"$f":"VLOOKUP($A$2,'Table 9'!$A$47:$F$65,3,FALSE)","v":238.33},{"$f":"VLOOKUP($A$2,'Table 10'!$A$47:$F$65,3,FALSE)","v":250},{"$f":"VLOOKUP($A$2,'Table 11'!$A$47:$F$65,3,FALSE)","v":250},{"$f":"VLOOKUP($A$2,'Table 12'!$A$47:$F$65,3,FALSE)","v":250},{"$f":"VLOOKUP($A$2,'Table 13'!$A$47:$F$65,3,FALSE)","v":250},"Lower Quartile",{"$f":"C94/B94-1","v":4.4444444444444509E-2},1.4170212765957535E-2,4.8965719800276863E-2,0,0,{"$f":"H94/G94-1","v":0},{"$f":"H94/B94-1","v":0.11111111111111116}]
["Median",{"$f":"VLOOKUP($A$2,'Table 7'!$A$47:$F$65,4,FALSE)","v":250},{"$f":"VLOOKUP($A$2,'Table 8'!$A$47:$F$65,4,FALSE)","v":260},{"$f":"VLOOKUP($A$2,'Table 9'!$A$47:$F$65,4,FALSE)","v":265},{"$f":"VLOOKUP($A$2,'Table 10'!$A$47:$F$65,4,FALSE)","v":273.33999999999997},{"$f":"VLOOKUP($A$2,'Table 11'!$A$47:$F$65,4,FALSE)","v":275},{"$f":"VLOOKUP($A$2,'Table 12'!$A$47:$F$65,4,FALSE)","v":290},{"$f":"VLOOKUP($A$2,'Table 13'!$A$47:$F$65,4,FALSE)","v":300},"Median",4.0000000000000036E-2,1.9230769230769162E-2,3.1471698113207491E-2,6.0730226092047257E-3,5.4545454545454453E-2,3.4482758620689724E-2,{"$f":"H95/B95-1","v":0.19999999999999996}]
["Mean",{"$f":"VLOOKUP($A$2,'Table 7'!$A$47:$F$65,5,FALSE)","v":262.86},{"$f":"VLOOKUP($A$2,'Table 8'!$A$47:$F$65,5,FALSE)","v":263.08},{"$f":"VLOOKUP($A$2,'Table 9'!$A$47:$F$65,5,FALSE)","v":269.83},{"$f":"VLOOKUP($A$2,'Table 10'!$A$47:$F$65,5,FALSE)","v":268.35000000000002},{"$f":"VLOOKUP($A$2,'Table 11'!$A$47:$F$65,5,FALSE)","v":274.42},{"$f":"VLOOKUP($A$2,'Table 12'!$A$47:$F$65,5,FALSE)","v":289.27999999999997},{"$f":"VLOOKUP($A$2,'Table 13'!$A$47:$F$65,5,FALSE)","v":295.72000000000003},"Mean",8.369474244844799E-4,2.5657594648015758E-2,-5.4849349590481156E-3,2.2619713061300617E-2,5.415057211573493E-2,2.2262168141593097E-2,0.12500951076618727]
["Upper Quartile",{"$f":"VLOOKUP($A$2,'Table 7'!$A$47:$F$65,6,FALSE)","v":300},{"$f":"VLOOKUP($A$2,'Table 8'!$A$47:$F$65,6,FALSE)","v":290},{"$f":"VLOOKUP($A$2,'Table 9'!$A$47:$F$65,6,FALSE)","v":300},{"$f":"VLOOKUP($A$2,'Table 10'!$A$47:$F$65,6,FALSE)","v":300},{"$f":"VLOOKUP($A$2,'Table 11'!$A$47:$F$65,6,FALSE)","v":300},{"$f":"VLOOKUP($A$2,'Table 12'!$A$47:$F$65,6,FALSE)","v":320},{"$f":"VLOOKUP($A$2,'Table 13'!$A$47:$F$65,6,FALSE)","v":320},"Upper Quartile",-3.3333333333333326E-2,3.4482758620689724E-2,0,0,6.6666666666666652E-2,0,6.6666666666666652E-2]
[]
[]
[]
[]
[]
[]
[]
[]
[]
[]
[]
[]
[]
[]
[]
[]
[]
[]
["Mean Rents by Property Size:",null,null,null,null,null,null,null,"Median Rents by Property Size:"]
[null,2010,2011,2012,2013,2014,2015,2016,null,2010,2011,2012,2013,2014,2015,2016]
["1 Bedroom Shared",{"$f":"B96","v":262.86},263.08,269.83,268.35000000000002,274.42,289.27999999999997,295.72000000000003,"1 Bedroom Shared",{"$f":"B95","v":250},260,265,273.33999999999997,275,{"$f":"G95","v":290},{"$f":"H95","v":300}]
["1 Bedroom ",{"$f":"B8","v":350.87},360.3,361.48,362.12,369.12,381.24,383.14,"1 Bedroom ",{"$f":"B7","v":350},350,360,350,365,{"$f":"G7","v":375},{"$f":"H7","v":375}]
["2 Bedrooms",{"$f":"B30","v":497.46},520.5,502.96,515.07000000000005,517.76,530.9,545.96,"2 Bedrooms",{"$f":"B29","v":480},500,490,500,500,{"$f":"G29","v":517.5},{"$f":"H29","v":530}]
["3 Bedrooms",{"$f":"B52","v":632.52},651.09,643.12,644.39,668.02,684.17,701.64,"3 Bedrooms",{"$f":"B51","v":650},650,650,625,650,{"$f":"G51","v":690},{"$f":"H51","v":700}]
["4 Bedrooms",{"$f":"B74","v":811.27},894.44,849.5,883.13,961.21,967.81,972.76,"4 Bedrooms",{"$f":"B73","v":825},850,850,850,950,{"$f":"G73","v":950},{"$f":"H73","v":995}]
[]
[]
[]
[]
[]
[]
[]
[]
[]
[]
[]
[]
[]
[]
[]
[]
[]
["Sample Sizes:",null,null,null,null,null,null,null,"Sample Proportions:"]
[null,2010,2011,2012,2013,2014,2015,2016,null,2010,2011,2012,2013,2014,2015,2016]
["1 Bedroom ",{"$f":"VLOOKUP($A$2,'Table 7'!$A$5:$L$23,2,FALSE)","v":319},{"$f":"VLOOKUP($A$2,'Table 8'!$A$5:$L$23,2,FALSE)","v":458},{"$f":"VLOOKUP($A$2,'Table 9'!$A$5:$L$23,2,FALSE)","v":483},{"$f":"VLOOKUP($A$2,'Table 10'!$A$5:$L$23,2,FALSE)","v":437},{"$f":"VLOOKUP($A$2,'Table 11'!$A$5:$L$23,2,FALSE)","v":405},{"$f":"VLOOKUP($A$2,'Table 12'!$A$5:$L$23,2,FALSE)","v":406},{"$f":"VLOOKUP($A$2,'Table 13'!$A$5:$L$23,2,FALSE)","v":382},"1 Bedroom ",{"$f":"B142/SUM(B$142:B$146)","v":0.24633204633204633},{"$f":"C142/SUM(C$142:C$146)","v":0.26246418338108884},0.24794661190965092,0.26120741183502688,0.22816901408450704,{"$f":"G142/SUM(G$142:G$146)","v":0.23213264722698684},0.20704607046070461]
["2 Bedrooms",{"$f":"VLOOKUP($A$2,'Table 7'!$A$5:$L$23,8,FALSE)","v":613},{"$f":"VLOOKUP($A$2,'Table 8'!$A$5:$L$23,8,FALSE)","v":818},{"$f":"VLOOKUP($A$2,'Table 9'!$A$5:$L$23,8,FALSE)","v":918},{"$f":"VLOOKUP($A$2,'Table 10'!$A$5:$L$23,8,FALSE)","v":790},{"$f":"VLOOKUP($A$2,'Table 11'!$A$5:$L$23,8,FALSE)","v":856},{"$f":"VLOOKUP($A$2,'Table 12'!$A$5:$L$23,8,FALSE)","v":860},{"$f":"VLOOKUP($A$2,'Table 13'!$A$5:$L$23,8,FALSE)","v":950},"2 Bedrooms",{"$f":"B143/SUM(B$142:B$146)","v":0.47335907335907335},0.46876790830945558,0.47125256673511295,0.4722056186491333,0.48225352112676056,0.49170954831332192,0.51490514905149054]
["3 Bedrooms",{"$f":"VLOOKUP($A$2,'Table 7'!$A$26:$L$44,2,FALSE)","v":198},{"$f":"VLOOKUP($A$2,'Table 8'!$A$26:$L$44,2,FALSE)","v":224},{"$f":"VLOOKUP($A$2,'Table 9'!$A$26:$L$44,2,FALSE)","v":283},{"$f":"VLOOKUP($A$2,'Table 10'!$A$26:$L$44,2,FALSE)","v":245},{"$f":"VLOOKUP($A$2,'Table 11'!$A$26:$L$44,2,FALSE)","v":303},{"$f":"VLOOKUP($A$2,'Table 12'!$A$26:$L$44,2,FALSE)","v":283},{"$f":"VLOOKUP($A$2,'Table 13'!$A$26:$L$44,2,FALSE)","v":335},"3 Bedrooms",{"$f":"B144/SUM(B$142:B$146)","v":0.15289575289575288},0.12836676217765042,0.14527720739219713,0.14644351464435146,0.17070422535211269,0.16180674671240708,0.18157181571815717]
["4 Bedrooms",{"$f":"VLOOKUP($A$2,'Table 7'!$A$26:$L$44,8,FALSE)","v":71},{"$f":"VLOOKUP($A$2,'Table 8'!$A$26:$L$44,8,FALSE)","v":107},{"$f":"VLOOKUP($A$2,'Table 9'!$A$26:$L$44,8,FALSE)","v":121},{"$f":"VLOOKUP($A$2,'Table 10'!$A$26:$L$44,8,FALSE)","v":93},{"$f":"VLOOKUP($A$2,'Table 11'!$A$26:$L$44,8,FALSE)","v":107},{"$f":"VLOOKUP($A$2,'Table 12'!$A$26:$L$44,8,FALSE)","v":105},{"$f":"VLOOKUP($A$2,'Table 13'!$A$26:$L$44,8,FALSE)","v":85},"4 Bedrooms",{"$f":"B145/SUM(B$142:B$146)","v":5.4826254826254826E-2},6.1318051575931232E-2,6.2114989733059546E-2,5.5588762701733414E-2,6.0281690140845071E-2,6.0034305317324184E-2,4.6070460704607047E-2]
["1 Bedroom Shared",{"$f":"VLOOKUP($A$2,'Table 7'!$A$47:$L$65,2,FALSE)","v":94},{"$f":"VLOOKUP($A$2,'Table 8'!$A$47:$L$65,2,FALSE)","v":138},{"$f":"VLOOKUP($A$2,'Table 9'!$A$47:$L$65,2,FALSE)","v":143},{"$f":"VLOOKUP($A$2,'Table 10'!$A$47:$L$65,2,FALSE)","v":108},{"$f":"VLOOKUP($A$2,'Table 11'!$A$47:$L$65,2,FALSE)","v":104},{"$f":"VLOOKUP($A$2,'Table 12'!$A$47:$L$65,2,FALSE)","v":95},{"$f":"VLOOKUP($A$2,'Table 13'!$A$47:$L$65,2,FALSE)","v":93},"1 Bedroom Shared",{"$f":"B146/SUM(B$142:B$146)","v":7.2586872586872589E-2},7.9083094555873923E-2,7.3408624229979472E-2,6.4554692169754929E-2,5.8591549295774648E-2,5.431675242995998E-2,5.0406504065040651E-2]

{"sheet":"BRMA Profile - East Dunbartonsh","index":19,"n_rows":146,"n_cols":16,"rows_kept":146,"cut":false,"hidden":true,"merged":[[1,0,1,2]]}
["BRMA Rent Profile for:"]
["East Dunbartonshire",null,null,null,null,null,null,null,{"$f":"ROUND(MIN(J6:P9,J28:P31,J50:P53,J72:P75,J94:P97)-0.01,2)","v":-0.1},{"$f":"ROUND(MAX(J6:P9,J28:P31,J50:P53,J72:P75,J94:P97)+0.01,2)","v":0.28000000000000003}]
[]
["1 Bedroom Properties - Quartile Measures:",null,null,null,null,null,null,null,"1 Bedroom Properties - Annual changes and 6-yr cumulative change:"]
[" ",2010,2011,2012,2013,2014,2015,2016," ","2010 to 2011","2011 to 2012","2012 to 2013","2013 to 2014","2014 to 2015","2015 to 2016","2010 to 2016"]
["Lower Quartile",{"$f":"VLOOKUP($A$2,'Table 7'!$A$5:$L$23,3,FALSE)","v":400},{"$f":"VLOOKUP($A$2,'Table 8'!$A$5:$L$23,3,FALSE)","v":412.5},{"$f":"VLOOKUP($A$2,'Table 9'!$A$5:$L$23,3,FALSE)","v":400},{"$f":"VLOOKUP($A$2,'Table 10'!$A$5:$L$23,3,FALSE)","v":420},{"$f":"VLOOKUP($A$2,'Table 11'!$A$5:$L$23,3,FALSE)","v":425},{"$f":"VLOOKUP($A$2,'Table 12'!$A$5:$L$23,3,FALSE)","v":425},{"$f":"VLOOKUP($A$2,'Table 13'!$A$5:$L$23,3,FALSE)","v":425},"Lower Quartile",{"$f":"C6/B6-1","v":3.125E-2},-3.0303030303030276E-2,5.0000000000000044E-2,1.1904761904761862E-2,0,{"$f":"H6/G6-1","v":0},{"$f":"H6/B6-1","v":6.25E-2}]
["Median",{"$f":"VLOOKUP($A$2,'Table 7'!$A$5:$L$23,4,FALSE)","v":425},{"$f":"VLOOKUP($A$2,'Table 8'!$A$5:$L$23,4,FALSE)","v":450},{"$f":"VLOOKUP($A$2,'Table 9'!$A$5:$L$23,4,FALSE)","v":425},{"$f":"VLOOKUP($A$2,'Table 10'!$A$5:$L$23,4,FALSE)","v":450},{"$f":"VLOOKUP($A$2,'Table 11'!$A$5:$L$23,4,FALSE)","v":450},{"$f":"VLOOKUP($A$2,'Table 12'!$A$5:$L$23,4,FALSE)","v":450},{"$f":"VLOOKUP($A$2,'Table 13'!$A$5:$L$23,4,FALSE)","v":450},"Median",5.8823529411764719E-2,-5.555555555555558E-2,5.8823529411764719E-2,0,0,0,{"$f":"H7/B7-1","v":5.8823529411764719E-2}]
["Mean",{"$f":"VLOOKUP($A$2,'Table 7'!$A$5:$L$23,5,FALSE)","v":449.59},{"$f":"VLOOKUP($A$2,'Table 8'!$A$5:$L$23,5,FALSE)","v":456.61},{"$f":"VLOOKUP($A$2,'Table 9'!$A$5:$L$23,5,FALSE)","v":440.86},{"$f":"VLOOKUP($A$2,'Table 10'!$A$5:$L$23,5,FALSE)","v":465.96},{"$f":"VLOOKUP($A$2,'Table 11'!$A$5:$L$23,5,FALSE)","v":472.07},{"$f":"VLOOKUP($A$2,'Table 12'!$A$5:$L$23,5,FALSE)","v":461.49},{"$f":"VLOOKUP($A$2,'Table 13'!$A$5:$L$23,5,FALSE)","v":478.92},"Mean",1.5614226295068923E-2,-3.4493331289284113E-2,5.6934174114231295E-2,1.3112713537642762E-2,-2.2411930434045768E-2,3.7768965741402871E-2,6.5237216130252129E-2]
["Upper Quartile",{"$f":"VLOOKUP($A$2,'Table 7'!$A$5:$L$23,6,FALSE)","v":475},{"$f":"VLOOKUP($A$2,'Table 8'!$A$5:$L$23,6,FALSE)","v":475},{"$f":"VLOOKUP($A$2,'Table 9'!$A$5:$L$23,6,FALSE)","v":475},{"$f":"VLOOKUP($A$2,'Table 10'!$A$5:$L$23,6,FALSE)","v":495},{"$f":"VLOOKUP($A$2,'Table 11'!$A$5:$L$23,6,FALSE)","v":525},{"$f":"VLOOKUP($A$2,'Table 12'!$A$5:$L$23,6,FALSE)","v":495},{"$f":"VLOOKUP($A$2,'Table 13'!$A$5:$L$23,6,FALSE)","v":525},"Upper Quartile",0,0,4.2105263157894646E-2,6.0606060606060552E-2,-5.7142857142857162E-2,6.0606060606060552E-2,0.10526315789473695]
[]
[]
[]
[]
[]
[]
[]
[]
[]
[]
[]
[]
[]
[]
[]
[]
["2 Bedroom Properties:",null,null,null,null,null,null,null,"2 Bedroom Properties - Annual changes and 6-yr cumulative change:"]
[null,2010,2011,2012,2013,2014,2015,2016," ","2010 to 2011","2011 to 2012","2012 to 2013","2013 to 2014","2014 to 2015","2015 to 2016","2010 to 2016"]
["Lower Quartile",{"$f":"VLOOKUP($A$2,'Table 7'!$A$5:$L$23,9,FALSE)","v":525},{"$f":"VLOOKUP($A$2,'Table 8'!$A$5:$L$23,9,FALSE)","v":500},{"$f":"VLOOKUP($A$2,'Table 9'!$A$5:$L$23,9,FALSE)","v":525},{"$f":"VLOOKUP($A$2,'Table 10'!$A$5:$L$23,9,FALSE)","v":500},{"$f":"VLOOKUP($A$2,'Table 11'!$A$5:$L$23,9,FALSE)","v":525},{"$f":"VLOOKUP($A$2,'Table 12'!$A$5:$L$23,9,FALSE)","v":525},{"$f":"VLOOKUP($A$2,'Table 13'!$A$5:$L$23,9,FALSE)","v":550},"Lower Quartile",{"$f":"C28/B28-1","v":-4.7619047619047672E-2},5.0000000000000044E-2,-4.7619047619047672E-2,5.0000000000000044E-2,0,{"$f":"H28/G28-1","v":4.7619047619047672E-2},{"$f":"H28/B28-1","v":4.7619047619047672E-2}]
["Median",{"$f":"VLOOKUP($A$2,'Table 7'!$A$5:$L$23,10,FALSE)","v":575},{"$f":"VLOOKUP($A$2,'Table 8'!$A$5:$L$23,10,FALSE)","v":550},{"$f":"VLOOKUP($A$2,'Table 9'!$A$5:$L$23,10,FALSE)","v":595},{"$f":"VLOOKUP($A$2,'Table 10'!$A$5:$L$23,10,FALSE)","v":575},{"$f":"VLOOKUP($A$2,'Table 11'!$A$5:$L$23,10,FALSE)","v":575},{"$f":"VLOOKUP($A$2,'Table 12'!$A$5:$L$23,10,FALSE)","v":575},{"$f":"VLOOKUP($A$2,'Table 13'!$A$5:$L$23,10,FALSE)","v":625},"Median",-4.3478260869565188E-2,8.181818181818179E-2,-3.3613445378151252E-2,0,0,{"$f":"H29/G29-1","v":8.6956521739130377E-2},{"$f":"H29/B29-1","v":8.6956521739130377E-2}]
["Mean",{"$f":"VLOOKUP($A$2,'Table 7'!$A$5:$L$23,11,FALSE)","v":581.12},{"$f":"VLOOKUP($A$2,'Table 8'!$A$5:$L$23,11,FALSE)","v":571.97},{"$f":"VLOOKUP($A$2,'Table 9'!$A$5:$L$23,11,FALSE)","v":608.66},{"$f":"VLOOKUP($A$2,'Table 10'!$A$5:$L$23,11,FALSE)","v":587.11},{"$f":"VLOOKUP($A$2,'Table 11'!$A$5:$L$23,11,FALSE)","v":603.70000000000005},{"$f":"VLOOKUP($A$2,'Table 12'!$A$5:$L$23,11,FALSE)","v":610.75},{"$f":"VLOOKUP($A$2,'Table 13'!$A$5:$L$23,11,FALSE)","v":635.52},"Mean",-1.5745457048458089E-2,6.4146720981869576E-2,-3.5405645187789547E-2,2.8257055747645365E-2,1.1677985754513731E-2,{"$f":"H30/G30-1","v":4.0556692591076526E-2},9.361233480176212E-2]
["Upper Quartile",{"$f":"VLOOKUP($A$2,'Table 7'!$A$5:$L$23,12,FALSE)","v":625},{"$f":"VLOOKUP($A$2,'Table 8'!$A$5:$L$23,12,FALSE)","v":650},{"$f":"VLOOKUP($A$2,'Table 9'!$A$5:$L$23,12,FALSE)","v":680},{"$f":"VLOOKUP($A$2,'Table 10'!$A$5:$L$23,12,FALSE)","v":650},{"$f":"VLOOKUP($A$2,'Table 11'!$A$5:$L$23,12,FALSE)","v":695},{"$f":"VLOOKUP($A$2,'Table 12'!$A$5:$L$23,12,FALSE)","v":675},{"$f":"VLOOKUP($A$2,'Table 13'!$A$5:$L$23,12,FALSE)","v":695},"Upper Quartile",4.0000000000000036E-2,4.6153846153846212E-2,-4.4117647058823484E-2,6.9230769230769207E-2,-2.877697841726623E-2,{"$f":"H31/G31-1","v":2.9629629629629672E-2},0.1120000000000001]
[]
[]
[]
[]
[]
[]
[]
[]
[]
[]
[]
[]
[]
[]
[]
[]
["3 Bedroom Properties:",null,null,null,null,null,null,null,"3 Bedroom Properties - Annual changes and 6-yr cumulative change:"]
[null,2010,2011,2012,2013,2014,2015,2016," ","2010 to 2011","2011 to 2012","2012 to 2013","2013 to 2014","2014 to 2015","2015 to 2016","2010 to 2016"]
["Lower Quartile",{"$f":"VLOOKUP($A$2,'Table 7'!$A$26:$L$44,3,FALSE)","v":650},{"$f":"VLOOKUP($A$2,'Table 8'!$A$26:$L$44,3,FALSE)","v":650},{"$f":"VLOOKUP($A$2,'Table 9'!$A$26:$L$44,3,FALSE)","v":695},{"$f":"VLOOKUP($A$2,'Table 10'!$A$26:$L$44,3,FALSE)","v":650},{"$f":"VLOOKUP($A$2,'Table 11'!$A$26:$L$44,3,FALSE)","v":695},{"$f":"VLOOKUP($A$2,'Table 12'!$A$26:$L$44,3,FALSE)","v":695},{"$f":"VLOOKUP($A$2,'Table 13'!$A$26:$L$44,3,FALSE)","v":695},"Lower Quartile",{"$f":"C50/B50-1","v":0},6.9230769230769207E-2,-6.4748201438848962E-2,6.9230769230769207E-2,0,{"$f":"H50/G50-1","v":0},{"$f":"H50/B50-1","v":6.9230769230769207E-2}]
["Median",{"$f":"VLOOKUP($A$2,'Table 7'!$A$26:$L$44,4,FALSE)","v":700},{"$f":"VLOOKUP($A$2,'Table 8'!$A$26:$L$44,4,FALSE)","v":730},{"$f":"VLOOKUP($A$2,'Table 9'!$A$26:$L$44,4,FALSE)","v":750},{"$f":"VLOOKUP($A$2,'Table 10'!$A$26:$L$44,4,FALSE)","v":750},{"$f":"VLOOKUP($A$2,'Table 11'!$A$26:$L$44,4,FALSE)","v":795},{"$f":"VLOOKUP($A$2,'Table 12'!$A$26:$L$44,4,FALSE)","v":797.5},{"$f":"VLOOKUP($A$2,'Table 13'!$A$26:$L$44,4,FALSE)","v":795},"Median",4.2857142857142927E-2,2.7397260273972712E-2,0,6.0000000000000053E-2,3.1446540880504248E-3,{"$f":"H51/G51-1","v":-3.1347962382445305E-3},{"$f":"H51/B51-1","v":0.13571428571428568}]
["Mean",{"$f":"VLOOKUP($A$2,'Table 7'!$A$26:$L$44,5,FALSE)","v":750.02},{"$f":"VLOOKUP($A$2,'Table 8'!$A$26:$L$44,5,FALSE)","v":772.43},{"$f":"VLOOKUP($A$2,'Table 9'!$A$26:$L$44,5,FALSE)","v":810.13},{"$f":"VLOOKUP($A$2,'Table 10'!$A$26:$L$44,5,FALSE)","v":797.68},{"$f":"VLOOKUP($A$2,'Table 11'!$A$26:$L$44,5,FALSE)","v":798.73},{"$f":"VLOOKUP($A$2,'Table 12'!$A$26:$L$44,5,FALSE)","v":819.59},{"$f":"VLOOKUP($A$2,'Table 13'!$A$26:$L$44,5,FALSE)","v":859.19},"Mean",2.9879203221247375E-2,4.8807011638595243E-2,-1.5367903916655434E-2,1.3163173202288547E-3,2.6116459880059617E-2,{"$f":"H52/G52-1","v":4.8316841347503026E-2},0.14555611850350658]
["Upper Quartile",{"$f":"VLOOKUP($A$2,'Table 7'!$A$26:$L$44,6,FALSE)","v":775},{"$f":"VLOOKUP($A$2,'Table 8'!$A$26:$L$44,6,FALSE)","v":800},{"$f":"VLOOKUP($A$2,'Table 9'!$A$26:$L$44,6,FALSE)","v":895},{"$f":"VLOOKUP($A$2,'Table 10'!$A$26:$L$44,6,FALSE)","v":850},{"$f":"VLOOKUP($A$2,'Table 11'!$A$26:$L$44,6,FALSE)","v":890},{"$f":"VLOOKUP($A$2,'Table 12'!$A$26:$L$44,6,FALSE)","v":900},{"$f":"VLOOKUP($A$2,'Table 13'!$A$26:$L$44,6,FALSE)","v":985},"Upper Quartile",3.2258064516129004E-2,0.11874999999999991,-5.027932960893855E-2,4.705882352941182E-2,1.1235955056179803E-2,{"$f":"H53/G53-1","v":9.4444444444444553E-2},0.2709677419354839]
[]
[]
[]
[]
[]
[]
[]
[]
[]
[]
[]
[]
[]
[]
[]
[]
["4 Bedroom Properties:",null,null,null,null,null,null,null,"4 Bedroom Properties - Annual changes and 6-yr cumulative change:"]
[null,2010,2011,2012,2013,2014,2015,2016," ","2010 to 2011","2011 to 2012","2012 to 2013","2013 to 2014","2014 to 2015","2015 to 2016","2010 to 2016"]
["Lower Quartile",{"$f":"VLOOKUP($A$2,'Table 7'!$A$26:$L$44,9,FALSE)","v":900},{"$f":"VLOOKUP($A$2,'Table 8'!$A$26:$L$44,9,FALSE)","v":950},{"$f":"VLOOKUP($A$2,'Table 9'!$A$26:$L$44,9,FALSE)","v":900},{"$f":"VLOOKUP($A$2,'Table 10'!$A$26:$L$44,9,FALSE)","v":950},{"$f":"VLOOKUP($A$2,'Table 11'!$A$26:$L$44,9,FALSE)","v":922.5},{"$f":"VLOOKUP($A$2,'Table 12'!$A$26:$L$44,9,FALSE)","v":950},{"$f":"VLOOKUP($A$2,'Table 13'!$A$26:$L$44,9,FALSE)","v":962.5},"Lower Quartile",{"$f":"C72/B72-1","v":5.555555555555558E-2},-5.2631578947368474E-2,5.555555555555558E-2,-2.8947368421052611E-2,2.9810298102981081E-2,{"$f":"H72/G72-1","v":1.3157894736842035E-2},{"$f":"H72/B72-1","v":6.944444444444442E-2}]
["Median",{"$f":"VLOOKUP($A$2,'Table 7'!$A$26:$L$44,10,FALSE)","v":995},{"$f":"VLOOKUP($A$2,'Table 8'!$A$26:$L$44,10,FALSE)","v":1100},{"$f":"VLOOKUP($A$2,'Table 9'!$A$26:$L$44,10,FALSE)","v":1195},{"$f":"VLOOKUP($A$2,'Table 10'!$A$26:$L$44,10,FALSE)","v":1100},{"$f":"VLOOKUP($A$2,'Table 11'!$A$26:$L$44,10,FALSE)","v":1200},{"$f":"VLOOKUP($A$2,'Table 12'!$A$26:$L$44,10,FALSE)","v":1200},{"$f":"VLOOKUP($A$2,'Table 13'!$A$26:$L$44,10,FALSE)","v":1100},"Median",0.10552763819095468,8.636363636363642E-2,-7.9497907949790836E-2,9.0909090909090828E-2,0,-8.333333333333337E-2,{"$f":"H73/B73-1","v":0.10552763819095468}]
["Mean",{"$f":"VLOOKUP($A$2,'Table 7'!$A$26:$L$44,11,FALSE)","v":1135.19},{"$f":"VLOOKUP($A$2,'Table 8'!$A$26:$L$44,11,FALSE)","v":1204.31},{"$f":"VLOOKUP($A$2,'Table 9'!$A$26:$L$44,11,FALSE)","v":1137.57},{"$f":"VLOOKUP($A$2,'Table 10'!$A$26:$L$44,11,FALSE)","v":1246.04},{"$f":"VLOOKUP($A$2,'Table 11'!$A$26:$L$44,11,FALSE)","v":1279.83},{"$f":"VLOOKUP($A$2,'Table 12'!$A$26:$L$44,11,FALSE)","v":1264.46},{"$f":"VLOOKUP($A$2,'Table 13'!$A$26:$L$44,11,FALSE)","v":1276.8800000000001},"Mean",6.0888485627956346E-2,-5.5417625030100282E-2,9.5352373919846745E-2,2.7117909537414553E-2,-1.2009407499433467E-2,9.8223747686760898E-3,0.12481611007848903]
["Upper Quartile",{"$f":"VLOOKUP($A$2,'Table 7'!$A$26:$L$44,12,FALSE)","v":1350},{"$f":"VLOOKUP($A$2,'Table 8'!$A$26:$L$44,12,FALSE)","v":1400},{"$f":"VLOOKUP($A$2,'Table 9'!$A$26:$L$44,12,FALSE)","v":1300},{"$f":"VLOOKUP($A$2,'Table 10'!$A$26:$L$44,12,FALSE)","v":1500},{"$f":"VLOOKUP($A$2,'Table 11'!$A$26:$L$44,12,FALSE)","v":1525},{"$f":"VLOOKUP($A$2,'Table 12'!$A$26:$L$44,12,FALSE)","v":1500},{"$f":"VLOOKUP($A$2,'Table 13'!$A$26:$L$44,12,FALSE)","v":1500},"Upper Quartile",3.7037037037036979E-2,-7.1428571428571397E-2,0.15384615384615374,1.6666666666666607E-2,-1.6393442622950838E-2,0,0.11111111111111116]
[]
[]
[]
[]
[]
[]
[]
[]
[]
[]
[]
[]
[]
[]
[]
[]
["1 Bedroom Shared Properties:",null,null,null,null,null,null,null,"1 Bedroom Shared Properties - Annual changes and 6-yr cumulative change:"]
[null,2010,2011,2012,2013,2014,2015,2016," ","2010 to 2011","2011 to 2012","2012 to 2013","2013 to 2014","2014 to 2015","2015 to 2016","2010 to 2016"]
["Lower Quartile",{"$f":"VLOOKUP($A$2,'Table 7'!$A$47:$F$65,3,FALSE)","v":274},{"$f":"VLOOKUP($A$2,'Table 8'!$A$47:$F$65,3,FALSE)","v":257},{"$f":"VLOOKUP($A$2,'Table 9'!$A$47:$F$65,3,FALSE)","v":285},{"$f":"VLOOKUP($A$2,'Table 10'!$A$47:$F$65,3,FALSE)","v":281.66000000000003},{"$f":"VLOOKUP($A$2,'Table 11'!$A$47:$F$65,3,FALSE)","v":285},{"$f":"VLOOKUP($A$2,'Table 12'!$A$47:$F$65,3,FALSE)","v":280},{"$f":"VLOOKUP($A$2,'Table 13'!$A$47:$F$65,3,FALSE)","v":275},"Lower Quartile",{"$f":"C94/B94-1","v":-6.2043795620437936E-2},0.10894941634241251,-1.1719298245613907E-2,1.1858268834765262E-2,-1.7543859649122862E-2,{"$f":"H94/G94-1","v":-1.7857142857142905E-2},{"$f":"H94/B94-1","v":3.6496350364962904E-3}]
["Median",{"$f":"VLOOKUP($A$2,'Table 7'!$A$47:$F$65,4,FALSE)","v":300},{"$f":"VLOOKUP($A$2,'Table 8'!$A$47:$F$65,4,FALSE)","v":305},{"$f":"VLOOKUP($A$2,'Table 9'!$A$47:$F$65,4,FALSE)","v":327.5},{"$f":"VLOOKUP($A$2,'Table 10'!$A$47:$F$65,4,FALSE)","v":310},{"$f":"VLOOKUP($A$2,'Table 11'!$A$47:$F$65,4,FALSE)","v":315},{"$f":"VLOOKUP($A$2,'Table 12'!$A$47:$F$65,4,FALSE)","v":319.54000000000002},{"$f":"VLOOKUP($A$2,'Table 13'!$A$47:$F$65,4,FALSE)","v":325},"Median",1.6666666666666607E-2,7.3770491803278659E-2,-5.3435114503816772E-2,1.6129032258064502E-2,1.4412698412698433E-2,1.708706265256299E-2,{"$f":"H95/B95-1","v":8.3333333333333259E-2}]
["Mean",{"$f":"VLOOKUP($A$2,'Table 7'!$A$47:$F$65,5,FALSE)","v":300.36},{"$f":"VLOOKUP($A$2,'Table 8'!$A$47:$F$65,5,FALSE)","v":303.58999999999997},{"$f":"VLOOKUP($A$2,'Table 9'!$A$47:$F$65,5,FALSE)","v":338.4},{"$f":"VLOOKUP($A$2,'Table 10'!$A$47:$F$65,5,FALSE)","v":323.36},{"$f":"VLOOKUP($A$2,'Table 11'!$A$47:$F$65,5,FALSE)","v":322.2},{"$f":"VLOOKUP($A$2,'Table 12'!$A$47:$F$65,5,FALSE)","v":312.08},{"$f":"VLOOKUP($A$2,'Table 13'!$A$47:$F$65,5,FALSE)","v":324.77999999999997},"Mean",1.0753762152084123E-2,0.11466122072532037,-4.4444444444444287E-2,-3.5873330034636997E-3,-3.1409062693978917E-2,4.0694693668290149E-2,8.1302437075509326E-2]
["Upper Quartile",{"$f":"VLOOKUP($A$2,'Table 7'!$A$47:$F$65,6,FALSE)","v":324},{"$f":"VLOOKUP($A$2,'Table 8'!$A$47:$F$65,6,FALSE)","v":335},{"$f":"VLOOKUP($A$2,'Table 9'!$A$47:$F$65,6,FALSE)","v":368.33},{"$f":"VLOOKUP($A$2,'Table 10'!$A$47:$F$65,6,FALSE)","v":376.66},{"$f":"VLOOKUP($A$2,'Table 11'!$A$47:$F$65,6,FALSE)","v":341.67},{"$f":"VLOOKUP($A$2,'Table 12'!$A$47:$F$65,6,FALSE)","v":325},{"$f":"VLOOKUP($A$2,'Table 13'!$A$47:$F$65,6,FALSE)","v":375},"Upper Quartile",3.3950617283950546E-2,9.9492537313432772E-2,2.2615589281351101E-2,-9.2895449476981917E-2,-4.8789767904703463E-2,0.15384615384615374,0.15740740740740744]
[]
[]
[]
[]
[]
[]
[]
[]
[]
[]
[]
[]
[]
[]
[]
[]
[]
[]
["Mean Rents by Property Size:",null,null,null,null,null,null,null,"Median Rents by Property Size:"]
[null,2010,2011,2012,2013,2014,2015,2016,null,2010,2011,2012,2013,2014,2015,2016]
["1 Bedroom Shared",{"$f":"B96","v":300.36},303.58999999999997,338.4,323.36,322.2,312.08,324.77999999999997,"1 Bedroom Shared",{"$f":"B95","v":300},305,327.5,310,315,{"$f":"G95","v":319.54000000000002},{"$f":"H95","v":325}]
["1 Bedroom ",{"$f":"B8","v":449.59},456.61,440.86,465.96,472.07,461.49,478.92,"1 Bedroom ",{"$f":"B7","v":425},450,425,450,450,{"$f":"G7","v":450},{"$f":"H7","v":450}]
["2 Bedrooms",{"$f":"B30","v":581.12},571.97,608.66,587.11,603.70000000000005,610.75,635.52,"2 Bedrooms",{"$f":"B29","v":575},550,595,575,575,{"$f":"G29","v":575},{"$f":"H29","v":625}]
["3 Bedrooms",{"$f":"B52","v":750.02},772.43,810.13,797.68,798.73,819.59,859.19,"3 Bedrooms",{"$f":"B51","v":700},730,750,750,795,{"$f":"G51","v":797.5},{"$f":"H51","v":795}]
["4 Bedrooms",{"$f":"B74","v":1135.19},1204.31,1137.57,1246.04,1279.83,1264.46,1276.8800000000001,"4 Bedrooms",{"$f":"B73","v":995},1100,1195,1100,1200,{"$f":"G73","v":1200},{"$f":"H73","v":1100}]
[]
[]
[]
[]
[]
[]
[]
[]
[]
[]
[]
[]
[]
[]
[]
[]
[]
["Sample Sizes:",null,null,null,null,null,null,null,"Sample Proportions:"]
[null,2010,2011,2012,2013,2014,2015,2016,null,2010,2011,2012,2013,2014,2015,2016]
["1 Bedroom ",{"$f":"VLOOKUP($A$2,'Table 7'!$A$5:$L$23,2,FALSE)","v":75},{"$f":"VLOOKUP($A$2,'Table 8'!$A$5:$L$23,2,FALSE)","v":84},{"$f":"VLOOKUP($A$2,'Table 9'!$A$5:$L$23,2,FALSE)","v":70},{"$f":"VLOOKUP($A$2,'Table 10'!$A$5:$L$23,2,FALSE)","v":52},{"$f":"VLOOKUP($A$2,'Table 11'!$A$5:$L$23,2,FALSE)","v":58},{"$f":"VLOOKUP($A$2,'Table 12'!$A$5:$L$23,2,FALSE)","v":111},{"$f":"VLOOKUP($A$2,'Table 13'!$A$5:$L$23,2,FALSE)","v":98},"1 Bedroom ",{"$f":"B142/SUM(B$142:B$146)","v":0.17772511848341233},{"$f":"C142/SUM(C$142:C$146)","v":0.20095693779904306},0.21472392638036811,0.14606741573033707,0.14871794871794872,{"$f":"G142/SUM(G$142:G$146)","v":0.23922413793103448},0.23960880195599021]
["2 Bedrooms",{"$f":"VLOOKUP($A$2,'Table 7'!$A$5:$L$23,8,FALSE)","v":172},{"$f":"VLOOKUP($A$2,'Table 8'!$A$5:$L$23,8,FALSE)","v":137},{"$f":"VLOOKUP($A$2,'Table 9'!$A$5:$L$23,8,FALSE)","v":114},{"$f":"VLOOKUP($A$2,'Table 10'!$A$5:$L$23,8,FALSE)","v":123},{"$f":"VLOOKUP($A$2,'Table 11'!$A$5:$L$23,8,FALSE)","v":150},{"$f":"VLOOKUP($A$2,'Table 12'!$A$5:$L$23,8,FALSE)","v":177},{"$f":"VLOOKUP($A$2,'Table 13'!$A$5:$L$23,8,FALSE)","v":144},"2 Bedrooms",{"$f":"B143/SUM(B$142:B$146)","v":0.40758293838862558},0.32775119617224879,0.34969325153374231,0.3455056179775281,0.38461538461538464,0.38146551724137934,0.35207823960880197]
["3 Bedrooms",{"$f":"VLOOKUP($A$2,'Table 7'!$A$26:$L$44,2,FALSE)","v":110},{"$f":"VLOOKUP($A$2,'Table 8'!$A$26:$L$44,2,FALSE)","v":115},{"$f":"VLOOKUP($A$2,'Table 9'!$A$26:$L$44,2,FALSE)","v":79},{"$f":"VLOOKUP($A$2,'Table 10'!$A$26:$L$44,2,FALSE)","v":95},{"$f":"VLOOKUP($A$2,'Table 11'!$A$26:$L$44,2,FALSE)","v":114},{"$f":"VLOOKUP($A$2,'Table 12'!$A$26:$L$44,2,FALSE)","v":98},{"$f":"VLOOKUP($A$2,'Table 13'!$A$26:$L$44,2,FALSE)","v":105},"3 Bedrooms",{"$f":"B144/SUM(B$142:B$146)","v":0.26066350710900477},0.27511961722488038,0.24233128834355827,0.26685393258426965,0.29230769230769232,0.21120689655172414,0.25672371638141811]
["4 Bedrooms",{"$f":"VLOOKUP($A$2,'Table 7'!$A$26:$L$44,8,FALSE)","v":43},{"$f":"VLOOKUP($A$2,'Table 8'!$A$26:$L$44,8,FALSE)","v":51},{"$f":"VLOOKUP($A$2,'Table 9'!$A$26:$L$44,8,FALSE)","v":37},{"$f":"VLOOKUP($A$2,'Table 10'!$A$26:$L$44,8,FALSE)","v":48},{"$f":"VLOOKUP($A$2,'Table 11'!$A$26:$L$44,8,FALSE)","v":40},{"$f":"VLOOKUP($A$2,'Table 12'!$A$26:$L$44,8,FALSE)","v":46},{"$f":"VLOOKUP($A$2,'Table 13'!$A$26:$L$44,8,FALSE)","v":40},"4 Bedrooms",{"$f":"B145/SUM(B$142:B$146)","v":0.1018957345971564},0.12200956937799043,0.11349693251533742,0.1348314606741573,0.10256410256410256,9.9137931034482762E-2,9.7799511002444994E-2]
["1 Bedroom Shared",{"$f":"VLOOKUP($A$2,'Table 7'!$A$47:$L$65,2,FALSE)","v":22},{"$f":"VLOOKUP($A$2,'Table 8'!$A$47:$L$65,2,FALSE)","v":31},{"$f":"VLOOKUP($A$2,'Table 9'!$A$47:$L$65,2,FALSE)","v":26},{"$f":"VLOOKUP($A$2,'Table 10'!$A$47:$L$65,2,FALSE)","v":38},{"$f":"VLOOKUP($A$2,'Table 11'!$A$47:$L$65,2,FALSE)","v":28},{"$f":"VLOOKUP($A$2,'Table 12'!$A$47:$L$65,2,FALSE)","v":32},{"$f":"VLOOKUP($A$2,'Table 13'!$A$47:$L$65,2,FALSE)","v":22},"1 Bedroom Shared",{"$f":"B146/SUM(B$142:B$146)","v":5.2132701421800945E-2},7.4162679425837319E-2,7.9754601226993863E-2,0.10674157303370786,7.179487179487179E-2,6.8965517241379309E-2,5.3789731051344741E-2]

{"sheet":"BRMA Profile - Fife","index":20,"n_rows":146,"n_cols":16,"rows_kept":146,"cut":false,"hidden":true,"merged":[[1,0,1,2]]}
["BRMA Rent Profile for:"]
["Fife",null,null,null,null,null,null,null,{"$f":"ROUND(MIN(J6:P9,J28:P31,J50:P53,J72:P75,J94:P97)-0.01,2)","v":-7.0000000000000007E-2},{"$f":"ROUND(MAX(J6:P9,J28:P31,J50:P53,J72:P75,J94:P97)+0.01,2)","v":0.46}]
[]
["1 Bedroom Properties - Quartile Measures:",null,null,null,null,null,null,null,"1 Bedroom Properties - Annual changes and 6-yr cumulative change:"]
[" ",2010,2011,2012,2013,2014,2015,2016," ","2010 to 2011","2011 to 2012","2012 to 2013","2013 to 2014","2014 to 2015","2015 to 2016","2010 to 2016"]
["Lower Quartile",{"$f":"VLOOKUP($A$2,'Table 7'!$A$5:$L$23,3,FALSE)","v":350},{"$f":"VLOOKUP($A$2,'Table 8'!$A$5:$L$23,3,FALSE)","v":350},{"$f":"VLOOKUP($A$2,'Table 9'!$A$5:$L$23,3,FALSE)","v":350},{"$f":"VLOOKUP($A$2,'Table 10'!$A$5:$L$23,3,FALSE)","v":350},{"$f":"VLOOKUP($A$2,'Table 11'!$A$5:$L$23,3,FALSE)","v":350},{"$f":"VLOOKUP($A$2,'Table 12'!$A$5:$L$23,3,FALSE)","v":350},{"$f":"VLOOKUP($A$2,'Table 13'!$A$5:$L$23,3,FALSE)","v":360},"Lower Quartile",{"$f":"C6/B6-1","v":0},0,0,0,0,{"$f":"H6/G6-1","v":2.857142857142847E-2},{"$f":"H6/B6-1","v":2.857142857142847E-2}]
["Median",{"$f":"VLOOKUP($A$2,'Table 7'!$A$5:$L$23,4,FALSE)","v":370},{"$f":"VLOOKUP($A$2,'Table 8'!$A$5:$L$23,4,FALSE)","v":375},{"$f":"VLOOKUP($A$2,'Table 9'!$A$5:$L$23,4,FALSE)","v":375},{"$f":"VLOOKUP($A$2,'Table 10'!$A$5:$L$23,4,FALSE)","v":375},{"$f":"VLOOKUP($A$2,'Table 11'!$A$5:$L$23,4,FALSE)","v":395},{"$f":"VLOOKUP($A$2,'Table 12'!$A$5:$L$23,4,FALSE)","v":395},{"$f":"VLOOKUP($A$2,'Table 13'!$A$5:$L$23,4,FALSE)","v":395},"Median",1.3513513513513598E-2,0,0,5.3333333333333233E-2,0,0,{"$f":"H7/B7-1","v":6.7567567567567544E-2}]
["Mean",{"$f":"VLOOKUP($A$2,'Table 7'!$A$5:$L$23,5,FALSE)","v":378.99},{"$f":"VLOOKUP($A$2,'Table 8'!$A$5:$L$23,5,FALSE)","v":383.44},{"$f":"VLOOKUP($A$2,'Table 9'!$A$5:$L$23,5,FALSE)","v":387.33},{"$f":"VLOOKUP($A$2,'Table 10'!$A$5:$L$23,5,FALSE)","v":381.48},{"$f":"VLOOKUP($A$2,'Table 11'!$A$5:$L$23,5,FALSE)","v":405.31},{"$f":"VLOOKUP($A$2,'Table 12'!$A$5:$L$23,5,FALSE)","v":395.12},{"$f":"VLOOKUP($A$2,'Table 13'!$A$5:$L$23,5,FALSE)","v":402.75},"Mean",1.1741734610411836E-2,1.0145003129564012E-2,-1.510340020137857E-2,6.2467232882457813E-2,-2.5141249907478236E-2,1.9310589188094696E-2,6.2692947043457625E-2]
["Upper Quartile",{"$f":"VLOOKUP($A$2,'Table 7'!$A$5:$L$23,6,FALSE)","v":395},{"$f":"VLOOKUP($A$2,'Table 8'!$A$5:$L$23,6,FALSE)","v":400},{"$f":"VLOOKUP($A$2,'Table 9'!$A$5:$L$23,6,FALSE)","v":400},{"$f":"VLOOKUP($A$2,'Table 10'!$A$5:$L$23,6,FALSE)","v":400},{"$f":"VLOOKUP($A$2,'Table 11'!$A$5:$L$23,6,FALSE)","v":425},{"$f":"VLOOKUP($A$2,'Table 12'!$A$5:$L$23,6,FALSE)","v":425},{"$f":"VLOOKUP($A$2,'Table 13'!$A$5:$L$23,6,FALSE)","v":425},"Upper Quartile",1.2658227848101333E-2,0,0,6.25E-2,0,0,7.5949367088607556E-2]
[]
[]
[]
[]
[]
[]
[]
[]
[]
[]
[]
[]
[]
[]
[]
[]
["2 Bedroom Properties:",null,null,null,null,null,null,null,"2 Bedroom Properties - Annual changes and 6-yr cumulative change:"]
[null,2010,2011,2012,2013,2014,2015,2016," ","2010 to 2011","2011 to 2012","2012 to 2013","2013 to 2014","2014 to 2015","2015 to 2016","2010 to 2016"]
["Lower Quartile",{"$f":"VLOOKUP($A$2,'Table 7'!$A$5:$L$23,9,FALSE)","v":420},{"$f":"VLOOKUP($A$2,'Table 8'!$A$5:$L$23,9,FALSE)","v":425},{"$f":"VLOOKUP($A$2,'Table 9'!$A$5:$L$23,9,FALSE)","v":430},{"$f":"VLOOKUP($A$2,'Table 10'!$A$5:$L$23,9,FALSE)","v":425},{"$f":"VLOOKUP($A$2,'Table 11'!$A$5:$L$23,9,FALSE)","v":450},{"$f":"VLOOKUP($A$2,'Table 12'!$A$5:$L$23,9,FALSE)","v":440},{"$f":"VLOOKUP($A$2,'Table 13'!$A$5:$L$23,9,FALSE)","v":450},"Lower Quartile",{"$f":"C28/B28-1","v":1.1904761904761862E-2},1.1764705882352899E-2,-1.1627906976744207E-2,5.8823529411764719E-2,-2.2222222222222254E-2,{"$f":"H28/G28-1","v":2.2727272727272707E-2},{"$f":"H28/B28-1","v":7.1428571428571397E-2}]
["Median",{"$f":"VLOOKUP($A$2,'Table 7'!$A$5:$L$23,10,FALSE)","v":450},{"$f":"VLOOKUP($A$2,'Table 8'!$A$5:$L$23,10,FALSE)","v":470},{"$f":"VLOOKUP($A$2,'Table 9'!$A$5:$L$23,10,FALSE)","v":470},{"$f":"VLOOKUP($A$2,'Table 10'!$A$5:$L$23,10,FALSE)","v":475},{"$f":"VLOOKUP($A$2,'Table 11'!$A$5:$L$23,10,FALSE)","v":490},{"$f":"VLOOKUP($A$2,'Table 12'!$A$5:$L$23,10,FALSE)","v":475},{"$f":"VLOOKUP($A$2,'Table 13'!$A$5:$L$23,10,FALSE)","v":495},"Median",4.4444444444444509E-2,0,1.0638297872340496E-2,3.1578947368421151E-2,-3.0612244897959218E-2,{"$f":"H29/G29-1","v":4.2105263157894646E-2},{"$f":"H29/B29-1","v":0.10000000000000009}]
["Mean",{"$f":"VLOOKUP($A$2,'Table 7'!$A$5:$L$23,11,FALSE)","v":463.99},{"$f":"VLOOKUP($A$2,'Table 8'!$A$5:$L$23,11,FALSE)","v":476.96},{"$f":"VLOOKUP($A$2,'Table 9'!$A$5:$L$23,11,FALSE)","v":481.34},{"$f":"VLOOKUP($A$2,'Table 10'!$A$5:$L$23,11,FALSE)","v":485.39},{"$f":"VLOOKUP($A$2,'Table 11'!$A$5:$L$23,11,FALSE)","v":509.51},{"$f":"VLOOKUP($A$2,'Table 12'!$A$5:$L$23,11,FALSE)","v":497.96},{"$f":"VLOOKUP($A$2,'Table 13'!$A$5:$L$23,11,FALSE)","v":510.77},"Mean",2.7953188646306915E-2,9.1831600134182345E-3,8.4140108862758023E-3,4.9692000247223866E-2,-2.2668838688151394E-2,{"$f":"H30/G30-1","v":2.5724957827937933E-2},0.10082113838660312]
["Upper Quartile",{"$f":"VLOOKUP($A$2,'Table 7'!$A$5:$L$23,12,FALSE)","v":495},{"$f":"VLOOKUP($A$2,'Table 8'!$A$5:$L$23,12,FALSE)","v":520},{"$f":"VLOOKUP($A$2,'Table 9'!$A$5:$L$23,12,FALSE)","v":510},{"$f":"VLOOKUP($A$2,'Table 10'!$A$5:$L$23,12,FALSE)","v":525},{"$f":"VLOOKUP($A$2,'Table 11'!$A$5:$L$23,12,FALSE)","v":550},{"$f":"VLOOKUP($A$2,'Table 12'!$A$5:$L$23,12,FALSE)","v":550},{"$f":"VLOOKUP($A$2,'Table 13'!$A$5:$L$23,12,FALSE)","v":550},"Upper Quartile",5.0505050505050608E-2,-1.9230769230769273E-2,2.9411764705882248E-2,4.7619047619047672E-2,0,{"$f":"H31/G31-1","v":0},0.11111111111111116]
[]
[]
[]
[]
[]
[]
[]
[]
[]
[]
[]
[]
[]
[]
[]
[]
["3 Bedroom Properties:",null,null,null,null,null,null,null,"3 Bedroom Properties - Annual changes and 6-yr cumulative change:"]
[null,2010,2011,2012,2013,2014,2015,2016," ","2010 to 2011","2011 to 2012","2012 to 2013","2013 to 2014","2014 to 2015","2015 to 2016","2010 to 2016"]
["Lower Quartile",{"$f":"VLOOKUP($A$2,'Table 7'!$A$26:$L$44,3,FALSE)","v":480},{"$f":"VLOOKUP($A$2,'Table 8'!$A$26:$L$44,3,FALSE)","v":495},{"$f":"VLOOKUP($A$2,'Table 9'!$A$26:$L$44,3,FALSE)","v":500},{"$f":"VLOOKUP($A$2,'Table 10'!$A$26:$L$44,3,FALSE)","v":500},{"$f":"VLOOKUP($A$2,'Table 11'!$A$26:$L$44,3,FALSE)","v":525},{"$f":"VLOOKUP($A$2,'Table 12'!$A$26:$L$44,3,FALSE)","v":500},{"$f":"VLOOKUP($A$2,'Table 13'!$A$26:$L$44,3,FALSE)","v":520},"Lower Quartile",{"$f":"C50/B50-1","v":3.125E-2},1.0101010101010166E-2,0,5.0000000000000044E-2,-4.7619047619047672E-2,{"$f":"H50/G50-1","v":4.0000000000000036E-2},{"$f":"H50/B50-1","v":8.3333333333333259E-2}]
["Median",{"$f":"VLOOKUP($A$2,'Table 7'!$A$26:$L$44,4,FALSE)","v":525},{"$f":"VLOOKUP($A$2,'Table 8'!$A$26:$L$44,4,FALSE)","v":560},{"$f":"VLOOKUP($A$2,'Table 9'!$A$26:$L$44,4,FALSE)","v":575},{"$f":"VLOOKUP($A$2,'Table 10'!$A$26:$L$44,4,FALSE)","v":575},{"$f":"VLOOKUP($A$2,'Table 11'!$A$26:$L$44,4,FALSE)","v":590},{"$f":"VLOOKUP($A$2,'Table 12'!$A$26:$L$44,4,FALSE)","v":575},{"$f":"VLOOKUP($A$2,'Table 13'!$A$26:$L$44,4,FALSE)","v":575},"Median",6.6666666666666652E-2,2.6785714285714191E-2,0,2.6086956521739202E-2,-2.5423728813559365E-2,{"$f":"H51/G51-1","v":0},{"$f":"H51/B51-1","v":9.5238095238095344E-2}]
["Mean",{"$f":"VLOOKUP($A$2,'Table 7'!$A$26:$L$44,5,FALSE)","v":563.02},{"$f":"VLOOKUP($A$2,'Table 8'!$A$26:$L$44,5,FALSE)","v":588.67999999999995},{"$f":"VLOOKUP($A$2,'Table 9'!$A$26:$L$44,5,FALSE)","v":592.24},{"$f":"VLOOKUP($A$2,'Table 10'!$A$26:$L$44,5,FALSE)","v":600.47},{"$f":"VLOOKUP($A$2,'Table 11'!$A$26:$L$44,5,FALSE)","v":608.70000000000005},{"$f":"VLOOKUP($A$2,'Table 12'!$A$26:$L$44,5,FALSE)","v":602.28},{"$f":"VLOOKUP($A$2,'Table 13'!$A$26:$L$44,5,FALSE)","v":617},"Mean",4.5575645625377303E-2,6.0474281443230193E-3,1.3896393354045689E-2,1.3705930354555695E-2,-1.0547067520946363E-2,{"$f":"H52/G52-1","v":2.4440459586903218E-2},9.5875812582146391E-2]
["Upper Quartile",{"$f":"VLOOKUP($A$2,'Table 7'!$A$26:$L$44,6,FALSE)","v":627.5},{"$f":"VLOOKUP($A$2,'Table 8'!$A$26:$L$44,6,FALSE)","v":650},{"$f":"VLOOKUP($A$2,'Table 9'!$A$26:$L$44,6,FALSE)","v":650},{"$f":"VLOOKUP($A$2,'Table 10'!$A$26:$L$44,6,FALSE)","v":675},{"$f":"VLOOKUP($A$2,'Table 11'!$A$26:$L$44,6,FALSE)","v":675},{"$f":"VLOOKUP($A$2,'Table 12'!$A$26:$L$44,6,FALSE)","v":680},{"$f":"VLOOKUP($A$2,'Table 13'!$A$26:$L$44,6,FALSE)","v":695},"Upper Quartile",3.5856573705179251E-2,0,3.8461538461538547E-2,0,7.4074074074073071E-3,{"$f":"H53/G53-1","v":2.2058823529411686E-2},0.10756972111553775]
[]
[]
[]
[]
[]
[]
[]
[]
[]
[]
[]
[]
[]
[]
[]
[]
["4 Bedroom Properties:",null,null,null,null,null,null,null,"4 Bedroom Properties - Annual changes and 6-yr cumulative change:"]
[null,2010,2011,2012,2013,2014,2015,2016," ","2010 to 2011","2011 to 2012","2012 to 2013","2013 to 2014","2014 to 2015","2015 to 2016","2010 to 2016"]
["Lower Quartile",{"$f":"VLOOKUP($A$2,'Table 7'!$A$26:$L$44,9,FALSE)","v":695},{"$f":"VLOOKUP($A$2,'Table 8'!$A$26:$L$44,9,FALSE)","v":750},{"$f":"VLOOKUP($A$2,'Table 9'!$A$26:$L$44,9,FALSE)","v":750},{"$f":"VLOOKUP($A$2,'Table 10'!$A$26:$L$44,9,FALSE)","v":750},{"$f":"VLOOKUP($A$2,'Table 11'!$A$26:$L$44,9,FALSE)","v":750},{"$f":"VLOOKUP($A$2,'Table 12'!$A$26:$L$44,9,FALSE)","v":750},{"$f":"VLOOKUP($A$2,'Table 13'!$A$26:$L$44,9,FALSE)","v":775},"Lower Quartile",{"$f":"C72/B72-1","v":7.9136690647481966E-2},0,0,0,0,{"$f":"H72/G72-1","v":3.3333333333333437E-2},{"$f":"H72/B72-1","v":0.1151079136690647}]
["Median",{"$f":"VLOOKUP($A$2,'Table 7'!$A$26:$L$44,10,FALSE)","v":790},{"$f":"VLOOKUP($A$2,'Table 8'!$A$26:$L$44,10,FALSE)","v":800},{"$f":"VLOOKUP($A$2,'Table 9'!$A$26:$L$44,10,FALSE)","v":825},{"$f":"VLOOKUP($A$2,'Table 10'!$A$26:$L$44,10,FALSE)","v":850},{"$f":"VLOOKUP($A$2,'Table 11'!$A$26:$L$44,10,FALSE)","v":850},{"$f":"VLOOKUP($A$2,'Table 12'!$A$26:$L$44,10,FALSE)","v":850},{"$f":"VLOOKUP($A$2,'Table 13'!$A$26:$L$44,10,FALSE)","v":875},"Median",1.2658227848101333E-2,3.125E-2,3.0303030303030276E-2,0,0,2.9411764705882248E-2,{"$f":"H73/B73-1","v":0.10759493670886067}]
["Mean",{"$f":"VLOOKUP($A$2,'Table 7'!$A$26:$L$44,11,FALSE)","v":773.31},{"$f":"VLOOKUP($A$2,'Table 8'!$A$26:$L$44,11,FALSE)","v":823.76},{"$f":"VLOOKUP($A$2,'Table 9'!$A$26:$L$44,11,FALSE)","v":859.7},{"$f":"VLOOKUP($A$2,'Table 10'!$A$26:$L$44,11,FALSE)","v":884.28},{"$f":"VLOOKUP($A$2,'Table 11'!$A$26:$L$44,11,FALSE)","v":870.87},{"$f":"VLOOKUP($A$2,'Table 12'!$A$26:$L$44,11,FALSE)","v":884.35},{"$f":"VLOOKUP($A$2,'Table 13'!$A$26:$L$44,11,FALSE)","v":900.74},"Mean",6.5239037384748677E-2,4.3629212391958827E-2,2.8591369082237916E-2,-1.5164879902293316E-2,1.5478774099463743E-2,1.853338610278743E-2,0.16478514437935643]
["Upper Quartile",{"$f":"VLOOKUP($A$2,'Table 7'!$A$26:$L$44,12,FALSE)","v":850},{"$f":"VLOOKUP($A$2,'Table 8'!$A$26:$L$44,12,FALSE)","v":895},{"$f":"VLOOKUP($A$2,'Table 9'!$A$26:$L$44,12,FALSE)","v":895},{"$f":"VLOOKUP($A$2,'Table 10'!$A$26:$L$44,12,FALSE)","v":925},{"$f":"VLOOKUP($A$2,'Table 11'!$A$26:$L$44,12,FALSE)","v":947.5},{"$f":"VLOOKUP($A$2,'Table 12'!$A$26:$L$44,12,FALSE)","v":950},{"$f":"VLOOKUP($A$2,'Table 13'!$A$26:$L$44,12,FALSE)","v":975},"Upper Quartile",5.2941176470588269E-2,0,3.3519553072625774E-2,2.4324324324324298E-2,2.6385224274405594E-3,2.6315789473684292E-2,0.14705882352941169]
[]
[]
[]
[]
[]
[]
[]
[]
[]
[]
[]
[]
[]
[]
[]
[]
["1 Bedroom Shared Properties:",null,null,null,null,null,null,null,"1 Bedroom Shared Properties - Annual changes and 6-yr cumulative change:"]
[null,2010,2011,2012,2013,2014,2015,2016," ","2010 to 2011","2011 to 2012","2012 to 2013","2013 to 2014","2014 to 2015","2015 to 2016","2010 to 2016"]
["Lower Quartile",{"$f":"VLOOKUP($A$2,'Table 7'!$A$47:$F$65,3,FALSE)","v":238.33},{"$f":"VLOOKUP($A$2,'Table 8'!$A$47:$F$65,3,FALSE)","v":224},{"$f":"VLOOKUP($A$2,'Table 9'!$A$47:$F$65,3,FALSE)","v":251.33},{"$f":"VLOOKUP($A$2,'Table 10'!$A$47:$F$65,3,FALSE)","v":274},{"$f":"VLOOKUP($A$2,'Table 11'!$A$47:$F$65,3,FALSE)","v":275},{"$f":"VLOOKUP($A$2,'Table 12'!$A$47:$F$65,3,FALSE)","v":275},{"$f":"VLOOKUP($A$2,'Table 13'!$A$47:$F$65,3,FALSE)","v":290},"Lower Quartile",{"$f":"C94/B94-1","v":-6.0126715058951952E-2},0.12200892857142853,9.0200135280308791E-2,3.6496350364962904E-3,0,{"$f":"H94/G94-1","v":5.4545454545454453E-2},{"$f":"H94/B94-1","v":0.21680023496832113}]
["Median",{"$f":"VLOOKUP($A$2,'Table 7'!$A$47:$F$65,4,FALSE)","v":255.67},{"$f":"VLOOKUP($A$2,'Table 8'!$A$47:$F$65,4,FALSE)","v":250},{"$f":"VLOOKUP($A$2,'Table 9'!$A$47:$F$65,4,FALSE)","v":285},{"$f":"VLOOKUP($A$2,'Table 10'!$A$47:$F$65,4,FALSE)","v":303.33},{"$f":"VLOOKUP($A$2,'Table 11'!$A$47:$F$65,4,FALSE)","v":304.17},{"$f":"VLOOKUP($A$2,'Table 12'!$A$47:$F$65,4,FALSE)","v":316.07},{"$f":"VLOOKUP($A$2,'Table 13'!$A$47:$F$65,4,FALSE)","v":351.92},"Median",-2.2177025071381085E-2,0.1399999999999999,6.4315789473684104E-2,2.769261200672668E-3,3.912285892757339E-2,0.11342424146549823,{"$f":"H95/B95-1","v":0.37646184534751836}]
["Mean",{"$f":"VLOOKUP($A$2,'Table 7'!$A$47:$F$65,5,FALSE)","v":270.66000000000003},{"$f":"VLOOKUP($A$2,'Table 8'!$A$47:$F$65,5,FALSE)","v":253.94},{"$f":"VLOOKUP($A$2,'Table 9'!$A$47:$F$65,5,FALSE)","v":292.26},{"$f":"VLOOKUP($A$2,'Table 10'!$A$47:$F$65,5,FALSE)","v":312.87},{"$f":"VLOOKUP($A$2,'Table 11'!$A$47:$F$65,5,FALSE)","v":312.33},{"$f":"VLOOKUP($A$2,'Table 12'!$A$47:$F$65,5,FALSE)","v":320.61},{"$f":"VLOOKUP($A$2,'Table 13'!$A$47:$F$65,5,FALSE)","v":367.97},"Mean",-6.1774920564546032E-2,0.15090178782389541,7.0519400533771259E-2,-1.7259564675424777E-3,2.6510421669388329E-2,0.14771841177754919,0.35952855981674414]
["Upper Quartile",{"$f":"VLOOKUP($A$2,'Table 7'!$A$47:$F$65,6,FALSE)","v":281.67},{"$f":"VLOOKUP($A$2,'Table 8'!$A$47:$F$65,6,FALSE)","v":275},{"$f":"VLOOKUP($A$2,'Table 9'!$A$47:$F$65,6,FALSE)","v":325},{"$f":"VLOOKUP($A$2,'Table 10'!$A$47:$F$65,6,FALSE)","v":336.5},{"$f":"VLOOKUP($A$2,'Table 11'!$A$47:$F$65,6,FALSE)","v":350},{"$f":"VLOOKUP($A$2,'Table 12'!$A$47:$F$65,6,FALSE)","v":355},{"$f":"VLOOKUP($A$2,'Table 13'!$A$47:$F$65,6,FALSE)","v":409.66},"Upper Quartile",-2.3680193133809091E-2,0.18181818181818188,3.5384615384615348E-2,4.0118870728083289E-2,1.4285714285714235E-2,0.15397183098591549,0.45439698938474105]
[]
[]
[]
[]
[]
[]
[]
[]
[]
[]
[]
[]
[]
[]
[]
[]
[]
[]
["Mean Rents by Property Size:",null,null,null,null,null,null,null,"Median Rents by Property Size:"]
[null,2010,2011,2012,2013,2014,2015,2016,null,2010,2011,2012,2013,2014,2015,2016]
["1 Bedroom Shared",{"$f":"B96","v":270.66000000000003},253.94,292.26,312.87,312.33,320.61,367.97,"1 Bedroom Shared",{"$f":"B95","v":255.67},250,285,303.33,304.17,{"$f":"G95","v":316.07},{"$f":"H95","v":351.92}]
["1 Bedroom ",{"$f":"B8","v":378.99},383.44,387.33,381.48,405.31,395.12,402.75,"1 Bedroom ",{"$f":"B7","v":370},375,375,375,395,{"$f":"G7","v":395},{"$f":"H7","v":395}]
["2 Bedrooms",{"$f":"B30","v":463.99},476.96,481.34,485.39,509.51,497.96,510.77,"2 Bedrooms",{"$f":"B29","v":450},470,470,475,490,{"$f":"G29","v":475},{"$f":"H29","v":495}]
["3 Bedrooms",{"$f":"B52","v":563.02},588.67999999999995,592.24,600.47,608.70000000000005,602.28,617,"3 Bedrooms",{"$f":"B51","v":525},560,575,575,590,{"$f":"G51","v":575},{"$f":"H51","v":575}]
["4 Bedrooms",{"$f":"B74","v":773.31},823.76,859.7,884.28,870.87,884.35,900.74,"4 Bedrooms",{"$f":"B73","v":790},800,825,850,850,{"$f":"G73","v":850},{"$f":"H73","v":875}]
[]
[]
[]
[]
[]
[]
[]
[]
[]
[]
[]
[]
[]
[]
[]
[]
[]
["Sample Sizes:",null,null,null,null,null,null,null,"Sample Proportions:"]
[null,2010,2011,2012,2013,2014,2015,2016,null,2010,2011,2012,2013,2014,2015,2016]
["1 Bedroom ",{"$f":"VLOOKUP($A$2,'Table 7'!$A$5:$L$23,2,FALSE)","v":202},{"$f":"VLOOKUP($A$2,'Table 8'!$A$5:$L$23,2,FALSE)","v":186},{"$f":"VLOOKUP($A$2,'Table 9'!$A$5:$L$23,2,FALSE)","v":227},{"$f":"VLOOKUP($A$2,'Table 10'!$A$5:$L$23,2,FALSE)","v":253},{"$f":"VLOOKUP($A$2,'Table 11'!$A$5:$L$23,2,FALSE)","v":180},{"$f":"VLOOKUP($A$2,'Table 12'!$A$5:$L$23,2,FALSE)","v":279},{"$f":"VLOOKUP($A$2,'Table 13'!$A$5:$L$23,2,FALSE)","v":322},"1 Bedroom ",{"$f":"B142/SUM(B$142:B$146)","v":0.16356275303643725},{"$f":"C142/SUM(C$142:C$146)","v":0.16034482758620688},0.13849908480780965,0.15222623345367028,0.11726384364820847,{"$f":"G142/SUM(G$142:G$146)","v":0.14516129032258066},0.18410520297312749]
["2 Bedrooms",{"$f":"VLOOKUP($A$2,'Table 7'!$A$5:$L$23,8,FALSE)","v":606},{"$f":"VLOOKUP($A$2,'Table 8'!$A$5:$L$23,8,FALSE)","v":503},{"$f":"VLOOKUP($A$2,'Table 9'!$A$5:$L$23,8,FALSE)","v":711},{"$f":"VLOOKUP($A$2,'Table 10'!$A$5:$L$23,8,FALSE)","v":738},{"$f":"VLOOKUP($A$2,'Table 11'!$A$5:$L$23,8,FALSE)","v":626},{"$f":"VLOOKUP($A$2,'Table 12'!$A$5:$L$23,8,FALSE)","v":812},{"$f":"VLOOKUP($A$2,'Table 13'!$A$5:$L$23,8,FALSE)","v":680},"2 Bedrooms",{"$f":"B143/SUM(B$142:B$146)","v":0.49068825910931174},0.43362068965517242,0.43380109823062846,0.44404332129963897,0.40781758957654723,0.42247658688865763,0.38879359634076616]
["3 Bedrooms",{"$f":"VLOOKUP($A$2,'Table 7'!$A$26:$L$44,2,FALSE)","v":272},{"$f":"VLOOKUP($A$2,'Table 8'!$A$26:$L$44,2,FALSE)","v":282},{"$f":"VLOOKUP($A$2,'Table 9'!$A$26:$L$44,2,FALSE)","v":407},{"$f":"VLOOKUP($A$2,'Table 10'!$A$26:$L$44,2,FALSE)","v":381},{"$f":"VLOOKUP($A$2,'Table 11'!$A$26:$L$44,2,FALSE)","v":415},{"$f":"VLOOKUP($A$2,'Table 12'!$A$26:$L$44,2,FALSE)","v":455},{"$f":"VLOOKUP($A$2,'Table 13'!$A$26:$L$44,2,FALSE)","v":434},"3 Bedrooms",{"$f":"B144/SUM(B$142:B$146)","v":0.22024291497975709},0.24310344827586206,0.24832214765100671,0.2292418772563177,0.27035830618892509,0.23673257023933403,0.24814179531160663]
["4 Bedrooms",{"$f":"VLOOKUP($A$2,'Table 7'!$A$26:$L$44,8,FALSE)","v":106},{"$f":"VLOOKUP($A$2,'Table 8'!$A$26:$L$44,8,FALSE)","v":120},{"$f":"VLOOKUP($A$2,'Table 9'!$A$26:$L$44,8,FALSE)","v":185},{"$f":"VLOOKUP($A$2,'Table 10'!$A$26:$L$44,8,FALSE)","v":138},{"$f":"VLOOKUP($A$2,'Table 11'!$A$26:$L$44,8,FALSE)","v":168},{"$f":"VLOOKUP($A$2,'Table 12'!$A$26:$L$44,8,FALSE)","v":167},{"$f":"VLOOKUP($A$2,'Table 13'!$A$26:$L$44,8,FALSE)","v":151},"4 Bedrooms",{"$f":"B145/SUM(B$142:B$146)","v":8.5829959514170037E-2},0.10344827586206896,0.11287370347773032,8.3032490974729242E-2,0.10944625407166124,8.6888657648283033E-2,8.6335048599199549E-2]
["1 Bedroom Shared",{"$f":"VLOOKUP($A$2,'Table 7'!$A$47:$L$65,2,FALSE)","v":49},{"$f":"VLOOKUP($A$2,'Table 8'!$A$47:$L$65,2,FALSE)","v":69},{"$f":"VLOOKUP($A$2,'Table 9'!$A$47:$L$65,2,FALSE)","v":109},{"$f":"VLOOKUP($A$2,'Table 10'!$A$47:$L$65,2,FALSE)","v":152},{"$f":"VLOOKUP($A$2,'Table 11'!$A$47:$L$65,2,FALSE)","v":146},{"$f":"VLOOKUP($A$2,'Table 12'!$A$47:$L$65,2,FALSE)","v":209},{"$f":"VLOOKUP($A$2,'Table 13'!$A$47:$L$65,2,FALSE)","v":162},"1 Bedroom Shared",{"$f":"B146/SUM(B$142:B$146)","v":3.9676113360323888E-2},5.9482758620689656E-2,6.6503965832824891E-2,9.1456077015643802E-2,9.5114006514657984E-2,0.10874089490114464,9.2624356775300176E-2]

{"sheet":"BRMA Profile - Forth Valley","index":21,"n_rows":146,"n_cols":16,"rows_kept":146,"cut":false,"hidden":true,"merged":[[1,0,1,2]]}
["BRMA Rent Profile for:"]
["Forth Valley",null,null,null,null,null,null,null,{"$f":"ROUND(MIN(J6:P9,J28:P31,J50:P53,J72:P75,J94:P97)-0.01,2)","v":-0.09},{"$f":"ROUND(MAX(J6:P9,J28:P31,J50:P53,J72:P75,J94:P97)+0.01,2)","v":0.34}]
[]
["1 Bedroom Properties - Quartile Measures:",null,null,null,null,null,null,null,"1 Bedroom Properties - Annual changes and 6-yr cumulative change:"]
[" ",2010,2011,2012,2013,2014,2015,2016," ","2010 to 2011","2011 to 2012","2012 to 2013","2013 to 2014","2014 to 2015","2015 to 2016","2010 to 2016"]
["Lower Quartile",{"$f":"VLOOKUP($A$2,'Table 7'!$A$5:$L$23,3,FALSE)","v":350},{"$f":"VLOOKUP($A$2,'Table 8'!$A$5:$L$23,3,FALSE)","v":350},{"$f":"VLOOKUP($A$2,'Table 9'!$A$5:$L$23,3,FALSE)","v":350},{"$f":"VLOOKUP($A$2,'Table 10'!$A$5:$L$23,3,FALSE)","v":350},{"$f":"VLOOKUP($A$2,'Table 11'!$A$5:$L$23,3,FALSE)","v":350},{"$f":"VLOOKUP($A$2,'Table 12'!$A$5:$L$23,3,FALSE)","v":357.5},{"$f":"VLOOKUP($A$2,'Table 13'!$A$5:$L$23,3,FALSE)","v":355},"Lower Quartile",{"$f":"C6/B6-1","v":0},0,0,0,2.1428571428571352E-2,{"$f":"H6/G6-1","v":-6.9930069930069783E-3},{"$f":"H6/B6-1","v":1.4285714285714235E-2}]
["Median",{"$f":"VLOOKUP($A$2,'Table 7'!$A$5:$L$23,4,FALSE)","v":375},{"$f":"VLOOKUP($A$2,'Table 8'!$A$5:$L$23,4,FALSE)","v":385},{"$f":"VLOOKUP($A$2,'Table 9'!$A$5:$L$23,4,FALSE)","v":395},{"$f":"VLOOKUP($A$2,'Table 10'!$A$5:$L$23,4,FALSE)","v":390},{"$f":"VLOOKUP($A$2,'Table 11'!$A$5:$L$23,4,FALSE)","v":392.5},{"$f":"VLOOKUP($A$2,'Table 12'!$A$5:$L$23,4,FALSE)","v":380},{"$f":"VLOOKUP($A$2,'Table 13'!$A$5:$L$23,4,FALSE)","v":395},"Median",2.6666666666666616E-2,2.5974025974025983E-2,-1.2658227848101222E-2,6.4102564102563875E-3,-3.1847133757961776E-2,3.9473684210526327E-2,{"$f":"H7/B7-1","v":5.3333333333333233E-2}]
["Mean",{"$f":"VLOOKUP($A$2,'Table 7'!$A$5:$L$23,5,FALSE)","v":386.8},{"$f":"VLOOKUP($A$2,'Table 8'!$A$5:$L$23,5,FALSE)","v":384.61},{"$f":"VLOOKUP($A$2,'Table 9'!$A$5:$L$23,5,FALSE)","v":392.76},{"$f":"VLOOKUP($A$2,'Table 10'!$A$5:$L$23,5,FALSE)","v":388.84},{"$f":"VLOOKUP($A$2,'Table 11'!$A$5:$L$23,5,FALSE)","v":387.39},{"$f":"VLOOKUP($A$2,'Table 12'!$A$5:$L$23,5,FALSE)","v":396.32},{"$f":"VLOOKUP($A$2,'Table 13'!$A$5:$L$23,5,FALSE)","v":407.52},"Mean",-5.6618407445708785E-3,2.1190296664153285E-2,-9.9806497606681477E-3,-3.7290402221993313E-3,2.3051705000129097E-2,2.8259991925716488E-2,5.3567735263702065E-2]
["Upper Quartile",{"$f":"VLOOKUP($A$2,'Table 7'!$A$5:$L$23,6,FALSE)","v":417.5},{"$f":"VLOOKUP($A$2,'Table 8'!$A$5:$L$23,6,FALSE)","v":400},{"$f":"VLOOKUP($A$2,'Table 9'!$A$5:$L$23,6,FALSE)","v":425},{"$f":"VLOOKUP($A$2,'Table 10'!$A$5:$L$23,6,FALSE)","v":425},{"$f":"VLOOKUP($A$2,'Table 11'!$A$5:$L$23,6,FALSE)","v":425},{"$f":"VLOOKUP($A$2,'Table 12'!$A$5:$L$23,6,FALSE)","v":425},{"$f":"VLOOKUP($A$2,'Table 13'!$A$5:$L$23,6,FALSE)","v":450},"Upper Quartile",-4.1916167664670656E-2,6.25E-2,0,0,0,5.8823529411764719E-2,7.7844311377245567E-2]
[]
[]
[]
[]
[]
[]
[]
[]
[]
[]
[]
[]
[]
[]
[]
[]
["2 Bedroom Properties:",null,null,null,null,null,null,null,"2 Bedroom Properties - Annual changes and 6-yr cumulative change:"]
[null,2010,2011,2012,2013,2014,2015,2016," ","2010 to 2011","2011 to 2012","2012 to 2013","2013 to 2014","2014 to 2015","2015 to 2016","2010 to 2016"]
["Lower Quartile",{"$f":"VLOOKUP($A$2,'Table 7'!$A$5:$L$23,9,FALSE)","v":435},{"$f":"VLOOKUP($A$2,'Table 8'!$A$5:$L$23,9,FALSE)","v":450},{"$f":"VLOOKUP($A$2,'Table 9'!$A$5:$L$23,9,FALSE)","v":450},{"$f":"VLOOKUP($A$2,'Table 10'!$A$5:$L$23,9,FALSE)","v":450},{"$f":"VLOOKUP($A$2,'Table 11'!$A$5:$L$23,9,FALSE)","v":435},{"$f":"VLOOKUP($A$2,'Table 12'!$A$5:$L$23,9,FALSE)","v":450},{"$f":"VLOOKUP($A$2,'Table 13'!$A$5:$L$23,9,FALSE)","v":450},"Lower Quartile",{"$f":"C28/B28-1","v":3.4482758620689724E-2},0,0,-3.3333333333333326E-2,3.4482758620689724E-2,{"$f":"H28/G28-1","v":0},{"$f":"H28/B28-1","v":3.4482758620689724E-2}]
["Median",{"$f":"VLOOKUP($A$2,'Table 7'!$A$5:$L$23,10,FALSE)","v":482.5},{"$f":"VLOOKUP($A$2,'Table 8'!$A$5:$L$23,10,FALSE)","v":495},{"$f":"VLOOKUP($A$2,'Table 9'!$A$5:$L$23,10,FALSE)","v":500},{"$f":"VLOOKUP($A$2,'Table 10'!$A$5:$L$23,10,FALSE)","v":495},{"$f":"VLOOKUP($A$2,'Table 11'!$A$5:$L$23,10,FALSE)","v":495},{"$f":"VLOOKUP($A$2,'Table 12'!$A$5:$L$23,10,FALSE)","v":495},{"$f":"VLOOKUP($A$2,'Table 13'!$A$5:$L$23,10,FALSE)","v":510},"Median",2.5906735751295429E-2,1.0101010101010166E-2,-1.0000000000000009E-2,0,0,{"$f":"H29/G29-1","v":3.0303030303030276E-2},{"$f":"H29/B29-1","v":5.6994818652849721E-2}]
["Mean",{"$f":"VLOOKUP($A$2,'Table 7'!$A$5:$L$23,11,FALSE)","v":492.41},{"$f":"VLOOKUP($A$2,'Table 8'!$A$5:$L$23,11,FALSE)","v":506.53},{"$f":"VLOOKUP($A$2,'Table 9'!$A$5:$L$23,11,FALSE)","v":510.32},{"$f":"VLOOKUP($A$2,'Table 10'!$A$5:$L$23,11,FALSE)","v":505.6},{"$f":"VLOOKUP($A$2,'Table 11'!$A$5:$L$23,11,FALSE)","v":506.37},{"$f":"VLOOKUP($A$2,'Table 12'!$A$5:$L$23,11,FALSE)","v":508.44},{"$f":"VLOOKUP($A$2,'Table 13'!$A$5:$L$23,11,FALSE)","v":529.72},"Mean",2.8675290916106322E-2,7.482281404852742E-3,-9.2490986047969459E-3,1.5229430379746223E-3,4.0879199004679734E-3,{"$f":"H30/G30-1","v":4.1853512705530616E-2},7.5770191507077422E-2]
["Upper Quartile",{"$f":"VLOOKUP($A$2,'Table 7'!$A$5:$L$23,12,FALSE)","v":550},{"$f":"VLOOKUP($A$2,'Table 8'!$A$5:$L$23,12,FALSE)","v":550},{"$f":"VLOOKUP($A$2,'Table 9'!$A$5:$L$23,12,FALSE)","v":550},{"$f":"VLOOKUP($A$2,'Table 10'!$A$5:$L$23,12,FALSE)","v":550},{"$f":"VLOOKUP($A$2,'Table 11'!$A$5:$L$23,12,FALSE)","v":550},{"$f":"VLOOKUP($A$2,'Table 12'!$A$5:$L$23,12,FALSE)","v":550},{"$f":"VLOOKUP($A$2,'Table 13'!$A$5:$L$23,12,FALSE)","v":595},"Upper Quartile",0,0,0,0,0,{"$f":"H31/G31-1","v":8.181818181818179E-2},8.181818181818179E-2]
[]
[]
[]
[]
[]
[]
[]
[]
[]
[]
[]
[]
[]
[]
[]
[]
["3 Bedroom Properties:",null,null,null,null,null,null,null,"3 Bedroom Properties - Annual changes and 6-yr cumulative change:"]
[null,2010,2011,2012,2013,2014,2015,2016," ","2010 to 2011","2011 to 2012","2012 to 2013","2013 to 2014","2014 to 2015","2015 to 2016","2010 to 2016"]
["Lower Quartile",{"$f":"VLOOKUP($A$2,'Table 7'!$A$26:$L$44,3,FALSE)","v":525},{"$f":"VLOOKUP($A$2,'Table 8'!$A$26:$L$44,3,FALSE)","v":545},{"$f":"VLOOKUP($A$2,'Table 9'!$A$26:$L$44,3,FALSE)","v":545},{"$f":"VLOOKUP($A$2,'Table 10'!$A$26:$L$44,3,FALSE)","v":550},{"$f":"VLOOKUP($A$2,'Table 11'!$A$26:$L$44,3,FALSE)","v":525},{"$f":"VLOOKUP($A$2,'Table 12'!$A$26:$L$44,3,FALSE)","v":525},{"$f":"VLOOKUP($A$2,'Table 13'!$A$26:$L$44,3,FALSE)","v":545},"Lower Quartile",{"$f":"C50/B50-1","v":3.8095238095238182E-2},0,9.1743119266054496E-3,-4.5454545454545414E-2,0,{"$f":"H50/G50-1","v":3.8095238095238182E-2},{"$f":"H50/B50-1","v":3.8095238095238182E-2}]
["Median",{"$f":"VLOOKUP($A$2,'Table 7'!$A$26:$L$44,4,FALSE)","v":600},{"$f":"VLOOKUP($A$2,'Table 8'!$A$26:$L$44,4,FALSE)","v":600},{"$f":"VLOOKUP($A$2,'Table 9'!$A$26:$L$44,4,FALSE)","v":625},{"$f":"VLOOKUP($A$2,'Table 10'!$A$26:$L$44,4,FALSE)","v":600},{"$f":"VLOOKUP($A$2,'Table 11'!$A$26:$L$44,4,FALSE)","v":595},{"$f":"VLOOKUP($A$2,'Table 12'!$A$26:$L$44,4,FALSE)","v":600},{"$f":"VLOOKUP($A$2,'Table 13'!$A$26:$L$44,4,FALSE)","v":650},"Median",0,4.1666666666666741E-2,-4.0000000000000036E-2,-8.3333333333333037E-3,8.4033613445377853E-3,{"$f":"H51/G51-1","v":8.3333333333333259E-2},{"$f":"H51/B51-1","v":8.3333333333333259E-2}]
["Mean",{"$f":"VLOOKUP($A$2,'Table 7'!$A$26:$L$44,5,FALSE)","v":642.74},{"$f":"VLOOKUP($A$2,'Table 8'!$A$26:$L$44,5,FALSE)","v":626.70000000000005},{"$f":"VLOOKUP($A$2,'Table 9'!$A$26:$L$44,5,FALSE)","v":647.5},{"$f":"VLOOKUP($A$2,'Table 10'!$A$26:$L$44,5,FALSE)","v":637.34},{"$f":"VLOOKUP($A$2,'Table 11'!$A$26:$L$44,5,FALSE)","v":637.21},{"$f":"VLOOKUP($A$2,'Table 12'!$A$26:$L$44,5,FALSE)","v":633.64},{"$f":"VLOOKUP($A$2,'Table 13'!$A$26:$L$44,5,FALSE)","v":677.94},"Mean",-2.49556585866757E-2,3.3189723950853622E-2,-1.5691119691119693E-2,-2.039727617911824E-4,-5.6025486103483679E-3,{"$f":"H52/G52-1","v":6.9913515560886319E-2},5.476553505305426E-2]
["Upper Quartile",{"$f":"VLOOKUP($A$2,'Table 7'!$A$26:$L$44,6,FALSE)","v":700},{"$f":"VLOOKUP($A$2,'Table 8'!$A$26:$L$44,6,FALSE)","v":695},{"$f":"VLOOKUP($A$2,'Table 9'!$A$26:$L$44,6,FALSE)","v":725},{"$f":"VLOOKUP($A$2,'Table 10'!$A$26:$L$44,6,FALSE)","v":695},{"$f":"VLOOKUP($A$2,'Table 11'!$A$26:$L$44,6,FALSE)","v":750},{"$f":"VLOOKUP($A$2,'Table 12'!$A$26:$L$44,6,FALSE)","v":695},{"$f":"VLOOKUP($A$2,'Table 13'!$A$26:$L$44,6,FALSE)","v":750},"Upper Quartile",-7.1428571428571175E-3,4.3165467625899234E-2,-4.1379310344827558E-2,7.9136690647481966E-2,-7.3333333333333361E-2,{"$f":"H53/G53-1","v":7.9136690647481966E-2},7.1428571428571397E-2]
[]
[]
[]
[]
[]
[]
[]
[]
[]
[]
[]
[]
[]
[]
[]
[]
["4 Bedroom Properties:",null,null,null,null,null,null,null,"4 Bedroom Properties - Annual changes and 6-yr cumulative change:"]
[null,2010,2011,2012,2013,2014,2015,2016," ","2010 to 2011","2011 to 2012","2012 to 2013","2013 to 2014","2014 to 2015","2015 to 2016","2010 to 2016"]
["Lower Quartile",{"$f":"VLOOKUP($A$2,'Table 7'!$A$26:$L$44,9,FALSE)","v":750},{"$f":"VLOOKUP($A$2,'Table 8'!$A$26:$L$44,9,FALSE)","v":732.5},{"$f":"VLOOKUP($A$2,'Table 9'!$A$26:$L$44,9,FALSE)","v":750},{"$f":"VLOOKUP($A$2,'Table 10'!$A$26:$L$44,9,FALSE)","v":775},{"$f":"VLOOKUP($A$2,'Table 11'!$A$26:$L$44,9,FALSE)","v":775},{"$f":"VLOOKUP($A$2,'Table 12'!$A$26:$L$44,9,FALSE)","v":795},{"$f":"VLOOKUP($A$2,'Table 13'!$A$26:$L$44,9,FALSE)","v":800},"Lower Quartile",{"$f":"C72/B72-1","v":-2.3333333333333317E-2},2.3890784982935065E-2,3.3333333333333437E-2,0,2.5806451612903292E-2,{"$f":"H72/G72-1","v":6.2893081761006275E-3},{"$f":"H72/B72-1","v":6.6666666666666652E-2}]
["Median",{"$f":"VLOOKUP($A$2,'Table 7'!$A$26:$L$44,10,FALSE)","v":800},{"$f":"VLOOKUP($A$2,'Table 8'!$A$26:$L$44,10,FALSE)","v":800},{"$f":"VLOOKUP($A$2,'Table 9'!$A$26:$L$44,10,FALSE)","v":850},{"$f":"VLOOKUP($A$2,'Table 10'!$A$26:$L$44,10,FALSE)","v":850},{"$f":"VLOOKUP($A$2,'Table 11'!$A$26:$L$44,10,FALSE)","v":850},{"$f":"VLOOKUP($A$2,'Table 12'!$A$26:$L$44,10,FALSE)","v":850},{"$f":"VLOOKUP($A$2,'Table 13'!$A$26:$L$44,10,FALSE)","v":950},"Median",0,6.25E-2,0,0,0,0.11764705882352944,{"$f":"H73/B73-1","v":0.1875}]
["Mean",{"$f":"VLOOKUP($A$2,'Table 7'!$A$26:$L$44,11,FALSE)","v":857.08},{"$f":"VLOOKUP($A$2,'Table 8'!$A$26:$L$44,11,FALSE)","v":858.02},{"$f":"VLOOKUP($A$2,'Table 9'!$A$26:$L$44,11,FALSE)","v":883.77},{"$f":"VLOOKUP($A$2,'Table 10'!$A$26:$L$44,11,FALSE)","v":891.69},{"$f":"VLOOKUP($A$2,'Table 11'!$A$26:$L$44,11,FALSE)","v":878.77},{"$f":"VLOOKUP($A$2,'Table 12'!$A$26:$L$44,11,FALSE)","v":905.72},{"$f":"VLOOKUP($A$2,'Table 13'!$A$26:$L$44,11,FALSE)","v":1051.92},"Mean",1.0967470947869096E-3,3.0010955455583854E-2,8.9616076581011672E-3,-1.4489340465857037E-2,3.0667865311742704E-2,0.16141853994612032,0.22733000420030813]
["Upper Quartile",{"$f":"VLOOKUP($A$2,'Table 7'!$A$26:$L$44,12,FALSE)","v":900},{"$f":"VLOOKUP($A$2,'Table 8'!$A$26:$L$44,12,FALSE)","v":900},{"$f":"VLOOKUP($A$2,'Table 9'!$A$26:$L$44,12,FALSE)","v":950},{"$f":"VLOOKUP($A$2,'Table 10'!$A$26:$L$44,12,FALSE)","v":975},{"$f":"VLOOKUP($A$2,'Table 11'!$A$26:$L$44,12,FALSE)","v":900},{"$f":"VLOOKUP($A$2,'Table 12'!$A$26:$L$44,12,FALSE)","v":1000},{"$f":"VLOOKUP($A$2,'Table 13'!$A$26:$L$44,12,FALSE)","v":1200},"Upper Quartile",0,5.555555555555558E-2,2.6315789473684292E-2,-7.6923076923076872E-2,0.11111111111111116,0.19999999999999996,0.33333333333333326]
[]
[]
[]
[]
[]
[]
[]
[]
[]
[]
[]
[]
[]
[]
[]
[]
["1 Bedroom Shared Properties:",null,null,null,null,null,null,null,"1 Bedroom Shared Properties - Annual changes and 6-yr cumulative change:"]
[null,2010,2011,2012,2013,2014,2015,2016," ","2010 to 2011","2011 to 2012","2012 to 2013","2013 to 2014","2014 to 2015","2015 to 2016","2010 to 2016"]
["Lower Quartile",{"$f":"VLOOKUP($A$2,'Table 7'!$A$47:$F$65,3,FALSE)","v":255},{"$f":"VLOOKUP($A$2,'Table 8'!$A$47:$F$65,3,FALSE)","v":250},{"$f":"VLOOKUP($A$2,'Table 9'!$A$47:$F$65,3,FALSE)","v":250},{"$f":"VLOOKUP($A$2,'Table 10'!$A$47:$F$65,3,FALSE)","v":260},{"$f":"VLOOKUP($A$2,'Table 11'!$A$47:$F$65,3,FALSE)","v":270.17},{"$f":"VLOOKUP($A$2,'Table 12'!$A$47:$F$65,3,FALSE)","v":272.62},{"$f":"VLOOKUP($A$2,'Table 13'!$A$47:$F$65,3,FALSE)","v":294.35000000000002},"Lower Quartile",{"$f":"C94/B94-1","v":-1.9607843137254943E-2},0,4.0000000000000036E-2,3.9115384615384663E-2,9.0683643631785937E-3,{"$f":"H94/G94-1","v":7.9708018487271826E-2},{"$f":"H94/B94-1","v":0.15431372549019606}]
["Median",{"$f":"VLOOKUP($A$2,'Table 7'!$A$47:$F$65,4,FALSE)","v":285},{"$f":"VLOOKUP($A$2,'Table 8'!$A$47:$F$65,4,FALSE)","v":275},{"$f":"VLOOKUP($A$2,'Table 9'!$A$47:$F$65,4,FALSE)","v":275},{"$f":"VLOOKUP($A$2,'Table 10'!$A$47:$F$65,4,FALSE)","v":275},{"$f":"VLOOKUP($A$2,'Table 11'!$A$47:$F$65,4,FALSE)","v":305},{"$f":"VLOOKUP($A$2,'Table 12'!$A$47:$F$65,4,FALSE)","v":300},{"$f":"VLOOKUP($A$2,'Table 13'!$A$47:$F$65,4,FALSE)","v":333},"Median",-3.5087719298245612E-2,0,0,0.10909090909090913,-1.6393442622950838E-2,0.1100000000000001,{"$f":"H95/B95-1","v":0.16842105263157903}]
["Mean",{"$f":"VLOOKUP($A$2,'Table 7'!$A$47:$F$65,5,FALSE)","v":275.63},{"$f":"VLOOKUP($A$2,'Table 8'!$A$47:$F$65,5,FALSE)","v":278.14},{"$f":"VLOOKUP($A$2,'Table 9'!$A$47:$F$65,5,FALSE)","v":273.16000000000003},{"$f":"VLOOKUP($A$2,'Table 10'!$A$47:$F$65,5,FALSE)","v":284.89},{"$f":"VLOOKUP($A$2,'Table 11'!$A$47:$F$65,5,FALSE)","v":308.49},{"$f":"VLOOKUP($A$2,'Table 12'!$A$47:$F$65,5,FALSE)","v":307.52},{"$f":"VLOOKUP($A$2,'Table 13'!$A$47:$F$65,5,FALSE)","v":350.9},"Mean",9.1064107680585149E-3,-1.7904652333357141E-2,4.2941865573290272E-2,8.2838990487556607E-2,-3.1443482770917575E-3,0.14106399583766915,0.27308348147879391]
["Upper Quartile",{"$f":"VLOOKUP($A$2,'Table 7'!$A$47:$F$65,6,FALSE)","v":300},{"$f":"VLOOKUP($A$2,'Table 8'!$A$47:$F$65,6,FALSE)","v":297.5},{"$f":"VLOOKUP($A$2,'Table 9'!$A$47:$F$65,6,FALSE)","v":300},{"$f":"VLOOKUP($A$2,'Table 10'!$A$47:$F$65,6,FALSE)","v":315.47000000000003},{"$f":"VLOOKUP($A$2,'Table 11'!$A$47:$F$65,6,FALSE)","v":354.17},{"$f":"VLOOKUP($A$2,'Table 12'!$A$47:$F$65,6,FALSE)","v":350},{"$f":"VLOOKUP($A$2,'Table 13'!$A$47:$F$65,6,FALSE)","v":375},"Upper Quartile",-8.3333333333333037E-3,8.4033613445377853E-3,5.1566666666666761E-2,0.12267410530319833,-1.1774006832876882E-2,7.1428571428571397E-2,0.25]
[]
[]
[]
[]
[]
[]
[]
[]
[]
[]
[]
[]
[]
[]
[]
[]
[]
[]
["Mean Rents by Property Size:",null,null,null,null,null,null,null,"Median Rents by Property Size:"]
[null,2010,2011,2012,2013,2014,2015,2016,null,2010,2011,2012,2013,2014,2015,2016]
["1 Bedroom Shared",{"$f":"B96","v":275.63},278.14,273.16000000000003,284.89,308.49,307.52,350.9,"1 Bedroom Shared",{"$f":"B95","v":285},275,275,275,305,{"$f":"G95","v":300},{"$f":"H95","v":333}]
["1 Bedroom ",{"$f":"B8","v":386.8},384.61,392.76,388.84,387.39,396.32,407.52,"1 Bedroom ",{"$f":"B7","v":375},385,395,390,392.5,{"$f":"G7","v":380},{"$f":"H7","v":395}]
["2 Bedrooms",{"$f":"B30","v":492.41},506.53,510.32,505.6,506.37,508.44,529.72,"2 Bedrooms",{"$f":"B29","v":482.5},495,500,495,495,{"$f":"G29","v":495},{"$f":"H29","v":510}]
["3 Bedrooms",{"$f":"B52","v":642.74},626.70000000000005,647.5,637.34,637.21,633.64,677.94,"3 Bedrooms",{"$f":"B51","v":600},600,625,600,595,{"$f":"G51","v":600},{"$f":"H51","v":650}]
["4 Bedrooms",{"$f":"B74","v":857.08},858.02,883.77,891.69,878.77,905.72,1051.92,"4 Bedrooms",{"$f":"B73","v":800},800,850,850,850,{"$f":"G73","v":850},{"$f":"H73","v":950}]
[]
[]
[]
[]
[]
[]
[]
[]
[]
[]
[]
[]
[]
[]
[]
[]
[]
["Sample Sizes:",null,null,null,null,null,null,null,"Sample Proportions:"]
[null,2010,2011,2012,2013,2014,2015,2016,null,2010,2011,2012,2013,2014,2015,2016]
["1 Bedroom ",{"$f":"VLOOKUP($A$2,'Table 7'!$A$5:$L$23,2,FALSE)","v":260},{"$f":"VLOOKUP($A$2,'Table 8'!$A$5:$L$23,2,FALSE)","v":208},{"$f":"VLOOKUP($A$2,'Table 9'!$A$5:$L$23,2,FALSE)","v":217},{"$f":"VLOOKUP($A$2,'Table 10'!$A$5:$L$23,2,FALSE)","v":219},{"$f":"VLOOKUP($A$2,'Table 11'!$A$5:$L$23,2,FALSE)","v":218},{"$f":"VLOOKUP($A$2,'Table 12'!$A$5:$L$23,2,FALSE)","v":300},{"$f":"VLOOKUP($A$2,'Table 13'!$A$5:$L$23,2,FALSE)","v":350},"1 Bedroom ",{"$f":"B142/SUM(B$142:B$146)","v":0.18731988472622479},{"$f":"C142/SUM(C$142:C$146)","v":0.16979591836734695},0.18499573742540495,0.18944636678200691,0.19551569506726457,{"$f":"G142/SUM(G$142:G$146)","v":0.20093770931011387},0.22580645161290322]
["2 Bedrooms",{"$f":"VLOOKUP($A$2,'Table 7'!$A$5:$L$23,8,FALSE)","v":660},{"$f":"VLOOKUP($A$2,'Table 8'!$A$5:$L$23,8,FALSE)","v":576},{"$f":"VLOOKUP($A$2,'Table 9'!$A$5:$L$23,8,FALSE)","v":581},{"$f":"VLOOKUP($A$2,'Table 10'!$A$5:$L$23,8,FALSE)","v":582},{"$f":"VLOOKUP($A$2,'Table 11'!$A$5:$L$23,8,FALSE)","v":540},{"$f":"VLOOKUP($A$2,'Table 12'!$A$5:$L$23,8,FALSE)","v":739},{"$f":"VLOOKUP($A$2,'Table 13'!$A$5:$L$23,8,FALSE)","v":709},"2 Bedrooms",{"$f":"B143/SUM(B$142:B$146)","v":0.47550432276657062},0.47020408163265304,0.49531116794543906,0.5034602076124568,0.48430493273542602,0.49497655726724715,0.45741935483870966]
["3 Bedrooms",{"$f":"VLOOKUP($A$2,'Table 7'!$A$26:$L$44,2,FALSE)","v":301},{"$f":"VLOOKUP($A$2,'Table 8'!$A$26:$L$44,2,FALSE)","v":241},{"$f":"VLOOKUP($A$2,'Table 9'!$A$26:$L$44,2,FALSE)","v":194},{"$f":"VLOOKUP($A$2,'Table 10'!$A$26:$L$44,2,FALSE)","v":199},{"$f":"VLOOKUP($A$2,'Table 11'!$A$26:$L$44,2,FALSE)","v":176},{"$f":"VLOOKUP($A$2,'Table 12'!$A$26:$L$44,2,FALSE)","v":236},{"$f":"VLOOKUP($A$2,'Table 13'!$A$26:$L$44,2,FALSE)","v":286},"3 Bedrooms",{"$f":"B144/SUM(B$142:B$146)","v":0.21685878962536023},0.19673469387755102,0.16538789428815004,0.17214532871972318,0.15784753363228698,0.15807099799062291,0.18451612903225806]
["4 Bedrooms",{"$f":"VLOOKUP($A$2,'Table 7'!$A$26:$L$44,8,FALSE)","v":130},{"$f":"VLOOKUP($A$2,'Table 8'!$A$26:$L$44,8,FALSE)","v":144},{"$f":"VLOOKUP($A$2,'Table 9'!$A$26:$L$44,8,FALSE)","v":114},{"$f":"VLOOKUP($A$2,'Table 10'!$A$26:$L$44,8,FALSE)","v":71},{"$f":"VLOOKUP($A$2,'Table 11'!$A$26:$L$44,8,FALSE)","v":73},{"$f":"VLOOKUP($A$2,'Table 12'!$A$26:$L$44,8,FALSE)","v":83},{"$f":"VLOOKUP($A$2,'Table 13'!$A$26:$L$44,8,FALSE)","v":100},"4 Bedrooms",{"$f":"B145/SUM(B$142:B$146)","v":9.3659942363112397E-2},0.11755102040816326,9.718670076726342E-2,6.1418685121107264E-2,6.5470852017937217E-2,5.5592766242464835E-2,6.4516129032258063E-2]
["1 Bedroom Shared",{"$f":"VLOOKUP($A$2,'Table 7'!$A$47:$L$65,2,FALSE)","v":37},{"$f":"VLOOKUP($A$2,'Table 8'!$A$47:$L$65,2,FALSE)","v":56},{"$f":"VLOOKUP($A$2,'Table 9'!$A$47:$L$65,2,FALSE)","v":67},{"$f":"VLOOKUP($A$2,'Table 10'!$A$47:$L$65,2,FALSE)","v":85},{"$f":"VLOOKUP($A$2,'Table 11'!$A$47:$L$65,2,FALSE)","v":108},{"$f":"VLOOKUP($A$2,'Table 12'!$A$47:$L$65,2,FALSE)","v":135},{"$f":"VLOOKUP($A$2,'Table 13'!$A$47:$L$65,2,FALSE)","v":105},"1 Bedroom Shared",{"$f":"B146/SUM(B$142:B$146)","v":2.6657060518731988E-2},4.5714285714285714E-2,5.7118499573742543E-2,7.3529411764705885E-2,9.6860986547085207E-2,9.0421969189551241E-2,6.7741935483870974E-2]

{"sheet":"BRMA Profile - Greater Glasgow","index":22,"n_rows":146,"n_cols":16,"rows_kept":146,"cut":false,"hidden":true,"merged":[[1,0,1,2]]}
["BRMA Rent Profile for:"]
["Greater Glasgow",null,null,null,null,null,null,null,{"$f":"ROUND(MIN(J6:P9,J28:P31,J50:P53,J72:P75,J94:P97)-0.01,2)","v":-0.15},{"$f":"ROUND(MAX(J6:P9,J28:P31,J50:P53,J72:P75,J94:P97)+0.01,2)","v":0.43}]
[]
["1 Bedroom Properties - Quartile Measures:",null,null,null,null,null,null,null,"1 Bedroom Properties - Annual changes and 6-yr cumulative change:"]
[" ",2010,2011,2012,2013,2014,2015,2016," ","2010 to 2011","2011 to 2012","2012 to 2013","2013 to 2014","2014 to 2015","2015 to 2016","2010 to 2016"]
["Lower Quartile",{"$f":"VLOOKUP($A$2,'Table 7'!$A$5:$L$23,3,FALSE)","v":380},{"$f":"VLOOKUP($A$2,'Table 8'!$A$5:$L$23,3,FALSE)","v":395},{"$f":"VLOOKUP($A$2,'Table 9'!$A$5:$L$23,3,FALSE)","v":375},{"$f":"VLOOKUP($A$2,'Table 10'!$A$5:$L$23,3,FALSE)","v":395},{"$f":"VLOOKUP($A$2,'Table 11'!$A$5:$L$23,3,FALSE)","v":395},{"$f":"VLOOKUP($A$2,'Table 12'!$A$5:$L$23,3,FALSE)","v":420},{"$f":"VLOOKUP($A$2,'Table 13'!$A$5:$L$23,3,FALSE)","v":425},"Lower Quartile",{"$f":"C6/B6-1","v":3.9473684210526327E-2},-5.0632911392405111E-2,5.3333333333333233E-2,0,6.3291139240506222E-2,{"$f":"H6/G6-1","v":1.1904761904761862E-2},{"$f":"H6/B6-1","v":0.11842105263157898}]
["Median",{"$f":"VLOOKUP($A$2,'Table 7'!$A$5:$L$23,4,FALSE)","v":425},{"$f":"VLOOKUP($A$2,'Table 8'!$A$5:$L$23,4,FALSE)","v":450},{"$f":"VLOOKUP($A$2,'Table 9'!$A$5:$L$23,4,FALSE)","v":430},{"$f":"VLOOKUP($A$2,'Table 10'!$A$5:$L$23,4,FALSE)","v":450},{"$f":"VLOOKUP($A$2,'Table 11'!$A$5:$L$23,4,FALSE)","v":450},{"$f":"VLOOKUP($A$2,'Table 12'!$A$5:$L$23,4,FALSE)","v":480},{"$f":"VLOOKUP($A$2,'Table 13'!$A$5:$L$23,4,FALSE)","v":495},"Median",5.8823529411764719E-2,-4.4444444444444398E-2,4.6511627906976827E-2,0,6.6666666666666652E-2,3.125E-2,{"$f":"H7/B7-1","v":0.16470588235294126}]
["Mean",{"$f":"VLOOKUP($A$2,'Table 7'!$A$5:$L$23,5,FALSE)","v":437.14},{"$f":"VLOOKUP($A$2,'Table 8'!$A$5:$L$23,5,FALSE)","v":451.11},{"$f":"VLOOKUP($A$2,'Table 9'!$A$5:$L$23,5,FALSE)","v":444.05},{"$f":"VLOOKUP($A$2,'Table 10'!$A$5:$L$23,5,FALSE)","v":455.78},{"$f":"VLOOKUP($A$2,'Table 11'!$A$5:$L$23,5,FALSE)","v":476.49},{"$f":"VLOOKUP($A$2,'Table 12'!$A$5:$L$23,5,FALSE)","v":501.23},{"$f":"VLOOKUP($A$2,'Table 13'!$A$5:$L$23,5,FALSE)","v":520.03},"Mean",3.1957725213890287E-2,-1.5650284852918417E-2,2.6415944150433468E-2,4.5438588792838797E-2,5.1921341476211413E-2,3.7507730981784615E-2,0.18961888639795021]
["Upper Quartile",{"$f":"VLOOKUP($A$2,'Table 7'!$A$5:$L$23,6,FALSE)","v":485},{"$f":"VLOOKUP($A$2,'Table 8'!$A$5:$L$23,6,FALSE)","v":495},{"$f":"VLOOKUP($A$2,'Table 9'!$A$5:$L$23,6,FALSE)","v":495},{"$f":"VLOOKUP($A$2,'Table 10'!$A$5:$L$23,6,FALSE)","v":500},{"$f":"VLOOKUP($A$2,'Table 11'!$A$5:$L$23,6,FALSE)","v":535},{"$f":"VLOOKUP($A$2,'Table 12'!$A$5:$L$23,6,FALSE)","v":575},{"$f":"VLOOKUP($A$2,'Table 13'!$A$5:$L$23,6,FALSE)","v":595},"Upper Quartile",2.0618556701030855E-2,0,1.0101010101010166E-2,7.0000000000000062E-2,7.4766355140186924E-2,3.4782608695652195E-2,0.22680412371134029]
[]
[]
[]
[]
[]
[]
[]
[]
[]
[]
[]
[]
[]
[]
[]
[]
["2 Bedroom Properties:",null,null,null,null,null,null,null,"2 Bedroom Properties - Annual changes and 6-yr cumulative change:"]
[null,2010,2011,2012,2013,2014,2015,2016," ","2010 to 2011","2011 to 2012","2012 to 2013","2013 to 2014","2014 to 2015","2015 to 2016","2010 to 2016"]
["Lower Quartile",{"$f":"VLOOKUP($A$2,'Table 7'!$A$5:$L$23,9,FALSE)","v":495},{"$f":"VLOOKUP($A$2,'Table 8'!$A$5:$L$23,9,FALSE)","v":495},{"$f":"VLOOKUP($A$2,'Table 9'!$A$5:$L$23,9,FALSE)","v":495},{"$f":"VLOOKUP($A$2,'Table 10'!$A$5:$L$23,9,FALSE)","v":495},{"$f":"VLOOKUP($A$2,'Table 11'!$A$5:$L$23,9,FALSE)","v":500},{"$f":"VLOOKUP($A$2,'Table 12'!$A$5:$L$23,9,FALSE)","v":525},{"$f":"VLOOKUP($A$2,'Table 13'!$A$5:$L$23,9,FALSE)","v":550},"Lower Quartile",{"$f":"C28/B28-1","v":0},0,0,1.0101010101010166E-2,5.0000000000000044E-2,{"$f":"H28/G28-1","v":4.7619047619047672E-2},{"$f":"H28/B28-1","v":0.11111111111111116}]
["Median",{"$f":"VLOOKUP($A$2,'Table 7'!$A$5:$L$23,10,FALSE)","v":550},{"$f":"VLOOKUP($A$2,'Table 8'!$A$5:$L$23,10,FALSE)","v":550},{"$f":"VLOOKUP($A$2,'Table 9'!$A$5:$L$23,10,FALSE)","v":550},{"$f":"VLOOKUP($A$2,'Table 10'!$A$5:$L$23,10,FALSE)","v":550},{"$f":"VLOOKUP($A$2,'Table 11'!$A$5:$L$23,10,FALSE)","v":575},{"$f":"VLOOKUP($A$2,'Table 12'!$A$5:$L$23,10,FALSE)","v":625},{"$f":"VLOOKUP($A$2,'Table 13'!$A$5:$L$23,10,FALSE)","v":650},"Median",0,0,0,4.5454545454545414E-2,8.6956521739130377E-2,{"$f":"H29/G29-1","v":4.0000000000000036E-2},{"$f":"H29/B29-1","v":0.18181818181818188}]
["Mean",{"$f":"VLOOKUP($A$2,'Table 7'!$A$5:$L$23,11,FALSE)","v":563.64},{"$f":"VLOOKUP($A$2,'Table 8'!$A$5:$L$23,11,FALSE)","v":588.04999999999995},{"$f":"VLOOKUP($A$2,'Table 9'!$A$5:$L$23,11,FALSE)","v":572.74},{"$f":"VLOOKUP($A$2,'Table 10'!$A$5:$L$23,11,FALSE)","v":593.71},{"$f":"VLOOKUP($A$2,'Table 11'!$A$5:$L$23,11,FALSE)","v":626.38},{"$f":"VLOOKUP($A$2,'Table 12'!$A$5:$L$23,11,FALSE)","v":667.74},{"$f":"VLOOKUP($A$2,'Table 13'!$A$5:$L$23,11,FALSE)","v":695.92},"Mean",4.3307785111063701E-2,-2.6035201088342785E-2,3.6613472081572729E-2,5.5026864967745226E-2,6.6030205306682799E-2,{"$f":"H30/G30-1","v":4.2202054691945934E-2},0.23468880845930018]
["Upper Quartile",{"$f":"VLOOKUP($A$2,'Table 7'!$A$5:$L$23,12,FALSE)","v":600},{"$f":"VLOOKUP($A$2,'Table 8'!$A$5:$L$23,12,FALSE)","v":650},{"$f":"VLOOKUP($A$2,'Table 9'!$A$5:$L$23,12,FALSE)","v":625},{"$f":"VLOOKUP($A$2,'Table 10'!$A$5:$L$23,12,FALSE)","v":650},{"$f":"VLOOKUP($A$2,'Table 11'!$A$5:$L$23,12,FALSE)","v":695},{"$f":"VLOOKUP($A$2,'Table 12'!$A$5:$L$23,12,FALSE)","v":750},{"$f":"VLOOKUP($A$2,'Table 13'!$A$5:$L$23,12,FALSE)","v":795},"Upper Quartile",8.3333333333333259E-2,-3.8461538461538436E-2,4.0000000000000036E-2,6.9230769230769207E-2,7.9136690647481966E-2,{"$f":"H31/G31-1","v":6.0000000000000053E-2},0.32499999999999996]
[]
[]
[]
[]
[]
[]
[]
[]
[]
[]
[]
[]
[]
[]
[]
[]
["3 Bedroom Properties:",null,null,null,null,null,null,null,"3 Bedroom Properties - Annual changes and 6-yr cumulative change:"]
[null,2010,2011,2012,2013,2014,2015,2016," ","2010 to 2011","2011 to 2012","2012 to 2013","2013 to 2014","2014 to 2015","2015 to 2016","2010 to 2016"]
["Lower Quartile",{"$f":"VLOOKUP($A$2,'Table 7'!$A$26:$L$44,3,FALSE)","v":575},{"$f":"VLOOKUP($A$2,'Table 8'!$A$26:$L$44,3,FALSE)","v":575},{"$f":"VLOOKUP($A$2,'Table 9'!$A$26:$L$44,3,FALSE)","v":575},{"$f":"VLOOKUP($A$2,'Table 10'!$A$26:$L$44,3,FALSE)","v":575},{"$f":"VLOOKUP($A$2,'Table 11'!$A$26:$L$44,3,FALSE)","v":567.5},{"$f":"VLOOKUP($A$2,'Table 12'!$A$26:$L$44,3,FALSE)","v":595},{"$f":"VLOOKUP($A$2,'Table 13'!$A$26:$L$44,3,FALSE)","v":600},"Lower Quartile",{"$f":"C50/B50-1","v":0},0,0,-1.3043478260869601E-2,4.8458149779735615E-2,{"$f":"H50/G50-1","v":8.4033613445377853E-3},{"$f":"H50/B50-1","v":4.3478260869565188E-2}]
["Median",{"$f":"VLOOKUP($A$2,'Table 7'!$A$26:$L$44,4,FALSE)","v":695},{"$f":"VLOOKUP($A$2,'Table 8'!$A$26:$L$44,4,FALSE)","v":695},{"$f":"VLOOKUP($A$2,'Table 9'!$A$26:$L$44,4,FALSE)","v":695},{"$f":"VLOOKUP($A$2,'Table 10'!$A$26:$L$44,4,FALSE)","v":675},{"$f":"VLOOKUP($A$2,'Table 11'!$A$26:$L$44,4,FALSE)","v":695},{"$f":"VLOOKUP($A$2,'Table 12'!$A$26:$L$44,4,FALSE)","v":750},{"$f":"VLOOKUP($A$2,'Table 13'!$A$26:$L$44,4,FALSE)","v":800},"Median",0,0,-2.877697841726623E-2,2.9629629629629672E-2,7.9136690647481966E-2,{"$f":"H51/G51-1","v":6.6666666666666652E-2},{"$f":"H51/B51-1","v":0.15107913669064743}]
["Mean",{"$f":"VLOOKUP($A$2,'Table 7'!$A$26:$L$44,5,FALSE)","v":728.19},{"$f":"VLOOKUP($A$2,'Table 8'!$A$26:$L$44,5,FALSE)","v":753.27},{"$f":"VLOOKUP($A$2,'Table 9'!$A$26:$L$44,5,FALSE)","v":734.1},{"$f":"VLOOKUP($A$2,'Table 10'!$A$26:$L$44,5,FALSE)","v":753.15},{"$f":"VLOOKUP($A$2,'Table 11'!$A$26:$L$44,5,FALSE)","v":795.62},{"$f":"VLOOKUP($A$2,'Table 12'!$A$26:$L$44,5,FALSE)","v":833.69},{"$f":"VLOOKUP($A$2,'Table 13'!$A$26:$L$44,5,FALSE)","v":915.07},"Mean",3.4441560581716102E-2,-2.5449042176112102E-2,2.5950143032284378E-2,5.6389829383256984E-2,4.7849475880445524E-2,{"$f":"H52/G52-1","v":9.7614221113363486E-2},0.2566363174446229]
["Upper Quartile",{"$f":"VLOOKUP($A$2,'Table 7'!$A$26:$L$44,6,FALSE)","v":825},{"$f":"VLOOKUP($A$2,'Table 8'!$A$26:$L$44,6,FALSE)","v":862.5},{"$f":"VLOOKUP($A$2,'Table 9'!$A$26:$L$44,6,FALSE)","v":800},{"$f":"VLOOKUP($A$2,'Table 10'!$A$26:$L$44,6,FALSE)","v":850},{"$f":"VLOOKUP($A$2,'Table 11'!$A$26:$L$44,6,FALSE)","v":900},{"$f":"VLOOKUP($A$2,'Table 12'!$A$26:$L$44,6,FALSE)","v":975},{"$f":"VLOOKUP($A$2,'Table 13'!$A$26:$L$44,6,FALSE)","v":1170},"Upper Quartile",4.5454545454545414E-2,-7.2463768115942018E-2,6.25E-2,5.8823529411764719E-2,8.3333333333333259E-2,{"$f":"H53/G53-1","v":0.19999999999999996},0.41818181818181821]
[]
[]
[]
[]
[]
[]
[]
[]
[]
[]
[]
[]
[]
[]
[]
[]
["4 Bedroom Properties:",null,null,null,null,null,null,null,"4 Bedroom Properties - Annual changes and 6-yr cumulative change:"]
[null,2010,2011,2012,2013,2014,2015,2016," ","2010 to 2011","2011 to 2012","2012 to 2013","2013 to 2014","2014 to 2015","2015 to 2016","2010 to 2016"]
["Lower Quartile",{"$f":"VLOOKUP($A$2,'Table 7'!$A$26:$L$44,9,FALSE)","v":845},{"$f":"VLOOKUP($A$2,'Table 8'!$A$26:$L$44,9,FALSE)","v":875},{"$f":"VLOOKUP($A$2,'Table 9'!$A$26:$L$44,9,FALSE)","v":800},{"$f":"VLOOKUP($A$2,'Table 10'!$A$26:$L$44,9,FALSE)","v":895},{"$f":"VLOOKUP($A$2,'Table 11'!$A$26:$L$44,9,FALSE)","v":895},{"$f":"VLOOKUP($A$2,'Table 12'!$A$26:$L$44,9,FALSE)","v":850},{"$f":"VLOOKUP($A$2,'Table 13'!$A$26:$L$44,9,FALSE)","v":925},"Lower Quartile",{"$f":"C72/B72-1","v":3.5502958579881616E-2},-8.5714285714285743E-2,0.11874999999999991,0,-5.027932960893855E-2,{"$f":"H72/G72-1","v":8.8235294117646967E-2},{"$f":"H72/B72-1","v":9.4674556213017791E-2}]
["Median",{"$f":"VLOOKUP($A$2,'Table 7'!$A$26:$L$44,10,FALSE)","v":1000},{"$f":"VLOOKUP($A$2,'Table 8'!$A$26:$L$44,10,FALSE)","v":1100},{"$f":"VLOOKUP($A$2,'Table 9'!$A$26:$L$44,10,FALSE)","v":950},{"$f":"VLOOKUP($A$2,'Table 10'!$A$26:$L$44,10,FALSE)","v":1000},{"$f":"VLOOKUP($A$2,'Table 11'!$A$26:$L$44,10,FALSE)","v":1200},{"$f":"VLOOKUP($A$2,'Table 12'!$A$26:$L$44,10,FALSE)","v":1100},{"$f":"VLOOKUP($A$2,'Table 13'!$A$26:$L$44,10,FALSE)","v":1250},"Median",0.10000000000000009,-0.13636363636363635,5.2631578947368363E-2,0.19999999999999996,-8.333333333333337E-2,0.13636363636363646,{"$f":"H73/B73-1","v":0.25}]
["Mean",{"$f":"VLOOKUP($A$2,'Table 7'!$A$26:$L$44,11,FALSE)","v":1067.19},{"$f":"VLOOKUP($A$2,'Table 8'!$A$26:$L$44,11,FALSE)","v":1169.83},{"$f":"VLOOKUP($A$2,'Table 9'!$A$26:$L$44,11,FALSE)","v":1048.83},{"$f":"VLOOKUP($A$2,'Table 10'!$A$26:$L$44,11,FALSE)","v":1189.78},{"$f":"VLOOKUP($A$2,'Table 11'!$A$26:$L$44,11,FALSE)","v":1211.1199999999999},{"$f":"VLOOKUP($A$2,'Table 12'!$A$26:$L$44,11,FALSE)","v":1189.33},{"$f":"VLOOKUP($A$2,'Table 13'!$A$26:$L$44,11,FALSE)","v":1299.47},"Mean",9.6177812760614101E-2,-0.10343383226622671,0.13438784169026441,1.7936089024861657E-2,-1.7991611070744429E-2,9.2606761790251735E-2,0.21765571266597328]
["Upper Quartile",{"$f":"VLOOKUP($A$2,'Table 7'!$A$26:$L$44,12,FALSE)","v":1250},{"$f":"VLOOKUP($A$2,'Table 8'!$A$26:$L$44,12,FALSE)","v":1300},{"$f":"VLOOKUP($A$2,'Table 9'!$A$26:$L$44,12,FALSE)","v":1250},{"$f":"VLOOKUP($A$2,'Table 10'!$A$26:$L$44,12,FALSE)","v":1400},{"$f":"VLOOKUP($A$2,'Table 11'!$A$26:$L$44,12,FALSE)","v":1500},{"$f":"VLOOKUP($A$2,'Table 12'!$A$26:$L$44,12,FALSE)","v":1500},{"$f":"VLOOKUP($A$2,'Table 13'!$A$26:$L$44,12,FALSE)","v":1600},"Upper Quartile",4.0000000000000036E-2,-3.8461538461538436E-2,0.12000000000000011,7.1428571428571397E-2,0,6.6666666666666652E-2,0.28000000000000003]
[]
[]
[]
[]
[]
[]
[]
[]
[]
[]
[]
[]
[]
[]
[]
[]
["1 Bedroom Shared Properties:",null,null,null,null,null,null,null,"1 Bedroom Shared Properties - Annual changes and 6-yr cumulative change:"]
[null,2010,2011,2012,2013,2014,2015,2016," ","2010 to 2011","2011 to 2012","2012 to 2013","2013 to 2014","2014 to 2015","2015 to 2016","2010 to 2016"]
["Lower Quartile",{"$f":"VLOOKUP($A$2,'Table 7'!$A$47:$F$65,3,FALSE)","v":284},{"$f":"VLOOKUP($A$2,'Table 8'!$A$47:$F$65,3,FALSE)","v":270},{"$f":"VLOOKUP($A$2,'Table 9'!$A$47:$F$65,3,FALSE)","v":275},{"$f":"VLOOKUP($A$2,'Table 10'!$A$47:$F$65,3,FALSE)","v":290},{"$f":"VLOOKUP($A$2,'Table 11'!$A$47:$F$65,3,FALSE)","v":293.33},{"$f":"VLOOKUP($A$2,'Table 12'!$A$47:$F$65,3,FALSE)","v":285},{"$f":"VLOOKUP($A$2,'Table 13'!$A$47:$F$65,3,FALSE)","v":308},"Lower Quartile",{"$f":"C94/B94-1","v":-4.9295774647887369E-2},1.8518518518518601E-2,5.4545454545454453E-2,1.1482758620689593E-2,-2.8398049977840567E-2,{"$f":"H94/G94-1","v":8.0701754385964941E-2},{"$f":"H94/B94-1","v":8.4507042253521236E-2}]
["Median",{"$f":"VLOOKUP($A$2,'Table 7'!$A$47:$F$65,4,FALSE)","v":300},{"$f":"VLOOKUP($A$2,'Table 8'!$A$47:$F$65,4,FALSE)","v":300},{"$f":"VLOOKUP($A$2,'Table 9'!$A$47:$F$65,4,FALSE)","v":302.5},{"$f":"VLOOKUP($A$2,'Table 10'!$A$47:$F$65,4,FALSE)","v":320},{"$f":"VLOOKUP($A$2,'Table 11'!$A$47:$F$65,4,FALSE)","v":325},{"$f":"VLOOKUP($A$2,'Table 12'!$A$47:$F$65,4,FALSE)","v":335},{"$f":"VLOOKUP($A$2,'Table 13'!$A$47:$F$65,4,FALSE)","v":350},"Median",0,8.3333333333333037E-3,5.7851239669421517E-2,1.5625E-2,3.076923076923066E-2,4.4776119402984982E-2,{"$f":"H95/B95-1","v":0.16666666666666674}]
["Mean",{"$f":"VLOOKUP($A$2,'Table 7'!$A$47:$F$65,5,FALSE)","v":313.10000000000002},{"$f":"VLOOKUP($A$2,'Table 8'!$A$47:$F$65,5,FALSE)","v":295.45999999999998},{"$f":"VLOOKUP($A$2,'Table 9'!$A$47:$F$65,5,FALSE)","v":312.27999999999997},{"$f":"VLOOKUP($A$2,'Table 10'!$A$47:$F$65,5,FALSE)","v":323.08999999999997},{"$f":"VLOOKUP($A$2,'Table 11'!$A$47:$F$65,5,FALSE)","v":346.23},{"$f":"VLOOKUP($A$2,'Table 12'!$A$47:$F$65,5,FALSE)","v":352.87},{"$f":"VLOOKUP($A$2,'Table 13'!$A$47:$F$65,5,FALSE)","v":372.15},"Mean",-5.6339827531140307E-2,5.6928179787450128E-2,3.4616369924426849E-2,7.1620910582190778E-2,1.917800306154871E-2,5.4637685266528679E-2,0.18859789204726907]
["Upper Quartile",{"$f":"VLOOKUP($A$2,'Table 7'!$A$47:$F$65,6,FALSE)","v":345},{"$f":"VLOOKUP($A$2,'Table 8'!$A$47:$F$65,6,FALSE)","v":325},{"$f":"VLOOKUP($A$2,'Table 9'!$A$47:$F$65,6,FALSE)","v":350},{"$f":"VLOOKUP($A$2,'Table 10'!$A$47:$F$65,6,FALSE)","v":350},{"$f":"VLOOKUP($A$2,'Table 11'!$A$47:$F$65,6,FALSE)","v":400},{"$f":"VLOOKUP($A$2,'Table 12'!$A$47:$F$65,6,FALSE)","v":400},{"$f":"VLOOKUP($A$2,'Table 13'!$A$47:$F$65,6,FALSE)","v":425},"Upper Quartile",-5.7971014492753659E-2,7.6923076923076872E-2,0,0.14285714285714279,0,6.25E-2,0.23188405797101441]
[]
[]
[]
[]
[]
[]
[]
[]
[]
[]
[]
[]
[]
[]
[]
[]
[]
[]
["Mean Rents by Property Size:",null,null,null,null,null,null,null,"Median Rents by Property Size:"]
[null,2010,2011,2012,2013,2014,2015,2016,null,2010,2011,2012,2013,2014,2015,2016]
["1 Bedroom Shared",{"$f":"B96","v":313.10000000000002},295.45999999999998,312.27999999999997,323.08999999999997,346.23,352.87,372.15,"1 Bedroom Shared",{"$f":"B95","v":300},300,302.5,320,325,{"$f":"G95","v":335},{"$f":"H95","v":350}]
["1 Bedroom ",{"$f":"B8","v":437.14},451.11,444.05,455.78,476.49,501.23,520.03,"1 Bedroom ",{"$f":"B7","v":425},450,430,450,450,{"$f":"G7","v":480},{"$f":"H7","v":495}]
["2 Bedrooms",{"$f":"B30","v":563.64},588.04999999999995,572.74,593.71,626.38,667.74,695.92,"2 Bedrooms",{"$f":"B29","v":550},550,550,550,575,{"$f":"G29","v":625},{"$f":"H29","v":650}]
["3 Bedrooms",{"$f":"B52","v":728.19},753.27,734.1,753.15,795.62,833.69,915.07,"3 Bedrooms",{"$f":"B51","v":695},695,695,675,695,{"$f":"G51","v":750},{"$f":"H51","v":800}]
["4 Bedrooms",{"$f":"B74","v":1067.19},1169.83,1048.83,1189.78,1211.1199999999999,1189.33,1299.47,"4 Bedrooms",{"$f":"B73","v":1000},1100,950,1000,1200,{"$f":"G73","v":1100},{"$f":"H73","v":1250}]
[]
[]
[]
[]
[]
[]
[]
[]
[]
[]
[]
[]
[]
[]
[]
[]
[]
["Sample Sizes:",null,null,null,null,null,null,null,"Sample Proportions:"]
[null,2010,2011,2012,2013,2014,2015,2016,null,2010,2011,2012,2013,2014,2015,2016]
["1 Bedroom ",{"$f":"VLOOKUP($A$2,'Table 7'!$A$5:$L$23,2,FALSE)","v":868},{"$f":"VLOOKUP($A$2,'Table 8'!$A$5:$L$23,2,FALSE)","v":747},{"$f":"VLOOKUP($A$2,'Table 9'!$A$5:$L$23,2,FALSE)","v":998},{"$f":"VLOOKUP($A$2,'Table 10'!$A$5:$L$23,2,FALSE)","v":945},{"$f":"VLOOKUP($A$2,'Table 11'!$A$5:$L$23,2,FALSE)","v":1116},{"$f":"VLOOKUP($A$2,'Table 12'!$A$5:$L$23,2,FALSE)","v":1097},{"$f":"VLOOKUP($A$2,'Table 13'!$A$5:$L$23,2,FALSE)","v":1289},"1 Bedroom ",{"$f":"B142/SUM(B$142:B$146)","v":0.26814952116156937},{"$f":"C142/SUM(C$142:C$146)","v":0.23850574712643677},0.27410052183466083,0.26337792642140467,0.28829759752002065,{"$f":"G142/SUM(G$142:G$146)","v":0.28273195876288659},0.29523591387998166]
["2 Bedrooms",{"$f":"VLOOKUP($A$2,'Table 7'!$A$5:$L$23,8,FALSE)","v":1486},{"$f":"VLOOKUP($A$2,'Table 8'!$A$5:$L$23,8,FALSE)","v":1374},{"$f":"VLOOKUP($A$2,'Table 9'!$A$5:$L$23,8,FALSE)","v":1570},{"$f":"VLOOKUP($A$2,'Table 10'!$A$5:$L$23,8,FALSE)","v":1623},{"$f":"VLOOKUP($A$2,'Table 11'!$A$5:$L$23,8,FALSE)","v":1840},{"$f":"VLOOKUP($A$2,'Table 12'!$A$5:$L$23,8,FALSE)","v":1856},{"$f":"VLOOKUP($A$2,'Table 13'!$A$5:$L$23,8,FALSE)","v":2199},"2 Bedrooms",{"$f":"B143/SUM(B$142:B$146)","v":0.45906703738029037},0.43869731800766282,0.43120021971985717,0.4523411371237458,0.4753293722552312,0.47835051546391755,0.50366468163078337]
["3 Bedrooms",{"$f":"VLOOKUP($A$2,'Table 7'!$A$26:$L$44,2,FALSE)","v":474},{"$f":"VLOOKUP($A$2,'Table 8'!$A$26:$L$44,2,FALSE)","v":476},{"$f":"VLOOKUP($A$2,'Table 9'!$A$26:$L$44,2,FALSE)","v":474},{"$f":"VLOOKUP($A$2,'Table 10'!$A$26:$L$44,2,FALSE)","v":503},{"$f":"VLOOKUP($A$2,'Table 11'!$A$26:$L$44,2,FALSE)","v":512},{"$f":"VLOOKUP($A$2,'Table 12'!$A$26:$L$44,2,FALSE)","v":545},{"$f":"VLOOKUP($A$2,'Table 13'!$A$26:$L$44,2,FALSE)","v":566},"3 Bedrooms",{"$f":"B144/SUM(B$142:B$146)","v":0.1464318813716404},0.15197956577266922,0.13018401538039001,0.14018952062430323,0.13226556445362955,0.1404639175257732,0.12963811268896014]
["4 Bedrooms",{"$f":"VLOOKUP($A$2,'Table 7'!$A$26:$L$44,8,FALSE)","v":219},{"$f":"VLOOKUP($A$2,'Table 8'!$A$26:$L$44,8,FALSE)","v":233},{"$f":"VLOOKUP($A$2,'Table 9'!$A$26:$L$44,8,FALSE)","v":227},{"$f":"VLOOKUP($A$2,'Table 10'!$A$26:$L$44,8,FALSE)","v":138},{"$f":"VLOOKUP($A$2,'Table 11'!$A$26:$L$44,8,FALSE)","v":130},{"$f":"VLOOKUP($A$2,'Table 12'!$A$26:$L$44,8,FALSE)","v":127},{"$f":"VLOOKUP($A$2,'Table 13'!$A$26:$L$44,8,FALSE)","v":123},"4 Bedrooms",{"$f":"B145/SUM(B$142:B$146)","v":6.7655236329935128E-2},7.4393358876117491E-2,6.2345509475418844E-2,3.8461538461538464E-2,3.3583053474554377E-2,3.27319587628866E-2,2.8172240036646815E-2]
["1 Bedroom Shared",{"$f":"VLOOKUP($A$2,'Table 7'!$A$47:$L$65,2,FALSE)","v":190},{"$f":"VLOOKUP($A$2,'Table 8'!$A$47:$L$65,2,FALSE)","v":302},{"$f":"VLOOKUP($A$2,'Table 9'!$A$47:$L$65,2,FALSE)","v":372},{"$f":"VLOOKUP($A$2,'Table 10'!$A$47:$L$65,2,FALSE)","v":379},{"$f":"VLOOKUP($A$2,'Table 11'!$A$47:$L$65,2,FALSE)","v":273},{"$f":"VLOOKUP($A$2,'Table 12'!$A$47:$L$65,2,FALSE)","v":255},{"$f":"VLOOKUP($A$2,'Table 13'!$A$47:$L$65,2,FALSE)","v":189},"1 Bedroom Shared",{"$f":"B146/SUM(B$142:B$146)","v":5.8696323756564722E-2},9.6424010217113665E-2,0.10216973358967317,0.10562987736900781,7.0524412296564198E-2,6.5721649484536085E-2,4.3289051763628038E-2]

{"sheet":"BRMA Profile - Highlands and Is","index":23,"n_rows":146,"n_cols":16,"rows_kept":146,"cut":false,"hidden":true,"merged":[[1,0,1,2]]}
["BRMA Rent Profile for:"]
["Highland and Islands",null,null,null,null,null,null,null,{"$f":"ROUND(MIN(J6:P9,J28:P31,J50:P53,J72:P75,J94:P97)-0.01,2)","v":-0.09},{"$f":"ROUND(MAX(J6:P9,J28:P31,J50:P53,J72:P75,J94:P97)+0.01,2)","v":0.19}]
[]
["1 Bedroom Properties - Quartile Measures:",null,null,null,null,null,null,null,"1 Bedroom Properties - Annual changes and 6-yr cumulative change:"]
[" ",2010,2011,2012,2013,2014,2015,2016," ","2010 to 2011","2011 to 2012","2012 to 2013","2013 to 2014","2014 to 2015","2015 to 2016","2010 to 2016"]
["Lower Quartile",{"$f":"VLOOKUP($A$2,'Table 7'!$A$5:$L$23,3,FALSE)","v":375},{"$f":"VLOOKUP($A$2,'Table 8'!$A$5:$L$23,3,FALSE)","v":375},{"$f":"VLOOKUP($A$2,'Table 9'!$A$5:$L$23,3,FALSE)","v":375},{"$f":"VLOOKUP($A$2,'Table 10'!$A$5:$L$23,3,FALSE)","v":395},{"$f":"VLOOKUP($A$2,'Table 11'!$A$5:$L$23,3,FALSE)","v":400},{"$f":"VLOOKUP($A$2,'Table 12'!$A$5:$L$23,3,FALSE)","v":400},{"$f":"VLOOKUP($A$2,'Table 13'!$A$5:$L$23,3,FALSE)","v":400},"Lower Quartile",{"$f":"C6/B6-1","v":0},0,5.3333333333333233E-2,1.2658227848101333E-2,0,{"$f":"H6/G6-1","v":0},{"$f":"H6/B6-1","v":6.6666666666666652E-2}]
["Median",{"$f":"VLOOKUP($A$2,'Table 7'!$A$5:$L$23,4,FALSE)","v":420},{"$f":"VLOOKUP($A$2,'Table 8'!$A$5:$L$23,4,FALSE)","v":420},{"$f":"VLOOKUP($A$2,'Table 9'!$A$5:$L$23,4,FALSE)","v":425},{"$f":"VLOOKUP($A$2,'Table 10'!$A$5:$L$23,4,FALSE)","v":430},{"$f":"VLOOKUP($A$2,'Table 11'!$A$5:$L$23,4,FALSE)","v":445},{"$f":"VLOOKUP($A$2,'Table 12'!$A$5:$L$23,4,FALSE)","v":450},{"$f":"VLOOKUP($A$2,'Table 13'!$A$5:$L$23,4,FALSE)","v":470},"Median",0,1.1904761904761862E-2,1.1764705882352899E-2,3.488372093023262E-2,1.1235955056179803E-2,4.4444444444444509E-2,{"$f":"H7/B7-1","v":0.11904761904761907}]
["Mean",{"$f":"VLOOKUP($A$2,'Table 7'!$A$5:$L$23,5,FALSE)","v":415.01},{"$f":"VLOOKUP($A$2,'Table 8'!$A$5:$L$23,5,FALSE)","v":419.9},{"$f":"VLOOKUP($A$2,'Table 9'!$A$5:$L$23,5,FALSE)","v":424.36},{"$f":"VLOOKUP($A$2,'Table 10'!$A$5:$L$23,5,FALSE)","v":430.75},{"$f":"VLOOKUP($A$2,'Table 11'!$A$5:$L$23,5,FALSE)","v":439.51},{"$f":"VLOOKUP($A$2,'Table 12'!$A$5:$L$23,5,FALSE)","v":449.77},{"$f":"VLOOKUP($A$2,'Table 13'!$A$5:$L$23,5,FALSE)","v":460.5},"Mean",1.1782848606057605E-2,1.0621576565849056E-2,1.5057969648411662E-2,2.0336622170632701E-2,2.3344178744511002E-2,2.3856637837116779E-2,0.10961181658273289]
["Upper Quartile",{"$f":"VLOOKUP($A$2,'Table 7'!$A$5:$L$23,6,FALSE)","v":450},{"$f":"VLOOKUP($A$2,'Table 8'!$A$5:$L$23,6,FALSE)","v":450},{"$f":"VLOOKUP($A$2,'Table 9'!$A$5:$L$23,6,FALSE)","v":450},{"$f":"VLOOKUP($A$2,'Table 10'!$A$5:$L$23,6,FALSE)","v":475},{"$f":"VLOOKUP($A$2,'Table 11'!$A$5:$L$23,6,FALSE)","v":475},{"$f":"VLOOKUP($A$2,'Table 12'!$A$5:$L$23,6,FALSE)","v":495},{"$f":"VLOOKUP($A$2,'Table 13'!$A$5:$L$23,6,FALSE)","v":500},"Upper Quartile",0,0,5.555555555555558E-2,0,4.2105263157894646E-2,1.0101010101010166E-2,0.11111111111111116]
[]
[]
[]
[]
[]
[]
[]
[]
[]
[]
[]
[]
[]
[]
[]
[]
["2 Bedroom Properties:",null,null,null,null,null,null,null,"2 Bedroom Properties - Annual changes and 6-yr cumulative change:"]
[null,2010,2011,2012,2013,2014,2015,2016," ","2010 to 2011","2011 to 2012","2012 to 2013","2013 to 2014","2014 to 2015","2015 to 2016","2010 to 2016"]
["Lower Quartile",{"$f":"VLOOKUP($A$2,'Table 7'!$A$5:$L$23,9,FALSE)","v":450},{"$f":"VLOOKUP($A$2,'Table 8'!$A$5:$L$23,9,FALSE)","v":460},{"$f":"VLOOKUP($A$2,'Table 9'!$A$5:$L$23,9,FALSE)","v":450},{"$f":"VLOOKUP($A$2,'Table 10'!$A$5:$L$23,9,FALSE)","v":475},{"$f":"VLOOKUP($A$2,'Table 11'!$A$5:$L$23,9,FALSE)","v":475},{"$f":"VLOOKUP($A$2,'Table 12'!$A$5:$L$23,9,FALSE)","v":495},{"$f":"VLOOKUP($A$2,'Table 13'!$A$5:$L$23,9,FALSE)","v":500},"Lower Quartile",{"$f":"C28/B28-1","v":2.2222222222222143E-2},-2.1739130434782594E-2,5.555555555555558E-2,0,4.2105263157894646E-2,{"$f":"H28/G28-1","v":1.0101010101010166E-2},{"$f":"H28/B28-1","v":0.11111111111111116}]
["Median",{"$f":"VLOOKUP($A$2,'Table 7'!$A$5:$L$23,10,FALSE)","v":500},{"$f":"VLOOKUP($A$2,'Table 8'!$A$5:$L$23,10,FALSE)","v":500},{"$f":"VLOOKUP($A$2,'Table 9'!$A$5:$L$23,10,FALSE)","v":500},{"$f":"VLOOKUP($A$2,'Table 10'!$A$5:$L$23,10,FALSE)","v":525},{"$f":"VLOOKUP($A$2,'Table 11'!$A$5:$L$23,10,FALSE)","v":525},{"$f":"VLOOKUP($A$2,'Table 12'!$A$5:$L$23,10,FALSE)","v":550},{"$f":"VLOOKUP($A$2,'Table 13'!$A$5:$L$23,10,FALSE)","v":550},"Median",0,0,5.0000000000000044E-2,0,4.7619047619047672E-2,{"$f":"H29/G29-1","v":0},{"$f":"H29/B29-1","v":0.10000000000000009}]
["Mean",{"$f":"VLOOKUP($A$2,'Table 7'!$A$5:$L$23,11,FALSE)","v":503.41},{"$f":"VLOOKUP($A$2,'Table 8'!$A$5:$L$23,11,FALSE)","v":513.76},{"$f":"VLOOKUP($A$2,'Table 9'!$A$5:$L$23,11,FALSE)","v":516.38},{"$f":"VLOOKUP($A$2,'Table 10'!$A$5:$L$23,11,FALSE)","v":527.24},{"$f":"VLOOKUP($A$2,'Table 11'!$A$5:$L$23,11,FALSE)","v":532.32000000000005},{"$f":"VLOOKUP($A$2,'Table 12'!$A$5:$L$23,11,FALSE)","v":544.54999999999995},{"$f":"VLOOKUP($A$2,'Table 13'!$A$5:$L$23,11,FALSE)","v":560.95000000000005},"Mean",2.0559782284817585E-2,5.0996574275925521E-3,2.1031023664743076E-2,9.6350807981184783E-3,2.297490231439725E-2,{"$f":"H30/G30-1","v":3.0116610044991443E-2},0.11430047078921768]
["Upper Quartile",{"$f":"VLOOKUP($A$2,'Table 7'!$A$5:$L$23,12,FALSE)","v":550},{"$f":"VLOOKUP($A$2,'Table 8'!$A$5:$L$23,12,FALSE)","v":550},{"$f":"VLOOKUP($A$2,'Table 9'!$A$5:$L$23,12,FALSE)","v":550},{"$f":"VLOOKUP($A$2,'Table 10'!$A$5:$L$23,12,FALSE)","v":575},{"$f":"VLOOKUP($A$2,'Table 11'!$A$5:$L$23,12,FALSE)","v":580},{"$f":"VLOOKUP($A$2,'Table 12'!$A$5:$L$23,12,FALSE)","v":600},{"$f":"VLOOKUP($A$2,'Table 13'!$A$5:$L$23,12,FALSE)","v":625},"Upper Quartile",0,0,4.5454545454545414E-2,8.6956521739129933E-3,3.4482758620689724E-2,{"$f":"H31/G31-1","v":4.1666666666666741E-2},0.13636363636363646]
[]
[]
[]
[]
[]
[]
[]
[]
[]
[]
[]
[]
[]
[]
[]
[]
["3 Bedroom Properties:",null,null,null,null,null,null,null,"3 Bedroom Properties - Annual changes and 6-yr cumulative change:"]
[null,2010,2011,2012,2013,2014,2015,2016," ","2010 to 2011","2011 to 2012","2012 to 2013","2013 to 2014","2014 to 2015","2015 to 2016","2010 to 2016"]
["Lower Quartile",{"$f":"VLOOKUP($A$2,'Table 7'!$A$26:$L$44,3,FALSE)","v":525},{"$f":"VLOOKUP($A$2,'Table 8'!$A$26:$L$44,3,FALSE)","v":550},{"$f":"VLOOKUP($A$2,'Table 9'!$A$26:$L$44,3,FALSE)","v":550},{"$f":"VLOOKUP($A$2,'Table 10'!$A$26:$L$44,3,FALSE)","v":550},{"$f":"VLOOKUP($A$2,'Table 11'!$A$26:$L$44,3,FALSE)","v":550},{"$f":"VLOOKUP($A$2,'Table 12'!$A$26:$L$44,3,FALSE)","v":550},{"$f":"VLOOKUP($A$2,'Table 13'!$A$26:$L$44,3,FALSE)","v":575},"Lower Quartile",{"$f":"C50/B50-1","v":4.7619047619047672E-2},0,0,0,0,{"$f":"H50/G50-1","v":4.5454545454545414E-2},{"$f":"H50/B50-1","v":9.5238095238095344E-2}]
["Median",{"$f":"VLOOKUP($A$2,'Table 7'!$A$26:$L$44,4,FALSE)","v":600},{"$f":"VLOOKUP($A$2,'Table 8'!$A$26:$L$44,4,FALSE)","v":625},{"$f":"VLOOKUP($A$2,'Table 9'!$A$26:$L$44,4,FALSE)","v":620},{"$f":"VLOOKUP($A$2,'Table 10'!$A$26:$L$44,4,FALSE)","v":600},{"$f":"VLOOKUP($A$2,'Table 11'!$A$26:$L$44,4,FALSE)","v":600},{"$f":"VLOOKUP($A$2,'Table 12'!$A$26:$L$44,4,FALSE)","v":650},{"$f":"VLOOKUP($A$2,'Table 13'!$A$26:$L$44,4,FALSE)","v":650},"Median",4.1666666666666741E-2,-8.0000000000000071E-3,-3.2258064516129004E-2,0,8.3333333333333259E-2,{"$f":"H51/G51-1","v":0},{"$f":"H51/B51-1","v":8.3333333333333259E-2}]
["Mean",{"$f":"VLOOKUP($A$2,'Table 7'!$A$26:$L$44,5,FALSE)","v":594.77},{"$f":"VLOOKUP($A$2,'Table 8'!$A$26:$L$44,5,FALSE)","v":619.54},{"$f":"VLOOKUP($A$2,'Table 9'!$A$26:$L$44,5,FALSE)","v":623.1},{"$f":"VLOOKUP($A$2,'Table 10'!$A$26:$L$44,5,FALSE)","v":620.37},{"$f":"VLOOKUP($A$2,'Table 11'!$A$26:$L$44,5,FALSE)","v":625.22},{"$f":"VLOOKUP($A$2,'Table 12'!$A$26:$L$44,5,FALSE)","v":652.25},{"$f":"VLOOKUP($A$2,'Table 13'!$A$26:$L$44,5,FALSE)","v":671.75},"Mean",4.1646350690182743E-2,5.7461987926528124E-3,-4.3813192103996368E-3,7.8179151151731574E-3,4.323278206071457E-2,{"$f":"H52/G52-1","v":2.9896512073591452E-2},0.12942818232257847]
["Upper Quartile",{"$f":"VLOOKUP($A$2,'Table 7'!$A$26:$L$44,6,FALSE)","v":650},{"$f":"VLOOKUP($A$2,'Table 8'!$A$26:$L$44,6,FALSE)","v":695},{"$f":"VLOOKUP($A$2,'Table 9'!$A$26:$L$44,6,FALSE)","v":695},{"$f":"VLOOKUP($A$2,'Table 10'!$A$26:$L$44,6,FALSE)","v":695},{"$f":"VLOOKUP($A$2,'Table 11'!$A$26:$L$44,6,FALSE)","v":700},{"$f":"VLOOKUP($A$2,'Table 12'!$A$26:$L$44,6,FALSE)","v":750},{"$f":"VLOOKUP($A$2,'Table 13'!$A$26:$L$44,6,FALSE)","v":765},"Upper Quartile",6.9230769230769207E-2,0,0,7.194244604316502E-3,7.1428571428571397E-2,{"$f":"H53/G53-1","v":2.0000000000000018E-2},0.17692307692307696]
[]
[]
[]
[]
[]
[]
[]
[]
[]
[]
[]
[]
[]
[]
[]
[]
["4 Bedroom Properties:",null,null,null,null,null,null,null,"4 Bedroom Properties - Annual changes and 6-yr cumulative change:"]
[null,2010,2011,2012,2013,2014,2015,2016," ","2010 to 2011","2011 to 2012","2012 to 2013","2013 to 2014","2014 to 2015","2015 to 2016","2010 to 2016"]
["Lower Quartile",{"$f":"VLOOKUP($A$2,'Table 7'!$A$26:$L$44,9,FALSE)","v":650},{"$f":"VLOOKUP($A$2,'Table 8'!$A$26:$L$44,9,FALSE)","v":650},{"$f":"VLOOKUP($A$2,'Table 9'!$A$26:$L$44,9,FALSE)","v":650},{"$f":"VLOOKUP($A$2,'Table 10'!$A$26:$L$44,9,FALSE)","v":650},{"$f":"VLOOKUP($A$2,'Table 11'!$A$26:$L$44,9,FALSE)","v":675},{"$f":"VLOOKUP($A$2,'Table 12'!$A$26:$L$44,9,FALSE)","v":695},{"$f":"VLOOKUP($A$2,'Table 13'!$A$26:$L$44,9,FALSE)","v":695},"Lower Quartile",{"$f":"C72/B72-1","v":0},0,0,3.8461538461538547E-2,2.9629629629629672E-2,{"$f":"H72/G72-1","v":0},{"$f":"H72/B72-1","v":6.9230769230769207E-2}]
["Median",{"$f":"VLOOKUP($A$2,'Table 7'!$A$26:$L$44,10,FALSE)","v":775},{"$f":"VLOOKUP($A$2,'Table 8'!$A$26:$L$44,10,FALSE)","v":750},{"$f":"VLOOKUP($A$2,'Table 9'!$A$26:$L$44,10,FALSE)","v":750},{"$f":"VLOOKUP($A$2,'Table 10'!$A$26:$L$44,10,FALSE)","v":750},{"$f":"VLOOKUP($A$2,'Table 11'!$A$26:$L$44,10,FALSE)","v":750},{"$f":"VLOOKUP($A$2,'Table 12'!$A$26:$L$44,10,FALSE)","v":795},{"$f":"VLOOKUP($A$2,'Table 13'!$A$26:$L$44,10,FALSE)","v":812.5},"Median",-3.2258064516129004E-2,0,0,0,6.0000000000000053E-2,2.2012578616352307E-2,{"$f":"H73/B73-1","v":4.8387096774193505E-2}]
["Mean",{"$f":"VLOOKUP($A$2,'Table 7'!$A$26:$L$44,11,FALSE)","v":750.68},{"$f":"VLOOKUP($A$2,'Table 8'!$A$26:$L$44,11,FALSE)","v":745.16},{"$f":"VLOOKUP($A$2,'Table 9'!$A$26:$L$44,11,FALSE)","v":755.01},{"$f":"VLOOKUP($A$2,'Table 10'!$A$26:$L$44,11,FALSE)","v":748.89},{"$f":"VLOOKUP($A$2,'Table 11'!$A$26:$L$44,11,FALSE)","v":761.79},{"$f":"VLOOKUP($A$2,'Table 12'!$A$26:$L$44,11,FALSE)","v":814.1},{"$f":"VLOOKUP($A$2,'Table 13'!$A$26:$L$44,11,FALSE)","v":822.47},"Mean",-7.3533329780998136E-3,1.3218637608030548E-2,-8.1058529026105663E-3,1.7225493730721464E-2,6.8667217999711205E-2,1.0281292224542549E-2,9.5633292481483556E-2]
["Upper Quartile",{"$f":"VLOOKUP($A$2,'Table 7'!$A$26:$L$44,12,FALSE)","v":850},{"$f":"VLOOKUP($A$2,'Table 8'!$A$26:$L$44,12,FALSE)","v":825},{"$f":"VLOOKUP($A$2,'Table 9'!$A$26:$L$44,12,FALSE)","v":850},{"$f":"VLOOKUP($A$2,'Table 10'!$A$26:$L$44,12,FALSE)","v":850},{"$f":"VLOOKUP($A$2,'Table 11'!$A$26:$L$44,12,FALSE)","v":850},{"$f":"VLOOKUP($A$2,'Table 12'!$A$26:$L$44,12,FALSE)","v":900},{"$f":"VLOOKUP($A$2,'Table 13'!$A$26:$L$44,12,FALSE)","v":950},"Upper Quartile",-2.9411764705882359E-2,3.0303030303030276E-2,0,0,5.8823529411764719E-2,5.555555555555558E-2,0.11764705882352944]
[]
[]
[]
[]
[]
[]
[]
[]
[]
[]
[]
[]
[]
[]
[]
[]
["1 Bedroom Shared Properties:",null,null,null,null,null,null,null,"1 Bedroom Shared Properties - Annual changes and 6-yr cumulative change:"]
[null,2010,2011,2012,2013,2014,2015,2016," ","2010 to 2011","2011 to 2012","2012 to 2013","2013 to 2014","2014 to 2015","2015 to 2016","2010 to 2016"]
["Lower Quartile",{"$f":"VLOOKUP($A$2,'Table 7'!$A$47:$F$65,3,FALSE)","v":255},{"$f":"VLOOKUP($A$2,'Table 8'!$A$47:$F$65,3,FALSE)","v":258.27},{"$f":"VLOOKUP($A$2,'Table 9'!$A$47:$F$65,3,FALSE)","v":250},{"$f":"VLOOKUP($A$2,'Table 10'!$A$47:$F$65,3,FALSE)","v":250},{"$f":"VLOOKUP($A$2,'Table 11'!$A$47:$F$65,3,FALSE)","v":253.33},{"$f":"VLOOKUP($A$2,'Table 12'!$A$47:$F$65,3,FALSE)","v":270},{"$f":"VLOOKUP($A$2,'Table 13'!$A$47:$F$65,3,FALSE)","v":275.89},"Lower Quartile",{"$f":"C94/B94-1","v":1.2823529411764678E-2},-3.2020753475045405E-2,0,1.3319999999999999E-2,6.5803497414439693E-2,{"$f":"H94/G94-1","v":2.1814814814814731E-2},{"$f":"H94/B94-1","v":8.1921568627451036E-2}]
["Median",{"$f":"VLOOKUP($A$2,'Table 7'!$A$47:$F$65,4,FALSE)","v":285},{"$f":"VLOOKUP($A$2,'Table 8'!$A$47:$F$65,4,FALSE)","v":285},{"$f":"VLOOKUP($A$2,'Table 9'!$A$47:$F$65,4,FALSE)","v":275},{"$f":"VLOOKUP($A$2,'Table 10'!$A$47:$F$65,4,FALSE)","v":285.33999999999997},{"$f":"VLOOKUP($A$2,'Table 11'!$A$47:$F$65,4,FALSE)","v":290},{"$f":"VLOOKUP($A$2,'Table 12'!$A$47:$F$65,4,FALSE)","v":300},{"$f":"VLOOKUP($A$2,'Table 13'!$A$47:$F$65,4,FALSE)","v":306.39999999999998},"Median",0,-3.5087719298245612E-2,3.7599999999999856E-2,1.6331394126305465E-2,3.4482758620689724E-2,2.1333333333333204E-2,{"$f":"H95/B95-1","v":7.5087719298245537E-2}]
["Mean",{"$f":"VLOOKUP($A$2,'Table 7'!$A$47:$F$65,5,FALSE)","v":287.37},{"$f":"VLOOKUP($A$2,'Table 8'!$A$47:$F$65,5,FALSE)","v":289.49},{"$f":"VLOOKUP($A$2,'Table 9'!$A$47:$F$65,5,FALSE)","v":279.29000000000002},{"$f":"VLOOKUP($A$2,'Table 10'!$A$47:$F$65,5,FALSE)","v":317.58999999999997},{"$f":"VLOOKUP($A$2,'Table 11'!$A$47:$F$65,5,FALSE)","v":290.83},{"$f":"VLOOKUP($A$2,'Table 12'!$A$47:$F$65,5,FALSE)","v":315.31},{"$f":"VLOOKUP($A$2,'Table 13'!$A$47:$F$65,5,FALSE)","v":319.81},"Mean",7.3772488429550975E-3,-3.5234377698711516E-2,0.137133445522575,-8.4259579961585618E-2,8.4172884502974332E-2,1.4271669150994315E-2,0.11288582663465219]
["Upper Quartile",{"$f":"VLOOKUP($A$2,'Table 7'!$A$47:$F$65,6,FALSE)","v":310},{"$f":"VLOOKUP($A$2,'Table 8'!$A$47:$F$65,6,FALSE)","v":320},{"$f":"VLOOKUP($A$2,'Table 9'!$A$47:$F$65,6,FALSE)","v":300},{"$f":"VLOOKUP($A$2,'Table 10'!$A$47:$F$65,6,FALSE)","v":311.67},{"$f":"VLOOKUP($A$2,'Table 11'!$A$47:$F$65,6,FALSE)","v":318.33},{"$f":"VLOOKUP($A$2,'Table 12'!$A$47:$F$65,6,FALSE)","v":334.52},{"$f":"VLOOKUP($A$2,'Table 13'!$A$47:$F$65,6,FALSE)","v":350},"Upper Quartile",3.2258064516129004E-2,-6.25E-2,3.8900000000000157E-2,2.1368755414380436E-2,5.0859171300223105E-2,4.6275260074136071E-2,0.12903225806451624]
[]
[]
[]
[]
[]
[]
[]
[]
[]
[]
[]
[]
[]
[]
[]
[]
[]
[]
["Mean Rents by Property Size:",null,null,null,null,null,null,null,"Median Rents by Property Size:"]
[null,2010,2011,2012,2013,2014,2015,2016,null,2010,2011,2012,2013,2014,2015,2016]
["1 Bedroom Shared",{"$f":"B96","v":287.37},289.49,279.29000000000002,317.58999999999997,290.83,315.31,319.81,"1 Bedroom Shared",{"$f":"B95","v":285},285,275,285.33999999999997,290,{"$f":"G95","v":300},{"$f":"H95","v":306.39999999999998}]
["1 Bedroom ",{"$f":"B8","v":415.01},419.9,424.36,430.75,439.51,449.77,460.5,"1 Bedroom ",{"$f":"B7","v":420},420,425,430,445,{"$f":"G7","v":450},{"$f":"H7","v":470}]
["2 Bedrooms",{"$f":"B30","v":503.41},513.76,516.38,527.24,532.32000000000005,544.54999999999995,560.95000000000005,"2 Bedrooms",{"$f":"B29","v":500},500,500,525,525,{"$f":"G29","v":550},{"$f":"H29","v":550}]
["3 Bedrooms",{"$f":"B52","v":594.77},619.54,623.1,620.37,625.22,652.25,671.75,"3 Bedrooms",{"$f":"B51","v":600},625,620,600,600,{"$f":"G51","v":650},{"$f":"H51","v":650}]
["4 Bedrooms",{"$f":"B74","v":750.68},745.16,755.01,748.89,761.79,814.1,822.47,"4 Bedrooms",{"$f":"B73","v":775},750,750,750,750,{"$f":"G73","v":795},{"$f":"H73","v":812.5}]
[]
[]
[]
[]
[]
[]
[]
[]
[]
[]
[]
[]
[]
[]
[]
[]
[]
["Sample Sizes:",null,null,null,null,null,null,null,"Sample Proportions:"]
[null,2010,2011,2012,2013,2014,2015,2016,null,2010,2011,2012,2013,2014,2015,2016]
["1 Bedroom ",{"$f":"VLOOKUP($A$2,'Table 7'!$A$5:$L$23,2,FALSE)","v":175},{"$f":"VLOOKUP($A$2,'Table 8'!$A$5:$L$23,2,FALSE)","v":244},{"$f":"VLOOKUP($A$2,'Table 9'!$A$5:$L$23,2,FALSE)","v":257},{"$f":"VLOOKUP($A$2,'Table 10'!$A$5:$L$23,2,FALSE)","v":179},{"$f":"VLOOKUP($A$2,'Table 11'!$A$5:$L$23,2,FALSE)","v":236},{"$f":"VLOOKUP($A$2,'Table 12'!$A$5:$L$23,2,FALSE)","v":258},{"$f":"VLOOKUP($A$2,'Table 13'!$A$5:$L$23,2,FALSE)","v":269},"1 Bedroom ",{"$f":"B142/SUM(B$142:B$146)","v":0.13059701492537312},{"$f":"C142/SUM(C$142:C$146)","v":0.13578185865331108},0.1381720430107527,0.13220088626292467,0.14131736526946106,{"$f":"G142/SUM(G$142:G$146)","v":0.15458358298382266},0.16312916919345058]
["2 Bedrooms",{"$f":"VLOOKUP($A$2,'Table 7'!$A$5:$L$23,8,FALSE)","v":585},{"$f":"VLOOKUP($A$2,'Table 8'!$A$5:$L$23,8,FALSE)","v":783},{"$f":"VLOOKUP($A$2,'Table 9'!$A$5:$L$23,8,FALSE)","v":785},{"$f":"VLOOKUP($A$2,'Table 10'!$A$5:$L$23,8,FALSE)","v":566},{"$f":"VLOOKUP($A$2,'Table 11'!$A$5:$L$23,8,FALSE)","v":741},{"$f":"VLOOKUP($A$2,'Table 12'!$A$5:$L$23,8,FALSE)","v":734},{"$f":"VLOOKUP($A$2,'Table 13'!$A$5:$L$23,8,FALSE)","v":733},"2 Bedrooms",{"$f":"B143/SUM(B$142:B$146)","v":0.43656716417910446},0.43572621035058429,0.42204301075268819,0.41802067946824223,0.44371257485029941,0.4397843019772319,0.44451182534869615]
["3 Bedrooms",{"$f":"VLOOKUP($A$2,'Table 7'!$A$26:$L$44,2,FALSE)","v":362},{"$f":"VLOOKUP($A$2,'Table 8'!$A$26:$L$44,2,FALSE)","v":467},{"$f":"VLOOKUP($A$2,'Table 9'!$A$26:$L$44,2,FALSE)","v":491},{"$f":"VLOOKUP($A$2,'Table 10'!$A$26:$L$44,2,FALSE)","v":355},{"$f":"VLOOKUP($A$2,'Table 11'!$A$26:$L$44,2,FALSE)","v":436},{"$f":"VLOOKUP($A$2,'Table 12'!$A$26:$L$44,2,FALSE)","v":347},{"$f":"VLOOKUP($A$2,'Table 13'!$A$26:$L$44,2,FALSE)","v":361},"3 Bedrooms",{"$f":"B144/SUM(B$142:B$146)","v":0.2701492537313433},0.25987757373400111,0.26397849462365591,0.26218611521418023,0.26107784431137726,0.20790892750149789,0.2189205579138872]
["4 Bedrooms",{"$f":"VLOOKUP($A$2,'Table 7'!$A$26:$L$44,8,FALSE)","v":117},{"$f":"VLOOKUP($A$2,'Table 8'!$A$26:$L$44,8,FALSE)","v":170},{"$f":"VLOOKUP($A$2,'Table 9'!$A$26:$L$44,8,FALSE)","v":184},{"$f":"VLOOKUP($A$2,'Table 10'!$A$26:$L$44,8,FALSE)","v":128},{"$f":"VLOOKUP($A$2,'Table 11'!$A$26:$L$44,8,FALSE)","v":123},{"$f":"VLOOKUP($A$2,'Table 12'!$A$26:$L$44,8,FALSE)","v":129},{"$f":"VLOOKUP($A$2,'Table 13'!$A$26:$L$44,8,FALSE)","v":108},"4 Bedrooms",{"$f":"B145/SUM(B$142:B$146)","v":8.7313432835820895E-2},9.4602114635503623E-2,9.8924731182795697E-2,9.4534711964549489E-2,7.3652694610778446E-2,7.729179149191133E-2,6.549423893268648E-2]
["1 Bedroom Shared",{"$f":"VLOOKUP($A$2,'Table 7'!$A$47:$L$65,2,FALSE)","v":101},{"$f":"VLOOKUP($A$2,'Table 8'!$A$47:$L$65,2,FALSE)","v":133},{"$f":"VLOOKUP($A$2,'Table 9'!$A$47:$L$65,2,FALSE)","v":143},{"$f":"VLOOKUP($A$2,'Table 10'!$A$47:$L$65,2,FALSE)","v":126},{"$f":"VLOOKUP($A$2,'Table 11'!$A$47:$L$65,2,FALSE)","v":134},{"$f":"VLOOKUP($A$2,'Table 12'!$A$47:$L$65,2,FALSE)","v":201},{"$f":"VLOOKUP($A$2,'Table 13'!$A$47:$L$65,2,FALSE)","v":178},"1 Bedroom Shared",{"$f":"B146/SUM(B$142:B$146)","v":7.537313432835821E-2},7.4012242626599889E-2,7.6881720430107534E-2,9.3057607090103397E-2,8.0239520958083829E-2,0.12043139604553625,0.10794420861127957]

{"sheet":"BRMA Profile - Lothian","index":24,"n_rows":146,"n_cols":16,"rows_kept":146,"cut":false,"hidden":true,"merged":[[1,0,1,2]]}
["BRMA Rent Profile for:"]
["Lothian",null,null,null,null,null,null,null,{"$f":"ROUND(MIN(J6:P9,J28:P31,J50:P53,J72:P75,J94:P97)-0.01,2)","v":-0.12},{"$f":"ROUND(MAX(J6:P9,J28:P31,J50:P53,J72:P75,J94:P97)+0.01,2)","v":0.3}]
[]
["1 Bedroom Properties - Quartile Measures:",null,null,null,null,null,null,null,"1 Bedroom Properties - Annual changes and 6-yr cumulative change:"]
[" ",2010,2011,2012,2013,2014,2015,2016," ","2010 to 2011","2011 to 2012","2012 to 2013","2013 to 2014","2014 to 2015","2015 to 2016","2010 to 2016"]
["Lower Quartile",{"$f":"VLOOKUP($A$2,'Table 7'!$A$5:$L$23,3,FALSE)","v":465},{"$f":"VLOOKUP($A$2,'Table 8'!$A$5:$L$23,3,FALSE)","v":480},{"$f":"VLOOKUP($A$2,'Table 9'!$A$5:$L$23,3,FALSE)","v":495},{"$f":"VLOOKUP($A$2,'Table 10'!$A$5:$L$23,3,FALSE)","v":495},{"$f":"VLOOKUP($A$2,'Table 11'!$A$5:$L$23,3,FALSE)","v":515},{"$f":"VLOOKUP($A$2,'Table 12'!$A$5:$L$23,3,FALSE)","v":550},{"$f":"VLOOKUP($A$2,'Table 13'!$A$5:$L$23,3,FALSE)","v":575},"Lower Quartile",{"$f":"C6/B6-1","v":3.2258064516129004E-2},3.125E-2,0,4.0404040404040442E-2,6.7961165048543659E-2,{"$f":"H6/G6-1","v":4.5454545454545414E-2},{"$f":"H6/B6-1","v":0.23655913978494625}]
["Median",{"$f":"VLOOKUP($A$2,'Table 7'!$A$5:$L$23,4,FALSE)","v":500},{"$f":"VLOOKUP($A$2,'Table 8'!$A$5:$L$23,4,FALSE)","v":525},{"$f":"VLOOKUP($A$2,'Table 9'!$A$5:$L$23,4,FALSE)","v":525},{"$f":"VLOOKUP($A$2,'Table 10'!$A$5:$L$23,4,FALSE)","v":525},{"$f":"VLOOKUP($A$2,'Table 11'!$A$5:$L$23,4,FALSE)","v":550},{"$f":"VLOOKUP($A$2,'Table 12'!$A$5:$L$23,4,FALSE)","v":595},{"$f":"VLOOKUP($A$2,'Table 13'!$A$5:$L$23,4,FALSE)","v":625},"Median",5.0000000000000044E-2,0,0,4.7619047619047672E-2,8.181818181818179E-2,5.0420168067226934E-2,{"$f":"H7/B7-1","v":0.25}]
["Mean",{"$f":"VLOOKUP($A$2,'Table 7'!$A$5:$L$23,5,FALSE)","v":520.36},{"$f":"VLOOKUP($A$2,'Table 8'!$A$5:$L$23,5,FALSE)","v":535.28},{"$f":"VLOOKUP($A$2,'Table 9'!$A$5:$L$23,5,FALSE)","v":541.54999999999995},{"$f":"VLOOKUP($A$2,'Table 10'!$A$5:$L$23,5,FALSE)","v":555.27},{"$f":"VLOOKUP($A$2,'Table 11'!$A$5:$L$23,5,FALSE)","v":582.17999999999995},{"$f":"VLOOKUP($A$2,'Table 12'!$A$5:$L$23,5,FALSE)","v":619.9},{"$f":"VLOOKUP($A$2,'Table 13'!$A$5:$L$23,5,FALSE)","v":652.91999999999996},"Mean",2.8672457529402617E-2,1.171349574054692E-2,2.5334687471147754E-2,4.8462909935706788E-2,6.4790958122917353E-2,5.3266655912243888E-2,0.25474671381351355]
["Upper Quartile",{"$f":"VLOOKUP($A$2,'Table 7'!$A$5:$L$23,6,FALSE)","v":550},{"$f":"VLOOKUP($A$2,'Table 8'!$A$5:$L$23,6,FALSE)","v":575},{"$f":"VLOOKUP($A$2,'Table 9'!$A$5:$L$23,6,FALSE)","v":575},{"$f":"VLOOKUP($A$2,'Table 10'!$A$5:$L$23,6,FALSE)","v":595},{"$f":"VLOOKUP($A$2,'Table 11'!$A$5:$L$23,6,FALSE)","v":625},{"$f":"VLOOKUP($A$2,'Table 12'!$A$5:$L$23,6,FALSE)","v":675},{"$f":"VLOOKUP($A$2,'Table 13'!$A$5:$L$23,6,FALSE)","v":700},"Upper Quartile",4.5454545454545414E-2,0,3.4782608695652195E-2,5.0420168067226934E-2,8.0000000000000071E-2,3.7037037037036979E-2,0.27272727272727271]
[]
[]
[]
[]
[]
[]
[]
[]
[]
[]
[]
[]
[]
[]
[]
[]
["2 Bedroom Properties:",null,null,null,null,null,null,null,"2 Bedroom Properties - Annual changes and 6-yr cumulative change:"]
[null,2010,2011,2012,2013,2014,2015,2016," ","2010 to 2011","2011 to 2012","2012 to 2013","2013 to 2014","2014 to 2015","2015 to 2016","2010 to 2016"]
["Lower Quartile",{"$f":"VLOOKUP($A$2,'Table 7'!$A$5:$L$23,9,FALSE)","v":580},{"$f":"VLOOKUP($A$2,'Table 8'!$A$5:$L$23,9,FALSE)","v":595},{"$f":"VLOOKUP($A$2,'Table 9'!$A$5:$L$23,9,FALSE)","v":600},{"$f":"VLOOKUP($A$2,'Table 10'!$A$5:$L$23,9,FALSE)","v":625},{"$f":"VLOOKUP($A$2,'Table 11'!$A$5:$L$23,9,FALSE)","v":630},{"$f":"VLOOKUP($A$2,'Table 12'!$A$5:$L$23,9,FALSE)","v":675},{"$f":"VLOOKUP($A$2,'Table 13'!$A$5:$L$23,9,FALSE)","v":700},"Lower Quartile",{"$f":"C28/B28-1","v":2.5862068965517349E-2},8.4033613445377853E-3,4.1666666666666741E-2,8.0000000000000071E-3,7.1428571428571397E-2,{"$f":"H28/G28-1","v":3.7037037037036979E-2},{"$f":"H28/B28-1","v":0.2068965517241379}]
["Median",{"$f":"VLOOKUP($A$2,'Table 7'!$A$5:$L$23,10,FALSE)","v":650},{"$f":"VLOOKUP($A$2,'Table 8'!$A$5:$L$23,10,FALSE)","v":650},{"$f":"VLOOKUP($A$2,'Table 9'!$A$5:$L$23,10,FALSE)","v":650},{"$f":"VLOOKUP($A$2,'Table 10'!$A$5:$L$23,10,FALSE)","v":680},{"$f":"VLOOKUP($A$2,'Table 11'!$A$5:$L$23,10,FALSE)","v":705},{"$f":"VLOOKUP($A$2,'Table 12'!$A$5:$L$23,10,FALSE)","v":775},{"$f":"VLOOKUP($A$2,'Table 13'!$A$5:$L$23,10,FALSE)","v":800},"Median",0,0,4.6153846153846212E-2,3.6764705882353033E-2,9.9290780141843893E-2,{"$f":"H29/G29-1","v":3.2258064516129004E-2},{"$f":"H29/B29-1","v":0.23076923076923084}]
["Mean",{"$f":"VLOOKUP($A$2,'Table 7'!$A$5:$L$23,11,FALSE)","v":664.51},{"$f":"VLOOKUP($A$2,'Table 8'!$A$5:$L$23,11,FALSE)","v":688.96},{"$f":"VLOOKUP($A$2,'Table 9'!$A$5:$L$23,11,FALSE)","v":699.53},{"$f":"VLOOKUP($A$2,'Table 10'!$A$5:$L$23,11,FALSE)","v":728.57},{"$f":"VLOOKUP($A$2,'Table 11'!$A$5:$L$23,11,FALSE)","v":779.12},{"$f":"VLOOKUP($A$2,'Table 12'!$A$5:$L$23,11,FALSE)","v":828.92},{"$f":"VLOOKUP($A$2,'Table 13'!$A$5:$L$23,11,FALSE)","v":830.97},"Mean",3.6794028682788804E-2,1.5341964700417821E-2,4.1513587694595122E-2,6.938248898527255E-2,6.3918266762501119E-2,{"$f":"H30/G30-1","v":2.4730975244897646E-3},0.25050036869272096]
["Upper Quartile",{"$f":"VLOOKUP($A$2,'Table 7'!$A$5:$L$23,12,FALSE)","v":715},{"$f":"VLOOKUP($A$2,'Table 8'!$A$5:$L$23,12,FALSE)","v":750},{"$f":"VLOOKUP($A$2,'Table 9'!$A$5:$L$23,12,FALSE)","v":750},{"$f":"VLOOKUP($A$2,'Table 10'!$A$5:$L$23,12,FALSE)","v":775},{"$f":"VLOOKUP($A$2,'Table 11'!$A$5:$L$23,12,FALSE)","v":840},{"$f":"VLOOKUP($A$2,'Table 12'!$A$5:$L$23,12,FALSE)","v":900},{"$f":"VLOOKUP($A$2,'Table 13'!$A$5:$L$23,12,FALSE)","v":925},"Upper Quartile",4.8951048951048959E-2,0,3.3333333333333437E-2,8.3870967741935587E-2,7.1428571428571397E-2,{"$f":"H31/G31-1","v":2.7777777777777679E-2},0.29370629370629375]
[]
[]
[]
[]
[]
[]
[]
[]
[]
[]
[]
[]
[]
[]
[]
[]
["3 Bedroom Properties:",null,null,null,null,null,null,null,"3 Bedroom Properties - Annual changes and 6-yr cumulative change:"]
[null,2010,2011,2012,2013,2014,2015,2016," ","2010 to 2011","2011 to 2012","2012 to 2013","2013 to 2014","2014 to 2015","2015 to 2016","2010 to 2016"]
["Lower Quartile",{"$f":"VLOOKUP($A$2,'Table 7'!$A$26:$L$44,3,FALSE)","v":750},{"$f":"VLOOKUP($A$2,'Table 8'!$A$26:$L$44,3,FALSE)","v":750},{"$f":"VLOOKUP($A$2,'Table 9'!$A$26:$L$44,3,FALSE)","v":795},{"$f":"VLOOKUP($A$2,'Table 10'!$A$26:$L$44,3,FALSE)","v":795},{"$f":"VLOOKUP($A$2,'Table 11'!$A$26:$L$44,3,FALSE)","v":800},{"$f":"VLOOKUP($A$2,'Table 12'!$A$26:$L$44,3,FALSE)","v":825},{"$f":"VLOOKUP($A$2,'Table 13'!$A$26:$L$44,3,FALSE)","v":860},"Lower Quartile",{"$f":"C50/B50-1","v":0},6.0000000000000053E-2,0,6.2893081761006275E-3,3.125E-2,{"$f":"H50/G50-1","v":4.2424242424242475E-2},{"$f":"H50/B50-1","v":0.14666666666666672}]
["Median",{"$f":"VLOOKUP($A$2,'Table 7'!$A$26:$L$44,4,FALSE)","v":895},{"$f":"VLOOKUP($A$2,'Table 8'!$A$26:$L$44,4,FALSE)","v":895},{"$f":"VLOOKUP($A$2,'Table 9'!$A$26:$L$44,4,FALSE)","v":925},{"$f":"VLOOKUP($A$2,'Table 10'!$A$26:$L$44,4,FALSE)","v":920},{"$f":"VLOOKUP($A$2,'Table 11'!$A$26:$L$44,4,FALSE)","v":985},{"$f":"VLOOKUP($A$2,'Table 12'!$A$26:$L$44,4,FALSE)","v":1000},{"$f":"VLOOKUP($A$2,'Table 13'!$A$26:$L$44,4,FALSE)","v":1100},"Median",0,3.3519553072625774E-2,-5.4054054054053502E-3,7.0652173913043459E-2,1.5228426395939021E-2,{"$f":"H51/G51-1","v":0.10000000000000009},{"$f":"H51/B51-1","v":0.22905027932960897}]
["Mean",{"$f":"VLOOKUP($A$2,'Table 7'!$A$26:$L$44,5,FALSE)","v":917.68},{"$f":"VLOOKUP($A$2,'Table 8'!$A$26:$L$44,5,FALSE)","v":924.64},{"$f":"VLOOKUP($A$2,'Table 9'!$A$26:$L$44,5,FALSE)","v":983.3},{"$f":"VLOOKUP($A$2,'Table 10'!$A$26:$L$44,5,FALSE)","v":970.95},{"$f":"VLOOKUP($A$2,'Table 11'!$A$26:$L$44,5,FALSE)","v":1065.8599999999999},{"$f":"VLOOKUP($A$2,'Table 12'!$A$26:$L$44,5,FALSE)","v":1097.1500000000001},{"$f":"VLOOKUP($A$2,'Table 13'!$A$26:$L$44,5,FALSE)","v":1111.6400000000001},"Mean",7.5843431261441996E-3,6.3440906731268454E-2,-1.2559747788060571E-2,9.774962665430742E-2,2.9356575910532534E-2,{"$f":"H52/G52-1","v":1.3206945267283388E-2},0.21135907941766208]
["Upper Quartile",{"$f":"VLOOKUP($A$2,'Table 7'!$A$26:$L$44,6,FALSE)","v":1005},{"$f":"VLOOKUP($A$2,'Table 8'!$A$26:$L$44,6,FALSE)","v":1050},{"$f":"VLOOKUP($A$2,'Table 9'!$A$26:$L$44,6,FALSE)","v":1100},{"$f":"VLOOKUP($A$2,'Table 10'!$A$26:$L$44,6,FALSE)","v":1100},{"$f":"VLOOKUP($A$2,'Table 11'!$A$26:$L$44,6,FALSE)","v":1215},{"$f":"VLOOKUP($A$2,'Table 12'!$A$26:$L$44,6,FALSE)","v":1300},{"$f":"VLOOKUP($A$2,'Table 13'!$A$26:$L$44,6,FALSE)","v":1300},"Upper Quartile",4.4776119402984982E-2,4.7619047619047672E-2,0,0.1045454545454545,6.9958847736625529E-2,{"$f":"H53/G53-1","v":0},0.29353233830845782]
[]
[]
[]
[]
[]
[]
[]
[]
[]
[]
[]
[]
[]
[]
[]
[]
["4 Bedroom Properties:",null,null,null,null,null,null,null,"4 Bedroom Properties - Annual changes and 6-yr cumulative change:"]
[null,2010,2011,2012,2013,2014,2015,2016," ","2010 to 2011","2011 to 2012","2012 to 2013","2013 to 2014","2014 to 2015","2015 to 2016","2010 to 2016"]
["Lower Quartile",{"$f":"VLOOKUP($A$2,'Table 7'!$A$26:$L$44,9,FALSE)","v":1100},{"$f":"VLOOKUP($A$2,'Table 8'!$A$26:$L$44,9,FALSE)","v":1045},{"$f":"VLOOKUP($A$2,'Table 9'!$A$26:$L$44,9,FALSE)","v":1100},{"$f":"VLOOKUP($A$2,'Table 10'!$A$26:$L$44,9,FALSE)","v":1175},{"$f":"VLOOKUP($A$2,'Table 11'!$A$26:$L$44,9,FALSE)","v":1050},{"$f":"VLOOKUP($A$2,'Table 12'!$A$26:$L$44,9,FALSE)","v":1200},{"$f":"VLOOKUP($A$2,'Table 13'!$A$26:$L$44,9,FALSE)","v":1225},"Lower Quartile",{"$f":"C72/B72-1","v":-5.0000000000000044E-2},5.2631578947368363E-2,6.8181818181818121E-2,-0.1063829787234043,0.14285714285714279,{"$f":"H72/G72-1","v":2.0833333333333259E-2},{"$f":"H72/B72-1","v":0.11363636363636354}]
["Median",{"$f":"VLOOKUP($A$2,'Table 7'!$A$26:$L$44,10,FALSE)","v":1280},{"$f":"VLOOKUP($A$2,'Table 8'!$A$26:$L$44,10,FALSE)","v":1300},{"$f":"VLOOKUP($A$2,'Table 9'!$A$26:$L$44,10,FALSE)","v":1300},{"$f":"VLOOKUP($A$2,'Table 10'!$A$26:$L$44,10,FALSE)","v":1400},{"$f":"VLOOKUP($A$2,'Table 11'!$A$26:$L$44,10,FALSE)","v":1395},{"$f":"VLOOKUP($A$2,'Table 12'!$A$26:$L$44,10,FALSE)","v":1500},{"$f":"VLOOKUP($A$2,'Table 13'!$A$26:$L$44,10,FALSE)","v":1500},"Median",1.5625E-2,0,7.6923076923076872E-2,-3.5714285714285587E-3,7.5268817204301008E-2,0,{"$f":"H73/B73-1","v":0.171875}]
["Mean",{"$f":"VLOOKUP($A$2,'Table 7'!$A$26:$L$44,11,FALSE)","v":1290.68},{"$f":"VLOOKUP($A$2,'Table 8'!$A$26:$L$44,11,FALSE)","v":1321.2},{"$f":"VLOOKUP($A$2,'Table 9'!$A$26:$L$44,11,FALSE)","v":1341.31},{"$f":"VLOOKUP($A$2,'Table 10'!$A$26:$L$44,11,FALSE)","v":1416.47},{"$f":"VLOOKUP($A$2,'Table 11'!$A$26:$L$44,11,FALSE)","v":1428.27},{"$f":"VLOOKUP($A$2,'Table 12'!$A$26:$L$44,11,FALSE)","v":1510.64},{"$f":"VLOOKUP($A$2,'Table 13'!$A$26:$L$44,11,FALSE)","v":1512.32},"Mean",2.3646449933368396E-2,1.5221011201937529E-2,5.6034771976649855E-2,8.330568243591463E-3,5.7671168616578283E-2,1.1121114229728501E-3,0.17172343260916723]
["Upper Quartile",{"$f":"VLOOKUP($A$2,'Table 7'!$A$26:$L$44,12,FALSE)","v":1400},{"$f":"VLOOKUP($A$2,'Table 8'!$A$26:$L$44,12,FALSE)","v":1500},{"$f":"VLOOKUP($A$2,'Table 9'!$A$26:$L$44,12,FALSE)","v":1500},{"$f":"VLOOKUP($A$2,'Table 10'!$A$26:$L$44,12,FALSE)","v":1600},{"$f":"VLOOKUP($A$2,'Table 11'!$A$26:$L$44,12,FALSE)","v":1695},{"$f":"VLOOKUP($A$2,'Table 12'!$A$26:$L$44,12,FALSE)","v":1730},{"$f":"VLOOKUP($A$2,'Table 13'!$A$26:$L$44,12,FALSE)","v":1800},"Upper Quartile",7.1428571428571397E-2,0,6.6666666666666652E-2,5.9374999999999956E-2,2.0648967551622377E-2,4.0462427745664664E-2,0.28571428571428581]
[]
[]
[]
[]
[]
[]
[]
[]
[]
[]
[]
[]
[]
[]
[]
[]
["1 Bedroom Shared Properties:",null,null,null,null,null,null,null,"1 Bedroom Shared Properties - Annual changes and 6-yr cumulative change:"]
[null,2010,2011,2012,2013,2014,2015,2016," ","2010 to 2011","2011 to 2012","2012 to 2013","2013 to 2014","2014 to 2015","2015 to 2016","2010 to 2016"]
["Lower Quartile",{"$f":"VLOOKUP($A$2,'Table 7'!$A$47:$F$65,3,FALSE)","v":285},{"$f":"VLOOKUP($A$2,'Table 8'!$A$47:$F$65,3,FALSE)","v":285},{"$f":"VLOOKUP($A$2,'Table 9'!$A$47:$F$65,3,FALSE)","v":280},{"$f":"VLOOKUP($A$2,'Table 10'!$A$47:$F$65,3,FALSE)","v":285},{"$f":"VLOOKUP($A$2,'Table 11'!$A$47:$F$65,3,FALSE)","v":300},{"$f":"VLOOKUP($A$2,'Table 12'!$A$47:$F$65,3,FALSE)","v":305},{"$f":"VLOOKUP($A$2,'Table 13'!$A$47:$F$65,3,FALSE)","v":325},"Lower Quartile",{"$f":"C94/B94-1","v":0},-1.7543859649122862E-2,1.7857142857142794E-2,5.2631578947368363E-2,1.6666666666666607E-2,{"$f":"H94/G94-1","v":6.5573770491803351E-2},{"$f":"H94/B94-1","v":0.14035087719298245}]
["Median",{"$f":"VLOOKUP($A$2,'Table 7'!$A$47:$F$65,4,FALSE)","v":325},{"$f":"VLOOKUP($A$2,'Table 8'!$A$47:$F$65,4,FALSE)","v":320},{"$f":"VLOOKUP($A$2,'Table 9'!$A$47:$F$65,4,FALSE)","v":325},{"$f":"VLOOKUP($A$2,'Table 10'!$A$47:$F$65,4,FALSE)","v":325},{"$f":"VLOOKUP($A$2,'Table 11'!$A$47:$F$65,4,FALSE)","v":328},{"$f":"VLOOKUP($A$2,'Table 12'!$A$47:$F$65,4,FALSE)","v":350},{"$f":"VLOOKUP($A$2,'Table 13'!$A$47:$F$65,4,FALSE)","v":375},"Median",-1.538461538461533E-2,1.5625E-2,0,9.2307692307691536E-3,6.7073170731707377E-2,7.1428571428571397E-2,{"$f":"H95/B95-1","v":0.15384615384615374}]
["Mean",{"$f":"VLOOKUP($A$2,'Table 7'!$A$47:$F$65,5,FALSE)","v":319.85000000000002},{"$f":"VLOOKUP($A$2,'Table 8'!$A$47:$F$65,5,FALSE)","v":313.86},{"$f":"VLOOKUP($A$2,'Table 9'!$A$47:$F$65,5,FALSE)","v":316.18},{"$f":"VLOOKUP($A$2,'Table 10'!$A$47:$F$65,5,FALSE)","v":327.84},{"$f":"VLOOKUP($A$2,'Table 11'!$A$47:$F$65,5,FALSE)","v":338.41},{"$f":"VLOOKUP($A$2,'Table 12'!$A$47:$F$65,5,FALSE)","v":351.08},{"$f":"VLOOKUP($A$2,'Table 13'!$A$47:$F$65,5,FALSE)","v":367.86},"Mean",-1.872752852899795E-2,7.3918307525648874E-3,3.687772787652599E-2,3.2241337237677081E-2,3.7439791968322256E-2,4.7795374273669866E-2,0.15010161012974832]
["Upper Quartile",{"$f":"VLOOKUP($A$2,'Table 7'!$A$47:$F$65,6,FALSE)","v":350},{"$f":"VLOOKUP($A$2,'Table 8'!$A$47:$F$65,6,FALSE)","v":341.47},{"$f":"VLOOKUP($A$2,'Table 9'!$A$47:$F$65,6,FALSE)","v":350},{"$f":"VLOOKUP($A$2,'Table 10'!$A$47:$F$65,6,FALSE)","v":366.33},{"$f":"VLOOKUP($A$2,'Table 11'!$A$47:$F$65,6,FALSE)","v":375},{"$f":"VLOOKUP($A$2,'Table 12'!$A$47:$F$65,6,FALSE)","v":395},{"$f":"VLOOKUP($A$2,'Table 13'!$A$47:$F$65,6,FALSE)","v":425},"Upper Quartile",-2.4371428571428488E-2,2.4980232524086876E-2,4.665714285714273E-2,2.3667185324707241E-2,5.3333333333333233E-2,7.5949367088607556E-2,0.21428571428571419]
[]
[]
[]
[]
[]
[]
[]
[]
[]
[]
[]
[]
[]
[]
[]
[]
[]
[]
["Mean Rents by Property Size:",null,null,null,null,null,null,null,"Median Rents by Property Size:"]
[null,2010,2011,2012,2013,2014,2015,2016,null,2010,2011,2012,2013,2014,2015,2016]
["1 Bedroom Shared",{"$f":"B96","v":319.85000000000002},313.86,316.18,327.84,338.41,351.08,367.86,"1 Bedroom Shared",{"$f":"B95","v":325},320,325,325,328,{"$f":"G95","v":350},{"$f":"H95","v":375}]
["1 Bedroom ",{"$f":"B8","v":520.36},535.28,541.54999999999995,555.27,582.17999999999995,619.9,652.91999999999996,"1 Bedroom ",{"$f":"B7","v":500},525,525,525,550,{"$f":"G7","v":595},{"$f":"H7","v":625}]
["2 Bedrooms",{"$f":"B30","v":664.51},688.96,699.53,728.57,779.12,828.92,830.97,"2 Bedrooms",{"$f":"B29","v":650},650,650,680,705,{"$f":"G29","v":775},{"$f":"H29","v":800}]
["3 Bedrooms",{"$f":"B52","v":917.68},924.64,983.3,970.95,1065.8599999999999,1097.1500000000001,1111.6400000000001,"3 Bedrooms",{"$f":"B51","v":895},895,925,920,985,{"$f":"G51","v":1000},{"$f":"H51","v":1100}]
["4 Bedrooms",{"$f":"B74","v":1290.68},1321.2,1341.31,1416.47,1428.27,1510.64,1512.32,"4 Bedrooms",{"$f":"B73","v":1280},1300,1300,1400,1395,{"$f":"G73","v":1500},{"$f":"H73","v":1500}]
[]
[]
[]
[]
[]
[]
[]
[]
[]
[]
[]
[]
[]
[]
[]
[]
[]
["Sample Sizes:",null,null,null,null,null,null,null,"Sample Proportions:"]
[null,2010,2011,2012,2013,2014,2015,2016,null,2010,2011,2012,2013,2014,2015,2016]
["1 Bedroom ",{"$f":"VLOOKUP($A$2,'Table 7'!$A$5:$L$23,2,FALSE)","v":1221},{"$f":"VLOOKUP($A$2,'Table 8'!$A$5:$L$23,2,FALSE)","v":987},{"$f":"VLOOKUP($A$2,'Table 9'!$A$5:$L$23,2,FALSE)","v":1276},{"$f":"VLOOKUP($A$2,'Table 10'!$A$5:$L$23,2,FALSE)","v":1049},{"$f":"VLOOKUP($A$2,'Table 11'!$A$5:$L$23,2,FALSE)","v":950},{"$f":"VLOOKUP($A$2,'Table 12'!$A$5:$L$23,2,FALSE)","v":939},{"$f":"VLOOKUP($A$2,'Table 13'!$A$5:$L$23,2,FALSE)","v":944},"1 Bedroom ",{"$f":"B142/SUM(B$142:B$146)","v":0.2555997487963157},{"$f":"C142/SUM(C$142:C$146)","v":0.25517063081695968},0.28482142857142856,0.25591607709197367,0.25407863064990638,{"$f":"G142/SUM(G$142:G$146)","v":0.23340790454884414},0.24167946748591909]
["2 Bedrooms",{"$f":"VLOOKUP($A$2,'Table 7'!$A$5:$L$23,8,FALSE)","v":1909},{"$f":"VLOOKUP($A$2,'Table 8'!$A$5:$L$23,8,FALSE)","v":1495},{"$f":"VLOOKUP($A$2,'Table 9'!$A$5:$L$23,8,FALSE)","v":1654},{"$f":"VLOOKUP($A$2,'Table 10'!$A$5:$L$23,8,FALSE)","v":1791},{"$f":"VLOOKUP($A$2,'Table 11'!$A$5:$L$23,8,FALSE)","v":1602},{"$f":"VLOOKUP($A$2,'Table 12'!$A$5:$L$23,8,FALSE)","v":1818},{"$f":"VLOOKUP($A$2,'Table 13'!$A$5:$L$23,8,FALSE)","v":1776},"2 Bedrooms",{"$f":"B143/SUM(B$142:B$146)","v":0.39962319447351896},0.38650465356773528,0.36919642857142859,0.43693583800927055,0.42845680663278951,0.45190156599552572,0.45468509984639016]
["3 Bedrooms",{"$f":"VLOOKUP($A$2,'Table 7'!$A$26:$L$44,2,FALSE)","v":923},{"$f":"VLOOKUP($A$2,'Table 8'!$A$26:$L$44,2,FALSE)","v":737},{"$f":"VLOOKUP($A$2,'Table 9'!$A$26:$L$44,2,FALSE)","v":801},{"$f":"VLOOKUP($A$2,'Table 10'!$A$26:$L$44,2,FALSE)","v":666},{"$f":"VLOOKUP($A$2,'Table 11'!$A$26:$L$44,2,FALSE)","v":612},{"$f":"VLOOKUP($A$2,'Table 12'!$A$26:$L$44,2,FALSE)","v":698},{"$f":"VLOOKUP($A$2,'Table 13'!$A$26:$L$44,2,FALSE)","v":613},"3 Bedrooms",{"$f":"B144/SUM(B$142:B$146)","v":0.193217500523341},0.19053774560496381,0.17879464285714286,0.16247865333008052,0.16368012837657128,0.17350236142182451,0.15693804403481823]
["4 Bedrooms",{"$f":"VLOOKUP($A$2,'Table 7'!$A$26:$L$44,8,FALSE)","v":473},{"$f":"VLOOKUP($A$2,'Table 8'!$A$26:$L$44,8,FALSE)","v":406},{"$f":"VLOOKUP($A$2,'Table 9'!$A$26:$L$44,8,FALSE)","v":442},{"$f":"VLOOKUP($A$2,'Table 10'!$A$26:$L$44,8,FALSE)","v":264},{"$f":"VLOOKUP($A$2,'Table 11'!$A$26:$L$44,8,FALSE)","v":242},{"$f":"VLOOKUP($A$2,'Table 12'!$A$26:$L$44,8,FALSE)","v":229},{"$f":"VLOOKUP($A$2,'Table 13'!$A$26:$L$44,8,FALSE)","v":194},"4 Bedrooms",{"$f":"B145/SUM(B$142:B$146)","v":9.9016118903077252E-2},0.10496380558428128,9.8660714285714282E-2,6.4405952671383271E-2,6.4723188018186675E-2,5.6922694506587122E-2,4.9667178699436765E-2]
["1 Bedroom Shared",{"$f":"VLOOKUP($A$2,'Table 7'!$A$47:$L$65,2,FALSE)","v":251},{"$f":"VLOOKUP($A$2,'Table 8'!$A$47:$L$65,2,FALSE)","v":243},{"$f":"VLOOKUP($A$2,'Table 9'!$A$47:$L$65,2,FALSE)","v":307},{"$f":"VLOOKUP($A$2,'Table 10'!$A$47:$L$65,2,FALSE)","v":329},{"$f":"VLOOKUP($A$2,'Table 11'!$A$47:$L$65,2,FALSE)","v":333},{"$f":"VLOOKUP($A$2,'Table 12'!$A$47:$L$65,2,FALSE)","v":339},{"$f":"VLOOKUP($A$2,'Table 13'!$A$47:$L$65,2,FALSE)","v":379},"1 Bedroom Shared",{"$f":"B146/SUM(B$142:B$146)","v":5.2543437303747123E-2},6.282316442605998E-2,6.8526785714285721E-2,8.0263478897292018E-2,8.9061246322546139E-2,8.4265473527218498E-2,9.7030209933435738E-2]

{"sheet":"BRMA Profile - North Lanarkshir","index":25,"n_rows":146,"n_cols":16,"rows_kept":146,"cut":false,"hidden":true,"merged":[[1,0,1,2]]}
["BRMA Rent Profile for:"]
["North Lanarkshire",null,null,null,null,null,null,null,{"$f":"ROUND(MIN(J6:P9,J28:P31,J50:P53,J72:P75,J94:P97)-0.01,2)","v":-0.1},{"$f":"ROUND(MAX(J6:P9,J28:P31,J50:P53,J72:P75,J94:P97)+0.01,2)","v":0.14000000000000001}]
[]
["1 Bedroom Properties - Quartile Measures:",null,null,null,null,null,null,null,"1 Bedroom Properties - Annual changes and 6-yr cumulative change:"]
[" ",2010,2011,2012,2013,2014,2015,2016," ","2010 to 2011","2011 to 2012","2012 to 2013","2013 to 2014","2014 to 2015","2015 to 2016","2010 to 2016"]
["Lower Quartile",{"$f":"VLOOKUP($A$2,'Table 7'!$A$5:$L$23,3,FALSE)","v":350},{"$f":"VLOOKUP($A$2,'Table 8'!$A$5:$L$23,3,FALSE)","v":350},{"$f":"VLOOKUP($A$2,'Table 9'!$A$5:$L$23,3,FALSE)","v":350},{"$f":"VLOOKUP($A$2,'Table 10'!$A$5:$L$23,3,FALSE)","v":350},{"$f":"VLOOKUP($A$2,'Table 11'!$A$5:$L$23,3,FALSE)","v":350},{"$f":"VLOOKUP($A$2,'Table 12'!$A$5:$L$23,3,FALSE)","v":350},{"$f":"VLOOKUP($A$2,'Table 13'!$A$5:$L$23,3,FALSE)","v":350},"Lower Quartile",{"$f":"C6/B6-1","v":0},0,0,0,0,{"$f":"H6/G6-1","v":0},{"$f":"H6/B6-1","v":0}]
["Median",{"$f":"VLOOKUP($A$2,'Table 7'!$A$5:$L$23,4,FALSE)","v":375},{"$f":"VLOOKUP($A$2,'Table 8'!$A$5:$L$23,4,FALSE)","v":375},{"$f":"VLOOKUP($A$2,'Table 9'!$A$5:$L$23,4,FALSE)","v":375},{"$f":"VLOOKUP($A$2,'Table 10'!$A$5:$L$23,4,FALSE)","v":375},{"$f":"VLOOKUP($A$2,'Table 11'!$A$5:$L$23,4,FALSE)","v":375},{"$f":"VLOOKUP($A$2,'Table 12'!$A$5:$L$23,4,FALSE)","v":375},{"$f":"VLOOKUP($A$2,'Table 13'!$A$5:$L$23,4,FALSE)","v":375},"Median",0,0,0,0,0,0,{"$f":"H7/B7-1","v":0}]
["Mean",{"$f":"VLOOKUP($A$2,'Table 7'!$A$5:$L$23,5,FALSE)","v":373.16},{"$f":"VLOOKUP($A$2,'Table 8'!$A$5:$L$23,5,FALSE)","v":378.99},{"$f":"VLOOKUP($A$2,'Table 9'!$A$5:$L$23,5,FALSE)","v":382.48},{"$f":"VLOOKUP($A$2,'Table 10'!$A$5:$L$23,5,FALSE)","v":382.66},{"$f":"VLOOKUP($A$2,'Table 11'!$A$5:$L$23,5,FALSE)","v":375.12},{"$f":"VLOOKUP($A$2,'Table 12'!$A$5:$L$23,5,FALSE)","v":383.63},{"$f":"VLOOKUP($A$2,'Table 13'!$A$5:$L$23,5,FALSE)","v":381.35},"Mean",1.5623325115232012E-2,9.2086862450195817E-3,4.706128425016054E-4,-1.9704176030941323E-2,2.268607378972054E-2,-5.9432265464118839E-3,2.1947689998928155E-2]
["Upper Quartile",{"$f":"VLOOKUP($A$2,'Table 7'!$A$5:$L$23,6,FALSE)","v":400},{"$f":"VLOOKUP($A$2,'Table 8'!$A$5:$L$23,6,FALSE)","v":425},{"$f":"VLOOKUP($A$2,'Table 9'!$A$5:$L$23,6,FALSE)","v":400},{"$f":"VLOOKUP($A$2,'Table 10'!$A$5:$L$23,6,FALSE)","v":425},{"$f":"VLOOKUP($A$2,'Table 11'!$A$5:$L$23,6,FALSE)","v":395},{"$f":"VLOOKUP($A$2,'Table 12'!$A$5:$L$23,6,FALSE)","v":400},{"$f":"VLOOKUP($A$2,'Table 13'!$A$5:$L$23,6,FALSE)","v":425},"Upper Quartile",6.25E-2,-5.8823529411764719E-2,6.25E-2,-7.0588235294117618E-2,1.2658227848101333E-2,6.25E-2,6.25E-2]
[]
[]
[]
[]
[]
[]
[]
[]
[]
[]
[]
[]
[]
[]
[]
[]
["2 Bedroom Properties:",null,null,null,null,null,null,null,"2 Bedroom Properties - Annual changes and 6-yr cumulative change:"]
[null,2010,2011,2012,2013,2014,2015,2016," ","2010 to 2011","2011 to 2012","2012 to 2013","2013 to 2014","2014 to 2015","2015 to 2016","2010 to 2016"]
["Lower Quartile",{"$f":"VLOOKUP($A$2,'Table 7'!$A$5:$L$23,9,FALSE)","v":425},{"$f":"VLOOKUP($A$2,'Table 8'!$A$5:$L$23,9,FALSE)","v":425},{"$f":"VLOOKUP($A$2,'Table 9'!$A$5:$L$23,9,FALSE)","v":425},{"$f":"VLOOKUP($A$2,'Table 10'!$A$5:$L$23,9,FALSE)","v":425},{"$f":"VLOOKUP($A$2,'Table 11'!$A$5:$L$23,9,FALSE)","v":425},{"$f":"VLOOKUP($A$2,'Table 12'!$A$5:$L$23,9,FALSE)","v":425},{"$f":"VLOOKUP($A$2,'Table 13'!$A$5:$L$23,9,FALSE)","v":425},"Lower Quartile",{"$f":"C28/B28-1","v":0},0,0,0,0,{"$f":"H28/G28-1","v":0},{"$f":"H28/B28-1","v":0}]
["Median",{"$f":"VLOOKUP($A$2,'Table 7'!$A$5:$L$23,10,FALSE)","v":450},{"$f":"VLOOKUP($A$2,'Table 8'!$A$5:$L$23,10,FALSE)","v":450},{"$f":"VLOOKUP($A$2,'Table 9'!$A$5:$L$23,10,FALSE)","v":450},{"$f":"VLOOKUP($A$2,'Table 10'!$A$5:$L$23,10,FALSE)","v":450},{"$f":"VLOOKUP($A$2,'Table 11'!$A$5:$L$23,10,FALSE)","v":450},{"$f":"VLOOKUP($A$2,'Table 12'!$A$5:$L$23,10,FALSE)","v":450},{"$f":"VLOOKUP($A$2,'Table 13'!$A$5:$L$23,10,FALSE)","v":475},"Median",0,0,0,0,0,{"$f":"H29/G29-1","v":5.555555555555558E-2},{"$f":"H29/B29-1","v":5.555555555555558E-2}]
["Mean",{"$f":"VLOOKUP($A$2,'Table 7'!$A$5:$L$23,11,FALSE)","v":454.65},{"$f":"VLOOKUP($A$2,'Table 8'!$A$5:$L$23,11,FALSE)","v":463.08},{"$f":"VLOOKUP($A$2,'Table 9'!$A$5:$L$23,11,FALSE)","v":464.37},{"$f":"VLOOKUP($A$2,'Table 10'!$A$5:$L$23,11,FALSE)","v":463.09},{"$f":"VLOOKUP($A$2,'Table 11'!$A$5:$L$23,11,FALSE)","v":463.85},{"$f":"VLOOKUP($A$2,'Table 12'!$A$5:$L$23,11,FALSE)","v":474.83},{"$f":"VLOOKUP($A$2,'Table 13'!$A$5:$L$23,11,FALSE)","v":475.8},"Mean",1.8541735400857906E-2,2.7856957761078771E-3,-2.7564226801903846E-3,1.6411496685311278E-3,2.3671445510401901E-2,{"$f":"H30/G30-1","v":2.0428363835478525E-3},4.6519300560871057E-2]
["Upper Quartile",{"$f":"VLOOKUP($A$2,'Table 7'!$A$5:$L$23,12,FALSE)","v":495},{"$f":"VLOOKUP($A$2,'Table 8'!$A$5:$L$23,12,FALSE)","v":495},{"$f":"VLOOKUP($A$2,'Table 9'!$A$5:$L$23,12,FALSE)","v":500},{"$f":"VLOOKUP($A$2,'Table 10'!$A$5:$L$23,12,FALSE)","v":495},{"$f":"VLOOKUP($A$2,'Table 11'!$A$5:$L$23,12,FALSE)","v":497.5},{"$f":"VLOOKUP($A$2,'Table 12'!$A$5:$L$23,12,FALSE)","v":525},{"$f":"VLOOKUP($A$2,'Table 13'!$A$5:$L$23,12,FALSE)","v":525},"Upper Quartile",0,1.0101010101010166E-2,-1.0000000000000009E-2,5.050505050504972E-3,5.5276381909547645E-2,{"$f":"H31/G31-1","v":0},6.0606060606060552E-2]
[]
[]
[]
[]
[]
[]
[]
[]
[]
[]
[]
[]
[]
[]
[]
[]
["3 Bedroom Properties:",null,null,null,null,null,null,null,"3 Bedroom Properties - Annual changes and 6-yr cumulative change:"]
[null,2010,2011,2012,2013,2014,2015,2016," ","2010 to 2011","2011 to 2012","2012 to 2013","2013 to 2014","2014 to 2015","2015 to 2016","2010 to 2016"]
["Lower Quartile",{"$f":"VLOOKUP($A$2,'Table 7'!$A$26:$L$44,3,FALSE)","v":495},{"$f":"VLOOKUP($A$2,'Table 8'!$A$26:$L$44,3,FALSE)","v":475},{"$f":"VLOOKUP($A$2,'Table 9'!$A$26:$L$44,3,FALSE)","v":495},{"$f":"VLOOKUP($A$2,'Table 10'!$A$26:$L$44,3,FALSE)","v":475},{"$f":"VLOOKUP($A$2,'Table 11'!$A$26:$L$44,3,FALSE)","v":495},{"$f":"VLOOKUP($A$2,'Table 12'!$A$26:$L$44,3,FALSE)","v":479},{"$f":"VLOOKUP($A$2,'Table 13'!$A$26:$L$44,3,FALSE)","v":495},"Lower Quartile",{"$f":"C50/B50-1","v":-4.0404040404040442E-2},4.2105263157894646E-2,-4.0404040404040442E-2,4.2105263157894646E-2,-3.2323232323232309E-2,{"$f":"H50/G50-1","v":3.3402922755741082E-2},{"$f":"H50/B50-1","v":0}]
["Median",{"$f":"VLOOKUP($A$2,'Table 7'!$A$26:$L$44,4,FALSE)","v":550},{"$f":"VLOOKUP($A$2,'Table 8'!$A$26:$L$44,4,FALSE)","v":550},{"$f":"VLOOKUP($A$2,'Table 9'!$A$26:$L$44,4,FALSE)","v":550},{"$f":"VLOOKUP($A$2,'Table 10'!$A$26:$L$44,4,FALSE)","v":550},{"$f":"VLOOKUP($A$2,'Table 11'!$A$26:$L$44,4,FALSE)","v":550},{"$f":"VLOOKUP($A$2,'Table 12'!$A$26:$L$44,4,FALSE)","v":550},{"$f":"VLOOKUP($A$2,'Table 13'!$A$26:$L$44,4,FALSE)","v":550},"Median",0,0,0,0,0,{"$f":"H51/G51-1","v":0},{"$f":"H51/B51-1","v":0}]
["Mean",{"$f":"VLOOKUP($A$2,'Table 7'!$A$26:$L$44,5,FALSE)","v":548.52},{"$f":"VLOOKUP($A$2,'Table 8'!$A$26:$L$44,5,FALSE)","v":545.82000000000005},{"$f":"VLOOKUP($A$2,'Table 9'!$A$26:$L$44,5,FALSE)","v":571.46},{"$f":"VLOOKUP($A$2,'Table 10'!$A$26:$L$44,5,FALSE)","v":540.87},{"$f":"VLOOKUP($A$2,'Table 11'!$A$26:$L$44,5,FALSE)","v":550.52},{"$f":"VLOOKUP($A$2,'Table 12'!$A$26:$L$44,5,FALSE)","v":564.87},{"$f":"VLOOKUP($A$2,'Table 13'!$A$26:$L$44,5,FALSE)","v":564.39},"Mean",-4.9223364690438309E-3,4.6975193287164263E-2,-5.3529555874426982E-2,1.7841625529239957E-2,2.6066264622538693E-2,{"$f":"H52/G52-1","v":-8.4975304052259393E-4},2.8932399912491746E-2]
["Upper Quartile",{"$f":"VLOOKUP($A$2,'Table 7'!$A$26:$L$44,6,FALSE)","v":600},{"$f":"VLOOKUP($A$2,'Table 8'!$A$26:$L$44,6,FALSE)","v":595},{"$f":"VLOOKUP($A$2,'Table 9'!$A$26:$L$44,6,FALSE)","v":650},{"$f":"VLOOKUP($A$2,'Table 10'!$A$26:$L$44,6,FALSE)","v":600},{"$f":"VLOOKUP($A$2,'Table 11'!$A$26:$L$44,6,FALSE)","v":597.5},{"$f":"VLOOKUP($A$2,'Table 12'!$A$26:$L$44,6,FALSE)","v":650},{"$f":"VLOOKUP($A$2,'Table 13'!$A$26:$L$44,6,FALSE)","v":600},"Upper Quartile",-8.3333333333333037E-3,9.243697478991586E-2,-7.6923076923076872E-2,-4.1666666666666519E-3,8.786610878661083E-2,{"$f":"H53/G53-1","v":-7.6923076923076872E-2},0]
[]
[]
[]
[]
[]
[]
[]
[]
[]
[]
[]
[]
[]
[]
[]
[]
["4 Bedroom Properties:",null,null,null,null,null,null,null,"4 Bedroom Properties - Annual changes and 6-yr cumulative change:"]
[null,2010,2011,2012,2013,2014,2015,2016," ","2010 to 2011","2011 to 2012","2012 to 2013","2013 to 2014","2014 to 2015","2015 to 2016","2010 to 2016"]
["Lower Quartile",{"$f":"VLOOKUP($A$2,'Table 7'!$A$26:$L$44,9,FALSE)","v":695},{"$f":"VLOOKUP($A$2,'Table 8'!$A$26:$L$44,9,FALSE)","v":695},{"$f":"VLOOKUP($A$2,'Table 9'!$A$26:$L$44,9,FALSE)","v":725},{"$f":"VLOOKUP($A$2,'Table 10'!$A$26:$L$44,9,FALSE)","v":750},{"$f":"VLOOKUP($A$2,'Table 11'!$A$26:$L$44,9,FALSE)","v":695},{"$f":"VLOOKUP($A$2,'Table 12'!$A$26:$L$44,9,FALSE)","v":750},{"$f":"VLOOKUP($A$2,'Table 13'!$A$26:$L$44,9,FALSE)","v":695},"Lower Quartile",{"$f":"C72/B72-1","v":0},4.3165467625899234E-2,3.4482758620689724E-2,-7.3333333333333361E-2,7.9136690647481966E-2,{"$f":"H72/G72-1","v":-7.3333333333333361E-2},{"$f":"H72/B72-1","v":0}]
["Median",{"$f":"VLOOKUP($A$2,'Table 7'!$A$26:$L$44,10,FALSE)","v":795},{"$f":"VLOOKUP($A$2,'Table 8'!$A$26:$L$44,10,FALSE)","v":750},{"$f":"VLOOKUP($A$2,'Table 9'!$A$26:$L$44,10,FALSE)","v":795},{"$f":"VLOOKUP($A$2,'Table 10'!$A$26:$L$44,10,FALSE)","v":800},{"$f":"VLOOKUP($A$2,'Table 11'!$A$26:$L$44,10,FALSE)","v":795},{"$f":"VLOOKUP($A$2,'Table 12'!$A$26:$L$44,10,FALSE)","v":850},{"$f":"VLOOKUP($A$2,'Table 13'!$A$26:$L$44,10,FALSE)","v":795},"Median",-5.6603773584905648E-2,6.0000000000000053E-2,6.2893081761006275E-3,-6.2499999999999778E-3,6.9182389937106903E-2,-6.4705882352941169E-2,{"$f":"H73/B73-1","v":0}]
["Mean",{"$f":"VLOOKUP($A$2,'Table 7'!$A$26:$L$44,11,FALSE)","v":776.25},{"$f":"VLOOKUP($A$2,'Table 8'!$A$26:$L$44,11,FALSE)","v":769.27},{"$f":"VLOOKUP($A$2,'Table 9'!$A$26:$L$44,11,FALSE)","v":793.22},{"$f":"VLOOKUP($A$2,'Table 10'!$A$26:$L$44,11,FALSE)","v":826.73},{"$f":"VLOOKUP($A$2,'Table 11'!$A$26:$L$44,11,FALSE)","v":791.64},{"$f":"VLOOKUP($A$2,'Table 12'!$A$26:$L$44,11,FALSE)","v":895.06},{"$f":"VLOOKUP($A$2,'Table 13'!$A$26:$L$44,11,FALSE)","v":823.4},"Mean",-8.9919484702093433E-3,3.1133412195978094E-2,4.2245530874158499E-2,-4.2444328861901748E-2,0.13064018998534688,-8.0061671843228321E-2,6.0740740740740762E-2]
["Upper Quartile",{"$f":"VLOOKUP($A$2,'Table 7'!$A$26:$L$44,12,FALSE)","v":850},{"$f":"VLOOKUP($A$2,'Table 8'!$A$26:$L$44,12,FALSE)","v":850},{"$f":"VLOOKUP($A$2,'Table 9'!$A$26:$L$44,12,FALSE)","v":850},{"$f":"VLOOKUP($A$2,'Table 10'!$A$26:$L$44,12,FALSE)","v":895},{"$f":"VLOOKUP($A$2,'Table 11'!$A$26:$L$44,12,FALSE)","v":850},{"$f":"VLOOKUP($A$2,'Table 12'!$A$26:$L$44,12,FALSE)","v":950},{"$f":"VLOOKUP($A$2,'Table 13'!$A$26:$L$44,12,FALSE)","v":925},"Upper Quartile",0,0,5.2941176470588269E-2,-5.027932960893855E-2,0.11764705882352944,-2.6315789473684181E-2,8.8235294117646967E-2]
[]
[]
[]
[]
[]
[]
[]
[]
[]
[]
[]
[]
[]
[]
[]
[]
["1 Bedroom Shared Properties:",null,null,null,null,null,null,null,"1 Bedroom Shared Properties - Annual changes and 6-yr cumulative change:"]
[null,2010,2011,2012,2013,2014,2015,2016," ","2010 to 2011","2011 to 2012","2012 to 2013","2013 to 2014","2014 to 2015","2015 to 2016","2010 to 2016"]
["Lower Quartile",{"$f":"VLOOKUP($A$2,'Table 7'!$A$47:$F$65,3,FALSE)","v":260},{"$f":"VLOOKUP($A$2,'Table 8'!$A$47:$F$65,3,FALSE)","v":280},{"$f":"VLOOKUP($A$2,'Table 9'!$A$47:$F$65,3,FALSE)","v":255.5},{"$f":"VLOOKUP($A$2,'Table 10'!$A$47:$F$65,3,FALSE)","v":253},{"$f":"VLOOKUP($A$2,'Table 11'!$A$47:$F$65,3,FALSE)","v":260},{"$f":"VLOOKUP($A$2,'Table 12'!$A$47:$F$65,3,FALSE)","v":260.70999999999998},{"$f":"VLOOKUP($A$2,'Table 13'!$A$47:$F$65,3,FALSE)","v":260.70999999999998},"Lower Quartile",{"$f":"C94/B94-1","v":7.6923076923076872E-2},-8.7500000000000022E-2,-9.7847358121331274E-3,2.7667984189723382E-2,2.7307692307692033E-3,{"$f":"H94/G94-1","v":0},{"$f":"H94/B94-1","v":2.7307692307692033E-3}]
["Median",{"$f":"VLOOKUP($A$2,'Table 7'!$A$47:$F$65,4,FALSE)","v":300},{"$f":"VLOOKUP($A$2,'Table 8'!$A$47:$F$65,4,FALSE)","v":300},{"$f":"VLOOKUP($A$2,'Table 9'!$A$47:$F$65,4,FALSE)","v":301.5},{"$f":"VLOOKUP($A$2,'Table 10'!$A$47:$F$65,4,FALSE)","v":275},{"$f":"VLOOKUP($A$2,'Table 11'!$A$47:$F$65,4,FALSE)","v":300},{"$f":"VLOOKUP($A$2,'Table 12'!$A$47:$F$65,4,FALSE)","v":300},{"$f":"VLOOKUP($A$2,'Table 13'!$A$47:$F$65,4,FALSE)","v":325},"Median",0,4.9999999999998934E-3,-8.7893864013267042E-2,9.0909090909090828E-2,0,8.3333333333333259E-2,{"$f":"H95/B95-1","v":8.3333333333333259E-2}]
["Mean",{"$f":"VLOOKUP($A$2,'Table 7'!$A$47:$F$65,5,FALSE)","v":296.88},{"$f":"VLOOKUP($A$2,'Table 8'!$A$47:$F$65,5,FALSE)","v":306.67},{"$f":"VLOOKUP($A$2,'Table 9'!$A$47:$F$65,5,FALSE)","v":297.25},{"$f":"VLOOKUP($A$2,'Table 10'!$A$47:$F$65,5,FALSE)","v":274.70999999999998},{"$f":"VLOOKUP($A$2,'Table 11'!$A$47:$F$65,5,FALSE)","v":296.10000000000002},{"$f":"VLOOKUP($A$2,'Table 12'!$A$47:$F$65,5,FALSE)","v":310.17},{"$f":"VLOOKUP($A$2,'Table 13'!$A$47:$F$65,5,FALSE)","v":319.95999999999998},"Mean",3.2976286715171277E-2,-3.0717057423288896E-2,-7.5828427249789776E-2,7.7863929234465612E-2,4.7517730496453803E-2,3.1563336234967876E-2,7.7741848558340099E-2]
["Upper Quartile",{"$f":"VLOOKUP($A$2,'Table 7'!$A$47:$F$65,6,FALSE)","v":320.33},{"$f":"VLOOKUP($A$2,'Table 8'!$A$47:$F$65,6,FALSE)","v":349},{"$f":"VLOOKUP($A$2,'Table 9'!$A$47:$F$65,6,FALSE)","v":329},{"$f":"VLOOKUP($A$2,'Table 10'!$A$47:$F$65,6,FALSE)","v":300},{"$f":"VLOOKUP($A$2,'Table 11'!$A$47:$F$65,6,FALSE)","v":325},{"$f":"VLOOKUP($A$2,'Table 12'!$A$47:$F$65,6,FALSE)","v":338.81},{"$f":"VLOOKUP($A$2,'Table 13'!$A$47:$F$65,6,FALSE)","v":359.52},"Upper Quartile",8.9501451628008599E-2,-5.7306590257879653E-2,-8.8145896656534939E-2,8.3333333333333259E-2,4.2492307692307607E-2,6.1125704672235104E-2,0.12234258421003341]
[]
[]
[]
[]
[]
[]
[]
[]
[]
[]
[]
[]
[]
[]
[]
[]
[]
[]
["Mean Rents by Property Size:",null,null,null,null,null,null,null,"Median Rents by Property Size:"]
[null,2010,2011,2012,2013,2014,2015,2016,null,2010,2011,2012,2013,2014,2015,2016]
["1 Bedroom Shared",{"$f":"B96","v":296.88},306.67,297.25,274.70999999999998,296.10000000000002,310.17,319.95999999999998,"1 Bedroom Shared",{"$f":"B95","v":300},300,301.5,275,300,{"$f":"G95","v":300},{"$f":"H95","v":325}]
["1 Bedroom ",{"$f":"B8","v":373.16},378.99,382.48,382.66,375.12,383.63,381.35,"1 Bedroom ",{"$f":"B7","v":375},375,375,375,375,{"$f":"G7","v":375},{"$f":"H7","v":375}]
["2 Bedrooms",{"$f":"B30","v":454.65},463.08,464.37,463.09,463.85,474.83,475.8,"2 Bedrooms",{"$f":"B29","v":450},450,450,450,450,{"$f":"G29","v":450},{"$f":"H29","v":475}]
["3 Bedrooms",{"$f":"B52","v":548.52},545.82000000000005,571.46,540.87,550.52,564.87,564.39,"3 Bedrooms",{"$f":"B51","v":550},550,550,550,550,{"$f":"G51","v":550},{"$f":"H51","v":550}]
["4 Bedrooms",{"$f":"B74","v":776.25},769.27,793.22,826.73,791.64,895.06,823.4,"4 Bedrooms",{"$f":"B73","v":795},750,795,800,795,{"$f":"G73","v":850},{"$f":"H73","v":795}]
[]
[]
[]
[]
[]
[]
[]
[]
[]
[]
[]
[]
[]
[]
[]
[]
[]
["Sample Sizes:",null,null,null,null,null,null,null,"Sample Proportions:"]
[null,2010,2011,2012,2013,2014,2015,2016,null,2010,2011,2012,2013,2014,2015,2016]
["1 Bedroom ",{"$f":"VLOOKUP($A$2,'Table 7'!$A$5:$L$23,2,FALSE)","v":153},{"$f":"VLOOKUP($A$2,'Table 8'!$A$5:$L$23,2,FALSE)","v":185},{"$f":"VLOOKUP($A$2,'Table 9'!$A$5:$L$23,2,FALSE)","v":162},{"$f":"VLOOKUP($A$2,'Table 10'!$A$5:$L$23,2,FALSE)","v":127},{"$f":"VLOOKUP($A$2,'Table 11'!$A$5:$L$23,2,FALSE)","v":164},{"$f":"VLOOKUP($A$2,'Table 12'!$A$5:$L$23,2,FALSE)","v":160},{"$f":"VLOOKUP($A$2,'Table 13'!$A$5:$L$23,2,FALSE)","v":181},"1 Bedroom ",{"$f":"B142/SUM(B$142:B$146)","v":0.16156282998944033},{"$f":"C142/SUM(C$142:C$146)","v":0.16342756183745583},0.16513761467889909,0.14399092970521543,0.17484008528784648,{"$f":"G142/SUM(G$142:G$146)","v":0.16666666666666666},0.17797443461160276]
["2 Bedrooms",{"$f":"VLOOKUP($A$2,'Table 7'!$A$5:$L$23,8,FALSE)","v":468},{"$f":"VLOOKUP($A$2,'Table 8'!$A$5:$L$23,8,FALSE)","v":548},{"$f":"VLOOKUP($A$2,'Table 9'!$A$5:$L$23,8,FALSE)","v":430},{"$f":"VLOOKUP($A$2,'Table 10'!$A$5:$L$23,8,FALSE)","v":431},{"$f":"VLOOKUP($A$2,'Table 11'!$A$5:$L$23,8,FALSE)","v":468},{"$f":"VLOOKUP($A$2,'Table 12'!$A$5:$L$23,8,FALSE)","v":437},{"$f":"VLOOKUP($A$2,'Table 13'!$A$5:$L$23,8,FALSE)","v":505},"2 Bedrooms",{"$f":"B143/SUM(B$142:B$146)","v":0.49419218585005281},0.48409893992932862,0.4383282364933741,0.4886621315192744,0.49893390191897652,0.45520833333333333,0.49655850540806296]
["3 Bedrooms",{"$f":"VLOOKUP($A$2,'Table 7'!$A$26:$L$44,2,FALSE)","v":180},{"$f":"VLOOKUP($A$2,'Table 8'!$A$26:$L$44,2,FALSE)","v":251},{"$f":"VLOOKUP($A$2,'Table 9'!$A$26:$L$44,2,FALSE)","v":229},{"$f":"VLOOKUP($A$2,'Table 10'!$A$26:$L$44,2,FALSE)","v":199},{"$f":"VLOOKUP($A$2,'Table 11'!$A$26:$L$44,2,FALSE)","v":200},{"$f":"VLOOKUP($A$2,'Table 12'!$A$26:$L$44,2,FALSE)","v":237},{"$f":"VLOOKUP($A$2,'Table 13'!$A$26:$L$44,2,FALSE)","v":215},"3 Bedrooms",{"$f":"B144/SUM(B$142:B$146)","v":0.19007391763463569},0.22173144876325088,0.23343527013251783,0.2256235827664399,0.21321961620469082,0.24687500000000001,0.21140609636184857]
["4 Bedrooms",{"$f":"VLOOKUP($A$2,'Table 7'!$A$26:$L$44,8,FALSE)","v":102},{"$f":"VLOOKUP($A$2,'Table 8'!$A$26:$L$44,8,FALSE)","v":97},{"$f":"VLOOKUP($A$2,'Table 9'!$A$26:$L$44,8,FALSE)","v":96},{"$f":"VLOOKUP($A$2,'Table 10'!$A$26:$L$44,8,FALSE)","v":66},{"$f":"VLOOKUP($A$2,'Table 11'!$A$26:$L$44,8,FALSE)","v":55},{"$f":"VLOOKUP($A$2,'Table 12'!$A$26:$L$44,8,FALSE)","v":62},{"$f":"VLOOKUP($A$2,'Table 13'!$A$26:$L$44,8,FALSE)","v":47},"4 Bedrooms",{"$f":"B145/SUM(B$142:B$146)","v":0.10770855332629356},8.5689045936395758E-2,9.7859327217125383E-2,7.4829931972789115E-2,5.8635394456289978E-2,6.458333333333334E-2,4.6214355948869225E-2]
["1 Bedroom Shared",{"$f":"VLOOKUP($A$2,'Table 7'!$A$47:$L$65,2,FALSE)","v":44},{"$f":"VLOOKUP($A$2,'Table 8'!$A$47:$L$65,2,FALSE)","v":51},{"$f":"VLOOKUP($A$2,'Table 9'!$A$47:$L$65,2,FALSE)","v":64},{"$f":"VLOOKUP($A$2,'Table 10'!$A$47:$L$65,2,FALSE)","v":59},{"$f":"VLOOKUP($A$2,'Table 11'!$A$47:$L$65,2,FALSE)","v":51},{"$f":"VLOOKUP($A$2,'Table 12'!$A$47:$L$65,2,FALSE)","v":64},{"$f":"VLOOKUP($A$2,'Table 13'!$A$47:$L$65,2,FALSE)","v":69},"1 Bedroom Shared",{"$f":"B146/SUM(B$142:B$146)","v":4.6462513199577615E-2},4.5053003533568906E-2,6.5239551478083593E-2,6.6893424036281179E-2,5.4371002132196165E-2,6.6666666666666666E-2,6.7846607669616518E-2]

{"sheet":"BRMA Profile - Perth and Kinros","index":26,"n_rows":146,"n_cols":16,"rows_kept":146,"cut":false,"hidden":true,"merged":[[1,0,1,2]]}
["BRMA Rent Profile for:"]
["Perth and Kinross",null,null,null,null,null,null,null,{"$f":"ROUND(MIN(J6:P9,J28:P31,J50:P53,J72:P75,J94:P97)-0.01,2)","v":-0.1},{"$f":"ROUND(MAX(J6:P9,J28:P31,J50:P53,J72:P75,J94:P97)+0.01,2)","v":0.2}]
[]
["1 Bedroom Properties - Quartile Measures:",null,null,null,null,null,null,null,"1 Bedroom Properties - Annual changes and 6-yr cumulative change:"]
[" ",2010,2011,2012,2013,2014,2015,2016," ","2010 to 2011","2011 to 2012","2012 to 2013","2013 to 2014","2014 to 2015","2015 to 2016","2010 to 2016"]
["Lower Quartile",{"$f":"VLOOKUP($A$2,'Table 7'!$A$5:$L$23,3,FALSE)","v":350},{"$f":"VLOOKUP($A$2,'Table 8'!$A$5:$L$23,3,FALSE)","v":350},{"$f":"VLOOKUP($A$2,'Table 9'!$A$5:$L$23,3,FALSE)","v":350},{"$f":"VLOOKUP($A$2,'Table 10'!$A$5:$L$23,3,FALSE)","v":365},{"$f":"VLOOKUP($A$2,'Table 11'!$A$5:$L$23,3,FALSE)","v":360},{"$f":"VLOOKUP($A$2,'Table 12'!$A$5:$L$23,3,FALSE)","v":375},{"$f":"VLOOKUP($A$2,'Table 13'!$A$5:$L$23,3,FALSE)","v":380},"Lower Quartile",{"$f":"C6/B6-1","v":0},0,4.2857142857142927E-2,-1.3698630136986356E-2,4.1666666666666741E-2,{"$f":"H6/G6-1","v":1.3333333333333419E-2},{"$f":"H6/B6-1","v":8.5714285714285632E-2}]
["Median",{"$f":"VLOOKUP($A$2,'Table 7'!$A$5:$L$23,4,FALSE)","v":380},{"$f":"VLOOKUP($A$2,'Table 8'!$A$5:$L$23,4,FALSE)","v":380},{"$f":"VLOOKUP($A$2,'Table 9'!$A$5:$L$23,4,FALSE)","v":380},{"$f":"VLOOKUP($A$2,'Table 10'!$A$5:$L$23,4,FALSE)","v":395},{"$f":"VLOOKUP($A$2,'Table 11'!$A$5:$L$23,4,FALSE)","v":392.5},{"$f":"VLOOKUP($A$2,'Table 12'!$A$5:$L$23,4,FALSE)","v":400},{"$f":"VLOOKUP($A$2,'Table 13'!$A$5:$L$23,4,FALSE)","v":400},"Median",0,0,3.9473684210526327E-2,-6.3291139240506666E-3,1.9108280254777066E-2,0,{"$f":"H7/B7-1","v":5.2631578947368363E-2}]
["Mean",{"$f":"VLOOKUP($A$2,'Table 7'!$A$5:$L$23,5,FALSE)","v":377.44},{"$f":"VLOOKUP($A$2,'Table 8'!$A$5:$L$23,5,FALSE)","v":377.57},{"$f":"VLOOKUP($A$2,'Table 9'!$A$5:$L$23,5,FALSE)","v":380.4},{"$f":"VLOOKUP($A$2,'Table 10'!$A$5:$L$23,5,FALSE)","v":396.18},{"$f":"VLOOKUP($A$2,'Table 11'!$A$5:$L$23,5,FALSE)","v":388.83},{"$f":"VLOOKUP($A$2,'Table 12'!$A$5:$L$23,5,FALSE)","v":402.5},{"$f":"VLOOKUP($A$2,'Table 13'!$A$5:$L$23,5,FALSE)","v":408.15},"Mean",3.4442560406944267E-4,7.4952988849750213E-3,4.1482649842271346E-2,-1.8552173254581361E-2,3.5156752308206807E-2,1.4037267080745375E-2,8.1363925392115233E-2]
["Upper Quartile",{"$f":"VLOOKUP($A$2,'Table 7'!$A$5:$L$23,6,FALSE)","v":400},{"$f":"VLOOKUP($A$2,'Table 8'!$A$5:$L$23,6,FALSE)","v":400},{"$f":"VLOOKUP($A$2,'Table 9'!$A$5:$L$23,6,FALSE)","v":400},{"$f":"VLOOKUP($A$2,'Table 10'!$A$5:$L$23,6,FALSE)","v":420},{"$f":"VLOOKUP($A$2,'Table 11'!$A$5:$L$23,6,FALSE)","v":420},{"$f":"VLOOKUP($A$2,'Table 12'!$A$5:$L$23,6,FALSE)","v":425},{"$f":"VLOOKUP($A$2,'Table 13'!$A$5:$L$23,6,FALSE)","v":430},"Upper Quartile",0,0,5.0000000000000044E-2,0,1.1904761904761862E-2,1.1764705882352899E-2,7.4999999999999956E-2]
[]
[]
[]
[]
[]
[]
[]
[]
[]
[]
[]
[]
[]
[]
[]
[]
["2 Bedroom Properties:",null,null,null,null,null,null,null,"2 Bedroom Properties - Annual changes and 6-yr cumulative change:"]
[null,2010,2011,2012,2013,2014,2015,2016," ","2010 to 2011","2011 to 2012","2012 to 2013","2013 to 2014","2014 to 2015","2015 to 2016","2010 to 2016"]
["Lower Quartile",{"$f":"VLOOKUP($A$2,'Table 7'!$A$5:$L$23,9,FALSE)","v":450},{"$f":"VLOOKUP($A$2,'Table 8'!$A$5:$L$23,9,FALSE)","v":452.5},{"$f":"VLOOKUP($A$2,'Table 9'!$A$5:$L$23,9,FALSE)","v":450},{"$f":"VLOOKUP($A$2,'Table 10'!$A$5:$L$23,9,FALSE)","v":460},{"$f":"VLOOKUP($A$2,'Table 11'!$A$5:$L$23,9,FALSE)","v":460},{"$f":"VLOOKUP($A$2,'Table 12'!$A$5:$L$23,9,FALSE)","v":475},{"$f":"VLOOKUP($A$2,'Table 13'!$A$5:$L$23,9,FALSE)","v":495},"Lower Quartile",{"$f":"C28/B28-1","v":5.5555555555555358E-3},-5.5248618784530246E-3,2.2222222222222143E-2,0,3.2608695652173836E-2,{"$f":"H28/G28-1","v":4.2105263157894646E-2},{"$f":"H28/B28-1","v":0.10000000000000009}]
["Median",{"$f":"VLOOKUP($A$2,'Table 7'!$A$5:$L$23,10,FALSE)","v":500},{"$f":"VLOOKUP($A$2,'Table 8'!$A$5:$L$23,10,FALSE)","v":500},{"$f":"VLOOKUP($A$2,'Table 9'!$A$5:$L$23,10,FALSE)","v":495},{"$f":"VLOOKUP($A$2,'Table 10'!$A$5:$L$23,10,FALSE)","v":500},{"$f":"VLOOKUP($A$2,'Table 11'!$A$5:$L$23,10,FALSE)","v":500},{"$f":"VLOOKUP($A$2,'Table 12'!$A$5:$L$23,10,FALSE)","v":525},{"$f":"VLOOKUP($A$2,'Table 13'!$A$5:$L$23,10,FALSE)","v":525},"Median",0,-1.0000000000000009E-2,1.0101010101010166E-2,0,5.0000000000000044E-2,{"$f":"H29/G29-1","v":0},{"$f":"H29/B29-1","v":5.0000000000000044E-2}]
["Mean",{"$f":"VLOOKUP($A$2,'Table 7'!$A$5:$L$23,11,FALSE)","v":506.44},{"$f":"VLOOKUP($A$2,'Table 8'!$A$5:$L$23,11,FALSE)","v":512.44000000000005},{"$f":"VLOOKUP($A$2,'Table 9'!$A$5:$L$23,11,FALSE)","v":504.82},{"$f":"VLOOKUP($A$2,'Table 10'!$A$5:$L$23,11,FALSE)","v":518.61},{"$f":"VLOOKUP($A$2,'Table 11'!$A$5:$L$23,11,FALSE)","v":520.45000000000005},{"$f":"VLOOKUP($A$2,'Table 12'!$A$5:$L$23,11,FALSE)","v":528.99},{"$f":"VLOOKUP($A$2,'Table 13'!$A$5:$L$23,11,FALSE)","v":539.95000000000005},"Mean",1.1847405418213608E-2,-1.4870033564905238E-2,2.7316667326968025E-2,3.5479454696207835E-3,1.6408876933422967E-2,{"$f":"H30/G30-1","v":2.0718728142308906E-2},6.6167759260721937E-2]
["Upper Quartile",{"$f":"VLOOKUP($A$2,'Table 7'!$A$5:$L$23,12,FALSE)","v":550},{"$f":"VLOOKUP($A$2,'Table 8'!$A$5:$L$23,12,FALSE)","v":550},{"$f":"VLOOKUP($A$2,'Table 9'!$A$5:$L$23,12,FALSE)","v":550},{"$f":"VLOOKUP($A$2,'Table 10'!$A$5:$L$23,12,FALSE)","v":550},{"$f":"VLOOKUP($A$2,'Table 11'!$A$5:$L$23,12,FALSE)","v":575},{"$f":"VLOOKUP($A$2,'Table 12'!$A$5:$L$23,12,FALSE)","v":575},{"$f":"VLOOKUP($A$2,'Table 13'!$A$5:$L$23,12,FALSE)","v":595},"Upper Quartile",0,0,0,4.5454545454545414E-2,0,{"$f":"H31/G31-1","v":3.4782608695652195E-2},8.181818181818179E-2]
[]
[]
[]
[]
[]
[]
[]
[]
[]
[]
[]
[]
[]
[]
[]
[]
["3 Bedroom Properties:",null,null,null,null,null,null,null,"3 Bedroom Properties - Annual changes and 6-yr cumulative change:"]
[null,2010,2011,2012,2013,2014,2015,2016," ","2010 to 2011","2011 to 2012","2012 to 2013","2013 to 2014","2014 to 2015","2015 to 2016","2010 to 2016"]
["Lower Quartile",{"$f":"VLOOKUP($A$2,'Table 7'!$A$26:$L$44,3,FALSE)","v":595},{"$f":"VLOOKUP($A$2,'Table 8'!$A$26:$L$44,3,FALSE)","v":575},{"$f":"VLOOKUP($A$2,'Table 9'!$A$26:$L$44,3,FALSE)","v":575},{"$f":"VLOOKUP($A$2,'Table 10'!$A$26:$L$44,3,FALSE)","v":575},{"$f":"VLOOKUP($A$2,'Table 11'!$A$26:$L$44,3,FALSE)","v":550},{"$f":"VLOOKUP($A$2,'Table 12'!$A$26:$L$44,3,FALSE)","v":595},{"$f":"VLOOKUP($A$2,'Table 13'!$A$26:$L$44,3,FALSE)","v":600},"Lower Quartile",{"$f":"C50/B50-1","v":-3.3613445378151252E-2},0,0,-4.3478260869565188E-2,8.181818181818179E-2,{"$f":"H50/G50-1","v":8.4033613445377853E-3},{"$f":"H50/B50-1","v":8.4033613445377853E-3}]
["Median",{"$f":"VLOOKUP($A$2,'Table 7'!$A$26:$L$44,4,FALSE)","v":650},{"$f":"VLOOKUP($A$2,'Table 8'!$A$26:$L$44,4,FALSE)","v":650},{"$f":"VLOOKUP($A$2,'Table 9'!$A$26:$L$44,4,FALSE)","v":650},{"$f":"VLOOKUP($A$2,'Table 10'!$A$26:$L$44,4,FALSE)","v":650},{"$f":"VLOOKUP($A$2,'Table 11'!$A$26:$L$44,4,FALSE)","v":625},{"$f":"VLOOKUP($A$2,'Table 12'!$A$26:$L$44,4,FALSE)","v":650},{"$f":"VLOOKUP($A$2,'Table 13'!$A$26:$L$44,4,FALSE)","v":675},"Median",0,0,0,-3.8461538461538436E-2,4.0000000000000036E-2,{"$f":"H51/G51-1","v":3.8461538461538547E-2},{"$f":"H51/B51-1","v":3.8461538461538547E-2}]
["Mean",{"$f":"VLOOKUP($A$2,'Table 7'!$A$26:$L$44,5,FALSE)","v":647.27},{"$f":"VLOOKUP($A$2,'Table 8'!$A$26:$L$44,5,FALSE)","v":646.58000000000004},{"$f":"VLOOKUP($A$2,'Table 9'!$A$26:$L$44,5,FALSE)","v":639.04999999999995},{"$f":"VLOOKUP($A$2,'Table 10'!$A$26:$L$44,5,FALSE)","v":665.03},{"$f":"VLOOKUP($A$2,'Table 11'!$A$26:$L$44,5,FALSE)","v":639.44000000000005},{"$f":"VLOOKUP($A$2,'Table 12'!$A$26:$L$44,5,FALSE)","v":679.55},{"$f":"VLOOKUP($A$2,'Table 13'!$A$26:$L$44,5,FALSE)","v":699.52},"Mean",-1.0660157275942383E-3,-1.1645890686380778E-2,4.0654095923636779E-2,-3.8479467091710018E-2,6.2726760915801094E-2,{"$f":"H52/G52-1","v":2.9387094400706415E-2},8.0723654734500272E-2]
["Upper Quartile",{"$f":"VLOOKUP($A$2,'Table 7'!$A$26:$L$44,6,FALSE)","v":695},{"$f":"VLOOKUP($A$2,'Table 8'!$A$26:$L$44,6,FALSE)","v":700},{"$f":"VLOOKUP($A$2,'Table 9'!$A$26:$L$44,6,FALSE)","v":700},{"$f":"VLOOKUP($A$2,'Table 10'!$A$26:$L$44,6,FALSE)","v":700},{"$f":"VLOOKUP($A$2,'Table 11'!$A$26:$L$44,6,FALSE)","v":695},{"$f":"VLOOKUP($A$2,'Table 12'!$A$26:$L$44,6,FALSE)","v":750},{"$f":"VLOOKUP($A$2,'Table 13'!$A$26:$L$44,6,FALSE)","v":795},"Upper Quartile",7.194244604316502E-3,0,0,-7.1428571428571175E-3,7.9136690647481966E-2,{"$f":"H53/G53-1","v":6.0000000000000053E-2},0.14388489208633093]
[]
[]
[]
[]
[]
[]
[]
[]
[]
[]
[]
[]
[]
[]
[]
[]
["4 Bedroom Properties:",null,null,null,null,null,null,null,"4 Bedroom Properties - Annual changes and 6-yr cumulative change:"]
[null,2010,2011,2012,2013,2014,2015,2016," ","2010 to 2011","2011 to 2012","2012 to 2013","2013 to 2014","2014 to 2015","2015 to 2016","2010 to 2016"]
["Lower Quartile",{"$f":"VLOOKUP($A$2,'Table 7'!$A$26:$L$44,9,FALSE)","v":750},{"$f":"VLOOKUP($A$2,'Table 8'!$A$26:$L$44,9,FALSE)","v":750},{"$f":"VLOOKUP($A$2,'Table 9'!$A$26:$L$44,9,FALSE)","v":725},{"$f":"VLOOKUP($A$2,'Table 10'!$A$26:$L$44,9,FALSE)","v":762.5},{"$f":"VLOOKUP($A$2,'Table 11'!$A$26:$L$44,9,FALSE)","v":725},{"$f":"VLOOKUP($A$2,'Table 12'!$A$26:$L$44,9,FALSE)","v":862.5},{"$f":"VLOOKUP($A$2,'Table 13'!$A$26:$L$44,9,FALSE)","v":850},"Lower Quartile",{"$f":"C72/B72-1","v":0},-3.3333333333333326E-2,5.1724137931034475E-2,-4.9180327868852514E-2,0.18965517241379315,{"$f":"H72/G72-1","v":-1.4492753623188359E-2},{"$f":"H72/B72-1","v":0.1333333333333333}]
["Median",{"$f":"VLOOKUP($A$2,'Table 7'!$A$26:$L$44,10,FALSE)","v":850},{"$f":"VLOOKUP($A$2,'Table 8'!$A$26:$L$44,10,FALSE)","v":875},{"$f":"VLOOKUP($A$2,'Table 9'!$A$26:$L$44,10,FALSE)","v":850},{"$f":"VLOOKUP($A$2,'Table 10'!$A$26:$L$44,10,FALSE)","v":895},{"$f":"VLOOKUP($A$2,'Table 11'!$A$26:$L$44,10,FALSE)","v":885},{"$f":"VLOOKUP($A$2,'Table 12'!$A$26:$L$44,10,FALSE)","v":972.5},{"$f":"VLOOKUP($A$2,'Table 13'!$A$26:$L$44,10,FALSE)","v":950},"Median",2.9411764705882248E-2,-2.8571428571428581E-2,5.2941176470588269E-2,-1.1173184357541888E-2,9.8870056497175174E-2,-2.3136246786632397E-2,{"$f":"H73/B73-1","v":0.11764705882352944}]
["Mean",{"$f":"VLOOKUP($A$2,'Table 7'!$A$26:$L$44,11,FALSE)","v":857.5},{"$f":"VLOOKUP($A$2,'Table 8'!$A$26:$L$44,11,FALSE)","v":865.06},{"$f":"VLOOKUP($A$2,'Table 9'!$A$26:$L$44,11,FALSE)","v":870.84},{"$f":"VLOOKUP($A$2,'Table 10'!$A$26:$L$44,11,FALSE)","v":972.7},{"$f":"VLOOKUP($A$2,'Table 11'!$A$26:$L$44,11,FALSE)","v":912.59},{"$f":"VLOOKUP($A$2,'Table 12'!$A$26:$L$44,11,FALSE)","v":992.12},{"$f":"VLOOKUP($A$2,'Table 13'!$A$26:$L$44,11,FALSE)","v":1018.04},"Mean",8.8163265306122618E-3,6.6816174600605738E-3,0.11696752560745938,-6.1797059730646642E-2,8.7147569006892356E-2,2.6125871870338324E-2,0.1872186588921283]
["Upper Quartile",{"$f":"VLOOKUP($A$2,'Table 7'!$A$26:$L$44,12,FALSE)","v":995},{"$f":"VLOOKUP($A$2,'Table 8'!$A$26:$L$44,12,FALSE)","v":975},{"$f":"VLOOKUP($A$2,'Table 9'!$A$26:$L$44,12,FALSE)","v":995},{"$f":"VLOOKUP($A$2,'Table 10'!$A$26:$L$44,12,FALSE)","v":1000},{"$f":"VLOOKUP($A$2,'Table 11'!$A$26:$L$44,12,FALSE)","v":1000},{"$f":"VLOOKUP($A$2,'Table 12'!$A$26:$L$44,12,FALSE)","v":1100},{"$f":"VLOOKUP($A$2,'Table 13'!$A$26:$L$44,12,FALSE)","v":1100},"Upper Quartile",-2.010050251256279E-2,2.051282051282044E-2,5.0251256281406143E-3,0,0.10000000000000009,0,0.10552763819095468]
[]
[]
[]
[]
[]
[]
[]
[]
[]
[]
[]
[]
[]
[]
[]
[]
["1 Bedroom Shared Properties:",null,null,null,null,null,null,null,"1 Bedroom Shared Properties - Annual changes and 6-yr cumulative change:"]
[null,2010,2011,2012,2013,2014,2015,2016," ","2010 to 2011","2011 to 2012","2012 to 2013","2013 to 2014","2014 to 2015","2015 to 2016","2010 to 2016"]
["Lower Quartile",{"$f":"VLOOKUP($A$2,'Table 7'!$A$47:$F$65,3,FALSE)","v":235},{"$f":"VLOOKUP($A$2,'Table 8'!$A$47:$F$65,3,FALSE)","v":235},{"$f":"VLOOKUP($A$2,'Table 9'!$A$47:$F$65,3,FALSE)","v":236},{"$f":"VLOOKUP($A$2,'Table 10'!$A$47:$F$65,3,FALSE)","v":250},{"$f":"VLOOKUP($A$2,'Table 11'!$A$47:$F$65,3,FALSE)","v":250},{"$f":"VLOOKUP($A$2,'Table 12'!$A$47:$F$65,3,FALSE)","v":254.17},{"$f":"VLOOKUP($A$2,'Table 13'!$A$47:$F$65,3,FALSE)","v":250},"Lower Quartile",{"$f":"C94/B94-1","v":0},4.2553191489360653E-3,5.9322033898305149E-2,0,1.6680000000000028E-2,{"$f":"H94/G94-1","v":-1.64063422119054E-2},{"$f":"H94/B94-1","v":6.3829787234042534E-2}]
["Median",{"$f":"VLOOKUP($A$2,'Table 7'!$A$47:$F$65,4,FALSE)","v":260},{"$f":"VLOOKUP($A$2,'Table 8'!$A$47:$F$65,4,FALSE)","v":265},{"$f":"VLOOKUP($A$2,'Table 9'!$A$47:$F$65,4,FALSE)","v":253.33},{"$f":"VLOOKUP($A$2,'Table 10'!$A$47:$F$65,4,FALSE)","v":280},{"$f":"VLOOKUP($A$2,'Table 11'!$A$47:$F$65,4,FALSE)","v":256.67},{"$f":"VLOOKUP($A$2,'Table 12'!$A$47:$F$65,4,FALSE)","v":291.07},{"$f":"VLOOKUP($A$2,'Table 13'!$A$47:$F$65,4,FALSE)","v":291.07},"Median",1.9230769230769162E-2,-4.403773584905657E-2,0.10527770102238176,-8.3321428571428546E-2,0.1340242334515136,0,{"$f":"H95/B95-1","v":0.11949999999999994}]
["Mean",{"$f":"VLOOKUP($A$2,'Table 7'!$A$47:$F$65,5,FALSE)","v":261.86},{"$f":"VLOOKUP($A$2,'Table 8'!$A$47:$F$65,5,FALSE)","v":267.89},{"$f":"VLOOKUP($A$2,'Table 9'!$A$47:$F$65,5,FALSE)","v":258.69},{"$f":"VLOOKUP($A$2,'Table 10'!$A$47:$F$65,5,FALSE)","v":275.49},{"$f":"VLOOKUP($A$2,'Table 11'!$A$47:$F$65,5,FALSE)","v":280.86},{"$f":"VLOOKUP($A$2,'Table 12'!$A$47:$F$65,5,FALSE)","v":294.54000000000002},{"$f":"VLOOKUP($A$2,'Table 13'!$A$47:$F$65,5,FALSE)","v":288.35000000000002},"Mean",2.3027571985030137E-2,-3.4342453992310285E-2,6.4942595384436919E-2,1.9492540564085781E-2,4.8707541123691467E-2,-2.1015821280640945E-2,0.10116092568548085]
["Upper Quartile",{"$f":"VLOOKUP($A$2,'Table 7'!$A$47:$F$65,6,FALSE)","v":285},{"$f":"VLOOKUP($A$2,'Table 8'!$A$47:$F$65,6,FALSE)","v":300},{"$f":"VLOOKUP($A$2,'Table 9'!$A$47:$F$65,6,FALSE)","v":283},{"$f":"VLOOKUP($A$2,'Table 10'!$A$47:$F$65,6,FALSE)","v":300},{"$f":"VLOOKUP($A$2,'Table 11'!$A$47:$F$65,6,FALSE)","v":300},{"$f":"VLOOKUP($A$2,'Table 12'!$A$47:$F$65,6,FALSE)","v":330},{"$f":"VLOOKUP($A$2,'Table 13'!$A$47:$F$65,6,FALSE)","v":300},"Upper Quartile",5.2631578947368363E-2,-5.6666666666666643E-2,6.0070671378091856E-2,0,0.10000000000000009,-9.0909090909090939E-2,5.2631578947368363E-2]
[]
[]
[]
[]
[]
[]
[]
[]
[]
[]
[]
[]
[]
[]
[]
[]
[]
[]
["Mean Rents by Property Size:",null,null,null,null,null,null,null,"Median Rents by Property Size:"]
[null,2010,2011,2012,2013,2014,2015,2016,null,2010,2011,2012,2013,2014,2015,2016]
["1 Bedroom Shared",{"$f":"B96","v":261.86},267.89,258.69,275.49,280.86,294.54000000000002,288.35000000000002,"1 Bedroom Shared",{"$f":"B95","v":260},265,253.33,280,256.67,{"$f":"G95","v":291.07},{"$f":"H95","v":291.07}]
["1 Bedroom ",{"$f":"B8","v":377.44},377.57,380.4,396.18,388.83,402.5,408.15,"1 Bedroom ",{"$f":"B7","v":380},380,380,395,392.5,{"$f":"G7","v":400},{"$f":"H7","v":400}]
["2 Bedrooms",{"$f":"B30","v":506.44},512.44000000000005,504.82,518.61,520.45000000000005,528.99,539.95000000000005,"2 Bedrooms",{"$f":"B29","v":500},500,495,500,500,{"$f":"G29","v":525},{"$f":"H29","v":525}]
["3 Bedrooms",{"$f":"B52","v":647.27},646.58000000000004,639.04999999999995,665.03,639.44000000000005,679.55,699.52,"3 Bedrooms",{"$f":"B51","v":650},650,650,650,625,{"$f":"G51","v":650},{"$f":"H51","v":675}]
["4 Bedrooms",{"$f":"B74","v":857.5},865.06,870.84,972.7,912.59,992.12,1018.04,"4 Bedrooms",{"$f":"B73","v":850},875,850,895,885,{"$f":"G73","v":972.5},{"$f":"H73","v":950}]
[]
[]
[]
[]
[]
[]
[]
[]
[]
[]
[]
[]
[]
[]
[]
[]
[]
["Sample Sizes:",null,null,null,null,null,null,null,"Sample Proportions:"]
[null,2010,2011,2012,2013,2014,2015,2016,null,2010,2011,2012,2013,2014,2015,2016]
["1 Bedroom ",{"$f":"VLOOKUP($A$2,'Table 7'!$A$5:$L$23,2,FALSE)","v":176},{"$f":"VLOOKUP($A$2,'Table 8'!$A$5:$L$23,2,FALSE)","v":212},{"$f":"VLOOKUP($A$2,'Table 9'!$A$5:$L$23,2,FALSE)","v":210},{"$f":"VLOOKUP($A$2,'Table 10'!$A$5:$L$23,2,FALSE)","v":165},{"$f":"VLOOKUP($A$2,'Table 11'!$A$5:$L$23,2,FALSE)","v":200},{"$f":"VLOOKUP($A$2,'Table 12'!$A$5:$L$23,2,FALSE)","v":201},{"$f":"VLOOKUP($A$2,'Table 13'!$A$5:$L$23,2,FALSE)","v":240},"1 Bedroom ",{"$f":"B142/SUM(B$142:B$146)","v":0.21281741233373638},{"$f":"C142/SUM(C$142:C$146)","v":0.20502901353965183},0.19354838709677419,0.1870748299319728,0.20811654526534859,{"$f":"G142/SUM(G$142:G$146)","v":0.22919042189281641},0.26286966046002191]
["2 Bedrooms",{"$f":"VLOOKUP($A$2,'Table 7'!$A$5:$L$23,8,FALSE)","v":379},{"$f":"VLOOKUP($A$2,'Table 8'!$A$5:$L$23,8,FALSE)","v":472},{"$f":"VLOOKUP($A$2,'Table 9'!$A$5:$L$23,8,FALSE)","v":516},{"$f":"VLOOKUP($A$2,'Table 10'!$A$5:$L$23,8,FALSE)","v":419},{"$f":"VLOOKUP($A$2,'Table 11'!$A$5:$L$23,8,FALSE)","v":462},{"$f":"VLOOKUP($A$2,'Table 12'!$A$5:$L$23,8,FALSE)","v":442},{"$f":"VLOOKUP($A$2,'Table 13'!$A$5:$L$23,8,FALSE)","v":424},"2 Bedrooms",{"$f":"B143/SUM(B$142:B$146)","v":0.45828295042321643},0.45647969052224369,0.47557603686635946,0.47505668934240364,0.48074921956295524,0.50399087799315845,0.46440306681270538]
["3 Bedrooms",{"$f":"VLOOKUP($A$2,'Table 7'!$A$26:$L$44,2,FALSE)","v":161},{"$f":"VLOOKUP($A$2,'Table 8'!$A$26:$L$44,2,FALSE)","v":218},{"$f":"VLOOKUP($A$2,'Table 9'!$A$26:$L$44,2,FALSE)","v":213},{"$f":"VLOOKUP($A$2,'Table 10'!$A$26:$L$44,2,FALSE)","v":153},{"$f":"VLOOKUP($A$2,'Table 11'!$A$26:$L$44,2,FALSE)","v":179},{"$f":"VLOOKUP($A$2,'Table 12'!$A$26:$L$44,2,FALSE)","v":133},{"$f":"VLOOKUP($A$2,'Table 13'!$A$26:$L$44,2,FALSE)","v":138},"3 Bedrooms",{"$f":"B144/SUM(B$142:B$146)","v":0.19467956469165659},0.21083172147001933,0.19631336405529953,0.17346938775510204,0.186264308012487,0.15165336374002281,0.1511500547645126]
["4 Bedrooms",{"$f":"VLOOKUP($A$2,'Table 7'!$A$26:$L$44,8,FALSE)","v":62},{"$f":"VLOOKUP($A$2,'Table 8'!$A$26:$L$44,8,FALSE)","v":78},{"$f":"VLOOKUP($A$2,'Table 9'!$A$26:$L$44,8,FALSE)","v":77},{"$f":"VLOOKUP($A$2,'Table 10'!$A$26:$L$44,8,FALSE)","v":76},{"$f":"VLOOKUP($A$2,'Table 11'!$A$26:$L$44,8,FALSE)","v":66},{"$f":"VLOOKUP($A$2,'Table 12'!$A$26:$L$44,8,FALSE)","v":52},{"$f":"VLOOKUP($A$2,'Table 13'!$A$26:$L$44,8,FALSE)","v":47},"4 Bedrooms",{"$f":"B145/SUM(B$142:B$146)","v":7.4969770253929868E-2},7.5435203094777567E-2,7.0967741935483872E-2,8.6167800453514742E-2,6.8678459937565037E-2,5.9293044469783354E-2,5.1478641840087623E-2]
["1 Bedroom Shared",{"$f":"VLOOKUP($A$2,'Table 7'!$A$47:$L$65,2,FALSE)","v":49},{"$f":"VLOOKUP($A$2,'Table 8'!$A$47:$L$65,2,FALSE)","v":54},{"$f":"VLOOKUP($A$2,'Table 9'!$A$47:$L$65,2,FALSE)","v":69},{"$f":"VLOOKUP($A$2,'Table 10'!$A$47:$L$65,2,FALSE)","v":69},{"$f":"VLOOKUP($A$2,'Table 11'!$A$47:$L$65,2,FALSE)","v":54},{"$f":"VLOOKUP($A$2,'Table 12'!$A$47:$L$65,2,FALSE)","v":49},{"$f":"VLOOKUP($A$2,'Table 13'!$A$47:$L$65,2,FALSE)","v":64},"1 Bedroom Shared",{"$f":"B146/SUM(B$142:B$146)","v":5.92503022974607E-2},5.2224371373307543E-2,6.3594470046082943E-2,7.8231292517006806E-2,5.6191467221644122E-2,5.5872291904218926E-2,7.0098576122672507E-2]

{"sheet":"BRMA Profile - Renfrewshire  In","index":27,"n_rows":146,"n_cols":16,"rows_kept":146,"cut":false,"hidden":true,"merged":[[1,0,1,2]]}
["BRMA Rent Profile for:"]
["Renfrewshire / Inverclyde",null,null,null,null,null,null,null,{"$f":"ROUND(MIN(J6:P9,J28:P31,J50:P53,J72:P75,J94:P97)-0.01,2)","v":-0.1},{"$f":"ROUND(MAX(J6:P9,J28:P31,J50:P53,J72:P75,J94:P97)+0.01,2)","v":0.23}]
[]
["1 Bedroom Properties - Quartile Measures:",null,null,null,null,null,null,null,"1 Bedroom Properties - Annual changes and 6-yr cumulative change:"]
[" ",2010,2011,2012,2013,2014,2015,2016," ","2010 to 2011","2011 to 2012","2012 to 2013","2013 to 2014","2014 to 2015","2015 to 2016","2010 to 2016"]
["Lower Quartile",{"$f":"VLOOKUP($A$2,'Table 7'!$A$5:$L$23,3,FALSE)","v":350},{"$f":"VLOOKUP($A$2,'Table 8'!$A$5:$L$23,3,FALSE)","v":350},{"$f":"VLOOKUP($A$2,'Table 9'!$A$5:$L$23,3,FALSE)","v":330},{"$f":"VLOOKUP($A$2,'Table 10'!$A$5:$L$23,3,FALSE)","v":350},{"$f":"VLOOKUP($A$2,'Table 11'!$A$5:$L$23,3,FALSE)","v":350},{"$f":"VLOOKUP($A$2,'Table 12'!$A$5:$L$23,3,FALSE)","v":330},{"$f":"VLOOKUP($A$2,'Table 13'!$A$5:$L$23,3,FALSE)","v":350},"Lower Quartile",{"$f":"C6/B6-1","v":0},-5.7142857142857162E-2,6.0606060606060552E-2,0,-5.7142857142857162E-2,{"$f":"H6/G6-1","v":6.0606060606060552E-2},{"$f":"H6/B6-1","v":0}]
["Median",{"$f":"VLOOKUP($A$2,'Table 7'!$A$5:$L$23,4,FALSE)","v":375},{"$f":"VLOOKUP($A$2,'Table 8'!$A$5:$L$23,4,FALSE)","v":372.5},{"$f":"VLOOKUP($A$2,'Table 9'!$A$5:$L$23,4,FALSE)","v":365},{"$f":"VLOOKUP($A$2,'Table 10'!$A$5:$L$23,4,FALSE)","v":375},{"$f":"VLOOKUP($A$2,'Table 11'!$A$5:$L$23,4,FALSE)","v":375},{"$f":"VLOOKUP($A$2,'Table 12'!$A$5:$L$23,4,FALSE)","v":350},{"$f":"VLOOKUP($A$2,'Table 13'!$A$5:$L$23,4,FALSE)","v":375},"Median",-6.6666666666667096E-3,-2.0134228187919434E-2,2.7397260273972712E-2,0,-6.6666666666666652E-2,7.1428571428571397E-2,{"$f":"H7/B7-1","v":0}]
["Mean",{"$f":"VLOOKUP($A$2,'Table 7'!$A$5:$L$23,5,FALSE)","v":374.39},{"$f":"VLOOKUP($A$2,'Table 8'!$A$5:$L$23,5,FALSE)","v":373.37},{"$f":"VLOOKUP($A$2,'Table 9'!$A$5:$L$23,5,FALSE)","v":370.31},{"$f":"VLOOKUP($A$2,'Table 10'!$A$5:$L$23,5,FALSE)","v":377.76},{"$f":"VLOOKUP($A$2,'Table 11'!$A$5:$L$23,5,FALSE)","v":377.5},{"$f":"VLOOKUP($A$2,'Table 12'!$A$5:$L$23,5,FALSE)","v":372.21},{"$f":"VLOOKUP($A$2,'Table 13'!$A$5:$L$23,5,FALSE)","v":391.6},"Mean",-2.724431742300748E-3,-8.1956236441064201E-3,2.0118279279522477E-2,-6.8826768318508424E-4,-1.4013245033112631E-2,5.2094247870825727E-2,4.5968108122546036E-2]
["Upper Quartile",{"$f":"VLOOKUP($A$2,'Table 7'!$A$5:$L$23,6,FALSE)","v":395},{"$f":"VLOOKUP($A$2,'Table 8'!$A$5:$L$23,6,FALSE)","v":395},{"$f":"VLOOKUP($A$2,'Table 9'!$A$5:$L$23,6,FALSE)","v":395},{"$f":"VLOOKUP($A$2,'Table 10'!$A$5:$L$23,6,FALSE)","v":400},{"$f":"VLOOKUP($A$2,'Table 11'!$A$5:$L$23,6,FALSE)","v":395},{"$f":"VLOOKUP($A$2,'Table 12'!$A$5:$L$23,6,FALSE)","v":400},{"$f":"VLOOKUP($A$2,'Table 13'!$A$5:$L$23,6,FALSE)","v":400},"Upper Quartile",0,0,1.2658227848101333E-2,-1.2499999999999956E-2,1.2658227848101333E-2,0,1.2658227848101333E-2]
[]
[]
[]
[]
[]
[]
[]
[]
[]
[]
[]
[]
[]
[]
[]
[]
["2 Bedroom Properties:",null,null,null,null,null,null,null,"2 Bedroom Properties - Annual changes and 6-yr cumulative change:"]
[null,2010,2011,2012,2013,2014,2015,2016," ","2010 to 2011","2011 to 2012","2012 to 2013","2013 to 2014","2014 to 2015","2015 to 2016","2010 to 2016"]
["Lower Quartile",{"$f":"VLOOKUP($A$2,'Table 7'!$A$5:$L$23,9,FALSE)","v":425},{"$f":"VLOOKUP($A$2,'Table 8'!$A$5:$L$23,9,FALSE)","v":425},{"$f":"VLOOKUP($A$2,'Table 9'!$A$5:$L$23,9,FALSE)","v":425},{"$f":"VLOOKUP($A$2,'Table 10'!$A$5:$L$23,9,FALSE)","v":425},{"$f":"VLOOKUP($A$2,'Table 11'!$A$5:$L$23,9,FALSE)","v":425},{"$f":"VLOOKUP($A$2,'Table 12'!$A$5:$L$23,9,FALSE)","v":425},{"$f":"VLOOKUP($A$2,'Table 13'!$A$5:$L$23,9,FALSE)","v":425},"Lower Quartile",{"$f":"C28/B28-1","v":0},0,0,0,0,{"$f":"H28/G28-1","v":0},{"$f":"H28/B28-1","v":0}]
["Median",{"$f":"VLOOKUP($A$2,'Table 7'!$A$5:$L$23,10,FALSE)","v":450},{"$f":"VLOOKUP($A$2,'Table 8'!$A$5:$L$23,10,FALSE)","v":475},{"$f":"VLOOKUP($A$2,'Table 9'!$A$5:$L$23,10,FALSE)","v":475},{"$f":"VLOOKUP($A$2,'Table 10'!$A$5:$L$23,10,FALSE)","v":475},{"$f":"VLOOKUP($A$2,'Table 11'!$A$5:$L$23,10,FALSE)","v":475},{"$f":"VLOOKUP($A$2,'Table 12'!$A$5:$L$23,10,FALSE)","v":475},{"$f":"VLOOKUP($A$2,'Table 13'!$A$5:$L$23,10,FALSE)","v":475},"Median",5.555555555555558E-2,0,0,0,0,{"$f":"H29/G29-1","v":0},{"$f":"H29/B29-1","v":5.555555555555558E-2}]
["Mean",{"$f":"VLOOKUP($A$2,'Table 7'!$A$5:$L$23,11,FALSE)","v":472.96},{"$f":"VLOOKUP($A$2,'Table 8'!$A$5:$L$23,11,FALSE)","v":477.94},{"$f":"VLOOKUP($A$2,'Table 9'!$A$5:$L$23,11,FALSE)","v":484.84},{"$f":"VLOOKUP($A$2,'Table 10'!$A$5:$L$23,11,FALSE)","v":480.45},{"$f":"VLOOKUP($A$2,'Table 11'!$A$5:$L$23,11,FALSE)","v":483},{"$f":"VLOOKUP($A$2,'Table 12'!$A$5:$L$23,11,FALSE)","v":488.37},{"$f":"VLOOKUP($A$2,'Table 13'!$A$5:$L$23,11,FALSE)","v":493.93},"Mean",1.0529431664411337E-2,1.4436958614052031E-2,-9.0545334543353784E-3,5.3075241960662822E-3,1.1118012422360213E-2,{"$f":"H30/G30-1","v":1.1384810696807746E-2},4.4337787550744245E-2]
["Upper Quartile",{"$f":"VLOOKUP($A$2,'Table 7'!$A$5:$L$23,12,FALSE)","v":525},{"$f":"VLOOKUP($A$2,'Table 8'!$A$5:$L$23,12,FALSE)","v":525},{"$f":"VLOOKUP($A$2,'Table 9'!$A$5:$L$23,12,FALSE)","v":550},{"$f":"VLOOKUP($A$2,'Table 10'!$A$5:$L$23,12,FALSE)","v":525},{"$f":"VLOOKUP($A$2,'Table 11'!$A$5:$L$23,12,FALSE)","v":525},{"$f":"VLOOKUP($A$2,'Table 12'!$A$5:$L$23,12,FALSE)","v":550},{"$f":"VLOOKUP($A$2,'Table 13'!$A$5:$L$23,12,FALSE)","v":550},"Upper Quartile",0,4.7619047619047672E-2,-4.5454545454545414E-2,0,4.7619047619047672E-2,{"$f":"H31/G31-1","v":0},4.7619047619047672E-2]
[]
[]
[]
[]
[]
[]
[]
[]
[]
[]
[]
[]
[]
[]
[]
[]
["3 Bedroom Properties:",null,null,null,null,null,null,null,"3 Bedroom Properties - Annual changes and 6-yr cumulative change:"]
[null,2010,2011,2012,2013,2014,2015,2016," ","2010 to 2011","2011 to 2012","2012 to 2013","2013 to 2014","2014 to 2015","2015 to 2016","2010 to 2016"]
["Lower Quartile",{"$f":"VLOOKUP($A$2,'Table 7'!$A$26:$L$44,3,FALSE)","v":497.5},{"$f":"VLOOKUP($A$2,'Table 8'!$A$26:$L$44,3,FALSE)","v":500},{"$f":"VLOOKUP($A$2,'Table 9'!$A$26:$L$44,3,FALSE)","v":500},{"$f":"VLOOKUP($A$2,'Table 10'!$A$26:$L$44,3,FALSE)","v":525},{"$f":"VLOOKUP($A$2,'Table 11'!$A$26:$L$44,3,FALSE)","v":500},{"$f":"VLOOKUP($A$2,'Table 12'!$A$26:$L$44,3,FALSE)","v":500},{"$f":"VLOOKUP($A$2,'Table 13'!$A$26:$L$44,3,FALSE)","v":525},"Lower Quartile",{"$f":"C50/B50-1","v":5.0251256281406143E-3},0,5.0000000000000044E-2,-4.7619047619047672E-2,0,{"$f":"H50/G50-1","v":5.0000000000000044E-2},{"$f":"H50/B50-1","v":5.5276381909547645E-2}]
["Median",{"$f":"VLOOKUP($A$2,'Table 7'!$A$26:$L$44,4,FALSE)","v":600},{"$f":"VLOOKUP($A$2,'Table 8'!$A$26:$L$44,4,FALSE)","v":595},{"$f":"VLOOKUP($A$2,'Table 9'!$A$26:$L$44,4,FALSE)","v":595},{"$f":"VLOOKUP($A$2,'Table 10'!$A$26:$L$44,4,FALSE)","v":625},{"$f":"VLOOKUP($A$2,'Table 11'!$A$26:$L$44,4,FALSE)","v":595},{"$f":"VLOOKUP($A$2,'Table 12'!$A$26:$L$44,4,FALSE)","v":625},{"$f":"VLOOKUP($A$2,'Table 13'!$A$26:$L$44,4,FALSE)","v":650},"Median",-8.3333333333333037E-3,0,5.0420168067226934E-2,-4.8000000000000043E-2,5.0420168067226934E-2,{"$f":"H51/G51-1","v":4.0000000000000036E-2},{"$f":"H51/B51-1","v":8.3333333333333259E-2}]
["Mean",{"$f":"VLOOKUP($A$2,'Table 7'!$A$26:$L$44,5,FALSE)","v":611.61},{"$f":"VLOOKUP($A$2,'Table 8'!$A$26:$L$44,5,FALSE)","v":620.07000000000005},{"$f":"VLOOKUP($A$2,'Table 9'!$A$26:$L$44,5,FALSE)","v":609.26},{"$f":"VLOOKUP($A$2,'Table 10'!$A$26:$L$44,5,FALSE)","v":626.29},{"$f":"VLOOKUP($A$2,'Table 11'!$A$26:$L$44,5,FALSE)","v":621.87},{"$f":"VLOOKUP($A$2,'Table 12'!$A$26:$L$44,5,FALSE)","v":646.1},{"$f":"VLOOKUP($A$2,'Table 13'!$A$26:$L$44,5,FALSE)","v":643.1},"Mean",1.3832344140874087E-2,-1.7433515570822733E-2,2.7951941699766891E-2,-7.0574334573439979E-3,3.8963127341727466E-2,{"$f":"H52/G52-1","v":-4.6432440798638286E-3},5.1487058746586989E-2]
["Upper Quartile",{"$f":"VLOOKUP($A$2,'Table 7'!$A$26:$L$44,6,FALSE)","v":695},{"$f":"VLOOKUP($A$2,'Table 8'!$A$26:$L$44,6,FALSE)","v":695},{"$f":"VLOOKUP($A$2,'Table 9'!$A$26:$L$44,6,FALSE)","v":695},{"$f":"VLOOKUP($A$2,'Table 10'!$A$26:$L$44,6,FALSE)","v":700},{"$f":"VLOOKUP($A$2,'Table 11'!$A$26:$L$44,6,FALSE)","v":700},{"$f":"VLOOKUP($A$2,'Table 12'!$A$26:$L$44,6,FALSE)","v":725},{"$f":"VLOOKUP($A$2,'Table 13'!$A$26:$L$44,6,FALSE)","v":750},"Upper Quartile",0,0,7.194244604316502E-3,0,3.5714285714285809E-2,{"$f":"H53/G53-1","v":3.4482758620689724E-2},7.9136690647481966E-2]
[]
[]
[]
[]
[]
[]
[]
[]
[]
[]
[]
[]
[]
[]
[]
[]
["4 Bedroom Properties:",null,null,null,null,null,null,null,"4 Bedroom Properties - Annual changes and 6-yr cumulative change:"]
[null,2010,2011,2012,2013,2014,2015,2016," ","2010 to 2011","2011 to 2012","2012 to 2013","2013 to 2014","2014 to 2015","2015 to 2016","2010 to 2016"]
["Lower Quartile",{"$f":"VLOOKUP($A$2,'Table 7'!$A$26:$L$44,9,FALSE)","v":675},{"$f":"VLOOKUP($A$2,'Table 8'!$A$26:$L$44,9,FALSE)","v":775},{"$f":"VLOOKUP($A$2,'Table 9'!$A$26:$L$44,9,FALSE)","v":795},{"$f":"VLOOKUP($A$2,'Table 10'!$A$26:$L$44,9,FALSE)","v":750},{"$f":"VLOOKUP($A$2,'Table 11'!$A$26:$L$44,9,FALSE)","v":800},{"$f":"VLOOKUP($A$2,'Table 12'!$A$26:$L$44,9,FALSE)","v":795},{"$f":"VLOOKUP($A$2,'Table 13'!$A$26:$L$44,9,FALSE)","v":800},"Lower Quartile",{"$f":"C72/B72-1","v":0.14814814814814814},2.5806451612903292E-2,-5.6603773584905648E-2,6.6666666666666652E-2,-6.2499999999999778E-3,{"$f":"H72/G72-1","v":6.2893081761006275E-3},{"$f":"H72/B72-1","v":0.18518518518518512}]
["Median",{"$f":"VLOOKUP($A$2,'Table 7'!$A$26:$L$44,10,FALSE)","v":800},{"$f":"VLOOKUP($A$2,'Table 8'!$A$26:$L$44,10,FALSE)","v":875},{"$f":"VLOOKUP($A$2,'Table 9'!$A$26:$L$44,10,FALSE)","v":900},{"$f":"VLOOKUP($A$2,'Table 10'!$A$26:$L$44,10,FALSE)","v":875},{"$f":"VLOOKUP($A$2,'Table 11'!$A$26:$L$44,10,FALSE)","v":912.5},{"$f":"VLOOKUP($A$2,'Table 12'!$A$26:$L$44,10,FALSE)","v":895},{"$f":"VLOOKUP($A$2,'Table 13'!$A$26:$L$44,10,FALSE)","v":950},"Median",9.375E-2,2.857142857142847E-2,-2.777777777777779E-2,4.2857142857142927E-2,-1.9178082191780854E-2,6.1452513966480549E-2,{"$f":"H73/B73-1","v":0.1875}]
["Mean",{"$f":"VLOOKUP($A$2,'Table 7'!$A$26:$L$44,11,FALSE)","v":833.68},{"$f":"VLOOKUP($A$2,'Table 8'!$A$26:$L$44,11,FALSE)","v":954.19},{"$f":"VLOOKUP($A$2,'Table 9'!$A$26:$L$44,11,FALSE)","v":998.27},{"$f":"VLOOKUP($A$2,'Table 10'!$A$26:$L$44,11,FALSE)","v":915.1},{"$f":"VLOOKUP($A$2,'Table 11'!$A$26:$L$44,11,FALSE)","v":975.32},{"$f":"VLOOKUP($A$2,'Table 12'!$A$26:$L$44,11,FALSE)","v":977.39},{"$f":"VLOOKUP($A$2,'Table 13'!$A$26:$L$44,11,FALSE)","v":1014.72},"Mean",0.14455186642356788,4.6196250222701796E-2,-8.331413345087002E-2,6.5807015626707432E-2,2.1223803469629932E-3,3.8193556308126819E-2,0.2171576624124365]
["Upper Quartile",{"$f":"VLOOKUP($A$2,'Table 7'!$A$26:$L$44,12,FALSE)","v":995},{"$f":"VLOOKUP($A$2,'Table 8'!$A$26:$L$44,12,FALSE)","v":1000},{"$f":"VLOOKUP($A$2,'Table 9'!$A$26:$L$44,12,FALSE)","v":1000},{"$f":"VLOOKUP($A$2,'Table 10'!$A$26:$L$44,12,FALSE)","v":1000},{"$f":"VLOOKUP($A$2,'Table 11'!$A$26:$L$44,12,FALSE)","v":1200},{"$f":"VLOOKUP($A$2,'Table 12'!$A$26:$L$44,12,FALSE)","v":1100},{"$f":"VLOOKUP($A$2,'Table 13'!$A$26:$L$44,12,FALSE)","v":1200},"Upper Quartile",5.0251256281406143E-3,0,0,0.19999999999999996,-8.333333333333337E-2,9.0909090909090828E-2,0.20603015075376874]
[]
[]
[]
[]
[]
[]
[]
[]
[]
[]
[]
[]
[]
[]
[]
[]
["1 Bedroom Shared Properties:",null,null,null,null,null,null,null,"1 Bedroom Shared Properties - Annual changes and 6-yr cumulative change:"]
[null,2010,2011,2012,2013,2014,2015,2016," ","2010 to 2011","2011 to 2012","2012 to 2013","2013 to 2014","2014 to 2015","2015 to 2016","2010 to 2016"]
["Lower Quartile",{"$f":"VLOOKUP($A$2,'Table 7'!$A$47:$F$65,3,FALSE)","v":274},{"$f":"VLOOKUP($A$2,'Table 8'!$A$47:$F$65,3,FALSE)","v":265.5},{"$f":"VLOOKUP($A$2,'Table 9'!$A$47:$F$65,3,FALSE)","v":275},{"$f":"VLOOKUP($A$2,'Table 10'!$A$47:$F$65,3,FALSE)","v":250},{"$f":"VLOOKUP($A$2,'Table 11'!$A$47:$F$65,3,FALSE)","v":250},{"$f":"VLOOKUP($A$2,'Table 12'!$A$47:$F$65,3,FALSE)","v":250},{"$f":"VLOOKUP($A$2,'Table 13'!$A$47:$F$65,3,FALSE)","v":270},"Lower Quartile",{"$f":"C94/B94-1","v":-3.1021897810219023E-2},3.5781544256120457E-2,-9.0909090909090939E-2,0,0,{"$f":"H94/G94-1","v":8.0000000000000071E-2},{"$f":"H94/B94-1","v":-1.4598540145985384E-2}]
["Median",{"$f":"VLOOKUP($A$2,'Table 7'!$A$47:$F$65,4,FALSE)","v":300},{"$f":"VLOOKUP($A$2,'Table 8'!$A$47:$F$65,4,FALSE)","v":300},{"$f":"VLOOKUP($A$2,'Table 9'!$A$47:$F$65,4,FALSE)","v":300},{"$f":"VLOOKUP($A$2,'Table 10'!$A$47:$F$65,4,FALSE)","v":287.5},{"$f":"VLOOKUP($A$2,'Table 11'!$A$47:$F$65,4,FALSE)","v":283.33},{"$f":"VLOOKUP($A$2,'Table 12'!$A$47:$F$65,4,FALSE)","v":294.35000000000002},{"$f":"VLOOKUP($A$2,'Table 13'!$A$47:$F$65,4,FALSE)","v":300},"Median",0,0,-4.166666666666663E-2,-1.4504347826087005E-2,3.8894575230296935E-2,1.9194836079497124E-2,{"$f":"H95/B95-1","v":0}]
["Mean",{"$f":"VLOOKUP($A$2,'Table 7'!$A$47:$F$65,5,FALSE)","v":296.26},{"$f":"VLOOKUP($A$2,'Table 8'!$A$47:$F$65,5,FALSE)","v":299.05},{"$f":"VLOOKUP($A$2,'Table 9'!$A$47:$F$65,5,FALSE)","v":290.55},{"$f":"VLOOKUP($A$2,'Table 10'!$A$47:$F$65,5,FALSE)","v":292.81},{"$f":"VLOOKUP($A$2,'Table 11'!$A$47:$F$65,5,FALSE)","v":291.26},{"$f":"VLOOKUP($A$2,'Table 12'!$A$47:$F$65,5,FALSE)","v":286.83999999999997},{"$f":"VLOOKUP($A$2,'Table 13'!$A$47:$F$65,5,FALSE)","v":304.02999999999997},"Mean",9.4174036319449872E-3,-2.8423340578498602E-2,7.7783514025124845E-3,-5.2935350568628081E-3,-1.5175444619927259E-2,5.9928880211964852E-2,2.6226962802943232E-2]
["Upper Quartile",{"$f":"VLOOKUP($A$2,'Table 7'!$A$47:$F$65,6,FALSE)","v":330},{"$f":"VLOOKUP($A$2,'Table 8'!$A$47:$F$65,6,FALSE)","v":324},{"$f":"VLOOKUP($A$2,'Table 9'!$A$47:$F$65,6,FALSE)","v":320},{"$f":"VLOOKUP($A$2,'Table 10'!$A$47:$F$65,6,FALSE)","v":315},{"$f":"VLOOKUP($A$2,'Table 11'!$A$47:$F$65,6,FALSE)","v":325},{"$f":"VLOOKUP($A$2,'Table 12'!$A$47:$F$65,6,FALSE)","v":320},{"$f":"VLOOKUP($A$2,'Table 13'!$A$47:$F$65,6,FALSE)","v":330},"Upper Quartile",-1.8181818181818188E-2,-1.2345679012345734E-2,-1.5625E-2,3.1746031746031855E-2,-1.538461538461533E-2,3.125E-2,0]
[]
[]
[]
[]
[]
[]
[]
[]
[]
[]
[]
[]
[]
[]
[]
[]
[]
[]
["Mean Rents by Property Size:",null,null,null,null,null,null,null,"Median Rents by Property Size:"]
[null,2010,2011,2012,2013,2014,2015,2016,null,2010,2011,2012,2013,2014,2015,2016]
["1 Bedroom Shared",{"$f":"B96","v":296.26},299.05,290.55,292.81,291.26,286.83999999999997,304.02999999999997,"1 Bedroom Shared",{"$f":"B95","v":300},300,300,287.5,283.33,{"$f":"G95","v":294.35000000000002},{"$f":"H95","v":300}]
["1 Bedroom ",{"$f":"B8","v":374.39},373.37,370.31,377.76,377.5,372.21,391.6,"1 Bedroom ",{"$f":"B7","v":375},372.5,365,375,375,{"$f":"G7","v":350},{"$f":"H7","v":375}]
["2 Bedrooms",{"$f":"B30","v":472.96},477.94,484.84,480.45,483,488.37,493.93,"2 Bedrooms",{"$f":"B29","v":450},475,475,475,475,{"$f":"G29","v":475},{"$f":"H29","v":475}]
["3 Bedrooms",{"$f":"B52","v":611.61},620.07000000000005,609.26,626.29,621.87,646.1,643.1,"3 Bedrooms",{"$f":"B51","v":600},595,595,625,595,{"$f":"G51","v":625},{"$f":"H51","v":650}]
["4 Bedrooms",{"$f":"B74","v":833.68},954.19,998.27,915.1,975.32,977.39,1014.72,"4 Bedrooms",{"$f":"B73","v":800},875,900,875,912.5,{"$f":"G73","v":895},{"$f":"H73","v":950}]
[]
[]
[]
[]
[]
[]
[]
[]
[]
[]
[]
[]
[]
[]
[]
[]
[]
["Sample Sizes:",null,null,null,null,null,null,null,"Sample Proportions:"]
[null,2010,2011,2012,2013,2014,2015,2016,null,2010,2011,2012,2013,2014,2015,2016]
["1 Bedroom ",{"$f":"VLOOKUP($A$2,'Table 7'!$A$5:$L$23,2,FALSE)","v":346},{"$f":"VLOOKUP($A$2,'Table 8'!$A$5:$L$23,2,FALSE)","v":360},{"$f":"VLOOKUP($A$2,'Table 9'!$A$5:$L$23,2,FALSE)","v":257},{"$f":"VLOOKUP($A$2,'Table 10'!$A$5:$L$23,2,FALSE)","v":244},{"$f":"VLOOKUP($A$2,'Table 11'!$A$5:$L$23,2,FALSE)","v":232},{"$f":"VLOOKUP($A$2,'Table 12'!$A$5:$L$23,2,FALSE)","v":277},{"$f":"VLOOKUP($A$2,'Table 13'!$A$5:$L$23,2,FALSE)","v":352},"1 Bedroom ",{"$f":"B142/SUM(B$142:B$146)","v":0.26718146718146718},{"$f":"C142/SUM(C$142:C$146)","v":0.24896265560165975},0.23049327354260091,0.22467771639042358,0.19545071609098569,{"$f":"G142/SUM(G$142:G$146)","v":0.22892561983471074},0.26112759643916916]
["2 Bedrooms",{"$f":"VLOOKUP($A$2,'Table 7'!$A$5:$L$23,8,FALSE)","v":613},{"$f":"VLOOKUP($A$2,'Table 8'!$A$5:$L$23,8,FALSE)","v":653},{"$f":"VLOOKUP($A$2,'Table 9'!$A$5:$L$23,8,FALSE)","v":528},{"$f":"VLOOKUP($A$2,'Table 10'!$A$5:$L$23,8,FALSE)","v":478},{"$f":"VLOOKUP($A$2,'Table 11'!$A$5:$L$23,8,FALSE)","v":513},{"$f":"VLOOKUP($A$2,'Table 12'!$A$5:$L$23,8,FALSE)","v":493},{"$f":"VLOOKUP($A$2,'Table 13'!$A$5:$L$23,8,FALSE)","v":583},"2 Bedrooms",{"$f":"B143/SUM(B$142:B$146)","v":0.47335907335907335},0.45159059474412172,0.47354260089686101,0.44014732965009207,0.43218197135636055,0.40743801652892564,0.43249258160237386]
["3 Bedrooms",{"$f":"VLOOKUP($A$2,'Table 7'!$A$26:$L$44,2,FALSE)","v":228},{"$f":"VLOOKUP($A$2,'Table 8'!$A$26:$L$44,2,FALSE)","v":269},{"$f":"VLOOKUP($A$2,'Table 9'!$A$26:$L$44,2,FALSE)","v":199},{"$f":"VLOOKUP($A$2,'Table 10'!$A$26:$L$44,2,FALSE)","v":195},{"$f":"VLOOKUP($A$2,'Table 11'!$A$26:$L$44,2,FALSE)","v":276},{"$f":"VLOOKUP($A$2,'Table 12'!$A$26:$L$44,2,FALSE)","v":227},{"$f":"VLOOKUP($A$2,'Table 13'!$A$26:$L$44,2,FALSE)","v":237},"3 Bedrooms",{"$f":"B144/SUM(B$142:B$146)","v":0.17606177606177606},0.18603042876901799,0.17847533632286997,0.17955801104972377,0.23251895534962089,0.18760330578512396,0.1758160237388724]
["4 Bedrooms",{"$f":"VLOOKUP($A$2,'Table 7'!$A$26:$L$44,8,FALSE)","v":62},{"$f":"VLOOKUP($A$2,'Table 8'!$A$26:$L$44,8,FALSE)","v":100},{"$f":"VLOOKUP($A$2,'Table 9'!$A$26:$L$44,8,FALSE)","v":66},{"$f":"VLOOKUP($A$2,'Table 10'!$A$26:$L$44,8,FALSE)","v":81},{"$f":"VLOOKUP($A$2,'Table 11'!$A$26:$L$44,8,FALSE)","v":74},{"$f":"VLOOKUP($A$2,'Table 12'!$A$26:$L$44,8,FALSE)","v":95},{"$f":"VLOOKUP($A$2,'Table 13'!$A$26:$L$44,8,FALSE)","v":71},"4 Bedrooms",{"$f":"B145/SUM(B$142:B$146)","v":4.7876447876447875E-2},6.9156293222683268E-2,5.9192825112107626E-2,7.4585635359116026E-2,6.2342038753159225E-2,7.8512396694214878E-2,5.2670623145400594E-2]
["1 Bedroom Shared",{"$f":"VLOOKUP($A$2,'Table 7'!$A$47:$L$65,2,FALSE)","v":46},{"$f":"VLOOKUP($A$2,'Table 8'!$A$47:$L$65,2,FALSE)","v":64},{"$f":"VLOOKUP($A$2,'Table 9'!$A$47:$L$65,2,FALSE)","v":65},{"$f":"VLOOKUP($A$2,'Table 10'!$A$47:$L$65,2,FALSE)","v":88},{"$f":"VLOOKUP($A$2,'Table 11'!$A$47:$L$65,2,FALSE)","v":92},{"$f":"VLOOKUP($A$2,'Table 12'!$A$47:$L$65,2,FALSE)","v":118},{"$f":"VLOOKUP($A$2,'Table 13'!$A$47:$L$65,2,FALSE)","v":105},"1 Bedroom Shared",{"$f":"B146/SUM(B$142:B$146)","v":3.5521235521235518E-2},4.4260027662517291E-2,5.829596412556054E-2,8.1031307550644568E-2,7.7506318449873629E-2,9.7520661157024791E-2,7.7893175074183973E-2]

{"sheet":"BRMA Profile - Scottish Borders","index":28,"n_rows":146,"n_cols":16,"rows_kept":146,"cut":false,"hidden":true,"merged":[[1,0,1,2]]}
["BRMA Rent Profile for:"]
["Scottish Borders",null,null,null,null,null,null,null,{"$f":"ROUND(MIN(J6:P9,J28:P31,J50:P53,J72:P75,J94:P97)-0.01,2)","v":-0.12},{"$f":"ROUND(MAX(J6:P9,J28:P31,J50:P53,J72:P75,J94:P97)+0.01,2)","v":0.14000000000000001}]
[]
["1 Bedroom Properties - Quartile Measures:",null,null,null,null,null,null,null,"1 Bedroom Properties - Annual changes and 6-yr cumulative change:"]
[" ",2010,2011,2012,2013,2014,2015,2016," ","2010 to 2011","2011 to 2012","2012 to 2013","2013 to 2014","2014 to 2015","2015 to 2016","2010 to 2016"]
["Lower Quartile",{"$f":"VLOOKUP($A$2,'Table 7'!$A$5:$L$23,3,FALSE)","v":300},{"$f":"VLOOKUP($A$2,'Table 8'!$A$5:$L$23,3,FALSE)","v":300},{"$f":"VLOOKUP($A$2,'Table 9'!$A$5:$L$23,3,FALSE)","v":300},{"$f":"VLOOKUP($A$2,'Table 10'!$A$5:$L$23,3,FALSE)","v":300},{"$f":"VLOOKUP($A$2,'Table 11'!$A$5:$L$23,3,FALSE)","v":300},{"$f":"VLOOKUP($A$2,'Table 12'!$A$5:$L$23,3,FALSE)","v":300},{"$f":"VLOOKUP($A$2,'Table 13'!$A$5:$L$23,3,FALSE)","v":310},"Lower Quartile",{"$f":"C6/B6-1","v":0},0,0,0,0,{"$f":"H6/G6-1","v":3.3333333333333437E-2},{"$f":"H6/B6-1","v":3.3333333333333437E-2}]
["Median",{"$f":"VLOOKUP($A$2,'Table 7'!$A$5:$L$23,4,FALSE)","v":335},{"$f":"VLOOKUP($A$2,'Table 8'!$A$5:$L$23,4,FALSE)","v":350},{"$f":"VLOOKUP($A$2,'Table 9'!$A$5:$L$23,4,FALSE)","v":340},{"$f":"VLOOKUP($A$2,'Table 10'!$A$5:$L$23,4,FALSE)","v":325},{"$f":"VLOOKUP($A$2,'Table 11'!$A$5:$L$23,4,FALSE)","v":350},{"$f":"VLOOKUP($A$2,'Table 12'!$A$5:$L$23,4,FALSE)","v":345},{"$f":"VLOOKUP($A$2,'Table 13'!$A$5:$L$23,4,FALSE)","v":325},"Median",4.4776119402984982E-2,-2.8571428571428581E-2,-4.4117647058823484E-2,7.6923076923076872E-2,-1.4285714285714235E-2,-5.7971014492753659E-2,{"$f":"H7/B7-1","v":-2.9850746268656692E-2}]
["Mean",{"$f":"VLOOKUP($A$2,'Table 7'!$A$5:$L$23,5,FALSE)","v":336.19},{"$f":"VLOOKUP($A$2,'Table 8'!$A$5:$L$23,5,FALSE)","v":344.54},{"$f":"VLOOKUP($A$2,'Table 9'!$A$5:$L$23,5,FALSE)","v":336.91},{"$f":"VLOOKUP($A$2,'Table 10'!$A$5:$L$23,5,FALSE)","v":331.99},{"$f":"VLOOKUP($A$2,'Table 11'!$A$5:$L$23,5,FALSE)","v":337.33},{"$f":"VLOOKUP($A$2,'Table 12'!$A$5:$L$23,5,FALSE)","v":339.71},{"$f":"VLOOKUP($A$2,'Table 13'!$A$5:$L$23,5,FALSE)","v":337.92},"Mean",2.4837145661679383E-2,-2.2145469321414035E-2,-1.4603306521029369E-2,1.6084821831982898E-2,7.0554056858269654E-3,-5.2692002001706317E-3,5.1458996400846058E-3]
["Upper Quartile",{"$f":"VLOOKUP($A$2,'Table 7'!$A$5:$L$23,6,FALSE)","v":370},{"$f":"VLOOKUP($A$2,'Table 8'!$A$5:$L$23,6,FALSE)","v":375},{"$f":"VLOOKUP($A$2,'Table 9'!$A$5:$L$23,6,FALSE)","v":355},{"$f":"VLOOKUP($A$2,'Table 10'!$A$5:$L$23,6,FALSE)","v":350},{"$f":"VLOOKUP($A$2,'Table 11'!$A$5:$L$23,6,FALSE)","v":370},{"$f":"VLOOKUP($A$2,'Table 12'!$A$5:$L$23,6,FALSE)","v":360},{"$f":"VLOOKUP($A$2,'Table 13'!$A$5:$L$23,6,FALSE)","v":360},"Upper Quartile",1.3513513513513598E-2,-5.3333333333333344E-2,-1.4084507042253502E-2,5.7142857142857162E-2,-2.7027027027026973E-2,0,-2.7027027027026973E-2]
[]
[]
[]
[]
[]
[]
[]
[]
[]
[]
[]
[]
[]
[]
[]
[]
["2 Bedroom Properties:",null,null,null,null,null,null,null,"2 Bedroom Properties - Annual changes and 6-yr cumulative change:"]
[null,2010,2011,2012,2013,2014,2015,2016," ","2010 to 2011","2011 to 2012","2012 to 2013","2013 to 2014","2014 to 2015","2015 to 2016","2010 to 2016"]
["Lower Quartile",{"$f":"VLOOKUP($A$2,'Table 7'!$A$5:$L$23,9,FALSE)","v":395},{"$f":"VLOOKUP($A$2,'Table 8'!$A$5:$L$23,9,FALSE)","v":400},{"$f":"VLOOKUP($A$2,'Table 9'!$A$5:$L$23,9,FALSE)","v":400},{"$f":"VLOOKUP($A$2,'Table 10'!$A$5:$L$23,9,FALSE)","v":395},{"$f":"VLOOKUP($A$2,'Table 11'!$A$5:$L$23,9,FALSE)","v":400},{"$f":"VLOOKUP($A$2,'Table 12'!$A$5:$L$23,9,FALSE)","v":400},{"$f":"VLOOKUP($A$2,'Table 13'!$A$5:$L$23,9,FALSE)","v":400},"Lower Quartile",{"$f":"C28/B28-1","v":1.2658227848101333E-2},0,-1.2499999999999956E-2,1.2658227848101333E-2,0,{"$f":"H28/G28-1","v":0},{"$f":"H28/B28-1","v":1.2658227848101333E-2}]
["Median",{"$f":"VLOOKUP($A$2,'Table 7'!$A$5:$L$23,10,FALSE)","v":427.5},{"$f":"VLOOKUP($A$2,'Table 8'!$A$5:$L$23,10,FALSE)","v":450},{"$f":"VLOOKUP($A$2,'Table 9'!$A$5:$L$23,10,FALSE)","v":440},{"$f":"VLOOKUP($A$2,'Table 10'!$A$5:$L$23,10,FALSE)","v":450},{"$f":"VLOOKUP($A$2,'Table 11'!$A$5:$L$23,10,FALSE)","v":440},{"$f":"VLOOKUP($A$2,'Table 12'!$A$5:$L$23,10,FALSE)","v":435},{"$f":"VLOOKUP($A$2,'Table 13'!$A$5:$L$23,10,FALSE)","v":450},"Median",5.2631578947368363E-2,-2.2222222222222254E-2,2.2727272727272707E-2,-2.2222222222222254E-2,-1.1363636363636354E-2,{"$f":"H29/G29-1","v":3.4482758620689724E-2},{"$f":"H29/B29-1","v":5.2631578947368363E-2}]
["Mean",{"$f":"VLOOKUP($A$2,'Table 7'!$A$5:$L$23,11,FALSE)","v":441.58},{"$f":"VLOOKUP($A$2,'Table 8'!$A$5:$L$23,11,FALSE)","v":446.24},{"$f":"VLOOKUP($A$2,'Table 9'!$A$5:$L$23,11,FALSE)","v":444.92},{"$f":"VLOOKUP($A$2,'Table 10'!$A$5:$L$23,11,FALSE)","v":443.86},{"$f":"VLOOKUP($A$2,'Table 11'!$A$5:$L$23,11,FALSE)","v":444.22},{"$f":"VLOOKUP($A$2,'Table 12'!$A$5:$L$23,11,FALSE)","v":443.93},{"$f":"VLOOKUP($A$2,'Table 13'!$A$5:$L$23,11,FALSE)","v":452.23},"Mean",1.0553014176366782E-2,-2.9580494801003665E-3,-2.382450777667855E-3,8.1106655251650395E-4,-6.5282967898794286E-4,{"$f":"H30/G30-1","v":1.8696641362377031E-2},2.4117940124099846E-2]
["Upper Quartile",{"$f":"VLOOKUP($A$2,'Table 7'!$A$5:$L$23,12,FALSE)","v":490},{"$f":"VLOOKUP($A$2,'Table 8'!$A$5:$L$23,12,FALSE)","v":495},{"$f":"VLOOKUP($A$2,'Table 9'!$A$5:$L$23,12,FALSE)","v":485},{"$f":"VLOOKUP($A$2,'Table 10'!$A$5:$L$23,12,FALSE)","v":495},{"$f":"VLOOKUP($A$2,'Table 11'!$A$5:$L$23,12,FALSE)","v":495},{"$f":"VLOOKUP($A$2,'Table 12'!$A$5:$L$23,12,FALSE)","v":490},{"$f":"VLOOKUP($A$2,'Table 13'!$A$5:$L$23,12,FALSE)","v":495},"Upper Quartile",1.0204081632652962E-2,-2.0202020202020221E-2,2.0618556701030855E-2,0,-1.0101010101010055E-2,{"$f":"H31/G31-1","v":1.0204081632652962E-2},1.0204081632652962E-2]
[]
[]
[]
[]
[]
[]
[]
[]
[]
[]
[]
[]
[]
[]
[]
[]
["3 Bedroom Properties:",null,null,null,null,null,null,null,"3 Bedroom Properties - Annual changes and 6-yr cumulative change:"]
[null,2010,2011,2012,2013,2014,2015,2016," ","2010 to 2011","2011 to 2012","2012 to 2013","2013 to 2014","2014 to 2015","2015 to 2016","2010 to 2016"]
["Lower Quartile",{"$f":"VLOOKUP($A$2,'Table 7'!$A$26:$L$44,3,FALSE)","v":440},{"$f":"VLOOKUP($A$2,'Table 8'!$A$26:$L$44,3,FALSE)","v":450},{"$f":"VLOOKUP($A$2,'Table 9'!$A$26:$L$44,3,FALSE)","v":475},{"$f":"VLOOKUP($A$2,'Table 10'!$A$26:$L$44,3,FALSE)","v":450},{"$f":"VLOOKUP($A$2,'Table 11'!$A$26:$L$44,3,FALSE)","v":450},{"$f":"VLOOKUP($A$2,'Table 12'!$A$26:$L$44,3,FALSE)","v":450},{"$f":"VLOOKUP($A$2,'Table 13'!$A$26:$L$44,3,FALSE)","v":475},"Lower Quartile",{"$f":"C50/B50-1","v":2.2727272727272707E-2},5.555555555555558E-2,-5.2631578947368474E-2,0,0,{"$f":"H50/G50-1","v":5.555555555555558E-2},{"$f":"H50/B50-1","v":7.9545454545454586E-2}]
["Median",{"$f":"VLOOKUP($A$2,'Table 7'!$A$26:$L$44,4,FALSE)","v":500},{"$f":"VLOOKUP($A$2,'Table 8'!$A$26:$L$44,4,FALSE)","v":525},{"$f":"VLOOKUP($A$2,'Table 9'!$A$26:$L$44,4,FALSE)","v":550},{"$f":"VLOOKUP($A$2,'Table 10'!$A$26:$L$44,4,FALSE)","v":525},{"$f":"VLOOKUP($A$2,'Table 11'!$A$26:$L$44,4,FALSE)","v":515},{"$f":"VLOOKUP($A$2,'Table 12'!$A$26:$L$44,4,FALSE)","v":525},{"$f":"VLOOKUP($A$2,'Table 13'!$A$26:$L$44,4,FALSE)","v":525},"Median",5.0000000000000044E-2,4.7619047619047672E-2,-4.5454545454545414E-2,-1.9047619047619091E-2,1.9417475728155331E-2,{"$f":"H51/G51-1","v":0},{"$f":"H51/B51-1","v":5.0000000000000044E-2}]
["Mean",{"$f":"VLOOKUP($A$2,'Table 7'!$A$26:$L$44,5,FALSE)","v":514.96},{"$f":"VLOOKUP($A$2,'Table 8'!$A$26:$L$44,5,FALSE)","v":539.47},{"$f":"VLOOKUP($A$2,'Table 9'!$A$26:$L$44,5,FALSE)","v":553.24},{"$f":"VLOOKUP($A$2,'Table 10'!$A$26:$L$44,5,FALSE)","v":541.89},{"$f":"VLOOKUP($A$2,'Table 11'!$A$26:$L$44,5,FALSE)","v":528.23},{"$f":"VLOOKUP($A$2,'Table 12'!$A$26:$L$44,5,FALSE)","v":535.36},{"$f":"VLOOKUP($A$2,'Table 13'!$A$26:$L$44,5,FALSE)","v":545.97},"Mean",4.7595929780953838E-2,2.5525052366211165E-2,-2.0515508640011615E-2,-2.5208068058092947E-2,1.3497908108210499E-2,{"$f":"H52/G52-1","v":1.9818439928272591E-2},6.0218269380146072E-2]
["Upper Quartile",{"$f":"VLOOKUP($A$2,'Table 7'!$A$26:$L$44,6,FALSE)","v":595},{"$f":"VLOOKUP($A$2,'Table 8'!$A$26:$L$44,6,FALSE)","v":595},{"$f":"VLOOKUP($A$2,'Table 9'!$A$26:$L$44,6,FALSE)","v":600},{"$f":"VLOOKUP($A$2,'Table 10'!$A$26:$L$44,6,FALSE)","v":600},{"$f":"VLOOKUP($A$2,'Table 11'!$A$26:$L$44,6,FALSE)","v":580},{"$f":"VLOOKUP($A$2,'Table 12'!$A$26:$L$44,6,FALSE)","v":595},{"$f":"VLOOKUP($A$2,'Table 13'!$A$26:$L$44,6,FALSE)","v":600},"Upper Quartile",0,8.4033613445377853E-3,0,-3.3333333333333326E-2,2.5862068965517349E-2,{"$f":"H53/G53-1","v":8.4033613445377853E-3},8.4033613445377853E-3]
[]
[]
[]
[]
[]
[]
[]
[]
[]
[]
[]
[]
[]
[]
[]
[]
["4 Bedroom Properties:",null,null,null,null,null,null,null,"4 Bedroom Properties - Annual changes and 6-yr cumulative change:"]
[null,2010,2011,2012,2013,2014,2015,2016," ","2010 to 2011","2011 to 2012","2012 to 2013","2013 to 2014","2014 to 2015","2015 to 2016","2010 to 2016"]
["Lower Quartile",{"$f":"VLOOKUP($A$2,'Table 7'!$A$26:$L$44,9,FALSE)","v":595},{"$f":"VLOOKUP($A$2,'Table 8'!$A$26:$L$44,9,FALSE)","v":615},{"$f":"VLOOKUP($A$2,'Table 9'!$A$26:$L$44,9,FALSE)","v":600},{"$f":"VLOOKUP($A$2,'Table 10'!$A$26:$L$44,9,FALSE)","v":595},{"$f":"VLOOKUP($A$2,'Table 11'!$A$26:$L$44,9,FALSE)","v":600},{"$f":"VLOOKUP($A$2,'Table 12'!$A$26:$L$44,9,FALSE)","v":675},{"$f":"VLOOKUP($A$2,'Table 13'!$A$26:$L$44,9,FALSE)","v":600},"Lower Quartile",{"$f":"C72/B72-1","v":3.3613445378151363E-2},-2.4390243902439046E-2,-8.3333333333333037E-3,8.4033613445377853E-3,0.125,{"$f":"H72/G72-1","v":-0.11111111111111116},{"$f":"H72/B72-1","v":8.4033613445377853E-3}]
["Median",{"$f":"VLOOKUP($A$2,'Table 7'!$A$26:$L$44,10,FALSE)","v":685},{"$f":"VLOOKUP($A$2,'Table 8'!$A$26:$L$44,10,FALSE)","v":700},{"$f":"VLOOKUP($A$2,'Table 9'!$A$26:$L$44,10,FALSE)","v":695},{"$f":"VLOOKUP($A$2,'Table 10'!$A$26:$L$44,10,FALSE)","v":665},{"$f":"VLOOKUP($A$2,'Table 11'!$A$26:$L$44,10,FALSE)","v":695},{"$f":"VLOOKUP($A$2,'Table 12'!$A$26:$L$44,10,FALSE)","v":755},{"$f":"VLOOKUP($A$2,'Table 13'!$A$26:$L$44,10,FALSE)","v":695},"Median",2.1897810218978186E-2,-7.1428571428571175E-3,-4.3165467625899234E-2,4.5112781954887327E-2,8.6330935251798468E-2,-7.9470198675496651E-2,{"$f":"H73/B73-1","v":1.4598540145985384E-2}]
["Mean",{"$f":"VLOOKUP($A$2,'Table 7'!$A$26:$L$44,11,FALSE)","v":689.67},{"$f":"VLOOKUP($A$2,'Table 8'!$A$26:$L$44,11,FALSE)","v":724.63},{"$f":"VLOOKUP($A$2,'Table 9'!$A$26:$L$44,11,FALSE)","v":712.45},{"$f":"VLOOKUP($A$2,'Table 10'!$A$26:$L$44,11,FALSE)","v":700.65},{"$f":"VLOOKUP($A$2,'Table 11'!$A$26:$L$44,11,FALSE)","v":727.05},{"$f":"VLOOKUP($A$2,'Table 12'!$A$26:$L$44,11,FALSE)","v":746.42},{"$f":"VLOOKUP($A$2,'Table 13'!$A$26:$L$44,11,FALSE)","v":739.76},"Mean",5.0690910145432033E-2,-1.6808578170928512E-2,-1.6562565794090878E-2,3.7679297794904754E-2,2.6641909084657245E-2,-8.9225904986468541E-3,7.2628938477822702E-2]
["Upper Quartile",{"$f":"VLOOKUP($A$2,'Table 7'!$A$26:$L$44,12,FALSE)","v":800},{"$f":"VLOOKUP($A$2,'Table 8'!$A$26:$L$44,12,FALSE)","v":845},{"$f":"VLOOKUP($A$2,'Table 9'!$A$26:$L$44,12,FALSE)","v":800},{"$f":"VLOOKUP($A$2,'Table 10'!$A$26:$L$44,12,FALSE)","v":795},{"$f":"VLOOKUP($A$2,'Table 11'!$A$26:$L$44,12,FALSE)","v":800},{"$f":"VLOOKUP($A$2,'Table 12'!$A$26:$L$44,12,FALSE)","v":830},{"$f":"VLOOKUP($A$2,'Table 13'!$A$26:$L$44,12,FALSE)","v":850},"Upper Quartile",5.6249999999999911E-2,-5.3254437869822535E-2,-6.2499999999999778E-3,6.2893081761006275E-3,3.7500000000000089E-2,2.4096385542168752E-2,6.25E-2]
[]
[]
[]
[]
[]
[]
[]
[]
[]
[]
[]
[]
[]
[]
[]
[]
["1 Bedroom Shared Properties:",null,null,null,null,null,null,null,"1 Bedroom Shared Properties - Annual changes and 6-yr cumulative change:"]
[null,2010,2011,2012,2013,2014,2015,2016," ","2010 to 2011","2011 to 2012","2012 to 2013","2013 to 2014","2014 to 2015","2015 to 2016","2010 to 2016"]
["Lower Quartile",{"$f":"VLOOKUP($A$2,'Table 7'!$A$47:$F$65,3,FALSE)","v":230},{"$f":"VLOOKUP($A$2,'Table 8'!$A$47:$F$65,3,FALSE)","v":220},{"$f":"VLOOKUP($A$2,'Table 9'!$A$47:$F$65,3,FALSE)","v":225},{"$f":"VLOOKUP($A$2,'Table 10'!$A$47:$F$65,3,FALSE)","v":245},{"$f":"VLOOKUP($A$2,'Table 11'!$A$47:$F$65,3,FALSE)","v":235},{"$f":"VLOOKUP($A$2,'Table 12'!$A$47:$F$65,3,FALSE)","v":250},{"$f":"VLOOKUP($A$2,'Table 13'!$A$47:$F$65,3,FALSE)","v":245},"Lower Quartile",{"$f":"C94/B94-1","v":-4.3478260869565188E-2},2.2727272727272707E-2,8.8888888888888795E-2,-4.081632653061229E-2,6.3829787234042534E-2,{"$f":"H94/G94-1","v":-2.0000000000000018E-2},{"$f":"H94/B94-1","v":6.5217391304347894E-2}]
["Median",{"$f":"VLOOKUP($A$2,'Table 7'!$A$47:$F$65,4,FALSE)","v":260},{"$f":"VLOOKUP($A$2,'Table 8'!$A$47:$F$65,4,FALSE)","v":250},{"$f":"VLOOKUP($A$2,'Table 9'!$A$47:$F$65,4,FALSE)","v":244.17},{"$f":"VLOOKUP($A$2,'Table 10'!$A$47:$F$65,4,FALSE)","v":250},{"$f":"VLOOKUP($A$2,'Table 11'!$A$47:$F$65,4,FALSE)","v":251.67},{"$f":"VLOOKUP($A$2,'Table 12'!$A$47:$F$65,4,FALSE)","v":250.89},{"$f":"VLOOKUP($A$2,'Table 13'!$A$47:$F$65,4,FALSE)","v":250},"Median",-3.8461538461538436E-2,-2.3320000000000007E-2,2.3876807142564571E-2,6.6800000000000193E-3,-3.0992966980569747E-3,-3.5473713579655675E-3,{"$f":"H95/B95-1","v":-3.8461538461538436E-2}]
["Mean",{"$f":"VLOOKUP($A$2,'Table 7'!$A$47:$F$65,5,FALSE)","v":255.63},{"$f":"VLOOKUP($A$2,'Table 8'!$A$47:$F$65,5,FALSE)","v":246.95},{"$f":"VLOOKUP($A$2,'Table 9'!$A$47:$F$65,5,FALSE)","v":244.81},{"$f":"VLOOKUP($A$2,'Table 10'!$A$47:$F$65,5,FALSE)","v":265.16000000000003},{"$f":"VLOOKUP($A$2,'Table 11'!$A$47:$F$65,5,FALSE)","v":262.89999999999998},{"$f":"VLOOKUP($A$2,'Table 12'!$A$47:$F$65,5,FALSE)","v":271.45},{"$f":"VLOOKUP($A$2,'Table 13'!$A$47:$F$65,5,FALSE)","v":270.22000000000003},"Mean",-3.3955326057192092E-2,-8.6657218060335328E-3,8.3125689310077355E-2,-8.523155830442164E-3,3.2521871434005423E-2,-4.5312212193773238E-3,5.7074678245902399E-2]
["Upper Quartile",{"$f":"VLOOKUP($A$2,'Table 7'!$A$47:$F$65,6,FALSE)","v":280},{"$f":"VLOOKUP($A$2,'Table 8'!$A$47:$F$65,6,FALSE)","v":260},{"$f":"VLOOKUP($A$2,'Table 9'!$A$47:$F$65,6,FALSE)","v":268.67},{"$f":"VLOOKUP($A$2,'Table 10'!$A$47:$F$65,6,FALSE)","v":290},{"$f":"VLOOKUP($A$2,'Table 11'!$A$47:$F$65,6,FALSE)","v":300},{"$f":"VLOOKUP($A$2,'Table 12'!$A$47:$F$65,6,FALSE)","v":300},{"$f":"VLOOKUP($A$2,'Table 13'!$A$47:$F$65,6,FALSE)","v":294.35000000000002},"Upper Quartile",-7.1428571428571397E-2,3.3346153846153914E-2,7.939107455242489E-2,3.4482758620689724E-2,0,-1.8833333333333258E-2,5.1250000000000018E-2]
[]
[]
[]
[]
[]
[]
[]
[]
[]
[]
[]
[]
[]
[]
[]
[]
[]
[]
["Mean Rents by Property Size:",null,null,null,null,null,null,null,"Median Rents by Property Size:"]
[null,2010,2011,2012,2013,2014,2015,2016,null,2010,2011,2012,2013,2014,2015,2016]
["1 Bedroom Shared",{"$f":"B96","v":255.63},246.95,244.81,265.16000000000003,262.89999999999998,271.45,270.22000000000003,"1 Bedroom Shared",{"$f":"B95","v":260},250,244.17,250,251.67,{"$f":"G95","v":250.89},{"$f":"H95","v":250}]
["1 Bedroom ",{"$f":"B8","v":336.19},344.54,336.91,331.99,337.33,339.71,337.92,"1 Bedroom ",{"$f":"B7","v":335},350,340,325,350,{"$f":"G7","v":345},{"$f":"H7","v":325}]
["2 Bedrooms",{"$f":"B30","v":441.58},446.24,444.92,443.86,444.22,443.93,452.23,"2 Bedrooms",{"$f":"B29","v":427.5},450,440,450,440,{"$f":"G29","v":435},{"$f":"H29","v":450}]
["3 Bedrooms",{"$f":"B52","v":514.96},539.47,553.24,541.89,528.23,535.36,545.97,"3 Bedrooms",{"$f":"B51","v":500},525,550,525,515,{"$f":"G51","v":525},{"$f":"H51","v":525}]
["4 Bedrooms",{"$f":"B74","v":689.67},724.63,712.45,700.65,727.05,746.42,739.76,"4 Bedrooms",{"$f":"B73","v":685},700,695,665,695,{"$f":"G73","v":755},{"$f":"H73","v":695}]
[]
[]
[]
[]
[]
[]
[]
[]
[]
[]
[]
[]
[]
[]
[]
[]
[]
["Sample Sizes:",null,null,null,null,null,null,null,"Sample Proportions:"]
[null,2010,2011,2012,2013,2014,2015,2016,null,2010,2011,2012,2013,2014,2015,2016]
["1 Bedroom ",{"$f":"VLOOKUP($A$2,'Table 7'!$A$5:$L$23,2,FALSE)","v":95},{"$f":"VLOOKUP($A$2,'Table 8'!$A$5:$L$23,2,FALSE)","v":118},{"$f":"VLOOKUP($A$2,'Table 9'!$A$5:$L$23,2,FALSE)","v":138},{"$f":"VLOOKUP($A$2,'Table 10'!$A$5:$L$23,2,FALSE)","v":141},{"$f":"VLOOKUP($A$2,'Table 11'!$A$5:$L$23,2,FALSE)","v":126},{"$f":"VLOOKUP($A$2,'Table 12'!$A$5:$L$23,2,FALSE)","v":157},{"$f":"VLOOKUP($A$2,'Table 13'!$A$5:$L$23,2,FALSE)","v":179},"1 Bedroom ",{"$f":"B142/SUM(B$142:B$146)","v":0.15322580645161291},{"$f":"C142/SUM(C$142:C$146)","v":0.16208791208791209},0.17271589486858574,0.17780580075662042,0.16321243523316062,{"$f":"G142/SUM(G$142:G$146)","v":0.19974554707379136},0.24353741496598638]
["2 Bedrooms",{"$f":"VLOOKUP($A$2,'Table 7'!$A$5:$L$23,8,FALSE)","v":244},{"$f":"VLOOKUP($A$2,'Table 8'!$A$5:$L$23,8,FALSE)","v":272},{"$f":"VLOOKUP($A$2,'Table 9'!$A$5:$L$23,8,FALSE)","v":301},{"$f":"VLOOKUP($A$2,'Table 10'!$A$5:$L$23,8,FALSE)","v":317},{"$f":"VLOOKUP($A$2,'Table 11'!$A$5:$L$23,8,FALSE)","v":325},{"$f":"VLOOKUP($A$2,'Table 12'!$A$5:$L$23,8,FALSE)","v":309},{"$f":"VLOOKUP($A$2,'Table 13'!$A$5:$L$23,8,FALSE)","v":303},"2 Bedrooms",{"$f":"B143/SUM(B$142:B$146)","v":0.3935483870967742},0.37362637362637363,0.37672090112640799,0.39974779319041615,0.42098445595854922,0.3931297709923664,0.41224489795918368]
["3 Bedrooms",{"$f":"VLOOKUP($A$2,'Table 7'!$A$26:$L$44,2,FALSE)","v":182},{"$f":"VLOOKUP($A$2,'Table 8'!$A$26:$L$44,2,FALSE)","v":235},{"$f":"VLOOKUP($A$2,'Table 9'!$A$26:$L$44,2,FALSE)","v":250},{"$f":"VLOOKUP($A$2,'Table 10'!$A$26:$L$44,2,FALSE)","v":222},{"$f":"VLOOKUP($A$2,'Table 11'!$A$26:$L$44,2,FALSE)","v":218},{"$f":"VLOOKUP($A$2,'Table 12'!$A$26:$L$44,2,FALSE)","v":223},{"$f":"VLOOKUP($A$2,'Table 13'!$A$26:$L$44,2,FALSE)","v":175},"3 Bedrooms",{"$f":"B144/SUM(B$142:B$146)","v":0.29354838709677417},0.32280219780219782,0.31289111389236546,0.27994955863808324,0.28238341968911918,0.28371501272264632,0.23809523809523808]
["4 Bedrooms",{"$f":"VLOOKUP($A$2,'Table 7'!$A$26:$L$44,8,FALSE)","v":82},{"$f":"VLOOKUP($A$2,'Table 8'!$A$26:$L$44,8,FALSE)","v":81},{"$f":"VLOOKUP($A$2,'Table 9'!$A$26:$L$44,8,FALSE)","v":94},{"$f":"VLOOKUP($A$2,'Table 10'!$A$26:$L$44,8,FALSE)","v":81},{"$f":"VLOOKUP($A$2,'Table 11'!$A$26:$L$44,8,FALSE)","v":73},{"$f":"VLOOKUP($A$2,'Table 12'!$A$26:$L$44,8,FALSE)","v":60},{"$f":"VLOOKUP($A$2,'Table 13'!$A$26:$L$44,8,FALSE)","v":41},"4 Bedrooms",{"$f":"B145/SUM(B$142:B$146)","v":0.13225806451612904},0.11126373626373626,0.11764705882352941,0.10214375788146279,9.4559585492227982E-2,7.6335877862595422E-2,5.5782312925170066E-2]
["1 Bedroom Shared",{"$f":"VLOOKUP($A$2,'Table 7'!$A$47:$L$65,2,FALSE)","v":17},{"$f":"VLOOKUP($A$2,'Table 8'!$A$47:$L$65,2,FALSE)","v":22},{"$f":"VLOOKUP($A$2,'Table 9'!$A$47:$L$65,2,FALSE)","v":16},{"$f":"VLOOKUP($A$2,'Table 10'!$A$47:$L$65,2,FALSE)","v":32},{"$f":"VLOOKUP($A$2,'Table 11'!$A$47:$L$65,2,FALSE)","v":30},{"$f":"VLOOKUP($A$2,'Table 12'!$A$47:$L$65,2,FALSE)","v":37},{"$f":"VLOOKUP($A$2,'Table 13'!$A$47:$L$65,2,FALSE)","v":37},"1 Bedroom Shared",{"$f":"B146/SUM(B$142:B$146)","v":2.7419354838709678E-2},3.021978021978022E-2,2.002503128911139E-2,4.0353089533417402E-2,3.8860103626943004E-2,4.7073791348600506E-2,5.0340136054421766E-2]

{"sheet":"BRMA Profile - South Lanarkshir","index":29,"n_rows":146,"n_cols":16,"rows_kept":146,"cut":false,"hidden":true,"merged":[[1,0,1,2]]}
["BRMA Rent Profile for:"]
["South Lanarkshire",null,null,null,null,null,null,null,{"$f":"ROUND(MIN(J6:P9,J28:P31,J50:P53,J72:P75,J94:P97)-0.01,2)","v":-0.17},{"$f":"ROUND(MAX(J6:P9,J28:P31,J50:P53,J72:P75,J94:P97)+0.01,2)","v":0.34}]
[]
["1 Bedroom Properties - Quartile Measures:",null,null,null,null,null,null,null,"1 Bedroom Properties - Annual changes and 6-yr cumulative change:"]
[" ",2010,2011,2012,2013,2014,2015,2016," ","2010 to 2011","2011 to 2012","2012 to 2013","2013 to 2014","2014 to 2015","2015 to 2016","2010 to 2016"]
["Lower Quartile",{"$f":"VLOOKUP($A$2,'Table 7'!$A$5:$L$23,3,FALSE)","v":350},{"$f":"VLOOKUP($A$2,'Table 8'!$A$5:$L$23,3,FALSE)","v":350},{"$f":"VLOOKUP($A$2,'Table 9'!$A$5:$L$23,3,FALSE)","v":350},{"$f":"VLOOKUP($A$2,'Table 10'!$A$5:$L$23,3,FALSE)","v":350},{"$f":"VLOOKUP($A$2,'Table 11'!$A$5:$L$23,3,FALSE)","v":350},{"$f":"VLOOKUP($A$2,'Table 12'!$A$5:$L$23,3,FALSE)","v":350},{"$f":"VLOOKUP($A$2,'Table 13'!$A$5:$L$23,3,FALSE)","v":350},"Lower Quartile",{"$f":"C6/B6-1","v":0},0,0,0,0,{"$f":"H6/G6-1","v":0},{"$f":"H6/B6-1","v":0}]
["Median",{"$f":"VLOOKUP($A$2,'Table 7'!$A$5:$L$23,4,FALSE)","v":375},{"$f":"VLOOKUP($A$2,'Table 8'!$A$5:$L$23,4,FALSE)","v":375},{"$f":"VLOOKUP($A$2,'Table 9'!$A$5:$L$23,4,FALSE)","v":375},{"$f":"VLOOKUP($A$2,'Table 10'!$A$5:$L$23,4,FALSE)","v":375},{"$f":"VLOOKUP($A$2,'Table 11'!$A$5:$L$23,4,FALSE)","v":375},{"$f":"VLOOKUP($A$2,'Table 12'!$A$5:$L$23,4,FALSE)","v":380},{"$f":"VLOOKUP($A$2,'Table 13'!$A$5:$L$23,4,FALSE)","v":375},"Median",0,0,0,0,1.3333333333333419E-2,-1.3157894736842146E-2,{"$f":"H7/B7-1","v":0}]
["Mean",{"$f":"VLOOKUP($A$2,'Table 7'!$A$5:$L$23,5,FALSE)","v":382.47},{"$f":"VLOOKUP($A$2,'Table 8'!$A$5:$L$23,5,FALSE)","v":384.89},{"$f":"VLOOKUP($A$2,'Table 9'!$A$5:$L$23,5,FALSE)","v":379},{"$f":"VLOOKUP($A$2,'Table 10'!$A$5:$L$23,5,FALSE)","v":375.26},{"$f":"VLOOKUP($A$2,'Table 11'!$A$5:$L$23,5,FALSE)","v":379.54},{"$f":"VLOOKUP($A$2,'Table 12'!$A$5:$L$23,5,FALSE)","v":384.36},{"$f":"VLOOKUP($A$2,'Table 13'!$A$5:$L$23,5,FALSE)","v":381},"Mean",6.3272936439457972E-3,-1.5303073605445694E-2,-9.8680738786279809E-3,1.1405425571603844E-2,1.2699583706592188E-2,-8.7418045582267068E-3,-3.8434387010746196E-3]
["Upper Quartile",{"$f":"VLOOKUP($A$2,'Table 7'!$A$5:$L$23,6,FALSE)","v":395},{"$f":"VLOOKUP($A$2,'Table 8'!$A$5:$L$23,6,FALSE)","v":395},{"$f":"VLOOKUP($A$2,'Table 9'!$A$5:$L$23,6,FALSE)","v":395},{"$f":"VLOOKUP($A$2,'Table 10'!$A$5:$L$23,6,FALSE)","v":395},{"$f":"VLOOKUP($A$2,'Table 11'!$A$5:$L$23,6,FALSE)","v":400},{"$f":"VLOOKUP($A$2,'Table 12'!$A$5:$L$23,6,FALSE)","v":400},{"$f":"VLOOKUP($A$2,'Table 13'!$A$5:$L$23,6,FALSE)","v":400},"Upper Quartile",0,0,0,1.2658227848101333E-2,0,0,1.2658227848101333E-2]
[]
[]
[]
[]
[]
[]
[]
[]
[]
[]
[]
[]
[]
[]
[]
[]
["2 Bedroom Properties:",null,null,null,null,null,null,null,"2 Bedroom Properties - Annual changes and 6-yr cumulative change:"]
[null,2010,2011,2012,2013,2014,2015,2016," ","2010 to 2011","2011 to 2012","2012 to 2013","2013 to 2014","2014 to 2015","2015 to 2016","2010 to 2016"]
["Lower Quartile",{"$f":"VLOOKUP($A$2,'Table 7'!$A$5:$L$23,9,FALSE)","v":425},{"$f":"VLOOKUP($A$2,'Table 8'!$A$5:$L$23,9,FALSE)","v":435},{"$f":"VLOOKUP($A$2,'Table 9'!$A$5:$L$23,9,FALSE)","v":425},{"$f":"VLOOKUP($A$2,'Table 10'!$A$5:$L$23,9,FALSE)","v":435},{"$f":"VLOOKUP($A$2,'Table 11'!$A$5:$L$23,9,FALSE)","v":447.5},{"$f":"VLOOKUP($A$2,'Table 12'!$A$5:$L$23,9,FALSE)","v":450},{"$f":"VLOOKUP($A$2,'Table 13'!$A$5:$L$23,9,FALSE)","v":450},"Lower Quartile",{"$f":"C28/B28-1","v":2.3529411764705799E-2},-2.2988505747126409E-2,2.3529411764705799E-2,2.8735632183908066E-2,5.5865921787709993E-3,{"$f":"H28/G28-1","v":0},{"$f":"H28/B28-1","v":5.8823529411764719E-2}]
["Median",{"$f":"VLOOKUP($A$2,'Table 7'!$A$5:$L$23,10,FALSE)","v":460},{"$f":"VLOOKUP($A$2,'Table 8'!$A$5:$L$23,10,FALSE)","v":475},{"$f":"VLOOKUP($A$2,'Table 9'!$A$5:$L$23,10,FALSE)","v":475},{"$f":"VLOOKUP($A$2,'Table 10'!$A$5:$L$23,10,FALSE)","v":475},{"$f":"VLOOKUP($A$2,'Table 11'!$A$5:$L$23,10,FALSE)","v":475},{"$f":"VLOOKUP($A$2,'Table 12'!$A$5:$L$23,10,FALSE)","v":475},{"$f":"VLOOKUP($A$2,'Table 13'!$A$5:$L$23,10,FALSE)","v":475},"Median",3.2608695652173836E-2,0,0,0,0,{"$f":"H29/G29-1","v":0},{"$f":"H29/B29-1","v":3.2608695652173836E-2}]
["Mean",{"$f":"VLOOKUP($A$2,'Table 7'!$A$5:$L$23,11,FALSE)","v":480.55},{"$f":"VLOOKUP($A$2,'Table 8'!$A$5:$L$23,11,FALSE)","v":492.1},{"$f":"VLOOKUP($A$2,'Table 9'!$A$5:$L$23,11,FALSE)","v":485.26},{"$f":"VLOOKUP($A$2,'Table 10'!$A$5:$L$23,11,FALSE)","v":490.7},{"$f":"VLOOKUP($A$2,'Table 11'!$A$5:$L$23,11,FALSE)","v":494.06},{"$f":"VLOOKUP($A$2,'Table 12'!$A$5:$L$23,11,FALSE)","v":497.05},{"$f":"VLOOKUP($A$2,'Table 13'!$A$5:$L$23,11,FALSE)","v":500.05},"Mean",2.4034959941733547E-2,-1.3899613899613916E-2,1.1210485100770606E-2,6.8473609129815483E-3,6.0518965307858608E-3,{"$f":"H30/G30-1","v":6.0356100995875295E-3},4.0578503797731758E-2]
["Upper Quartile",{"$f":"VLOOKUP($A$2,'Table 7'!$A$5:$L$23,12,FALSE)","v":525},{"$f":"VLOOKUP($A$2,'Table 8'!$A$5:$L$23,12,FALSE)","v":550},{"$f":"VLOOKUP($A$2,'Table 9'!$A$5:$L$23,12,FALSE)","v":550},{"$f":"VLOOKUP($A$2,'Table 10'!$A$5:$L$23,12,FALSE)","v":545},{"$f":"VLOOKUP($A$2,'Table 11'!$A$5:$L$23,12,FALSE)","v":550},{"$f":"VLOOKUP($A$2,'Table 12'!$A$5:$L$23,12,FALSE)","v":550},{"$f":"VLOOKUP($A$2,'Table 13'!$A$5:$L$23,12,FALSE)","v":550},"Upper Quartile",4.7619047619047672E-2,0,-9.0909090909090384E-3,9.1743119266054496E-3,0,{"$f":"H31/G31-1","v":0},4.7619047619047672E-2]
[]
[]
[]
[]
[]
[]
[]
[]
[]
[]
[]
[]
[]
[]
[]
[]
["3 Bedroom Properties:",null,null,null,null,null,null,null,"3 Bedroom Properties - Annual changes and 6-yr cumulative change:"]
[null,2010,2011,2012,2013,2014,2015,2016," ","2010 to 2011","2011 to 2012","2012 to 2013","2013 to 2014","2014 to 2015","2015 to 2016","2010 to 2016"]
["Lower Quartile",{"$f":"VLOOKUP($A$2,'Table 7'!$A$26:$L$44,3,FALSE)","v":550},{"$f":"VLOOKUP($A$2,'Table 8'!$A$26:$L$44,3,FALSE)","v":550},{"$f":"VLOOKUP($A$2,'Table 9'!$A$26:$L$44,3,FALSE)","v":550},{"$f":"VLOOKUP($A$2,'Table 10'!$A$26:$L$44,3,FALSE)","v":525},{"$f":"VLOOKUP($A$2,'Table 11'!$A$26:$L$44,3,FALSE)","v":550},{"$f":"VLOOKUP($A$2,'Table 12'!$A$26:$L$44,3,FALSE)","v":550},{"$f":"VLOOKUP($A$2,'Table 13'!$A$26:$L$44,3,FALSE)","v":550},"Lower Quartile",{"$f":"C50/B50-1","v":0},0,-4.5454545454545414E-2,4.7619047619047672E-2,0,{"$f":"H50/G50-1","v":0},{"$f":"H50/B50-1","v":0}]
["Median",{"$f":"VLOOKUP($A$2,'Table 7'!$A$26:$L$44,4,FALSE)","v":595},{"$f":"VLOOKUP($A$2,'Table 8'!$A$26:$L$44,4,FALSE)","v":595},{"$f":"VLOOKUP($A$2,'Table 9'!$A$26:$L$44,4,FALSE)","v":595},{"$f":"VLOOKUP($A$2,'Table 10'!$A$26:$L$44,4,FALSE)","v":595},{"$f":"VLOOKUP($A$2,'Table 11'!$A$26:$L$44,4,FALSE)","v":600},{"$f":"VLOOKUP($A$2,'Table 12'!$A$26:$L$44,4,FALSE)","v":600},{"$f":"VLOOKUP($A$2,'Table 13'!$A$26:$L$44,4,FALSE)","v":625},"Median",0,0,0,8.4033613445377853E-3,0,{"$f":"H51/G51-1","v":4.1666666666666741E-2},{"$f":"H51/B51-1","v":5.0420168067226934E-2}]
["Mean",{"$f":"VLOOKUP($A$2,'Table 7'!$A$26:$L$44,5,FALSE)","v":626.88},{"$f":"VLOOKUP($A$2,'Table 8'!$A$26:$L$44,5,FALSE)","v":618.54},{"$f":"VLOOKUP($A$2,'Table 9'!$A$26:$L$44,5,FALSE)","v":625.94000000000005},{"$f":"VLOOKUP($A$2,'Table 10'!$A$26:$L$44,5,FALSE)","v":615.73},{"$f":"VLOOKUP($A$2,'Table 11'!$A$26:$L$44,5,FALSE)","v":617.05999999999995},{"$f":"VLOOKUP($A$2,'Table 12'!$A$26:$L$44,5,FALSE)","v":634.01},{"$f":"VLOOKUP($A$2,'Table 13'!$A$26:$L$44,5,FALSE)","v":636.58000000000004},"Mean",-1.3303981623277283E-2,1.1963656352055096E-2,-1.6311467552800663E-2,2.1600376788526443E-3,2.7468965740770734E-2,{"$f":"H52/G52-1","v":4.05356382391453E-3},1.5473455844818851E-2]
["Upper Quartile",{"$f":"VLOOKUP($A$2,'Table 7'!$A$26:$L$44,6,FALSE)","v":675},{"$f":"VLOOKUP($A$2,'Table 8'!$A$26:$L$44,6,FALSE)","v":675},{"$f":"VLOOKUP($A$2,'Table 9'!$A$26:$L$44,6,FALSE)","v":695},{"$f":"VLOOKUP($A$2,'Table 10'!$A$26:$L$44,6,FALSE)","v":695},{"$f":"VLOOKUP($A$2,'Table 11'!$A$26:$L$44,6,FALSE)","v":670},{"$f":"VLOOKUP($A$2,'Table 12'!$A$26:$L$44,6,FALSE)","v":695},{"$f":"VLOOKUP($A$2,'Table 13'!$A$26:$L$44,6,FALSE)","v":695},"Upper Quartile",0,2.9629629629629672E-2,0,-3.5971223021582732E-2,3.7313432835820892E-2,{"$f":"H53/G53-1","v":0},2.9629629629629672E-2]
[]
[]
[]
[]
[]
[]
[]
[]
[]
[]
[]
[]
[]
[]
[]
[]
["4 Bedroom Properties:",null,null,null,null,null,null,null,"4 Bedroom Properties - Annual changes and 6-yr cumulative change:"]
[null,2010,2011,2012,2013,2014,2015,2016," ","2010 to 2011","2011 to 2012","2012 to 2013","2013 to 2014","2014 to 2015","2015 to 2016","2010 to 2016"]
["Lower Quartile",{"$f":"VLOOKUP($A$2,'Table 7'!$A$26:$L$44,9,FALSE)","v":750},{"$f":"VLOOKUP($A$2,'Table 8'!$A$26:$L$44,9,FALSE)","v":750},{"$f":"VLOOKUP($A$2,'Table 9'!$A$26:$L$44,9,FALSE)","v":795},{"$f":"VLOOKUP($A$2,'Table 10'!$A$26:$L$44,9,FALSE)","v":750},{"$f":"VLOOKUP($A$2,'Table 11'!$A$26:$L$44,9,FALSE)","v":800},{"$f":"VLOOKUP($A$2,'Table 12'!$A$26:$L$44,9,FALSE)","v":825},{"$f":"VLOOKUP($A$2,'Table 13'!$A$26:$L$44,9,FALSE)","v":812.5},"Lower Quartile",{"$f":"C72/B72-1","v":0},6.0000000000000053E-2,-5.6603773584905648E-2,6.6666666666666652E-2,3.125E-2,{"$f":"H72/G72-1","v":-1.5151515151515138E-2},{"$f":"H72/B72-1","v":8.3333333333333259E-2}]
["Median",{"$f":"VLOOKUP($A$2,'Table 7'!$A$26:$L$44,10,FALSE)","v":849.5},{"$f":"VLOOKUP($A$2,'Table 8'!$A$26:$L$44,10,FALSE)","v":850},{"$f":"VLOOKUP($A$2,'Table 9'!$A$26:$L$44,10,FALSE)","v":885},{"$f":"VLOOKUP($A$2,'Table 10'!$A$26:$L$44,10,FALSE)","v":847.5},{"$f":"VLOOKUP($A$2,'Table 11'!$A$26:$L$44,10,FALSE)","v":925},{"$f":"VLOOKUP($A$2,'Table 12'!$A$26:$L$44,10,FALSE)","v":970},{"$f":"VLOOKUP($A$2,'Table 13'!$A$26:$L$44,10,FALSE)","v":900},"Median",5.8858151854024321E-4,4.117647058823537E-2,-4.2372881355932202E-2,9.1445427728613637E-2,4.8648648648648596E-2,-7.2164948453608213E-2,{"$f":"H73/B73-1","v":5.9446733372572114E-2}]
["Mean",{"$f":"VLOOKUP($A$2,'Table 7'!$A$26:$L$44,11,FALSE)","v":924.21},{"$f":"VLOOKUP($A$2,'Table 8'!$A$26:$L$44,11,FALSE)","v":925.78},{"$f":"VLOOKUP($A$2,'Table 9'!$A$26:$L$44,11,FALSE)","v":956.99},{"$f":"VLOOKUP($A$2,'Table 10'!$A$26:$L$44,11,FALSE)","v":893.4},{"$f":"VLOOKUP($A$2,'Table 11'!$A$26:$L$44,11,FALSE)","v":976.84},{"$f":"VLOOKUP($A$2,'Table 12'!$A$26:$L$44,11,FALSE)","v":1042.67},{"$f":"VLOOKUP($A$2,'Table 13'!$A$26:$L$44,11,FALSE)","v":1022.17},"Mean",1.6987481200159138E-3,3.3712113029013446E-2,-6.6447925265676777E-2,9.3396015222744655E-2,6.7390770238729081E-2,-1.9661062464634171E-2,0.10599322664762334]
["Upper Quartile",{"$f":"VLOOKUP($A$2,'Table 7'!$A$26:$L$44,12,FALSE)","v":900},{"$f":"VLOOKUP($A$2,'Table 8'!$A$26:$L$44,12,FALSE)","v":995},{"$f":"VLOOKUP($A$2,'Table 9'!$A$26:$L$44,12,FALSE)","v":995},{"$f":"VLOOKUP($A$2,'Table 10'!$A$26:$L$44,12,FALSE)","v":995},{"$f":"VLOOKUP($A$2,'Table 11'!$A$26:$L$44,12,FALSE)","v":1100},{"$f":"VLOOKUP($A$2,'Table 12'!$A$26:$L$44,12,FALSE)","v":1200},{"$f":"VLOOKUP($A$2,'Table 13'!$A$26:$L$44,12,FALSE)","v":1192.5},"Upper Quartile",0.10555555555555562,0,0,0.10552763819095468,9.0909090909090828E-2,-6.2499999999999778E-3,0.32499999999999996]
[]
[]
[]
[]
[]
[]
[]
[]
[]
[]
[]
[]
[]
[]
[]
[]
["1 Bedroom Shared Properties:",null,null,null,null,null,null,null,"1 Bedroom Shared Properties - Annual changes and 6-yr cumulative change:"]
[null,2010,2011,2012,2013,2014,2015,2016," ","2010 to 2011","2011 to 2012","2012 to 2013","2013 to 2014","2014 to 2015","2015 to 2016","2010 to 2016"]
["Lower Quartile",{"$f":"VLOOKUP($A$2,'Table 7'!$A$47:$F$65,3,FALSE)","v":299},{"$f":"VLOOKUP($A$2,'Table 8'!$A$47:$F$65,3,FALSE)","v":252.5},{"$f":"VLOOKUP($A$2,'Table 9'!$A$47:$F$65,3,FALSE)","v":260},{"$f":"VLOOKUP($A$2,'Table 10'!$A$47:$F$65,3,FALSE)","v":260},{"$f":"VLOOKUP($A$2,'Table 11'!$A$47:$F$65,3,FALSE)","v":271.66000000000003},{"$f":"VLOOKUP($A$2,'Table 12'!$A$47:$F$65,3,FALSE)","v":275},{"$f":"VLOOKUP($A$2,'Table 13'!$A$47:$F$65,3,FALSE)","v":275},"Lower Quartile",{"$f":"C94/B94-1","v":-0.15551839464882944},2.9702970297029729E-2,0,4.484615384615398E-2,1.2294780240005743E-2,{"$f":"H94/G94-1","v":0},{"$f":"H94/B94-1","v":-8.026755852842804E-2}]
["Median",{"$f":"VLOOKUP($A$2,'Table 7'!$A$47:$F$65,4,FALSE)","v":300},{"$f":"VLOOKUP($A$2,'Table 8'!$A$47:$F$65,4,FALSE)","v":285},{"$f":"VLOOKUP($A$2,'Table 9'!$A$47:$F$65,4,FALSE)","v":300},{"$f":"VLOOKUP($A$2,'Table 10'!$A$47:$F$65,4,FALSE)","v":300},{"$f":"VLOOKUP($A$2,'Table 11'!$A$47:$F$65,4,FALSE)","v":300},{"$f":"VLOOKUP($A$2,'Table 12'!$A$47:$F$65,4,FALSE)","v":325},{"$f":"VLOOKUP($A$2,'Table 13'!$A$47:$F$65,4,FALSE)","v":309.68},"Median",-5.0000000000000044E-2,5.2631578947368363E-2,0,0,8.3333333333333259E-2,-4.7138461538461462E-2,{"$f":"H95/B95-1","v":3.2266666666666666E-2}]
["Mean",{"$f":"VLOOKUP($A$2,'Table 7'!$A$47:$F$65,5,FALSE)","v":309.07},{"$f":"VLOOKUP($A$2,'Table 8'!$A$47:$F$65,5,FALSE)","v":290.62},{"$f":"VLOOKUP($A$2,'Table 9'!$A$47:$F$65,5,FALSE)","v":304},{"$f":"VLOOKUP($A$2,'Table 10'!$A$47:$F$65,5,FALSE)","v":292.51},{"$f":"VLOOKUP($A$2,'Table 11'!$A$47:$F$65,5,FALSE)","v":302.57},{"$f":"VLOOKUP($A$2,'Table 12'!$A$47:$F$65,5,FALSE)","v":325.39},{"$f":"VLOOKUP($A$2,'Table 13'!$A$47:$F$65,5,FALSE)","v":315.10000000000002},"Mean",-5.9695214676286912E-2,4.6039501754868928E-2,-3.7796052631578925E-2,3.4391986598748758E-2,7.5420563836467558E-2,-3.1623590153354364E-2,1.9510143333225649E-2]
["Upper Quartile",{"$f":"VLOOKUP($A$2,'Table 7'!$A$47:$F$65,6,FALSE)","v":320.67},{"$f":"VLOOKUP($A$2,'Table 8'!$A$47:$F$65,6,FALSE)","v":303},{"$f":"VLOOKUP($A$2,'Table 9'!$A$47:$F$65,6,FALSE)","v":320},{"$f":"VLOOKUP($A$2,'Table 10'!$A$47:$F$65,6,FALSE)","v":317.5},{"$f":"VLOOKUP($A$2,'Table 11'!$A$47:$F$65,6,FALSE)","v":325},{"$f":"VLOOKUP($A$2,'Table 12'!$A$47:$F$65,6,FALSE)","v":359.52},{"$f":"VLOOKUP($A$2,'Table 13'!$A$47:$F$65,6,FALSE)","v":350},"Upper Quartile",-5.510337730377024E-2,5.6105610561056007E-2,-7.8125E-3,2.3622047244094446E-2,0.1062153846153846,-2.6479750778816147E-2,9.14647456887141E-2]
[]
[]
[]
[]
[]
[]
[]
[]
[]
[]
[]
[]
[]
[]
[]
[]
[]
[]
["Mean Rents by Property Size:",null,null,null,null,null,null,null,"Median Rents by Property Size:"]
[null,2010,2011,2012,2013,2014,2015,2016,null,2010,2011,2012,2013,2014,2015,2016]
["1 Bedroom Shared",{"$f":"B96","v":309.07},290.62,304,292.51,302.57,325.39,315.10000000000002,"1 Bedroom Shared",{"$f":"B95","v":300},285,300,300,300,{"$f":"G95","v":325},{"$f":"H95","v":309.68}]
["1 Bedroom ",{"$f":"B8","v":382.47},384.89,379,375.26,379.54,384.36,381,"1 Bedroom ",{"$f":"B7","v":375},375,375,375,375,{"$f":"G7","v":380},{"$f":"H7","v":375}]
["2 Bedrooms",{"$f":"B30","v":480.55},492.1,485.26,490.7,494.06,497.05,500.05,"2 Bedrooms",{"$f":"B29","v":460},475,475,475,475,{"$f":"G29","v":475},{"$f":"H29","v":475}]
["3 Bedrooms",{"$f":"B52","v":626.88},618.54,625.94000000000005,615.73,617.05999999999995,634.01,636.58000000000004,"3 Bedrooms",{"$f":"B51","v":595},595,595,595,600,{"$f":"G51","v":600},{"$f":"H51","v":625}]
["4 Bedrooms",{"$f":"B74","v":924.21},925.78,956.99,893.4,976.84,1042.67,1022.17,"4 Bedrooms",{"$f":"B73","v":849.5},850,885,847.5,925,{"$f":"G73","v":970},{"$f":"H73","v":900}]
[]
[]
[]
[]
[]
[]
[]
[]
[]
[]
[]
[]
[]
[]
[]
[]
[]
["Sample Sizes:",null,null,null,null,null,null,null,"Sample Proportions:"]
[null,2010,2011,2012,2013,2014,2015,2016,null,2010,2011,2012,2013,2014,2015,2016]
["1 Bedroom ",{"$f":"VLOOKUP($A$2,'Table 7'!$A$5:$L$23,2,FALSE)","v":302},{"$f":"VLOOKUP($A$2,'Table 8'!$A$5:$L$23,2,FALSE)","v":272},{"$f":"VLOOKUP($A$2,'Table 9'!$A$5:$L$23,2,FALSE)","v":246},{"$f":"VLOOKUP($A$2,'Table 10'!$A$5:$L$23,2,FALSE)","v":245},{"$f":"VLOOKUP($A$2,'Table 11'!$A$5:$L$23,2,FALSE)","v":188},{"$f":"VLOOKUP($A$2,'Table 12'!$A$5:$L$23,2,FALSE)","v":192},{"$f":"VLOOKUP($A$2,'Table 13'!$A$5:$L$23,2,FALSE)","v":223},"1 Bedroom ",{"$f":"B142/SUM(B$142:B$146)","v":0.21016005567153792},{"$f":"C142/SUM(C$142:C$146)","v":0.18230563002680966},0.1800878477306003,0.20065520065520065,0.18762475049900199,{"$f":"G142/SUM(G$142:G$146)","v":0.1914257228315055},0.21504339440694312]
["2 Bedrooms",{"$f":"VLOOKUP($A$2,'Table 7'!$A$5:$L$23,8,FALSE)","v":665},{"$f":"VLOOKUP($A$2,'Table 8'!$A$5:$L$23,8,FALSE)","v":657},{"$f":"VLOOKUP($A$2,'Table 9'!$A$5:$L$23,8,FALSE)","v":597},{"$f":"VLOOKUP($A$2,'Table 10'!$A$5:$L$23,8,FALSE)","v":565},{"$f":"VLOOKUP($A$2,'Table 11'!$A$5:$L$23,8,FALSE)","v":468},{"$f":"VLOOKUP($A$2,'Table 12'!$A$5:$L$23,8,FALSE)","v":503},{"$f":"VLOOKUP($A$2,'Table 13'!$A$5:$L$23,8,FALSE)","v":489},"2 Bedrooms",{"$f":"B143/SUM(B$142:B$146)","v":0.4627696590118302},0.44034852546916892,0.43704245973645683,0.46273546273546273,0.46706586826347307,0.50149551345962118,0.47155255544840885]
["3 Bedrooms",{"$f":"VLOOKUP($A$2,'Table 7'!$A$26:$L$44,2,FALSE)","v":279},{"$f":"VLOOKUP($A$2,'Table 8'!$A$26:$L$44,2,FALSE)","v":374},{"$f":"VLOOKUP($A$2,'Table 9'!$A$26:$L$44,2,FALSE)","v":299},{"$f":"VLOOKUP($A$2,'Table 10'!$A$26:$L$44,2,FALSE)","v":251},{"$f":"VLOOKUP($A$2,'Table 11'!$A$26:$L$44,2,FALSE)","v":202},{"$f":"VLOOKUP($A$2,'Table 12'!$A$26:$L$44,2,FALSE)","v":181},{"$f":"VLOOKUP($A$2,'Table 13'!$A$26:$L$44,2,FALSE)","v":199},"3 Bedrooms",{"$f":"B144/SUM(B$142:B$146)","v":0.19415448851774531},0.25067024128686327,0.21888726207906295,0.20556920556920558,0.20159680638722555,0.18045862412761715,0.1918997107039537]
["4 Bedrooms",{"$f":"VLOOKUP($A$2,'Table 7'!$A$26:$L$44,8,FALSE)","v":144},{"$f":"VLOOKUP($A$2,'Table 8'!$A$26:$L$44,8,FALSE)","v":121},{"$f":"VLOOKUP($A$2,'Table 9'!$A$26:$L$44,8,FALSE)","v":158},{"$f":"VLOOKUP($A$2,'Table 10'!$A$26:$L$44,8,FALSE)","v":92},{"$f":"VLOOKUP($A$2,'Table 11'!$A$26:$L$44,8,FALSE)","v":70},{"$f":"VLOOKUP($A$2,'Table 12'!$A$26:$L$44,8,FALSE)","v":60},{"$f":"VLOOKUP($A$2,'Table 13'!$A$26:$L$44,8,FALSE)","v":60},"4 Bedrooms",{"$f":"B145/SUM(B$142:B$146)","v":0.10020876826722339},8.1099195710455763E-2,0.11566617862371889,7.5348075348075347E-2,6.9860279441117765E-2,5.9820538384845461E-2,5.7859209257473482E-2]
["1 Bedroom Shared",{"$f":"VLOOKUP($A$2,'Table 7'!$A$47:$L$65,2,FALSE)","v":47},{"$f":"VLOOKUP($A$2,'Table 8'!$A$47:$L$65,2,FALSE)","v":68},{"$f":"VLOOKUP($A$2,'Table 9'!$A$47:$L$65,2,FALSE)","v":66},{"$f":"VLOOKUP($A$2,'Table 10'!$A$47:$L$65,2,FALSE)","v":68},{"$f":"VLOOKUP($A$2,'Table 11'!$A$47:$L$65,2,FALSE)","v":74},{"$f":"VLOOKUP($A$2,'Table 12'!$A$47:$L$65,2,FALSE)","v":67},{"$f":"VLOOKUP($A$2,'Table 13'!$A$47:$L$65,2,FALSE)","v":66},"1 Bedroom Shared",{"$f":"B146/SUM(B$142:B$146)","v":3.2707028531663185E-2},4.5576407506702415E-2,4.8316251830161056E-2,5.5692055692055695E-2,7.3852295409181631E-2,6.6799601196410763E-2,6.3645130183220835E-2]

{"sheet":"BRMA Profile - West Dunbartonsh","index":30,"n_rows":146,"n_cols":16,"rows_kept":146,"cut":false,"hidden":true,"merged":[[1,0,1,2]]}
["BRMA Rent Profile for:"]
["West Dunbartonshire",null,null,null,null,null,null,null,{"$f":"ROUND(MIN(J6:P9,J28:P31,J50:P53,J72:P75,J94:P97)-0.01,2)","v":-0.09},{"$f":"ROUND(MAX(J6:P9,J28:P31,J50:P53,J72:P75,J94:P97)+0.01,2)","v":0.19}]
[]
["1 Bedroom Properties - Quartile Measures:",null,null,null,null,null,null,null,"1 Bedroom Properties - Annual changes and 6-yr cumulative change:"]
[" ",2010,2011,2012,2013,2014,2015,2016," ","2010 to 2011","2011 to 2012","2012 to 2013","2013 to 2014","2014 to 2015","2015 to 2016","2010 to 2016"]
["Lower Quartile",{"$f":"VLOOKUP($A$2,'Table 7'!$A$5:$L$23,3,FALSE)","v":370},{"$f":"VLOOKUP($A$2,'Table 8'!$A$5:$L$23,3,FALSE)","v":350},{"$f":"VLOOKUP($A$2,'Table 9'!$A$5:$L$23,3,FALSE)","v":357.5},{"$f":"VLOOKUP($A$2,'Table 10'!$A$5:$L$23,3,FALSE)","v":375},{"$f":"VLOOKUP($A$2,'Table 11'!$A$5:$L$23,3,FALSE)","v":360},{"$f":"VLOOKUP($A$2,'Table 12'!$A$5:$L$23,3,FALSE)","v":360},{"$f":"VLOOKUP($A$2,'Table 13'!$A$5:$L$23,3,FALSE)","v":360},"Lower Quartile",{"$f":"C6/B6-1","v":-5.4054054054054057E-2},2.1428571428571352E-2,4.8951048951048959E-2,-4.0000000000000036E-2,0,{"$f":"H6/G6-1","v":0},{"$f":"H6/B6-1","v":-2.7027027027026973E-2}]
["Median",{"$f":"VLOOKUP($A$2,'Table 7'!$A$5:$L$23,4,FALSE)","v":395},{"$f":"VLOOKUP($A$2,'Table 8'!$A$5:$L$23,4,FALSE)","v":395},{"$f":"VLOOKUP($A$2,'Table 9'!$A$5:$L$23,4,FALSE)","v":395},{"$f":"VLOOKUP($A$2,'Table 10'!$A$5:$L$23,4,FALSE)","v":395},{"$f":"VLOOKUP($A$2,'Table 11'!$A$5:$L$23,4,FALSE)","v":395},{"$f":"VLOOKUP($A$2,'Table 12'!$A$5:$L$23,4,FALSE)","v":395},{"$f":"VLOOKUP($A$2,'Table 13'!$A$5:$L$23,4,FALSE)","v":395},"Median",0,0,0,0,0,0,{"$f":"H7/B7-1","v":0}]
["Mean",{"$f":"VLOOKUP($A$2,'Table 7'!$A$5:$L$23,5,FALSE)","v":396.84},{"$f":"VLOOKUP($A$2,'Table 8'!$A$5:$L$23,5,FALSE)","v":390.11},{"$f":"VLOOKUP($A$2,'Table 9'!$A$5:$L$23,5,FALSE)","v":399.03},{"$f":"VLOOKUP($A$2,'Table 10'!$A$5:$L$23,5,FALSE)","v":392.2},{"$f":"VLOOKUP($A$2,'Table 11'!$A$5:$L$23,5,FALSE)","v":390},{"$f":"VLOOKUP($A$2,'Table 12'!$A$5:$L$23,5,FALSE)","v":390.14},{"$f":"VLOOKUP($A$2,'Table 13'!$A$5:$L$23,5,FALSE)","v":400.42},"Mean",-1.6958975909686425E-2,2.2865345671733595E-2,-1.7116507530762104E-2,-5.6093829678734997E-3,3.5897435897425112E-4,2.6349515558517611E-2,9.0212680173371584E-3]
["Upper Quartile",{"$f":"VLOOKUP($A$2,'Table 7'!$A$5:$L$23,6,FALSE)","v":425},{"$f":"VLOOKUP($A$2,'Table 8'!$A$5:$L$23,6,FALSE)","v":425},{"$f":"VLOOKUP($A$2,'Table 9'!$A$5:$L$23,6,FALSE)","v":425},{"$f":"VLOOKUP($A$2,'Table 10'!$A$5:$L$23,6,FALSE)","v":425},{"$f":"VLOOKUP($A$2,'Table 11'!$A$5:$L$23,6,FALSE)","v":425},{"$f":"VLOOKUP($A$2,'Table 12'!$A$5:$L$23,6,FALSE)","v":417.5},{"$f":"VLOOKUP($A$2,'Table 13'!$A$5:$L$23,6,FALSE)","v":425},"Upper Quartile",0,0,0,0,-1.764705882352946E-2,1.7964071856287456E-2,0]
[]
[]
[]
[]
[]
[]
[]
[]
[]
[]
[]
[]
[]
[]
[]
[]
["2 Bedroom Properties:",null,null,null,null,null,null,null,"2 Bedroom Properties - Annual changes and 6-yr cumulative change:"]
[null,2010,2011,2012,2013,2014,2015,2016," ","2010 to 2011","2011 to 2012","2012 to 2013","2013 to 2014","2014 to 2015","2015 to 2016","2010 to 2016"]
["Lower Quartile",{"$f":"VLOOKUP($A$2,'Table 7'!$A$5:$L$23,9,FALSE)","v":450},{"$f":"VLOOKUP($A$2,'Table 8'!$A$5:$L$23,9,FALSE)","v":450},{"$f":"VLOOKUP($A$2,'Table 9'!$A$5:$L$23,9,FALSE)","v":450},{"$f":"VLOOKUP($A$2,'Table 10'!$A$5:$L$23,9,FALSE)","v":425},{"$f":"VLOOKUP($A$2,'Table 11'!$A$5:$L$23,9,FALSE)","v":450},{"$f":"VLOOKUP($A$2,'Table 12'!$A$5:$L$23,9,FALSE)","v":425},{"$f":"VLOOKUP($A$2,'Table 13'!$A$5:$L$23,9,FALSE)","v":450},"Lower Quartile",{"$f":"C28/B28-1","v":0},0,-5.555555555555558E-2,5.8823529411764719E-2,-5.555555555555558E-2,{"$f":"H28/G28-1","v":5.8823529411764719E-2},{"$f":"H28/B28-1","v":0}]
["Median",{"$f":"VLOOKUP($A$2,'Table 7'!$A$5:$L$23,10,FALSE)","v":495},{"$f":"VLOOKUP($A$2,'Table 8'!$A$5:$L$23,10,FALSE)","v":495},{"$f":"VLOOKUP($A$2,'Table 9'!$A$5:$L$23,10,FALSE)","v":495},{"$f":"VLOOKUP($A$2,'Table 10'!$A$5:$L$23,10,FALSE)","v":475},{"$f":"VLOOKUP($A$2,'Table 11'!$A$5:$L$23,10,FALSE)","v":475},{"$f":"VLOOKUP($A$2,'Table 12'!$A$5:$L$23,10,FALSE)","v":460},{"$f":"VLOOKUP($A$2,'Table 13'!$A$5:$L$23,10,FALSE)","v":475},"Median",0,0,-4.0404040404040442E-2,0,-3.157894736842104E-2,{"$f":"H29/G29-1","v":3.2608695652173836E-2},{"$f":"H29/B29-1","v":-4.0404040404040442E-2}]
["Mean",{"$f":"VLOOKUP($A$2,'Table 7'!$A$5:$L$23,11,FALSE)","v":492.17},{"$f":"VLOOKUP($A$2,'Table 8'!$A$5:$L$23,11,FALSE)","v":493.6},{"$f":"VLOOKUP($A$2,'Table 9'!$A$5:$L$23,11,FALSE)","v":493.9},{"$f":"VLOOKUP($A$2,'Table 10'!$A$5:$L$23,11,FALSE)","v":486.03},{"$f":"VLOOKUP($A$2,'Table 11'!$A$5:$L$23,11,FALSE)","v":479},{"$f":"VLOOKUP($A$2,'Table 12'!$A$5:$L$23,11,FALSE)","v":476.44},{"$f":"VLOOKUP($A$2,'Table 13'!$A$5:$L$23,11,FALSE)","v":498.22},"Mean",2.9055001320681395E-3,6.0777957860613796E-4,-1.5934399676047817E-2,-1.446412772874095E-2,-5.3444676409185599E-3,{"$f":"H30/G30-1","v":4.5714045839979844E-2},1.2292500558749975E-2]
["Upper Quartile",{"$f":"VLOOKUP($A$2,'Table 7'!$A$5:$L$23,12,FALSE)","v":550},{"$f":"VLOOKUP($A$2,'Table 8'!$A$5:$L$23,12,FALSE)","v":550},{"$f":"VLOOKUP($A$2,'Table 9'!$A$5:$L$23,12,FALSE)","v":550},{"$f":"VLOOKUP($A$2,'Table 10'!$A$5:$L$23,12,FALSE)","v":550},{"$f":"VLOOKUP($A$2,'Table 11'!$A$5:$L$23,12,FALSE)","v":525},{"$f":"VLOOKUP($A$2,'Table 12'!$A$5:$L$23,12,FALSE)","v":525},{"$f":"VLOOKUP($A$2,'Table 13'!$A$5:$L$23,12,FALSE)","v":550},"Upper Quartile",0,0,0,-4.5454545454545414E-2,0,{"$f":"H31/G31-1","v":4.7619047619047672E-2},0]
[]
[]
[]
[]
[]
[]
[]
[]
[]
[]
[]
[]
[]
[]
[]
[]
["3 Bedroom Properties:",null,null,null,null,null,null,null,"3 Bedroom Properties - Annual changes and 6-yr cumulative change:"]
[null,2010,2011,2012,2013,2014,2015,2016," ","2010 to 2011","2011 to 2012","2012 to 2013","2013 to 2014","2014 to 2015","2015 to 2016","2010 to 2016"]
["Lower Quartile",{"$f":"VLOOKUP($A$2,'Table 7'!$A$26:$L$44,3,FALSE)","v":475},{"$f":"VLOOKUP($A$2,'Table 8'!$A$26:$L$44,3,FALSE)","v":495},{"$f":"VLOOKUP($A$2,'Table 9'!$A$26:$L$44,3,FALSE)","v":498},{"$f":"VLOOKUP($A$2,'Table 10'!$A$26:$L$44,3,FALSE)","v":495},{"$f":"VLOOKUP($A$2,'Table 11'!$A$26:$L$44,3,FALSE)","v":480},{"$f":"VLOOKUP($A$2,'Table 12'!$A$26:$L$44,3,FALSE)","v":495},{"$f":"VLOOKUP($A$2,'Table 13'!$A$26:$L$44,3,FALSE)","v":475},"Lower Quartile",{"$f":"C50/B50-1","v":4.2105263157894646E-2},6.0606060606060996E-3,-6.0240963855421326E-3,-3.0303030303030276E-2,3.125E-2,{"$f":"H50/G50-1","v":-4.0404040404040442E-2},{"$f":"H50/B50-1","v":0}]
["Median",{"$f":"VLOOKUP($A$2,'Table 7'!$A$26:$L$44,4,FALSE)","v":575},{"$f":"VLOOKUP($A$2,'Table 8'!$A$26:$L$44,4,FALSE)","v":575},{"$f":"VLOOKUP($A$2,'Table 9'!$A$26:$L$44,4,FALSE)","v":575},{"$f":"VLOOKUP($A$2,'Table 10'!$A$26:$L$44,4,FALSE)","v":550},{"$f":"VLOOKUP($A$2,'Table 11'!$A$26:$L$44,4,FALSE)","v":550},{"$f":"VLOOKUP($A$2,'Table 12'!$A$26:$L$44,4,FALSE)","v":550},{"$f":"VLOOKUP($A$2,'Table 13'!$A$26:$L$44,4,FALSE)","v":562.5},"Median",0,0,-4.3478260869565188E-2,0,0,{"$f":"H51/G51-1","v":2.2727272727272707E-2},{"$f":"H51/B51-1","v":-2.1739130434782594E-2}]
["Mean",{"$f":"VLOOKUP($A$2,'Table 7'!$A$26:$L$44,5,FALSE)","v":591.05999999999995},{"$f":"VLOOKUP($A$2,'Table 8'!$A$26:$L$44,5,FALSE)","v":592.34},{"$f":"VLOOKUP($A$2,'Table 9'!$A$26:$L$44,5,FALSE)","v":606.89},{"$f":"VLOOKUP($A$2,'Table 10'!$A$26:$L$44,5,FALSE)","v":573.74},{"$f":"VLOOKUP($A$2,'Table 11'!$A$26:$L$44,5,FALSE)","v":590.70000000000005},{"$f":"VLOOKUP($A$2,'Table 12'!$A$26:$L$44,5,FALSE)","v":571.15},{"$f":"VLOOKUP($A$2,'Table 13'!$A$26:$L$44,5,FALSE)","v":575.4},"Mean",2.1656007850303638E-3,2.4563595232467872E-2,-5.4622748768310525E-2,2.9560428068463152E-2,-3.3096326392415887E-2,{"$f":"H52/G52-1","v":7.4411275496804041E-3},-2.6494772104354802E-2]
["Upper Quartile",{"$f":"VLOOKUP($A$2,'Table 7'!$A$26:$L$44,6,FALSE)","v":650},{"$f":"VLOOKUP($A$2,'Table 8'!$A$26:$L$44,6,FALSE)","v":650},{"$f":"VLOOKUP($A$2,'Table 9'!$A$26:$L$44,6,FALSE)","v":680},{"$f":"VLOOKUP($A$2,'Table 10'!$A$26:$L$44,6,FALSE)","v":635},{"$f":"VLOOKUP($A$2,'Table 11'!$A$26:$L$44,6,FALSE)","v":650},{"$f":"VLOOKUP($A$2,'Table 12'!$A$26:$L$44,6,FALSE)","v":625},{"$f":"VLOOKUP($A$2,'Table 13'!$A$26:$L$44,6,FALSE)","v":650},"Upper Quartile",0,4.6153846153846212E-2,-6.6176470588235281E-2,2.3622047244094446E-2,-3.8461538461538436E-2,{"$f":"H53/G53-1","v":4.0000000000000036E-2},0]
[]
[]
[]
[]
[]
[]
[]
[]
[]
[]
[]
[]
[]
[]
[]
[]
["4 Bedroom Properties:",null,null,null,null,null,null,null,"4 Bedroom Properties - Annual changes and 6-yr cumulative change:"]
[null,2010,2011,2012,2013,2014,2015,2016," ","2010 to 2011","2011 to 2012","2012 to 2013","2013 to 2014","2014 to 2015","2015 to 2016","2010 to 2016"]
["Lower Quartile",{"$f":"VLOOKUP($A$2,'Table 7'!$A$26:$L$44,9,FALSE)","v":695},{"$f":"VLOOKUP($A$2,'Table 8'!$A$26:$L$44,9,FALSE)","v":700},{"$f":"VLOOKUP($A$2,'Table 9'!$A$26:$L$44,9,FALSE)","v":700},{"$f":"VLOOKUP($A$2,'Table 10'!$A$26:$L$44,9,FALSE)","v":695},{"$f":"VLOOKUP($A$2,'Table 11'!$A$26:$L$44,9,FALSE)","v":750},{"$f":"VLOOKUP($A$2,'Table 12'!$A$26:$L$44,9,FALSE)","v":795},{"$f":"VLOOKUP($A$2,'Table 13'!$A$26:$L$44,9,FALSE)","v":771.5},"Lower Quartile",{"$f":"C72/B72-1","v":7.194244604316502E-3},0,-7.1428571428571175E-3,7.9136690647481966E-2,6.0000000000000053E-2,{"$f":"H72/G72-1","v":-2.9559748427672949E-2},{"$f":"H72/B72-1","v":0.11007194244604324}]
["Median",{"$f":"VLOOKUP($A$2,'Table 7'!$A$26:$L$44,10,FALSE)","v":795},{"$f":"VLOOKUP($A$2,'Table 8'!$A$26:$L$44,10,FALSE)","v":850},{"$f":"VLOOKUP($A$2,'Table 9'!$A$26:$L$44,10,FALSE)","v":795},{"$f":"VLOOKUP($A$2,'Table 10'!$A$26:$L$44,10,FALSE)","v":772.5},{"$f":"VLOOKUP($A$2,'Table 11'!$A$26:$L$44,10,FALSE)","v":795},{"$f":"VLOOKUP($A$2,'Table 12'!$A$26:$L$44,10,FALSE)","v":800},{"$f":"VLOOKUP($A$2,'Table 13'!$A$26:$L$44,10,FALSE)","v":872.5},"Median",6.9182389937106903E-2,-6.4705882352941169E-2,-2.8301886792452824E-2,2.9126213592232997E-2,6.2893081761006275E-3,9.0624999999999956E-2,{"$f":"H73/B73-1","v":9.7484276729559838E-2}]
["Mean",{"$f":"VLOOKUP($A$2,'Table 7'!$A$26:$L$44,11,FALSE)","v":821.05},{"$f":"VLOOKUP($A$2,'Table 8'!$A$26:$L$44,11,FALSE)","v":821.4},{"$f":"VLOOKUP($A$2,'Table 9'!$A$26:$L$44,11,FALSE)","v":834.38},{"$f":"VLOOKUP($A$2,'Table 10'!$A$26:$L$44,11,FALSE)","v":774.17},{"$f":"VLOOKUP($A$2,'Table 11'!$A$26:$L$44,11,FALSE)","v":795.87},{"$f":"VLOOKUP($A$2,'Table 12'!$A$26:$L$44,11,FALSE)","v":861.7},{"$f":"VLOOKUP($A$2,'Table 13'!$A$26:$L$44,11,FALSE)","v":906.5},"Mean",4.2628341757500188E-4,1.5802288775261797E-2,-7.2161365325151605E-2,2.8030019246418902E-2,8.2714513676856782E-2,5.1990251827782163E-2,0.10407405151939586]
["Upper Quartile",{"$f":"VLOOKUP($A$2,'Table 7'!$A$26:$L$44,12,FALSE)","v":850},{"$f":"VLOOKUP($A$2,'Table 8'!$A$26:$L$44,12,FALSE)","v":900},{"$f":"VLOOKUP($A$2,'Table 9'!$A$26:$L$44,12,FALSE)","v":912.5},{"$f":"VLOOKUP($A$2,'Table 10'!$A$26:$L$44,12,FALSE)","v":850},{"$f":"VLOOKUP($A$2,'Table 11'!$A$26:$L$44,12,FALSE)","v":850},{"$f":"VLOOKUP($A$2,'Table 12'!$A$26:$L$44,12,FALSE)","v":875},{"$f":"VLOOKUP($A$2,'Table 13'!$A$26:$L$44,12,FALSE)","v":997.5},"Upper Quartile",5.8823529411764719E-2,1.388888888888884E-2,-6.8493150684931559E-2,0,2.9411764705882248E-2,0.1399999999999999,0.17352941176470593]
[]
[]
[]
[]
[]
[]
[]
[]
[]
[]
[]
[]
[]
[]
[]
[]
["1 Bedroom Shared Properties:",null,null,null,null,null,null,null,"1 Bedroom Shared Properties - Annual changes and 6-yr cumulative change:"]
[null,2010,2011,2012,2013,2014,2015,2016," ","2010 to 2011","2011 to 2012","2012 to 2013","2013 to 2014","2014 to 2015","2015 to 2016","2010 to 2016"]
["Lower Quartile",{"$f":"VLOOKUP($A$2,'Table 7'!$A$47:$F$65,3,FALSE)","v":240},{"$f":"VLOOKUP($A$2,'Table 8'!$A$47:$F$65,3,FALSE)","v":277},{"$f":"VLOOKUP($A$2,'Table 9'!$A$47:$F$65,3,FALSE)","v":268},{"$f":"VLOOKUP($A$2,'Table 10'!$A$47:$F$65,3,FALSE)","v":275},{"$f":"VLOOKUP($A$2,'Table 11'!$A$47:$F$65,3,FALSE)","v":260},{"$f":"VLOOKUP($A$2,'Table 12'!$A$47:$F$65,3,FALSE)","v":272.61},{"$f":"VLOOKUP($A$2,'Table 13'!$A$47:$F$65,3,FALSE)","v":260.70999999999998},"Lower Quartile",{"$f":"C94/B94-1","v":0.15416666666666656},-3.2490974729241895E-2,2.6119402985074647E-2,-5.4545454545454564E-2,4.8499999999999988E-2,{"$f":"H94/G94-1","v":-4.3652103737940817E-2},{"$f":"H94/B94-1","v":8.6291666666666655E-2}]
["Median",{"$f":"VLOOKUP($A$2,'Table 7'!$A$47:$F$65,4,FALSE)","v":294},{"$f":"VLOOKUP($A$2,'Table 8'!$A$47:$F$65,4,FALSE)","v":294},{"$f":"VLOOKUP($A$2,'Table 9'!$A$47:$F$65,4,FALSE)","v":292.5},{"$f":"VLOOKUP($A$2,'Table 10'!$A$47:$F$65,4,FALSE)","v":285},{"$f":"VLOOKUP($A$2,'Table 11'!$A$47:$F$65,4,FALSE)","v":281.66000000000003},{"$f":"VLOOKUP($A$2,'Table 12'!$A$47:$F$65,4,FALSE)","v":305},{"$f":"VLOOKUP($A$2,'Table 13'!$A$47:$F$65,4,FALSE)","v":305},"Median",0,-5.1020408163264808E-3,-2.5641025641025661E-2,-1.1719298245613907E-2,8.2865866647731101E-2,0,{"$f":"H95/B95-1","v":3.7414965986394488E-2}]
["Mean",{"$f":"VLOOKUP($A$2,'Table 7'!$A$47:$F$65,5,FALSE)","v":288.89},{"$f":"VLOOKUP($A$2,'Table 8'!$A$47:$F$65,5,FALSE)","v":300.14999999999998},{"$f":"VLOOKUP($A$2,'Table 9'!$A$47:$F$65,5,FALSE)","v":291.19},{"$f":"VLOOKUP($A$2,'Table 10'!$A$47:$F$65,5,FALSE)","v":286.20999999999998},{"$f":"VLOOKUP($A$2,'Table 11'!$A$47:$F$65,5,FALSE)","v":283.39999999999998},{"$f":"VLOOKUP($A$2,'Table 12'!$A$47:$F$65,5,FALSE)","v":315.55},{"$f":"VLOOKUP($A$2,'Table 13'!$A$47:$F$65,5,FALSE)","v":322.08999999999997},"Mean",3.8976773166256917E-2,-2.9851740796268511E-2,-1.7102235653696951E-2,-9.8179658292861793E-3,0.11344389555398737,2.0725717002059829E-2,0.11492263491294263]
["Upper Quartile",{"$f":"VLOOKUP($A$2,'Table 7'!$A$47:$F$65,6,FALSE)","v":344},{"$f":"VLOOKUP($A$2,'Table 8'!$A$47:$F$65,6,FALSE)","v":315},{"$f":"VLOOKUP($A$2,'Table 9'!$A$47:$F$65,6,FALSE)","v":325},{"$f":"VLOOKUP($A$2,'Table 10'!$A$47:$F$65,6,FALSE)","v":303.33},{"$f":"VLOOKUP($A$2,'Table 11'!$A$47:$F$65,6,FALSE)","v":305},{"$f":"VLOOKUP($A$2,'Table 12'!$A$47:$F$65,6,FALSE)","v":359.52},{"$f":"VLOOKUP($A$2,'Table 13'!$A$47:$F$65,6,FALSE)","v":359.52},"Upper Quartile",-8.4302325581395388E-2,3.1746031746031855E-2,-6.6676923076923078E-2,5.50555500609895E-3,0.1787540983606557,0,4.5116279069767451E-2]
[]
[]
[]
[]
[]
[]
[]
[]
[]
[]
[]
[]
[]
[]
[]
[]
[]
[]
["Mean Rents by Property Size:",null,null,null,null,null,null,null,"Median Rents by Property Size:"]
[null,2010,2011,2012,2013,2014,2015,2016,null,2010,2011,2012,2013,2014,2015,2016]
["1 Bedroom Shared",{"$f":"B96","v":288.89},300.14999999999998,291.19,286.20999999999998,283.39999999999998,315.55,322.08999999999997,"1 Bedroom Shared",{"$f":"B95","v":294},294,292.5,285,281.66000000000003,{"$f":"G95","v":305},{"$f":"H95","v":305}]
["1 Bedroom ",{"$f":"B8","v":396.84},390.11,399.03,392.2,390,390.14,400.42,"1 Bedroom ",{"$f":"B7","v":395},395,395,395,395,{"$f":"G7","v":395},{"$f":"H7","v":395}]
["2 Bedrooms",{"$f":"B30","v":492.17},493.6,493.9,486.03,479,476.44,498.22,"2 Bedrooms",{"$f":"B29","v":495},495,495,475,475,{"$f":"G29","v":460},{"$f":"H29","v":475}]
["3 Bedrooms",{"$f":"B52","v":591.05999999999995},592.34,606.89,573.74,590.70000000000005,571.15,575.4,"3 Bedrooms",{"$f":"B51","v":575},575,575,550,550,{"$f":"G51","v":550},{"$f":"H51","v":562.5}]
["4 Bedrooms",{"$f":"B74","v":821.05},821.4,834.38,774.17,795.87,861.7,906.5,"4 Bedrooms",{"$f":"B73","v":795},850,795,772.5,795,{"$f":"G73","v":800},{"$f":"H73","v":872.5}]
[]
[]
[]
[]
[]
[]
[]
[]
[]
[]
[]
[]
[]
[]
[]
[]
[]
["Sample Sizes:",null,null,null,null,null,null,null,"Sample Proportions:"]
[null,2010,2011,2012,2013,2014,2015,2016,null,2010,2011,2012,2013,2014,2015,2016]
["1 Bedroom ",{"$f":"VLOOKUP($A$2,'Table 7'!$A$5:$L$23,2,FALSE)","v":74},{"$f":"VLOOKUP($A$2,'Table 8'!$A$5:$L$23,2,FALSE)","v":90},{"$f":"VLOOKUP($A$2,'Table 9'!$A$5:$L$23,2,FALSE)","v":72},{"$f":"VLOOKUP($A$2,'Table 10'!$A$5:$L$23,2,FALSE)","v":50},{"$f":"VLOOKUP($A$2,'Table 11'!$A$5:$L$23,2,FALSE)","v":56},{"$f":"VLOOKUP($A$2,'Table 12'!$A$5:$L$23,2,FALSE)","v":108},{"$f":"VLOOKUP($A$2,'Table 13'!$A$5:$L$23,2,FALSE)","v":118},"1 Bedroom ",{"$f":"B142/SUM(B$142:B$146)","v":0.22089552238805971},{"$f":"C142/SUM(C$142:C$146)","v":0.23195876288659795},0.20930232558139536,0.14450867052023122,0.15909090909090909,{"$f":"G142/SUM(G$142:G$146)","v":0.20149253731343283},0.26818181818181819]
["2 Bedrooms",{"$f":"VLOOKUP($A$2,'Table 7'!$A$5:$L$23,8,FALSE)","v":160},{"$f":"VLOOKUP($A$2,'Table 8'!$A$5:$L$23,8,FALSE)","v":161},{"$f":"VLOOKUP($A$2,'Table 9'!$A$5:$L$23,8,FALSE)","v":165},{"$f":"VLOOKUP($A$2,'Table 10'!$A$5:$L$23,8,FALSE)","v":175},{"$f":"VLOOKUP($A$2,'Table 11'!$A$5:$L$23,8,FALSE)","v":145},{"$f":"VLOOKUP($A$2,'Table 12'!$A$5:$L$23,8,FALSE)","v":243},{"$f":"VLOOKUP($A$2,'Table 13'!$A$5:$L$23,8,FALSE)","v":197},"2 Bedrooms",{"$f":"B143/SUM(B$142:B$146)","v":0.47761194029850745},0.41494845360824745,0.47965116279069769,0.5057803468208093,0.41193181818181818,0.45335820895522388,0.44772727272727275]
["3 Bedrooms",{"$f":"VLOOKUP($A$2,'Table 7'!$A$26:$L$44,2,FALSE)","v":67},{"$f":"VLOOKUP($A$2,'Table 8'!$A$26:$L$44,2,FALSE)","v":92},{"$f":"VLOOKUP($A$2,'Table 9'!$A$26:$L$44,2,FALSE)","v":73},{"$f":"VLOOKUP($A$2,'Table 10'!$A$26:$L$44,2,FALSE)","v":79},{"$f":"VLOOKUP($A$2,'Table 11'!$A$26:$L$44,2,FALSE)","v":87},{"$f":"VLOOKUP($A$2,'Table 12'!$A$26:$L$44,2,FALSE)","v":103},{"$f":"VLOOKUP($A$2,'Table 13'!$A$26:$L$44,2,FALSE)","v":68},"3 Bedrooms",{"$f":"B144/SUM(B$142:B$146)","v":0.2},0.23711340206185566,0.21220930232558138,0.22832369942196531,0.24715909090909091,0.19216417910447761,0.15454545454545454]
["4 Bedrooms",{"$f":"VLOOKUP($A$2,'Table 7'!$A$26:$L$44,8,FALSE)","v":19},{"$f":"VLOOKUP($A$2,'Table 8'!$A$26:$L$44,8,FALSE)","v":25},{"$f":"VLOOKUP($A$2,'Table 9'!$A$26:$L$44,8,FALSE)","v":16},{"$f":"VLOOKUP($A$2,'Table 10'!$A$26:$L$44,8,FALSE)","v":12},{"$f":"VLOOKUP($A$2,'Table 11'!$A$26:$L$44,8,FALSE)","v":15},{"$f":"VLOOKUP($A$2,'Table 12'!$A$26:$L$44,8,FALSE)","v":13},{"$f":"VLOOKUP($A$2,'Table 13'!$A$26:$L$44,8,FALSE)","v":12},"4 Bedrooms",{"$f":"B145/SUM(B$142:B$146)","v":5.6716417910447764E-2},6.4432989690721643E-2,4.6511627906976744E-2,3.4682080924855488E-2,4.261363636363636E-2,2.4253731343283583E-2,2.7272727272727271E-2]
["1 Bedroom Shared",{"$f":"VLOOKUP($A$2,'Table 7'!$A$47:$L$65,2,FALSE)","v":15},{"$f":"VLOOKUP($A$2,'Table 8'!$A$47:$L$65,2,FALSE)","v":20},{"$f":"VLOOKUP($A$2,'Table 9'!$A$47:$L$65,2,FALSE)","v":18},{"$f":"VLOOKUP($A$2,'Table 10'!$A$47:$L$65,2,FALSE)","v":30},{"$f":"VLOOKUP($A$2,'Table 11'!$A$47:$L$65,2,FALSE)","v":49},{"$f":"VLOOKUP($A$2,'Table 12'!$A$47:$L$65,2,FALSE)","v":69},{"$f":"VLOOKUP($A$2,'Table 13'!$A$47:$L$65,2,FALSE)","v":45},"1 Bedroom Shared",{"$f":"B146/SUM(B$142:B$146)","v":4.4776119402985072E-2},5.1546391752577317E-2,5.232558139534884E-2,8.6705202312138727E-2,0.13920454545454544,0.1287313432835821,0.10227272727272728]

{"sheet":"BRMA Profile - West Lothian","index":31,"n_rows":146,"n_cols":16,"rows_kept":146,"cut":false,"hidden":true,"merged":[[1,0,1,2]]}
["BRMA Rent Profile for:"]
["West Lothian",null,null,null,null,null,null,null,{"$f":"ROUND(MIN(J6:P9,J28:P31,J50:P53,J72:P75,J94:P97)-0.01,2)","v":-7.0000000000000007E-2},{"$f":"ROUND(MAX(J6:P9,J28:P31,J50:P53,J72:P75,J94:P97)+0.01,2)","v":0.2}]
[]
["1 Bedroom Properties - Quartile Measures:",null,null,null,null,null,null,null,"1 Bedroom Properties - Annual changes and 6-yr cumulative change:"]
[" ",2010,2011,2012,2013,2014,2015,2016," ","2010 to 2011","2011 to 2012","2012 to 2013","2013 to 2014","2014 to 2015","2015 to 2016","2010 to 2016"]
["Lower Quartile",{"$f":"VLOOKUP($A$2,'Table 7'!$A$5:$L$23,3,FALSE)","v":400},{"$f":"VLOOKUP($A$2,'Table 8'!$A$5:$L$23,3,FALSE)","v":425},{"$f":"VLOOKUP($A$2,'Table 9'!$A$5:$L$23,3,FALSE)","v":425},{"$f":"VLOOKUP($A$2,'Table 10'!$A$5:$L$23,3,FALSE)","v":400},{"$f":"VLOOKUP($A$2,'Table 11'!$A$5:$L$23,3,FALSE)","v":425},{"$f":"VLOOKUP($A$2,'Table 12'!$A$5:$L$23,3,FALSE)","v":425},{"$f":"VLOOKUP($A$2,'Table 13'!$A$5:$L$23,3,FALSE)","v":450},"Lower Quartile",{"$f":"C6/B6-1","v":6.25E-2},0,-5.8823529411764719E-2,6.25E-2,0,{"$f":"H6/G6-1","v":5.8823529411764719E-2},{"$f":"H6/B6-1","v":0.125}]
["Median",{"$f":"VLOOKUP($A$2,'Table 7'!$A$5:$L$23,4,FALSE)","v":425},{"$f":"VLOOKUP($A$2,'Table 8'!$A$5:$L$23,4,FALSE)","v":435},{"$f":"VLOOKUP($A$2,'Table 9'!$A$5:$L$23,4,FALSE)","v":435},{"$f":"VLOOKUP($A$2,'Table 10'!$A$5:$L$23,4,FALSE)","v":435},{"$f":"VLOOKUP($A$2,'Table 11'!$A$5:$L$23,4,FALSE)","v":450},{"$f":"VLOOKUP($A$2,'Table 12'!$A$5:$L$23,4,FALSE)","v":450},{"$f":"VLOOKUP($A$2,'Table 13'!$A$5:$L$23,4,FALSE)","v":475},"Median",2.3529411764705799E-2,0,0,3.4482758620689724E-2,0,5.555555555555558E-2,{"$f":"H7/B7-1","v":0.11764705882352944}]
["Mean",{"$f":"VLOOKUP($A$2,'Table 7'!$A$5:$L$23,5,FALSE)","v":428.18},{"$f":"VLOOKUP($A$2,'Table 8'!$A$5:$L$23,5,FALSE)","v":435.58},{"$f":"VLOOKUP($A$2,'Table 9'!$A$5:$L$23,5,FALSE)","v":435.6},{"$f":"VLOOKUP($A$2,'Table 10'!$A$5:$L$23,5,FALSE)","v":433.11},{"$f":"VLOOKUP($A$2,'Table 11'!$A$5:$L$23,5,FALSE)","v":448.15},{"$f":"VLOOKUP($A$2,'Table 12'!$A$5:$L$23,5,FALSE)","v":445.29},{"$f":"VLOOKUP($A$2,'Table 13'!$A$5:$L$23,5,FALSE)","v":469.89},"Mean",1.7282451305525637E-2,4.5915790440442805E-5,-5.7162534435262202E-3,3.4725589342199381E-2,-6.3817918107775817E-3,5.5244896584248471E-2,9.7412303236956266E-2]
["Upper Quartile",{"$f":"VLOOKUP($A$2,'Table 7'!$A$5:$L$23,6,FALSE)","v":450},{"$f":"VLOOKUP($A$2,'Table 8'!$A$5:$L$23,6,FALSE)","v":450},{"$f":"VLOOKUP($A$2,'Table 9'!$A$5:$L$23,6,FALSE)","v":450},{"$f":"VLOOKUP($A$2,'Table 10'!$A$5:$L$23,6,FALSE)","v":450},{"$f":"VLOOKUP($A$2,'Table 11'!$A$5:$L$23,6,FALSE)","v":475},{"$f":"VLOOKUP($A$2,'Table 12'!$A$5:$L$23,6,FALSE)","v":475},{"$f":"VLOOKUP($A$2,'Table 13'!$A$5:$L$23,6,FALSE)","v":495},"Upper Quartile",0,0,0,5.555555555555558E-2,0,4.2105263157894646E-2,0.10000000000000009]
[]
[]
[]
[]
[]
[]
[]
[]
[]
[]
[]
[]
[]
[]
[]
[]
["2 Bedroom Properties:",null,null,null,null,null,null,null,"2 Bedroom Properties - Annual changes and 6-yr cumulative change:"]
[null,2010,2011,2012,2013,2014,2015,2016," ","2010 to 2011","2011 to 2012","2012 to 2013","2013 to 2014","2014 to 2015","2015 to 2016","2010 to 2016"]
["Lower Quartile",{"$f":"VLOOKUP($A$2,'Table 7'!$A$5:$L$23,9,FALSE)","v":500},{"$f":"VLOOKUP($A$2,'Table 8'!$A$5:$L$23,9,FALSE)","v":495},{"$f":"VLOOKUP($A$2,'Table 9'!$A$5:$L$23,9,FALSE)","v":495},{"$f":"VLOOKUP($A$2,'Table 10'!$A$5:$L$23,9,FALSE)","v":500},{"$f":"VLOOKUP($A$2,'Table 11'!$A$5:$L$23,9,FALSE)","v":500},{"$f":"VLOOKUP($A$2,'Table 12'!$A$5:$L$23,9,FALSE)","v":525},{"$f":"VLOOKUP($A$2,'Table 13'!$A$5:$L$23,9,FALSE)","v":550},"Lower Quartile",{"$f":"C28/B28-1","v":-1.0000000000000009E-2},0,1.0101010101010166E-2,0,5.0000000000000044E-2,{"$f":"H28/G28-1","v":4.7619047619047672E-2},{"$f":"H28/B28-1","v":0.10000000000000009}]
["Median",{"$f":"VLOOKUP($A$2,'Table 7'!$A$5:$L$23,10,FALSE)","v":525},{"$f":"VLOOKUP($A$2,'Table 8'!$A$5:$L$23,10,FALSE)","v":525},{"$f":"VLOOKUP($A$2,'Table 9'!$A$5:$L$23,10,FALSE)","v":525},{"$f":"VLOOKUP($A$2,'Table 10'!$A$5:$L$23,10,FALSE)","v":529},{"$f":"VLOOKUP($A$2,'Table 11'!$A$5:$L$23,10,FALSE)","v":542.5},{"$f":"VLOOKUP($A$2,'Table 12'!$A$5:$L$23,10,FALSE)","v":550},{"$f":"VLOOKUP($A$2,'Table 13'!$A$5:$L$23,10,FALSE)","v":575},"Median",0,0,7.6190476190476364E-3,2.5519848771266451E-2,1.3824884792626779E-2,{"$f":"H29/G29-1","v":4.5454545454545414E-2},{"$f":"H29/B29-1","v":9.5238095238095344E-2}]
["Mean",{"$f":"VLOOKUP($A$2,'Table 7'!$A$5:$L$23,11,FALSE)","v":527.37},{"$f":"VLOOKUP($A$2,'Table 8'!$A$5:$L$23,11,FALSE)","v":525.86},{"$f":"VLOOKUP($A$2,'Table 9'!$A$5:$L$23,11,FALSE)","v":527.74},{"$f":"VLOOKUP($A$2,'Table 10'!$A$5:$L$23,11,FALSE)","v":536.71},{"$f":"VLOOKUP($A$2,'Table 11'!$A$5:$L$23,11,FALSE)","v":542.6},{"$f":"VLOOKUP($A$2,'Table 12'!$A$5:$L$23,11,FALSE)","v":559.54},{"$f":"VLOOKUP($A$2,'Table 13'!$A$5:$L$23,11,FALSE)","v":577.79999999999995},"Mean",-2.8632648804444161E-3,3.5750960331646375E-3,1.6997006101489465E-2,1.0974269158390948E-2,3.1220051603390919E-2,{"$f":"H30/G30-1","v":3.2633949315509225E-2},9.5625462199214972E-2]
["Upper Quartile",{"$f":"VLOOKUP($A$2,'Table 7'!$A$5:$L$23,12,FALSE)","v":550},{"$f":"VLOOKUP($A$2,'Table 8'!$A$5:$L$23,12,FALSE)","v":550},{"$f":"VLOOKUP($A$2,'Table 9'!$A$5:$L$23,12,FALSE)","v":550},{"$f":"VLOOKUP($A$2,'Table 10'!$A$5:$L$23,12,FALSE)","v":558},{"$f":"VLOOKUP($A$2,'Table 11'!$A$5:$L$23,12,FALSE)","v":575},{"$f":"VLOOKUP($A$2,'Table 12'!$A$5:$L$23,12,FALSE)","v":595},{"$f":"VLOOKUP($A$2,'Table 13'!$A$5:$L$23,12,FALSE)","v":600},"Upper Quartile",0,0,1.4545454545454639E-2,3.0465949820788429E-2,3.4782608695652195E-2,{"$f":"H31/G31-1","v":8.4033613445377853E-3},9.0909090909090828E-2]
[]
[]
[]
[]
[]
[]
[]
[]
[]
[]
[]
[]
[]
[]
[]
[]
["3 Bedroom Properties:",null,null,null,null,null,null,null,"3 Bedroom Properties - Annual changes and 6-yr cumulative change:"]
[null,2010,2011,2012,2013,2014,2015,2016," ","2010 to 2011","2011 to 2012","2012 to 2013","2013 to 2014","2014 to 2015","2015 to 2016","2010 to 2016"]
["Lower Quartile",{"$f":"VLOOKUP($A$2,'Table 7'!$A$26:$L$44,3,FALSE)","v":550},{"$f":"VLOOKUP($A$2,'Table 8'!$A$26:$L$44,3,FALSE)","v":575},{"$f":"VLOOKUP($A$2,'Table 9'!$A$26:$L$44,3,FALSE)","v":560},{"$f":"VLOOKUP($A$2,'Table 10'!$A$26:$L$44,3,FALSE)","v":558},{"$f":"VLOOKUP($A$2,'Table 11'!$A$26:$L$44,3,FALSE)","v":575},{"$f":"VLOOKUP($A$2,'Table 12'!$A$26:$L$44,3,FALSE)","v":600},{"$f":"VLOOKUP($A$2,'Table 13'!$A$26:$L$44,3,FALSE)","v":600},"Lower Quartile",{"$f":"C50/B50-1","v":4.5454545454545414E-2},-2.6086956521739091E-2,-3.5714285714285587E-3,3.0465949820788429E-2,4.3478260869565188E-2,{"$f":"H50/G50-1","v":0},{"$f":"H50/B50-1","v":9.0909090909090828E-2}]
["Median",{"$f":"VLOOKUP($A$2,'Table 7'!$A$26:$L$44,4,FALSE)","v":600},{"$f":"VLOOKUP($A$2,'Table 8'!$A$26:$L$44,4,FALSE)","v":600},{"$f":"VLOOKUP($A$2,'Table 9'!$A$26:$L$44,4,FALSE)","v":599},{"$f":"VLOOKUP($A$2,'Table 10'!$A$26:$L$44,4,FALSE)","v":608},{"$f":"VLOOKUP($A$2,'Table 11'!$A$26:$L$44,4,FALSE)","v":625},{"$f":"VLOOKUP($A$2,'Table 12'!$A$26:$L$44,4,FALSE)","v":650},{"$f":"VLOOKUP($A$2,'Table 13'!$A$26:$L$44,4,FALSE)","v":675},"Median",0,-1.6666666666667052E-3,1.5025041736226985E-2,2.796052631578938E-2,4.0000000000000036E-2,{"$f":"H51/G51-1","v":3.8461538461538547E-2},{"$f":"H51/B51-1","v":0.125}]
["Mean",{"$f":"VLOOKUP($A$2,'Table 7'!$A$26:$L$44,5,FALSE)","v":615.97},{"$f":"VLOOKUP($A$2,'Table 8'!$A$26:$L$44,5,FALSE)","v":619.26},{"$f":"VLOOKUP($A$2,'Table 9'!$A$26:$L$44,5,FALSE)","v":624.25},{"$f":"VLOOKUP($A$2,'Table 10'!$A$26:$L$44,5,FALSE)","v":623.23},{"$f":"VLOOKUP($A$2,'Table 11'!$A$26:$L$44,5,FALSE)","v":636.77},{"$f":"VLOOKUP($A$2,'Table 12'!$A$26:$L$44,5,FALSE)","v":673.9},{"$f":"VLOOKUP($A$2,'Table 13'!$A$26:$L$44,5,FALSE)","v":690.52},"Mean",5.3411692127862676E-3,8.058004715305378E-3,-1.6339607529034517E-3,2.1725526691590558E-2,5.8309907816008977E-2,{"$f":"H52/G52-1","v":2.4662412820893209E-2},0.12102862152377547]
["Upper Quartile",{"$f":"VLOOKUP($A$2,'Table 7'!$A$26:$L$44,6,FALSE)","v":650},{"$f":"VLOOKUP($A$2,'Table 8'!$A$26:$L$44,6,FALSE)","v":650},{"$f":"VLOOKUP($A$2,'Table 9'!$A$26:$L$44,6,FALSE)","v":650},{"$f":"VLOOKUP($A$2,'Table 10'!$A$26:$L$44,6,FALSE)","v":675},{"$f":"VLOOKUP($A$2,'Table 11'!$A$26:$L$44,6,FALSE)","v":675},{"$f":"VLOOKUP($A$2,'Table 12'!$A$26:$L$44,6,FALSE)","v":725},{"$f":"VLOOKUP($A$2,'Table 13'!$A$26:$L$44,6,FALSE)","v":775},"Upper Quartile",0,0,3.8461538461538547E-2,0,7.4074074074074181E-2,{"$f":"H53/G53-1","v":6.8965517241379226E-2},0.19230769230769229]
[]
[]
[]
[]
[]
[]
[]
[]
[]
[]
[]
[]
[]
[]
[]
[]
["4 Bedroom Properties:",null,null,null,null,null,null,null,"4 Bedroom Properties - Annual changes and 6-yr cumulative change:"]
[null,2010,2011,2012,2013,2014,2015,2016," ","2010 to 2011","2011 to 2012","2012 to 2013","2013 to 2014","2014 to 2015","2015 to 2016","2010 to 2016"]
["Lower Quartile",{"$f":"VLOOKUP($A$2,'Table 7'!$A$26:$L$44,9,FALSE)","v":750},{"$f":"VLOOKUP($A$2,'Table 8'!$A$26:$L$44,9,FALSE)","v":745},{"$f":"VLOOKUP($A$2,'Table 9'!$A$26:$L$44,9,FALSE)","v":750},{"$f":"VLOOKUP($A$2,'Table 10'!$A$26:$L$44,9,FALSE)","v":795},{"$f":"VLOOKUP($A$2,'Table 11'!$A$26:$L$44,9,FALSE)","v":795},{"$f":"VLOOKUP($A$2,'Table 12'!$A$26:$L$44,9,FALSE)","v":810},{"$f":"VLOOKUP($A$2,'Table 13'!$A$26:$L$44,9,FALSE)","v":825},"Lower Quartile",{"$f":"C72/B72-1","v":-6.6666666666667096E-3},6.7114093959732557E-3,6.0000000000000053E-2,0,1.8867924528301883E-2,{"$f":"H72/G72-1","v":1.8518518518518601E-2},{"$f":"H72/B72-1","v":0.10000000000000009}]
["Median",{"$f":"VLOOKUP($A$2,'Table 7'!$A$26:$L$44,10,FALSE)","v":825},{"$f":"VLOOKUP($A$2,'Table 8'!$A$26:$L$44,10,FALSE)","v":800},{"$f":"VLOOKUP($A$2,'Table 9'!$A$26:$L$44,10,FALSE)","v":850},{"$f":"VLOOKUP($A$2,'Table 10'!$A$26:$L$44,10,FALSE)","v":850},{"$f":"VLOOKUP($A$2,'Table 11'!$A$26:$L$44,10,FALSE)","v":862.5},{"$f":"VLOOKUP($A$2,'Table 12'!$A$26:$L$44,10,FALSE)","v":935},{"$f":"VLOOKUP($A$2,'Table 13'!$A$26:$L$44,10,FALSE)","v":895},"Median",-3.0303030303030276E-2,6.25E-2,0,1.4705882352941124E-2,8.405797101449286E-2,-4.2780748663101553E-2,{"$f":"H73/B73-1","v":8.4848484848484951E-2}]
["Mean",{"$f":"VLOOKUP($A$2,'Table 7'!$A$26:$L$44,11,FALSE)","v":834.19},{"$f":"VLOOKUP($A$2,'Table 8'!$A$26:$L$44,11,FALSE)","v":796.42},{"$f":"VLOOKUP($A$2,'Table 9'!$A$26:$L$44,11,FALSE)","v":856.56},{"$f":"VLOOKUP($A$2,'Table 10'!$A$26:$L$44,11,FALSE)","v":870.95},{"$f":"VLOOKUP($A$2,'Table 11'!$A$26:$L$44,11,FALSE)","v":889.07},{"$f":"VLOOKUP($A$2,'Table 12'!$A$26:$L$44,11,FALSE)","v":936.17},{"$f":"VLOOKUP($A$2,'Table 13'!$A$26:$L$44,11,FALSE)","v":920.33},"Mean",-4.5277454776489923E-2,7.5512920318425047E-2,1.6799757168207918E-2,2.0804868247316088E-2,5.2976705996153228E-2,-1.6920003845455334E-2,0.10326184682146744]
["Upper Quartile",{"$f":"VLOOKUP($A$2,'Table 7'!$A$26:$L$44,12,FALSE)","v":875},{"$f":"VLOOKUP($A$2,'Table 8'!$A$26:$L$44,12,FALSE)","v":875},{"$f":"VLOOKUP($A$2,'Table 9'!$A$26:$L$44,12,FALSE)","v":895},{"$f":"VLOOKUP($A$2,'Table 10'!$A$26:$L$44,12,FALSE)","v":940},{"$f":"VLOOKUP($A$2,'Table 11'!$A$26:$L$44,12,FALSE)","v":950},{"$f":"VLOOKUP($A$2,'Table 12'!$A$26:$L$44,12,FALSE)","v":1000},{"$f":"VLOOKUP($A$2,'Table 13'!$A$26:$L$44,12,FALSE)","v":1000},"Upper Quartile",0,2.2857142857142909E-2,5.027932960893855E-2,1.0638297872340496E-2,5.2631578947368363E-2,0,0.14285714285714279]
[]
[]
[]
[]
[]
[]
[]
[]
[]
[]
[]
[]
[]
[]
[]
[]
["1 Bedroom Shared Properties:",null,null,null,null,null,null,null,"1 Bedroom Shared Properties - Annual changes and 6-yr cumulative change:"]
[null,2010,2011,2012,2013,2014,2015,2016," ","2010 to 2011","2011 to 2012","2012 to 2013","2013 to 2014","2014 to 2015","2015 to 2016","2010 to 2016"]
["Lower Quartile",{"$f":"VLOOKUP($A$2,'Table 7'!$A$47:$F$65,3,FALSE)","v":240},{"$f":"VLOOKUP($A$2,'Table 8'!$A$47:$F$65,3,FALSE)","v":235},{"$f":"VLOOKUP($A$2,'Table 9'!$A$47:$F$65,3,FALSE)","v":250},{"$f":"VLOOKUP($A$2,'Table 10'!$A$47:$F$65,3,FALSE)","v":250.47},{"$f":"VLOOKUP($A$2,'Table 11'!$A$47:$F$65,3,FALSE)","v":260},{"$f":"VLOOKUP($A$2,'Table 12'!$A$47:$F$65,3,FALSE)","v":250.89},{"$f":"VLOOKUP($A$2,'Table 13'!$A$47:$F$65,3,FALSE)","v":275},"Lower Quartile",{"$f":"C94/B94-1","v":-2.083333333333337E-2},6.3829787234042534E-2,1.8800000000001038E-3,3.8048468878508324E-2,-3.5038461538461574E-2,{"$f":"H94/G94-1","v":9.609789150623782E-2},{"$f":"H94/B94-1","v":0.14583333333333326}]
["Median",{"$f":"VLOOKUP($A$2,'Table 7'!$A$47:$F$65,4,FALSE)","v":285},{"$f":"VLOOKUP($A$2,'Table 8'!$A$47:$F$65,4,FALSE)","v":281.67},{"$f":"VLOOKUP($A$2,'Table 9'!$A$47:$F$65,4,FALSE)","v":275},{"$f":"VLOOKUP($A$2,'Table 10'!$A$47:$F$65,4,FALSE)","v":275},{"$f":"VLOOKUP($A$2,'Table 11'!$A$47:$F$65,4,FALSE)","v":285},{"$f":"VLOOKUP($A$2,'Table 12'!$A$47:$F$65,4,FALSE)","v":300},{"$f":"VLOOKUP($A$2,'Table 13'!$A$47:$F$65,4,FALSE)","v":325},"Median",-1.1684210526315741E-2,-2.3680193133809091E-2,0,3.6363636363636376E-2,5.2631578947368363E-2,8.3333333333333259E-2,{"$f":"H95/B95-1","v":0.14035087719298245}]
["Mean",{"$f":"VLOOKUP($A$2,'Table 7'!$A$47:$F$65,5,FALSE)","v":278.75},{"$f":"VLOOKUP($A$2,'Table 8'!$A$47:$F$65,5,FALSE)","v":274.61},{"$f":"VLOOKUP($A$2,'Table 9'!$A$47:$F$65,5,FALSE)","v":274.07},{"$f":"VLOOKUP($A$2,'Table 10'!$A$47:$F$65,5,FALSE)","v":287.04000000000002},{"$f":"VLOOKUP($A$2,'Table 11'!$A$47:$F$65,5,FALSE)","v":293.83},{"$f":"VLOOKUP($A$2,'Table 12'!$A$47:$F$65,5,FALSE)","v":298.56},{"$f":"VLOOKUP($A$2,'Table 13'!$A$47:$F$65,5,FALSE)","v":318.32},"Mean",-1.4852017937219686E-2,-1.9664251119770881E-3,4.7323676433028261E-2,2.3655239687848217E-2,1.6097743593234348E-2,6.6184351554126497E-2,0.14195515695067251]
["Upper Quartile",{"$f":"VLOOKUP($A$2,'Table 7'!$A$47:$F$65,6,FALSE)","v":315},{"$f":"VLOOKUP($A$2,'Table 8'!$A$47:$F$65,6,FALSE)","v":304.17},{"$f":"VLOOKUP($A$2,'Table 9'!$A$47:$F$65,6,FALSE)","v":295},{"$f":"VLOOKUP($A$2,'Table 10'!$A$47:$F$65,6,FALSE)","v":325},{"$f":"VLOOKUP($A$2,'Table 11'!$A$47:$F$65,6,FALSE)","v":325},{"$f":"VLOOKUP($A$2,'Table 12'!$A$47:$F$65,6,FALSE)","v":355},{"$f":"VLOOKUP($A$2,'Table 13'!$A$47:$F$65,6,FALSE)","v":359.52},"Upper Quartile",-3.438095238095229E-2,-3.014761482065953E-2,0.10169491525423724,0,9.2307692307692202E-2,1.2732394366197219E-2,0.14133333333333331]
[]
[]
[]
[]
[]
[]
[]
[]
[]
[]
[]
[]
[]
[]
[]
[]
[]
[]
["Mean Rents by Property Size:",null,null,null,null,null,null,null,"Median Rents by Property Size:"]
[null,2010,2011,2012,2013,2014,2015,2016,null,2010,2011,2012,2013,2014,2015,2016]
["1 Bedroom Shared",{"$f":"B96","v":278.75},274.61,274.07,287.04000000000002,293.83,298.56,318.32,"1 Bedroom Shared",{"$f":"B95","v":285},281.67,275,275,285,{"$f":"G95","v":300},{"$f":"H95","v":325}]
["1 Bedroom ",{"$f":"B8","v":428.18},435.58,435.6,433.11,448.15,445.29,469.89,"1 Bedroom ",{"$f":"B7","v":425},435,435,435,450,{"$f":"G7","v":450},{"$f":"H7","v":475}]
["2 Bedrooms",{"$f":"B30","v":527.37},525.86,527.74,536.71,542.6,559.54,577.79999999999995,"2 Bedrooms",{"$f":"B29","v":525},525,525,529,542.5,{"$f":"G29","v":550},{"$f":"H29","v":575}]
["3 Bedrooms",{"$f":"B52","v":615.97},619.26,624.25,623.23,636.77,673.9,690.52,"3 Bedrooms",{"$f":"B51","v":600},600,599,608,625,{"$f":"G51","v":650},{"$f":"H51","v":675}]
["4 Bedrooms",{"$f":"B74","v":834.19},796.42,856.56,870.95,889.07,936.17,920.33,"4 Bedrooms",{"$f":"B73","v":825},800,850,850,862.5,{"$f":"G73","v":935},{"$f":"H73","v":895}]
[]
[]
[]
[]
[]
[]
[]
[]
[]
[]
[]
[]
[]
[]
[]
[]
[]
["Sample Sizes:",null,null,null,null,null,null,null,"Sample Proportions:"]
[null,2010,2011,2012,2013,2014,2015,2016,null,2010,2011,2012,2013,2014,2015,2016]
["1 Bedroom ",{"$f":"VLOOKUP($A$2,'Table 7'!$A$5:$L$23,2,FALSE)","v":107},{"$f":"VLOOKUP($A$2,'Table 8'!$A$5:$L$23,2,FALSE)","v":104},{"$f":"VLOOKUP($A$2,'Table 9'!$A$5:$L$23,2,FALSE)","v":67},{"$f":"VLOOKUP($A$2,'Table 10'!$A$5:$L$23,2,FALSE)","v":104},{"$f":"VLOOKUP($A$2,'Table 11'!$A$5:$L$23,2,FALSE)","v":96},{"$f":"VLOOKUP($A$2,'Table 12'!$A$5:$L$23,2,FALSE)","v":103},{"$f":"VLOOKUP($A$2,'Table 13'!$A$5:$L$23,2,FALSE)","v":93},"1 Bedroom ",{"$f":"B142/SUM(B$142:B$146)","v":0.125},{"$f":"C142/SUM(C$142:C$146)","v":0.12636695018226002},0.11056105610561057,0.13454075032341525,0.13793103448275862,{"$f":"G142/SUM(G$142:G$146)","v":0.13104325699745548},0.12827586206896552]
["2 Bedrooms",{"$f":"VLOOKUP($A$2,'Table 7'!$A$5:$L$23,8,FALSE)","v":417},{"$f":"VLOOKUP($A$2,'Table 8'!$A$5:$L$23,8,FALSE)","v":362},{"$f":"VLOOKUP($A$2,'Table 9'!$A$5:$L$23,8,FALSE)","v":265},{"$f":"VLOOKUP($A$2,'Table 10'!$A$5:$L$23,8,FALSE)","v":358},{"$f":"VLOOKUP($A$2,'Table 11'!$A$5:$L$23,8,FALSE)","v":338},{"$f":"VLOOKUP($A$2,'Table 12'!$A$5:$L$23,8,FALSE)","v":380},{"$f":"VLOOKUP($A$2,'Table 13'!$A$5:$L$23,8,FALSE)","v":385},"2 Bedrooms",{"$f":"B143/SUM(B$142:B$146)","v":0.48714953271028039},0.43985419198055892,0.43729372937293731,0.46313065976714102,0.48563218390804597,0.48346055979643765,0.53103448275862064]
["3 Bedrooms",{"$f":"VLOOKUP($A$2,'Table 7'!$A$26:$L$44,2,FALSE)","v":211},{"$f":"VLOOKUP($A$2,'Table 8'!$A$26:$L$44,2,FALSE)","v":219},{"$f":"VLOOKUP($A$2,'Table 9'!$A$26:$L$44,2,FALSE)","v":173},{"$f":"VLOOKUP($A$2,'Table 10'!$A$26:$L$44,2,FALSE)","v":183},{"$f":"VLOOKUP($A$2,'Table 11'!$A$26:$L$44,2,FALSE)","v":143},{"$f":"VLOOKUP($A$2,'Table 12'!$A$26:$L$44,2,FALSE)","v":173},{"$f":"VLOOKUP($A$2,'Table 13'!$A$26:$L$44,2,FALSE)","v":131},"3 Bedrooms",{"$f":"B144/SUM(B$142:B$146)","v":0.24649532710280375},0.26609963547995141,0.28547854785478549,0.23673997412677877,0.20545977011494254,0.22010178117048346,0.18068965517241378]
["4 Bedrooms",{"$f":"VLOOKUP($A$2,'Table 7'!$A$26:$L$44,8,FALSE)","v":80},{"$f":"VLOOKUP($A$2,'Table 8'!$A$26:$L$44,8,FALSE)","v":74},{"$f":"VLOOKUP($A$2,'Table 9'!$A$26:$L$44,8,FALSE)","v":62},{"$f":"VLOOKUP($A$2,'Table 10'!$A$26:$L$44,8,FALSE)","v":63},{"$f":"VLOOKUP($A$2,'Table 11'!$A$26:$L$44,8,FALSE)","v":54},{"$f":"VLOOKUP($A$2,'Table 12'!$A$26:$L$44,8,FALSE)","v":60},{"$f":"VLOOKUP($A$2,'Table 13'!$A$26:$L$44,8,FALSE)","v":46},"4 Bedrooms",{"$f":"B145/SUM(B$142:B$146)","v":9.3457943925233641E-2},8.9914945321992706E-2,0.10231023102310231,8.1500646830530404E-2,7.7586206896551727E-2,7.6335877862595422E-2,6.344827586206897E-2]
["1 Bedroom Shared",{"$f":"VLOOKUP($A$2,'Table 7'!$A$47:$L$65,2,FALSE)","v":41},{"$f":"VLOOKUP($A$2,'Table 8'!$A$47:$L$65,2,FALSE)","v":64},{"$f":"VLOOKUP($A$2,'Table 9'!$A$47:$L$65,2,FALSE)","v":39},{"$f":"VLOOKUP($A$2,'Table 10'!$A$47:$L$65,2,FALSE)","v":65},{"$f":"VLOOKUP($A$2,'Table 11'!$A$47:$L$65,2,FALSE)","v":65},{"$f":"VLOOKUP($A$2,'Table 12'!$A$47:$L$65,2,FALSE)","v":70},{"$f":"VLOOKUP($A$2,'Table 13'!$A$47:$L$65,2,FALSE)","v":70},"1 Bedroom Shared",{"$f":"B146/SUM(B$142:B$146)","v":4.7897196261682241E-2},7.7764277035236931E-2,6.4356435643564358E-2,8.4087968952134537E-2,9.3390804597701146E-2,8.9058524173027995E-2,9.6551724137931033E-2]

{"sheet":"Table 6, Chart 12","index":32,"n_rows":23,"n_cols":9,"rows_kept":23,"cut":false,"hidden":false,"merged":[[2,0,2,8],[20,0,20,8],[21,0,21,8],[22,0,22,8]]}
["Back to contents"]
[]
["TABLE 6: Summary of Average (mean) Private Rents (£ monthly): Scotland, 2010 to 2017 (years to end Sept)"]
[null,2010,2011,2012,2013,2014,2015,2016,2017]
["1 Bedroom Property",435.79,439.26,447.35,454.38,472.18,479.87,481.58,500.97]
["2 Bedroom Property",536.27,546.41999999999996,552.89,575.84,596.45000000000005,609.52,615.64,642.79999999999995]
["3 Bedroom Property",678.9,672.41,695.21,707.47,723.61,743.8,752.8,787.18]
["4 Bedroom Property",958.51,970.8,982.58,1059.69,1082.73,1096.83,1089.48,1142.55]
["1 Bedroom in Shared Property",299.8,293.67,300.98,308.81,316.88,326.54000000000002,339.52,349.63]
[]
["Percentage Increases:"]
[null,"2010 to 2011","2011 to 2012","2012 to 2013","2013 to 2014","2014 to 2015","2015 to 2016","2016 to 2017","2010 to 2017"]
[null,"(annual increase)","(annual increase)","(annual increase)","(annual increase)","(annual increase)","(annual increase)","(annual increase)","(7 year cumulative increase)"]
["1 Bedroom Property",7.9625507698661835E-3,1.8417338250694471E-2,1.5714764725606178E-2,3.9174259430432734E-2,1.6286162056842635E-2,3.5634651051326127E-3,4.0263299970929145E-2,0.14956745221322199]
["2 Bedroom Property",1.8927033024409345E-2,1.1840708612422812E-2,4.1509160954258606E-2,3.5791191997777139E-2,2.1912985162209742E-2,1.004068775429845E-2,4.4116691572997135E-2,0.19864993380200269]
["3 Bedroom Property",-9.5595816762410468E-3,3.3907883582933174E-2,1.7634959220954816E-2,2.281368821292773E-2,2.7901770290626127E-2,1.2100026888948623E-2,4.566950053134966E-2,0.15949329798202982]
["4 Bedroom Property",1.2821984121188068E-2,1.213432220848798E-2,7.8477070569317631E-2,2.1742207626758825E-2,1.3022637222576128E-2,-6.7011296189928293E-3,4.8711311818482095E-2,0.19200634317847487]
["1 Bedroom in Shared Property",-2.0446964643095367E-2,2.4891885449654483E-2,2.6015017609143376E-2,2.6132573427026351E-2,3.0484726079272884E-2,3.9750107184418404E-2,2.9777332704995274E-2,0.16621080720480319]
[]
["Notes: "]
["Figures exclude any studio properties, properties with 5 or more bedrooms, or room rents associated with bed and breakfast lodgings."]
["Figures for rooms in shared properties represent \"rent only\", i.e. exclude any payments for shared services."]
["Note that some caution is needed when interpreting Scotland level findings. This is because whilst the underlying data aims to be representative of rents within each broad rental market area, no attempt has been made to apply any formal weighting techniques to account for any specific area-level sample sizes or structures when aggregating up to a single Scotland level figure."]

{"sheet":"Table 7","index":33,"n_rows":1222,"n_cols":452,"rows_kept":1222,"cut":false,"hidden":false,"merged":[[66,0,66,11],[68,0,68,11]]}
["Back to contents"]
["TABLE 7 - Private Rents (£ Monthly), by Broad Rental Market Area, 2010 (year to end Sept)"]
[null,"1 Bedroom Properties",null,null,null,null,null,"2 Bedroom Properties"]
[null,"Number of records","Lower Quartile","Median","Mean","Upper Quartile",null,"Number of records","Lower Quartile","Median","Mean","Upper Quartile"]
["Scotland",5411,370,425,435.79,495,null,10615,450,520,536.27,595]
["Aberdeen and Shire",541,500,525,528.64,575,null,557,590,650,642.58000000000004,700]
["Argyll and Bute",80,350,395,382.06,425,null,142,450,495,503.03,550]
["Ayrshires",359,350,375,375.42,400,null,759,425,450,464.47,495]
["Dumfries and Galloway",58,325,360,358.94,390,null,180,400,430,435.12,475]
["Dundee and Angus",319,320,350,350.87,375,null,613,440,480,497.46,550]
["East Dunbartonshire",75,400,425,449.59,475,null,172,525,575,581.12,625]
["Fife",202,350,370,378.99,395,null,606,420,450,463.99,495]
["Forth Valley",260,350,375,386.8,417.5,null,660,435,482.5,492.41,550]
["Greater Glasgow",868,380,425,437.14,485,null,1486,495,550,563.64,600]
["Highland and Islands",175,375,420,415.01,450,null,585,450,500,503.41,550]
["Lothian",1221,465,500,520.36,550,null,1909,580,650,664.51,715]
["North Lanarkshire",153,350,375,373.16,400,null,468,425,450,454.65,495]
["Perth and Kinross",176,350,380,377.44,400,null,379,450,500,506.44,550]
["Renfrewshire / Inverclyde",346,350,375,374.39,395,null,613,425,450,472.96,525]
["Scottish Borders",95,300,335,336.19,370,null,244,395,427.5,441.58,490]
["South Lanarkshire",302,350,375,382.47,395,null,665,425,460,480.55,525]
["West Dunbartonshire",74,370,395,396.84,425,null,160,450,495,492.17,550]
["West Lothian",107,400,425,428.18,450,null,417,500,525,527.37,550]
[null,"3 Bedroom Properties",null,null,null,null,null,"4 Bedroom Properties"]
[null,"Number of records","Lower Quartile","Median","Mean","Upper Quartile",null,"Number of records","Lower Quartile","Median","Mean","Upper Quartile"]
["Scotland",4778,545,645,678.9,775,null,2049,750,875,958.51,1150]
["Aberdeen and Shire",226,650,750,743.67,850,null,123,850,950,943.66,1000]
["Argyll and Bute",69,500,575,637.54,750,null,32,750,850,923.91,1175]
["Ayrshires",390,475,545,556.1,600,null,119,650,725,758.06,850]
["Dumfries and Galloway",145,440,485,499.63,550,null,65,500,600,620.08000000000004,700]
["Dundee and Angus",198,550,650,632.52,700,null,71,750,825,811.27,890]
["East Dunbartonshire",110,650,700,750.02,775,null,43,900,995,1135.19,1350]
["Fife",272,480,525,563.02,627.5,null,106,695,790,773.31,850]
["Forth Valley",301,525,600,642.74,700,null,130,750,800,857.08,900]
["Greater Glasgow",474,575,695,728.19,825,null,219,845,1000,1067.19,1250]
["Highland and Islands",362,525,600,594.77,650,null,117,650,775,750.68,850]
["Lothian",923,750,895,917.68,1005,null,473,1100,1280,1290.68,1400]
["North Lanarkshire",180,495,550,548.52,600,null,102,695,795,776.25,850]
["Perth and Kinross",161,595,650,647.27,695,null,62,750,850,857.5,995]
["Renfrewshire / Inverclyde",228,497.5,600,611.61,695,null,62,675,800,833.68,995]
["Scottish Borders",182,440,500,514.96,595,null,82,595,685,689.67,800]
["South Lanarkshire",279,550,595,626.88,675,null,144,750,849.5,924.21,900]
["West Dunbartonshire",67,475,575,591.05999999999995,650,null,19,695,795,821.05,850]
["West Lothian",211,550,600,615.97,650,null,80,750,825,834.19,875]
[null,"1 Bedroom Shared Properties"]
[null,"Number of records","Lower Quartile","Median","Mean","Upper Quartile"]
["Scotland",1235,260,300,299.8,335]
["Aberdeen and Shire",134,286,335,328.42,360]
["Argyll and Bute",10,300,320.33,315.60000000000002,333]
["Ayrshires",38,280,300,301.7,324]
["Dumfries and Galloway",50,260,285,277.88,299.99]
["Dundee and Angus",94,225,250,262.86,300]
["East Dunbartonshire",22,274,300,300.36,324]
["Fife",49,238.33,255.67,270.66000000000003,281.67]
["Forth Valley",37,255,285,275.63,300]
["Greater Glasgow",190,284,300,313.10000000000002,345]
["Highland and Islands",101,255,285,287.37,310]
["Lothian",251,285,325,319.85000000000002,350]
["North Lanarkshire",44,260,300,296.88,320.33]
["Perth and Kinross",49,235,260,261.86,285]
["Renfrewshire / Inverclyde",46,274,300,296.26,330]
["Scottish Borders",17,230,260,255.63,280]
["South Lanarkshire",47,299,300,309.07,320.67]
["West Dunbartonshire",15,240,294,288.89,344]
["West Lothian",41,240,285,278.75,315]
["Notes:"]
["Total figures exclude any studio properties, properties with 5 or more bedrooms, or room rents associated with bed and breakfast lodgings"]
["Figures for rooms in shared properties represent \"rent only\", i.e. exclude any payments for shared services"]
["Note that some caution is needed when interpreting Scotland level findings. This is because whilst the underlying data aims to be representative of rents within each broad rental market area, no attempt has been made to apply any formal weighting techniques to account for any specific area-level sample sizes or structures when aggregating up to a single Scotland level figure "]
[]
[]
[]
[]
[]
[]
[]
[]
[]
[]
[]
[]
[]
[]
[]
[]
[]
[]
[]
[]
[]
[]
[]
[]
[]
[]
[]
[]
[]
[]
[]
[]
[]
[]
[]
[]
[]
[]
[]
[]
[]
[]
[]
[]
[]
[]
[]
[]
[]
[]
[]
[]
[]
[]
[]
[]
[]
[]
[]
[]
[]
[]
[]
[]
[]
[]
[]
[]
[]
[]
[]
[]
[]
[]
[]
[]
[]
[]
[]
[]
[]
[]
[]
[]
[]
[]
[]
[]
[]
[]
[]
[]
[]
[]
[]
[]
[]
[]
[]
[]
[]
[]
[]
[]
[]
[]
[]
[]
[]
[]
[]
[]
[]
[]
[]
[]
[]
[]
[]
[]
[]
[]
[]
[]
[]
[]
[]
[]
[]
[]
[]
[]
[]
[]
[]
[]
[]
[]
[]
[]
[]
[]
[]
[]
[]
[]
[]
[]
[]
[]
[]
[]
[]
[]
[]
[]
[]
[]
[]
[]
[]
[]
[]
[]
[]
[]
[]
[]
[]
[]
[]
[]
[]
[]
[]
[]
[]
[]
[]
[]
[]
[]
[]
[]
[]
[]
[]
[]
[]
[]
[]
[]
[]
[]
[]
[]
[]
[]
[]
[]
[]
[]
[]
[]
[]
[]
[]
[]
[]
[]
[]
[]
[]
[]
[]
[]
[]
[]
[]
[]
[]
[]
[]
[]
[]
[]
[]
[]
[]
[]
[]
[]
[]
[]
[]
[]
[]
[]
[]
[]
[]
[]
[]
[]
[]
[]
[]
[]
[]
[]
[]
[]
[]
[]
[]
[]
[]
[]
[]
[]
[]
[]
[]
[]
[]
[]
[]
[]
[]
[]
[]
[]
[]
[]
[]
[]
[]
[]
[]
[]
[]
[]
[]
[]
[]
[]
[]
[]
[]
[]
[]
[]
[]
[]
[]
[]
[]
[]
[]
[]
[]
[]
[]
[]
[]
[]
[]
[]
[]
[]
[]
[]
[]
[]
[]
[]
[]
[]
[]
[]
[]
[]
[]
[]
[]
[]
[]
[]
[]
[]
[]
[]
[]
[]
[]
[]
[]
[]
[]
[]
[]
[]
[]
[]
[]
[]
[]
[]
[]
[]
[]
[]
[]
[]
[]
[]
[]
[]
[]
[]
[]
[]
[]
[]
[]
[]
[]
[]
[]
[]
[]
[]
[]
[]
[]
[]
[]
[]
[]
[]
[]
[]
[]
[]
[]
[]
[]
[]
[]
[]
[]
[]
[]
[]
[]
[]
[]
[]
[]
[]
[]
[]
[]
[]
[]
[]
[]
[]
[]
[]
[]
[]
[]
[]
[]
[]
[]
[]
[]
[]
[]
[]
[]
[]
[]
[]
[]
[]
[]
[]
[]
[]
[]
[]
[]
[]
[]
[]
[]
[]
[]
[]
[]
[]
[]
[]
[]
[]
[]
[]
[]
[]
[]
[]
[]
[]
[]
[]
[]
[]
[]
[]
[]
[]
[]
[]
[]
[]
[]
[]
[]
[]
[]
[]
[]
[]
[]
[]
[]
[]
[]
[]
[]
[]
[]
[]
[]
[]
[]
[]
[]
[]
[]
[]
[]
[]
[]
[]
[]
[]
[]
[]
[]
[]
[]
[]
[]
[]
[]
[]
[]
[]
[]
[]
[]
[]
[]
[]
[]
[]
[]
[]
[]
[]
[]
[]
[]
[]
[]
[]
[]
[]
[]
[]
[]
[]
[]
[]
[]
[]
[]
[]
[]
[]
[]
[]
[]
[]
[]
[]
[]
[]
[]
[]
[]
[]
[]
[]
[]
[]
[]
[]
[]
[]
[]
[]
[]
[]
[]
[]
[]
[]
[]
[]
[]
[]
[]
[]
[]
[]
[]
[]
[]
[]
[]
[]
[]
[]
[]
[]
[]
[]
[]
[]
[]
[]
[]
[]
[]
[]
[]
[]
[]
[]
[]
[]
[]
[]
[]
[]
[]
[]
[]
[]
[]
[]
[]
[]
[]
[]
[]
[]
[]
[]
[]
[]
[]
[]
[]
[]
[]
[]
[]
[]
[]
[]
[]
[]
[]
[]
[]
[]
[]
[]
[]
[]
[]
[]
[]
[]
[]
[]
[]
[]
[]
[]
[]
[]
[]
[]
[]
[]
[]
[]
[]
[]
[]
[]
[]
[]
[]
[]
[]
[]
[]
[]
[]
[]
[]
[]
[]
[]
[]
[]
[]
[]
[]
[]
[]
[]
[]
[]
[]
[]
[]
[]
[]
[]
[]
[]
[]
[]
[]
[]
[]
[]
[]
[]
[]
[]
[]
[]
[]
[]
[]
[]
[]
[]
[]
[]
[]
[]
[]
[]
[]
[]
[]
[]
[]
[]
[]
[]
[]
[]
[]
[]
[]
[]
[]
[]
[]
[]
[]
[]
[]
[]
[]
[]
[]
[]
[]
[]
[]
[]
[]
[]
[]
[]
[]
[]
[]
[]
[]
[]
[]
[]
[]
[]
[]
[]
[]
[]
[]
[]
[]
[]
[]
[]
[]
[]
[]
[]
[]
[]
[]
[]
[]
[]
[]
[]
[]
[]
[]
[]
[]
[]
[]
[]
[]
[]
[]
[]
[]
[]
[]
[]
[]
[]
[]
[]
[]
[]
[]
[]
[]
[]
[]
[]
[]
[]
[]
[]
[]
[]
[]
[]
[]
[]
[]
[]
[]
[]
[]
[]
[]
[]
[]
[]
[]
[]
[]
[]
[]
[]
[]
[]
[]
[]
[]
[]
[]
[]
[]
[]
[]
[]
[]
[]
[]
[]
[]
[]
[]
[]
[]
[]
[]
[]
[]
[]
[]
[]
[]
[]
[]
[]
[]
[]
[]
[]
[]
[]
[]
[]
[]
[]
[]
[]
[]
[]
[]
[]
[]
[]
[]
[]
[]
[]
[]
[]
[]
[]
[]
[]
[]
[]
[]
[]
[]
[]
[]
[]
[]
[]
[]
[]
[]
[]
[]
[]
[]
[]
[]
[]
[]
[]
[]
[]
[]
[]
[]
[]
[]
[]
[]
[]
[]
[]
[]
[]
[]
[]
[]
[]
[]
[]
[]
[]
[]
[]
[]
[]
[]
[]
[]
[]
[]
[]
[]
[]
[]
[]
[]
[]
[]
[]
[]
[]
[]
[]
[]
[]
[]
[]
[]
[]
[]
[]
[]
[]
[]
[]
[]
[]
[]
[]
[]
[]
[]
[]
[]
[]
[]
[]
[]
[]
[]
[]
[]
[]
[]
[]
[]
[null,null,null,null,null,null,null,null,null,null,null,null,null,238,239,240,243,244,245,248,250,251,252,253,254,255,259,260,261,262,263,265,269,270,271,273,275,276,278,280,281,282,283,285,287,288,289,290,291,293,294,295,298,299,300,303,304,305,308,309,310,312,313,315,316,317,319,320,322,323,324,325,326,328,329,330,331,333,335,336,337,338,340,341,342,345,346,347,348,349,350,353,354,355,356,359,360,361,362,363,364,365,368,369,370,373,375,378,380,381,383,385,386,388,389,390,391,395,396,399,400,403,404,405,406,410,411,412,413,414,415,420,421,424,425,426,427,429,430,433,435,437,438,440,441,443,445,446,449,450,455,456,460,465,468,470,472,473,475,477,478,479,480,485,486,489,490,492,494,495,498,499,500,502,505,508,510,515,517,520,525,526,529,530,533,535,540,542,543,545,548,550,552,555,560,564,565,570,575,577,578,580,585,588,590,595,599,600,605,609,610,615,620,625,626,630,635,636,640,645,650,655,660,665,670,672,675,680,682,685,690,693,694,695,696,699,700,705,710,715,720,725,730,735,739,740,745,748,749,750,755,760,765,770,775,780,782,785,790,794,795,799,800,810,815,820,825,830,835,840,845,849,850,855,860,865,870,875,878,880,885,890,895,897,900,910,915,920,925,930,935,940,945,950,960,965,968,970,975,980,985,990,995,999,1000,1020,1025,1030,1040,1045,1050,1055,1070,1075,1080,1090,1095,1099,1100,1120,1125,1130,1134,1140,1150,1155,1170,1175,1180,1185,1190,1195,1200,1205,1215,1225,1230,1240,1245,1250,1260,1265,1275,1280,1285,1295,1300,1304,1310,1320,1325,1335,1340,1345,1350,1365,1370,1375,1380,1385,1390,1395,1400,1410,1415,1420,1425,1440,1444,1445,1450,1460,1470,1475,1480,1495,1496,1500,1515,1520,1525,1540,1545,1550,1560,1570,1575,1580,1595,1596,1599,1600,1625,1640,1645,1650,1660,1675,1680,1690,1695,1699,1700,1705,1730,1750,1785,1795,1800,1820,1835,1840,1850,1875,1890,1895,1900,1940,1950,1975,1995,2000,2050,2095,2100,2125,2150,2195,2200,2250,2275,2300,2340,2350,2360,2395,2400,2450,2500,2520,2600,2650,2750,2775,2800,2950,2995,3000,3100,3250,3500,3750]
[null,null,null,null,null,null,null,null,null,null,null,null,null,"N","N","N","N","N","N","N","N","N","N","N","N","N","N","N","N","N","N","N","N","N","N","N","N","N","N","N","N","N","N","N","N","N","N","N","N","N","N","N","N","N","N","N","N","N","N","N","N","N","N","N","N","N","N","N","N","N","N","N","N","N","N","N","N","N","N","N","N","N","N","N","N","N","N","N","N","N","N","N","N","N","N","N","N","N","N","N","N","N","N","N","N","N","N","N","N","N","N","N","N","N","N","N","N","N","N","N","N","N","N","N","N","N","N","N","N","N","N","N","N","N","N","N","N","N","N","N","N","N","N","N","N","N","N","N","N","N","N","N","N","N","N","N","N","N","N","N","N","N","N","N","N","N","N","N","N","N","N","N","N","N","N","N","N","N","N","N","N","N","N","N","N","N","N","N","N","N","N","N","N","N","N","N","N","N","N","N","N","N","N","N","N","N","N","N","N","N","N","N","N","N","N","N","N","N","N","N","N","N","N","N","N","N","N","N","N","N","N","N","N","N","N","N","N","N","N","N","N","N","N","N","N","N","N","N","N","N","N","N","N","N","N","N","N","N","N","N","N","N","N","N","N","N","N","N","N","N","N","N","N","N","N","N","N","N","N","N","N","N","N","N","N","N","N","N","N","N","N","N","N","N","N","N","N","N","N","N","N","N","N","N","N","N","N","N","N","N","N","N","N","N","N","N","N","N","N","N","N","N","N","N","N","N","N","N","N","N","N","N","N","N","N","N","N","N","N","N","N","N","N","N","N","N","N","N","N","N","N","N","N","N","N","N","N","N","N","N","N","N","N","N","N","N","N","N","N","N","N","N","N","N","N","N","N","N","N","N","N","N","N","N","N","N","N","N","N","N","N","N","N","N","N","N","N","N","N","N","N","N","N","N","N","N","N","N","N","N","N","N","N","N","N","N","N","N","N","N","N","N","N","N","N","N","N","N","N","N","N","N","N","N","N","N","N","N","N","N","N","N","N","N","N","N","N","N","N","N","N","N"]
[null,null,null,null,null,null,null,null,null,null,null,null,null,1,6,19,1,1,23,14,101,19,1,1,9,10,1,29,13,2,1,20,13,28,2,46,189,6,1,37,5,3,8,37,3,1,1,32,14,1,25,75,8,6,305,1,12,53,1,1,26,3,7,32,57,2,3,72,1,1,3,317,18,1,1,71,2,9,56,1,1,12,73,1,1,35,2,2,13,2,739,4,1,11,1,1,222,1,1,1,1,45,10,6,63,1,593,8,123,4,3,64,2,2,1,81,6,475,1,13,781,7,1,11,1,44,5,2,6,1,44,156,12,1,928,1,1,1,89,9,77,1,1,85,1,1,38,11,4,1629,10,1,112,58,11,71,1,1,855,1,2,1,116,101,2,1,62,1,1,775,2,5,892,2,1,1,42,27,1,89,924,2,1,64,4,40,53,1,2,55,1,1512,7,3,72,1,43,44,688,5,2,65,48,1,47,625,5,709,2,1,27,25,67,552,2,56,12,1,28,39,1068,11,29,8,25,1,407,59,1,20,18,2,1,457,1,4,414,12,14,18,27,309,19,15,1,11,28,1,4,740,3,30,4,10,165,27,1,28,6,1,349,1,352,20,2,7,216,11,5,21,11,2,520,11,7,7,13,184,1,13,3,34,221,1,314,3,12,7,101,7,2,4,20,325,5,2,1,7,105,9,4,10,208,2,207,7,3,1,1,3,93,1,1,6,6,1,21,1,264,1,15,1,1,7,84,13,2,11,2,4,1,20,333,1,1,6,3,2,4,130,16,1,14,1,1,27,132,1,2,2,1,1,1,3,82,6,1,7,1,1,1,13,102,2,2,2,7,1,1,1,35,1,6,1,2,10,1,143,1,8,1,3,1,24,3,1,8,1,17,1,1,76,5,2,1,21,2,2,7,1,10,1,35,1,2,33,5,9,48,1,1,1,12,3,6,2,15,2,17,1,15,48,1,1,10,1,1,1,16,17,1,10,1,2,2,1,3,2,20,2,4,1,6,1,2,2,2,2,1,1,1,1]
[null,null,null,null,null,null,null,null,null,null,null,null,null,".",".",".",".",".",".",".",".",".",".",".",".",".",".",".",".",".",".",".",".",".",".",".",".",1,".",1,".",".",".",".",".",".",".",1,".",".",".",".",".",".",7,".",".",".",".",".",".",".",".",".",".",".",".",4,".",".",".",".",".",".",".",".",".",".",5,".",".",".",".",".",".",".",".",".",".",".",15,".",".",".",".",".",".",".",".",".",".",".",".",".",".",".",10,".",".",".",".",1,".",".",".",1,".",2,".",".",31,".",".",1,".",1,".",".",".",".",".",1,".",".",9,".",".",".",1,".",1,".",1,2,".",".",".",".",".",20,".",".",".",".",".",".",".",".",5,".",".",".",4,3,".",".",1,".",".",6,".",".",26,".",".",1,".",".",".",1,19,".",".",".",".",".",1,".",".",".",".",58,2,".",".",".",".",".",27,".",".",1,".",".",3,19,".",85,".",".",".",".",".",60,".",2,".",".",2,1,140,".",1,".",3,".",66,".",".",2,1,1,".",40,".",".",106,".",".",1,1,56,2,".",".",".",2,".",1,138,".",".",".",".",27,2,".",".",".",".",35,".",113,".",".",".",48,1,".",1,2,".",129,".",".",".",1,54,".",1,".",2,38,".",106,".",".",".",25,2,".",".",".",98,".",".",".",2,33,1,".",3,43,".",101,".",".",".",".",".",24,".",".",1,1,".",1,".",98,".",1,".",1,1,19,".",".",2,".",".",".",".",116,".",".",".",".",".",".",37,".",1,6,".",".",3,44,".",".",".",1,".",".",".",31,".",".",2,".",".",".",".",40,".",".",".",".",".",1,".",8,".",".",".",".",".",".",46,".",".",".",".",".",7,".",".",".",".",1,".",".",29,".",1,".",7,".",".",".",".",1,".",14,".",".",7,".",".",19,".",".",".",3,".",".",".",7,".",2,1,3,16,".",".",1,".",".",".",5,1,".",6,".",1,".",".",3,".",1,".",".",".",".",".",".",1,".",".",".",".",".","."]
[]
[null,null,null,null,null,null,null,null,null,null,null,null,null,".",".",".",".",".",".",".",1,".",".",".",".",".",".",2,".",".",".",1,".",".",2,".",10,".",".",1,".",".",".",1,".",".",".",".",".",".",1,1,".",".",10,".",2,4,".",".",".",".",".",1,3,".",".",1,".",".",".",10,2,".",".",3,".",".",1,".",".",4,1,".",".",4,".",".",3,".",21,".",".",".",".",".",9,".",".",".",1,".",".",1,1,".",15,".",2,1,".",1,".",".",".",2,".",10,".",".",21,".",".",".",".",1,".",".",".",".",".",4,5,".",18,".",".",".",4,".",1,".",".",3,".",".",".",".",".",44,".",".",4,2,".",2,".",".",15,".",".",".",2,1,".",".",2,".",".",19,".",".",24,".",".",".",1,".",1,3,12,1,".",2,".",".",".",".",".",".",".",37,1,".",1,".",".",".",7,".",".",".",2,".",".",5,1,12,".",".",".",".",1,9,".",".",".",".",".",".",20,".",".",".",".",".",4,".",".",".",".",".",".",6,".",".",4,".",".",".",".",2,".",".",".",".",".",".",".",5,".",".",".",".",".",1,".",".",".",".",5,".",1,".",".",".",".",".",".",".",".",".",12,".",".",".",".",3,".",".",".",".",5,".",8,".",".",".",2,".",".",".",".",5,".",".",".",".",".",".",".",".",7,".",1,".",".",".",".",".",".",".",".",".",".",".",".",".",4,".",".",".",".",".",1,".",".",".",".",".",".",".",".",".",".",".",".",".",".",5,".",".",".",".",".",1,".",".",".",".",".",".",".",".",2,".",".",".",".",".",".",".",1,".",".",".",".",".",".",".",".",".",".",".",".",".",".",1,".",".",".",".",".",".",".",1,".",".",".",".",".",".",".",".",".",".",".",".",".",".",".",".",".",".",".",".",".",".",".",".",".",".",".",".",".",".",".",".",".",".",".",".",".",".",".",".",".",".",".",".",".",".",".",".",".",".",".",".",".",".",".",".",".",".",".",".",".",1,".",".",".","."]
[null,null,null,null,null,null,null,null,null,null,null,null,null,".",".",".",".",".",4,".",5,4,".",".",1,3,".",".",2,".",".",1,".",2,".",6,21,".",".",5,".",1,2,3,".",".",".",2,".",".",10,5,".",2,31,1,3,4,".",".",".",".",".",1,7,".",".",3,".",".",".",42,3,".",".",4,".",2,1,".",".",1,5,".",".",".",".",".",".",1,96,".",".",".",".",".",24,".",".",".",".",5,3,".",5,".",74,".",12,".",".",5,".",".",".",7,1,51,".",1,76,2,".",".",".",".",".",1,".",".",3,7,".",".",131,".",".",".",4,3,8,".",".",3,".",".",4,".",1,158,".",".",9,1,3,5,".",".",80,".",1,".",7,5,".",".",3,".",".",36,".",".",84,".",".",".",2,".",".",3,67,".",".",3,".",".",1,".",".",3,".",68,2,1,2,".",3,2,26,".",1,3,1,".",2,23,".",14,".",".",1,".",".",24,".",1,1,".",".",1,43,".",".",".",1,".",12,2,".",".",1,".",".",16,".",1,17,".",1,".",1,9,".",".",".",2,".",".",".",26,".",".",".",".",3,".",".",".",".",".",10,".",8,1,".",".",2,".",".",".",".",".",20,".",".",".",".",2,".",".",".",".",5,".",5,".",".",".",2,".",".",".",".",7,".",".",".",".",1,".",".",".",7,".",2,".",".",".",".",".",3,".",".",".",".",".",".",".",4,".",".",".",".",".",".",".",".",3,".",".",".",".",11,".",".",".",".",".",".",3,".",".",1,".",".",4,".",1,".",".",".",".",".",".",1,".",".",".",".",".",".",1,1,".",".",".",".",".",".",".",1,".",".",".",".",".",".",1,".",".",".",".",".",".",".",".",".",".",".",".",".",".",".",".",".",".",".",".",".",".",".",".",".",".",".",1,".",".",2,".",".",".",".",".",".",".",".",".",".",".",".",".",".",".",".",".",".",".",".",".",".",".",".",".",".",".",".",".",".",".",".",".",".",".",".",".",".",".",".",".",".","."]
[null,null,null,null,null,null,null,null,null,null,null,null,null,".",1,1,".",".",3,".",2,".",".",".",".",2,".",3,1,".",".",2,".",1,".",1,13,".",".",1,1,".",1,7,".",".",".",".",".",".",1,8,".",".",5,".",".",14,".",".",".",".",".",3,2,".",".",3,".",".",".",14,1,".",".",".",".",".",3,".",".",".",4,".",".",".",".",1,1,".",25,".",".",".",".",".",4,".",".",".",".",1,3,3,8,".",25,".",6,1,".",1,".",".",1,8,3,7,".",".",52,1,".",".",".",4,".",".",5,1,6,24,".",".",56,".",".",".",8,1,11,1,".",13,".",".",1,".",".",113,2,".",8,2,".",2,".",".",59,1,".",".",15,9,1,".",3,".",".",11,".",".",78,".",".",".",".",1,".",6,20,".",".",1,".",".",1,1,".",1,".",34,".",1,4,".",2,2,12,".",".",3,".",".",2,6,".",15,".",".",1,".",".",6,1,1,".",".",".",".",21,".",".",".",".",".",4,1,".",".",1,".",".",".",".",".",6,".",".",".",".",".",".",".",".",".",".",".",".",12,".",".",".",".",".",".",".",".",".",".",1,".",4,".",".",".",3,".",".",".",".",".",4,".",".",".",".",".",".",".",".",".",".",".",2,".",".",".",".",".",".",".",".",1,".",".",".",".",1,".",".",".",".",".",1,".",".",".",".",".",".",".",".",".",".",".",".",".",".",".",".",".",".",".",".",".",".",".",".",".",".",".",".",".",".",".",".",".",".",1,1,".",".",".",".",".",".",".",".",".",".",".",".",".",".",".",".",".",".",".",".",".",".",".",".",".",".",".",".",".",".",".",".",".",".",".",".",".",".",".",".",".",".",".",".",".",".",".",".",".",".",".",".",".",".",".",".",".",".",".",".",".",".",".",".",".",".",".",".",".",".",".",".",".",".",".",".",".",".",".",".",".",".",".",".",".",".",".",".",".",".",".",".",".",".",".",".",".",".",".",".",".",".",".",".",".",".",".",".",".",".","."]
[null,null,null,null,null,null,null,null,null,null,null,null,null,".",".",5,".",".",5,".",12,".",".",".",".",".",".",5,".",".",".",".",3,2,".",".",6,".",".",6,".",".",".",5,".",".",1,5,1,".",".",4,".",".",36,".",".",".",".",".",6,1,".",1,".",1,".",16,".",".",".",18,".",".",".",14,".",".",6,".",".",".",27,".",".",6,".",".",2,".",84,".",".",1,".",".",28,".",".",".",".",9,".",".",11,".",34,".",24,".",".",9,".",".",".",16,".",20,".",".",74,".",".",".",".",8,".",".",".",".",5,14,".",".",55,".",".",".",8,".",8,".",".",8,".",".",5,".",".",131,1,".",10,5,".",7,".",".",52,".",".",".",14,7,".",".",13,".",".",36,".",".",90,".",".",".",3,2,".",8,39,".",".",11,".",2,10,".",".",6,".",86,".",".",10,".",3,5,34,".",".",8,2,".",13,21,".",86,".",".",4,1,11,15,".",7,2,".",5,2,55,".",6,".",4,".",18,6,".",2,5,".",".",12,".",".",31,".",".",1,10,12,4,".",".",".",3,".",".",45,1,2,".",".",9,4,".",".",".",".",9,".",15,2,".",".",15,1,".",5,".",".",16,7,1,".",2,3,".",2,2,".",2,".",19,".",".",1,1,1,".",1,1,9,2,".",".",".",3,".",".",1,3,".",8,".",".",".",".",".",1,".",".",".",".",".",".",".",7,1,1,".",".",6,".",".",".",1,1,".",".",2,10,".",".",".",".",".",".",2,1,".",".",".",".",".",6,".",".",1,".",".",".",".",".",".",".",".",".",".",".",".",".",".",".",".",3,".",".",".",".",".",".",".",".",".",".",3,".",".",".",".",".",".",".",".",".",".",".",".",".",".",1,".",".",".",".",".",".",".",".",".",".",".",".",".",".",".",".",".",".",".",".",".",".",".",".",".",".",".",".",".",".",".",".",".",".",".",".",".",".",".",".",".",".",".",".",".",".",".",".",".",".",".",".",".",".",".",".",".",".","."]
[null,null,null,null,null,null,null,null,null,null,null,null,null,".",".",".",".",".",".",".",2,".",".",".",".",".",".",".",".",".",".",".",".",".",".",1,1,".",".",".",".",".",".",1,".",".",".",".",".",".",".",".",".",".",3,".",".",1,".",".",".",".",".",".",2,".",1,3,".",".",".",6,".",".",".",".",".",".",".",".",".",".",".",".",".",1,".",".",".",".",2,".",".",".",".",".",".",".",".",".",".",".",".",".",".",".",7,".",".",".",".",".",".",".",".",2,".",7,".",".",9,".",".",".",".",1,".",".",".",".",".",2,".",".",29,".",".",".",1,".",2,".",".",1,".",".",1,2,".",25,1,".",".",".",".",1,".",".",13,".",".",".",1,1,".",".",".",".",".",14,1,".",15,".",".",".",".",3,".",".",25,".",".",".",".",".",".",".",".",2,".",30,".",".",".",".",1,".",9,".",".",".",".",".",2,17,".",5,".",".",1,1,1,12,".",".",".",".",1,".",19,".",2,".",".",".",3,".",".",3,".",".",".",11,".",".",11,".",".",".",".",6,".",".",".",".",1,".",".",10,".",".",".",2,2,".",".",".",".",".",14,".",11,".",".",1,4,".",".",".",".",".",6,".",".",".",".",4,".",".",".",1,7,".",9,".",".",".",1,".",".",".",".",10,".",".",".",".",1,".",".",".",6,".",1,".",".",".",".",".",2,".",".",".",".",".",1,".",7,".",".",".",".",".",3,".",".",".",".",".",".",1,7,".",".",".",".",".",".",3,".",".",".",".",".",".",2,".",".",".",".",".",".",".",1,".",".",1,".",".",".",".",2,".",".",".",".",".",".",".",".",".",".",".",".",2,".",7,".",".",".",".",".",1,".",".",".",".",".",".",".",3,".",".",".",1,".",".",".",".",".",".",1,".",".",".",".",1,1,".",".",".",".",".",".",".",".",".",3,".",".",".",".",".",".",".",".",".",1,1,".",".",".",".",".",".",".",".",".",".",".",".",".",".",".",".",".",".",".",".",".","."]
[null,null,null,null,null,null,null,null,null,null,null,null,null,1,".",2,1,".",3,".",5,".",".",".",".",".",".",".",2,".",".",2,".",1,".",14,25,".",".",".",3,1,1,6,".",".",".",1,".",1,2,2,1,1,17,".",1,14,".",".",2,".",".",1,26,".",1,5,".",".",1,26,2,".",".",4,".",1,5,".",".",2,4,".",".",5,1,".",2,".",57,".",".",2,".",".",38,1,1,".",".",7,3,".",9,".",27,".",15,".",1,8,".",".",".",6,".",43,".",3,79,".",".",3,".",5,4,".",".",".",".",24,".",".",80,".",".",".",14,".",4,".",".",15,".",".",7,1,3,139,1,".",16,10,2,13,".",".",78,".",1,".",17,18,".",1,5,".",1,87,".",".",74,1,1,".",3,1,".",4,96,".",".",4,2,5,10,".",".",2,".",112,".",".",5,1,4,6,49,".",".",10,4,1,3,40,".",28,".",".",".",".",4,28,".",".",".",".",2,".",44,".",3,".",3,".",25,2,".",1,".",".",1,26,".",1,19,".",1,1,2,13,3,1,".",".",1,1,".",44,1,3,1,".",4,4,".",3,".",".",13,".",12,".",".",1,13,1,".",".",2,".",17,".",".",".",1,15,".",".",".",1,14,".",16,1,1,".",4,".",".",".",".",18,".",".",".",".",5,".",".",".",7,".",7,".",1,".",".",".",2,".",".",".",".",".",".",".",10,".",".",".",".",".",2,".",".",".",".",".",".",".",10,".",".",".",1,".",".",4,".",".",".",".",".",".",5,".",".",".",".",".",".",".",1,".",".",".",1,".",".",".",".",".",".",".",".",".",".",".",".",".",".",".",".",".",".",5,".",".",".",".",".",1,".",".",".",".",".",".",".",2,".",".",".",".",".",".",".",".",".",".",".",".",".",".",".",".",1,".",".",".",1,".",".",".",1,".",1,".",".",1,".",".",".",".",1,".",".",".",".",1,".",".",".",".",".",1,".",".",".",".",".",".",".",".",".",".",".",".",".","."]
[null,null,null,null,null,null,null,null,null,null,null,null,null,".",".",1,".",1,3,".",1,1,".",".",".",".",".",4,".",".",".",3,".",2,".",6,13,".",".",".",".",".",".",3,".",".",".",5,".",".",4,4,".",".",18,".",".",1,".",".",1,".",1,4,4,".",".",3,".",".",1,23,".",".",".",4,".",2,6,".",".",".",3,".",".",3,".",".",".",".",56,".",".",2,".",".",32,".",".",".",".",6,".",".",5,".",69,".",6,".",".",3,".",".",".",4,".",49,".",1,52,1,".",".",".",8,1,".",".",".",5,12,".",".",92,1,1,".",5,".",2,".",".",4,".",1,5,5,".",149,1,".",9,2,".",1,".",".",69,".",".",".",3,6,".",".",5,".",".",61,".",".",47,".",".",".",1,".",".",2,55,".",".",1,".",3,3,".",".",3,".",101,".",".",1,".",4,2,39,1,".",3,2,".",1,54,".",38,".",".",1,3,1,18,".",1,1,".",".",6,38,".",".",".",".",".",11,".",".",".",".",".",".",24,".",".",8,".",".",1,".",10,".",".",".",".",".",".",".",21,".",".",".",".",2,".",".",".",".",".",13,".",7,".",1,".",6,".",".",1,".",".",20,".",1,".",".",5,".",".",".",".",5,".",7,".",".",".",".",2,".",".",".",12,1,".",".",".",".",".",".",".",6,".",7,".",".",".",".",".",".",".",".",".",".",".",1,".",6,".",".",".",".",".",1,".",".",".",".",".",".",".",14,".",".",".",".",1,".",4,".",".",".",".",".",1,2,".",".",".",".",".",".",".",2,".",".",".",".",".",".",".",2,".",".",".",".",".",".",".",".",".",".",".",".",".",".",3,".",".",".",".",".",".",".",".",".",".",".",".",".",".",".",".",".",".",1,".",".",".",2,".",4,".",".",".",".",".",".",".",".",".",".",".",".",".",".",".",1,".",".",1,".",".",".",".",".",".",1,".",".",".",".",".",".",".",".",".",".",".",".",".",".",".",".",".",".",".",".",".",".","."]
[null,null,null,null,null,null,null,null,null,null,null,null,null,".",".",1,".",".",1,".",11,".",".",".",".",3,".",3,".",2,1,3,".",4,".",6,16,".",".",4,".",".",1,1,".",".",".",1,".",".",2,6,".",".",28,".",1,".",1,1,4,".",".",4,4,".",1,5,".",1,".",26,".",".",".",9,".",1,3,".",".",2,7,".",".",4,".",1,".",".",53,1,1,".",".",".",10,".",".",".",".",4,1,2,5,1,69,".",5,1,1,14,".",".",".",5,".",74,".",1,54,1,".",4,".",4,".",".",".",".",9,12,".",1,104,".",".",".",5,".",9,".",".",6,".",".",2,2,".",173,1,1,9,7,3,10,".",".",136,".",".",".",4,16,1,".",9,".",".",185,".",".",91,1,".",".",6,9,".",12,202,1,1,7,2,6,6,".",".",13,1,269,".",".",8,".",5,4,144,2,".",3,7,".",3,160,".",102,".",".",2,6,15,118,1,5,1,".",4,7,210,".",2,2,1,1,67,2,1,2,3,".",".",103,1,".",57,".",2,3,2,56,3,".",".",1,4,".",1,126,".",3,1,2,28,2,".",1,1,".",82,".",44,1,".",".",30,1,1,3,".",".",98,3,".",1,3,19,".",1,".",2,56,".",45,".",".",".",20,".",1,".",".",49,".",".",".",".",16,3,".",1,40,".",22,1,".",1,".",".",14,".",".",2,1,".",3,".",23,".",4,".",".",".",12,1,2,1,".",2,".",4,44,".",1,".",".",".",".",14,1,".",5,".",".",7,10,".",".",".",".",".",".",".",7,".",".",".",".",1,".",4,12,".",".",".",1,".",".",".",4,".",".",".",".",1,".",25,".",".",".",1,".",3,3,".",".",1,6,".",".",5,".",".",".",3,1,".",".",".",3,".",1,".",".",5,".",5,7,".",".",".",2,1,".",1,2,".",3,".",4,5,".",".",1,1,".",".",1,2,".",".",1,1,".",".",".",".",2,".",1,".",5,".",".",".",1,1,".",".",1,"."]
[null,null,null,null,null,null,null,null,null,null,null,null,null,".",".",2,".",".",".",9,16,".",".",".",4,".",".",3,".",".",".",".",9,8,".",".",2,4,1,6,1,".",".",1,2,1,".",9,4,".",".",1,3,".",30,".",2,".",".",".",2,".",6,2,".",1,".",3,".",".",".",10,3,".",".",5,".",".",16,".",".",".",2,".",".",".",".",".",1,".",28,".",".",1,".",".",3,".",".",".",".",2,".",".",".",".",12,4,12,".",".",1,".",".",".",3,1,10,".",".",47,".",".",".",1,2,".",1,1,".",1,5,6,".",30,".",".",".",10,5,2,".",".",4,".",".",2,".",".",113,".",".",10,8,".",8,".",".",59,".",".",".",19,8,".",".",3,".",".",61,".",".",109,".",".",".",7,1,".",10,65,".",".",15,".",4,10,".",1,3,".",118,1,".",16,".",1,8,51,".",".",12,9,".",2,33,".",78,".",".",7,1,7,35,".",5,2,".",3,".",77,".",6,".",4,".",27,9,".",1,3,".",".",35,".",".",18,".",".",".",1,22,".",2,1,".",".",".",".",50,".",".",1,".",11,3,".",".",1,".",15,".",19,".",".",1,13,1,".",1,".",".",11,".",".",".",1,13,1,".",".",".",5,".",9,".",".",2,8,".",".",".",".",8,".",".",".",".",3,".",".",".",3,".",2,".",".",".",".",".",1,".",".",".",".",".",".",".",6,".",".",".",".",".",1,".",".",".",".",".",".",".",5,".",".",".",".",".",".",".",".",".",".",".",".",".",1,".",".",".",".",".",".",".",".",".",".",".",".",".",".",".",2,".",".",".",".",".",".",".",".",".",".",".",".",".",".",".",".",".",".",".",".",".",".",".",".",".",".",".",".",1,".",".",".",".",".",".",".",".",".",".",".",".",".",".",".",".",".",".",".",".",".",".",".",".",".",".",".",".",".",".",".",".",".",".",".",".",".",".",".",".",".",".",".",".",".",".",".",".",".",".",".",".",".",".",".",".",".",".",".","."]
[null,null,null,null,null,null,null,null,null,null,null,null,null,".",1,5,".",".",2,".",6,3,".",".",".",1,".",1,".",".",".",4,".",".",".",1,15,".",".",2,".",".",1,3,1,".",".",".",1,".",".",3,".",".",13,".",".",7,".",".",4,1,".",4,1,".",".",2,".",".",1,44,".",1,".",".",".",3,3,".",".",3,3,".",1,4,".",".",".",".",30,".",".",3,".",1,11,".",".",1,".",1,".",".",1,".",34,1,5,".",".",1,".",1,".",3,1,3,".",1,17,1,".",3,".",1,".",".",".",".",3,2,".",".",25,".",".",".",2,".",2,".",".",1,".",".",".",1,".",20,".",".",3,8,3,3,1,".",23,".",".",".",".",7,".",".",4,1,".",38,".",".",33,".",".",".",7,5,".",20,86,".",".",11,".",10,4,".",".",7,".",131,1,1,14,".",8,10,104,1,".",9,8,".",8,94,1,102,2,1,7,11,15,124,".",32,1,".",11,18,201,9,6,4,5,".",112,33,".",8,4,".",".",96,".",".",85,12,7,11,9,92,5,11,".",8,13,".",".",172,1,19,1,5,63,9,".",17,3,".",91,".",73,16,1,4,65,4,3,10,5,2,117,1,2,6,5,51,".",8,".",26,53,1,70,2,11,4,31,2,1,3,14,76,2,2,1,5,30,5,3,4,52,2,36,6,2,".",1,3,36,1,1,3,4,1,13,1,71,".",9,1,".",".",38,12,".",4,1,2,1,10,88,1,".",4,2,1,4,49,13,".",2,1,1,7,48,".",2,1,".",1,1,3,31,6,".",3,".",".",".",6,34,2,2,2,3,1,".",1,19,1,5,".",2,6,1,44,1,8,1,2,1,12,".",".",7,".",9,1,1,32,4,1,1,9,".",2,7,1,4,".",15,1,2,17,5,3,14,1,1,1,6,2,6,1,5,2,4,".",7,19,1,1,8,".",".",1,8,13,1,3,".",".",2,1,".",1,12,2,3,1,".",1,1,1,".",".",1,1,".",1]
[null,null,null,null,null,null,null,null,null,null,null,null,null,".",2,".",".",".",1,".",6,1,".",".",1,".",".",1,5,".",".",1,".",1,".",".",10,".",".",".",".",".",".",".",".",".",".",".",".",".",".",11,".",".",15,".",1,".",".",".",1,".",".",2,1,".",".",4,".",".",".",12,2,".",".",6,".",".",".",".",".",".",1,".",".",".",".",".",1,".",45,".",".",".",".",".",5,".",".",".",".",1,".",".",3,".",42,".",4,".",".",1,1,".",".",5,".",33,".",".",44,1,".",".",".",1,".",".",".",".",2,7,".",".",67,".",".",".",4,".",3,".",".",5,".",".",2,".",".",111,".",".",7,2,".",3,".",".",57,".",".",1,".",4,".",".",".",".",".",42,".",".",34,".",".",".",2,1,".",1,47,".",".",1,".",1,1,".",".",1,".",68,".",".",2,".",2,".",19,1,".",1,6,".",1,18,".",14,".",".",".",".",".",9,".",1,".",1,".",".",27,".",".",".",".",".",6,".",".",".",".",".",".",17,".",".",5,".",".",".",".",1,2,".",".",".",".",".",".",17,".",".",".",".",1,".",".",".",".",1,9,".",5,".",".",".",".",".",1,".",1,".",14,".",".",".",".",3,".",".",".",".",3,".",2,".",".",".",".",".",".",".",".",6,".",".",".",".",1,".",".",".",4,".",".",".",".",".",".",".",".",".",".",".",".",".",1,".",3,".",".",".",".",".",3,".",".",".",".",".",".",".",3,".",".",".",".",".",".",1,".",".",".",".",".",".",1,".",".",".",".",".",".",".",".",".",".",".",".",".",".",".",1,".",".",".",".",".",".",".",".",".",".",".",".",".",".",".",".",".",".",".",".",".",".",".",".",".",".",".",".",".",".",".",".",".",".",".",".",".",".",1,".",".",".",".",".",".",3,".",".",".",".",".",".",".",".",".",".",".",".",1,".",".",".",".",".",".",".",".",".",".",".",".",".",".",".",".",".",".",".",".",".",".",".",".",".",".",".",".",".","."]
[null,null,null,null,null,null,null,null,null,null,null,null,null,".",".",1,".",".",".",5,4,".",".",".",2,".",".",1,".",".",".",".",1,1,".",".",4,".",".",3,".",".",".",".",".",".",".",".",3,".",".",1,3,".",10,".",".",".",".",".",2,".",".",".",".",".",".",1,".",".",".",10,".",".",".",5,".",".",2,".",".",".",2,".",".",".",".",".",".",".",23,".",".",".",".",".",3,".",".",".",".",".",".",".",3,".",21,".",13,".",".",4,".",".",".",6,".",16,".",".",43,".",".",".",".",".",".",".",".",".",".",17,1,".",25,".",".",".",6,".",10,".",".",4,".",".",".",".",".",52,".",".",4,".",".",1,".",1,43,".",".",".",17,1,".",".",2,".",".",31,".",".",51,".",".",".",".",".",".",8,36,".",".",4,".",1,2,".",".",1,".",82,".",".",".",".",1,".",29,".",1,1,2,".",1,26,".",33,".",".",".",".",2,22,".",".",1,".",".",".",37,1,".",".",".",".",11,".",".",".",".",".",".",11,".",".",13,".",".",".",".",6,".",".",".",".",".",".",".",11,".",".",".",".",3,".",".",".",".",".",9,".",7,".",".",".",3,".",".",".",1,".",6,".",".",".",".",5,".",1,".",1,7,".",3,".",".",".",".",".",".",".",".",7,".",".",".",".",".",".",".",".",7,".",4,".",".",".",".",".",3,".",".",".",".",".",1,".",5,".",".",".",".",".",1,".",".",".",".",".",".",".",4,".",".",".",".",".",".",1,".",".",".",".",".",2,2,".",".",".",".",".",".",".",".",".",".",".",".",".",".",".",".",".",".",".",".",".",".",".",".",".",".",".",".",".",".",1,".",".",".",".",".",".",".",".",".",".",".",".",".",1,".",".",".",".",".",".",".",".",".",".",".",".",".",".",".",".",".",".",".",".",".",".",".",".",".",".",".",".",".",1,".",".",".",".",".",".",".",".",".",".",".",".",".",".",".",".",".",".",".",".",".",".",".",".",".",".",".",".",".","."]
[null,null,null,null,null,null,null,null,null,null,null,null,null,".",".",".",".",".",".",".",9,3,".",".",".",".",".",".",1,".",".",2,".",".",".",4,26,1,".",1,".",1,1,".",".",".",".",3,".",".",3,13,".",2,33,".",2,4,".",".",2,".",".",4,1,".",".",8,".",".",".",27,1,".",".",3,".",".",".",1,".",".",3,".",".",2,1,".",".",1,86,3,".",".",".",".",13,".",".",".",".",2,".",".",2,".",53,3,6,".",".",7,".",1,".",2,".",35,1,5,50,".",".",".",".",1,".",".",".",".",3,5,".",".",61,".",".",1,2,".",3,".",".",4,1,".",5,".",".",103,1,".",6,5,".",1,".",".",56,".",".",".",3,5,".",".",2,".",".",28,1,4,31,".",".",".",".",".",".",1,32,".",".",1,".",1,".",".",".",7,".",61,".",".",1,".",2,".",19,".",".",1,1,".",1,22,".",18,".",".",1,".",1,17,".",1,".",".",".",1,33,".",".",".",1,".",12,2,".",".",".",1,".",20,".",2,15,".",".",".",".",8,".",".",".",".",1,".",2,18,".",1,".",".",5,".",".",2,".",".",9,1,8,".",".",".",3,".",".",".",".",".",25,".",1,".",".",2,".",".",".",".",8,".",5,".",".",".",1,".",".",".",1,6,".",".",".",".",4,".",".",".",11,".",3,".",".",".",".",".",2,".",".",".",".",".",".",".",8,".",".",".",".",".",1,".",".",".",".",".",".",1,8,".",".",".",".",".",".",2,".",".",".",".",".",2,2,".",".",".",".",".",".",".",1,".",".",1,".",".",".",".",6,".",".",".",".",".",".",".",1,".",".",".",".",1,".",3,".",".",".",".",".",".",".",".",1,".",".",".",".",2,".",".",".",1,".",".",".",".",".",".",".",".",".",1,".",".",".",".",".",".",".",".",".",".",".",".",1,".",".",2,".",".",".",".",".",".",".",".",".",".",".",".",".",".",".",".",1,".",".",".",1,".",".",".",1,".",".",".",".","."]
[null,null,null,null,null,null,null,null,null,null,null,null,null,".",1,".",".",".",".",".",13,3,".",".",1,".",1,4,1,".",".",".",".",2,".",".",6,".",".",4,".",".",1,1,".",".",".",4,3,".",".",11,".",".",21,".",".",".",".",".",2,1,".",3,2,".",".",4,".",".",".",23,".",".",".",10,".",".",1,".",".",".",6,".",".",1,".",".",".",".",48,".",".",1,1,".",13,".",".",".",".",3,".",".",4,".",21,".",2,".",".",2,".",".",".",4,".",26,".",".",46,".",1,".",".",3,".",".",".",".",1,8,".",".",46,".",".",".",7,".",5,".",".",8,".",".",1,".",".",58,".",".",10,4,".",3,".",".",27,".",".",".",4,4,".",".",7,".",".",28,".",".",27,".",".",".",".",1,".",1,20,".",".",1,".",3,".",".",".",".",".",43,".",".",2,".",1,1,21,".",".",4,1,".",1,8,".",11,".",".",".",1,2,8,".",".",".",".",".",".",20,1,2,1,".",".",5,".",".",".",".",".",".",8,".",".",9,".",".",".",1,3,".",1,".",".",".",".",".",13,".",1,".",1,".",2,".",".",1,".",3,".",9,".",".",".",3,2,".",".",".",".",9,".",1,".",".",".",".",".",1,1,2,".",1,".",".",".",1,".",".",".",".",1,".",".",".",".",1,".",".",".",".",".",4,".",".",".",".",".",1,".",".",".",".",".",".",".",1,".",".",".",".",".",".",".",".",".",".",".",".",".",1,".",".",2,".",".",".",".",".",".",".",".",".",".",2,".",".",".",".",".",".",".",2,".",".",".",".",".",".",".",".",".",".",".",".",".",".",".",".",".",".",1,".",".",".",1,".",".",".",".",".",".",".",".",".",".",".",".",".",".",".",".",".",".",".",".",".",".",".",".",".",".",".",1,".",".",".",".",".",".",".",".",".",".",".",".",".",".",".",1,".",".",".",".",".",".",".",".",".",".",".",".",".",".",".",".",".",".",".",".",".",".",".",".",".",".",".",".",".","."]
[null,null,null,null,null,null,null,null,null,null,null,null,null,".",".",".",".",".",".",".",4,".",1,".",".",".",".",".",1,".",".",1,".",1,".",".",14,".",".",1,".",".",".",1,".",".",".",1,".",".",1,2,1,1,15,".",".",1,".",".",".",".",".",1,2,".",".",3,1,".",".",13,1,".",".",2,".",".",1,".",".",".",4,1,".",2,".",".",1,".",42,".",".",".",".",".",12,".",".",".",".",1,".",".",5,".",43,".",8,".",".",2,".",".",".",6,".",49,".",1,48,".",".",".",".",2,".",".",".",".",1,9,".",".",44,".",".",".",4,".",2,".",".",2,".",".",2,".",".",116,".",".",1,1,".",6,".",".",37,".",".",".",3,2,".",".",1,".",".",34,".",1,29,".",".",".",1,1,".",5,50,".",".",".",".",1,2,".",".",1,".",80,".",".",3,".",".",1,30,".",".",".",".",".",3,33,".",26,".",".",1,".",4,16,".",".",".",".",".",1,28,".",".",".",".",".",8,1,".",".",".",".",".",10,".",".",2,".",".",".",".",6,".",".",".",".",".",".",".",13,".",".",".",".",3,".",".",1,".",".",14,".",9,".",".",".",3,".",".",".",".",".",6,".",".",".",".",2,".",".",".",".",7,".",3,".",".",".",1,".",".",".",".",4,".",".",".",".",".",".",".",1,7,".",".",".",".",".",".",".",3,".",".",".",".",".",".",".",4,".",".",".",".",".",2,".",".",".",".",".",".",1,6,".",".",".",".",".",".",2,".",".",".",".",".",".",4,".",".",".",".",".",".",".",1,".",".",".",".",".",1,2,".",".",".",".",".",".",".",".",1,".",".",".",".",".",".",3,".",".",".",".",".",".",".",".",".",".",1,".",".",".",".",".",".",".",".",".",".",".",".",".",".",".",".",1,".",".",1,".",".",".",".",".",".",".",".",".",1,".",1,1,".",".",".",".",".",".",".",".",".",".",".",".",".",".",".",".",3,".",".",".",".",".",1,".",".",".",".",".",".","."]
[null,null,null,null,null,null,null,null,null,null,null,null,null,".",".",".",".",".",".",".",3,3,".",1,".",".",".",1,".",".",".",".",".",2,".",3,2,".",".",1,".",".",".",4,".",".",".",".",".",".",".",3,".",".",10,".",".",1,".",".",".",".",".",1,".",".",".",4,".",".",".",4,3,".",1,2,2,".",3,".",1,".",1,".",".",2,".",".",1,".",24,".",".",".",".",".",9,".",".",".",".",3,".",".",1,".",28,".",3,".",1,2,".",".",".",1,".",31,".",".",31,".",".",".",".",1,".",".",".",".",4,3,".",".",35,".",".",".",3,".",2,".",".",1,".",".",".",".",".",60,".",".",6,".",".",1,".",".",25,".",".",".",".",1,".",".",2,".",".",32,".",".",21,".",".",".",1,".",".",".",12,".",".",".",".",".",".",".",1,".",".",41,".",".",".",".",1,".",18,".",".",1,".",".",".",18,".",1,".",".",".",".",1,4,".",".",".",".",".",".",9,".",".",".",".",".",".",".",".",".",".",".",".",4,".",".",3,".",".",".",".",".",".",".",".",".",2,".",".",3,".",".",".",".",".",".",1,".",".",".",8,".",2,".",".",".",".",".",".",".",".",".",3,".",1,".",".",1,".",".",".",".",1,".",".",".",".",".",".",".",".",".",1,".",".",".",".",".",".",".",".",".",2,".",".",".",".",".",".",".",".",".",".",".",".",".",".",".",1,".",".",".",".",".",".",".",".",".",".",".",".",".",2,".",".",".",".",".",".",".",".",".",".",".",".",".",".",".",".",".",".",".",".",".",1,".",".",".",".",".",".",".",".",".",".",".",".",".",".",".",".",".",".",".",".",".",".",".",".",".",".",".",".",".",".",".",".",".",".",".",".",".",".",".",".",".",".",".",".",".",".",".",".",".",".",".",".",".",".",".",".",".",".",".",".",".",".",".",".",".",".",".",".",".",".",".",".",".",".",".",".",".",".",".",".",".",".",".",".",".",".",".",".",".",".",".",".",".",".",".",".","."]
[null,null,null,null,null,null,null,null,null,null,null,null,null,".",1,1,".",".",1,".",1,1,".",".",".",1,".",1,".",".",".",".",".",1,".",4,5,".",".",1,".",".",".",".",".",".",".",".",2,".",1,".",".",".",3,".",".",2,".",".",".",".",".",".",2,".",".",".",".",".",".",9,".",".",".",".",".",".",".",".",".",".",".",".",".",1,".",".",1,".",4,".",".",1,".",".",8,".",".",".",".",".",".",".",".",".",9,".",".",1,".",2,1,".",".",".",".",9,".",".",7,".",".",".",".",1,".",".",".",".",1,".",".",".",21,".",".",".",1,".",2,".",".",1,".",".",1,".",".",44,2,".",".",1,".",4,".",".",21,".",".",".",3,3,".",".",".",".",".",26,".",".",28,".",".",".",8,2,".",4,41,".",".",2,".",3,2,".",".",5,".",93,".",".",3,".",5,3,50,".",".",5,3,".",1,28,3,41,".",".",1,1,2,27,".",".",3,".",".",2,46,".",1,1,3,".",16,1,".",1,".",".",".",18,".",".",5,".",3,".",".",7,".",".",".",".",1,".",".",16,".",1,".",".",4,".",".",4,".",".",9,".",5,".",".",".",5,".",".",".",".",".",7,".",".",".",".",2,".",".",".",".",3,".",4,".",".",".",4,".",".",".",3,8,".",".",".",".",6,".",1,".",3,".",8,".",".",".",".",".",1,".",".",".",".",".",".",".",6,".",".",".",".",".",".",".",".",".",".",".",".",1,4,".",".",".",".",".",".",2,".",".",".",".",".",".",3,".",".",".",".",".",".",".",1,".",1,".",".",".",".",".",1,".",".",".",".",".",".",".",1,".",1,".",".",".",".",".",".",".",".",".",".",".",".",".",".",".",".",".",".",1,".",".",".",".",".",".",".",".",".",".",".",".",".",".",".",".",".",".",".",".",".",".",".",".",".",".",1,".",".",".",".",".",".",".",".",".",".",".",".",".",".",".",".",".",".",".",1,".",".",".",".",".",".",".",".",".",".",".",".","."]
[]
[null,null,null,null,null,null,null,null,null,null,null,null,null,"P_28","P_29","P_30","P_31","P_32","P_33","P_34","P_35","P_36","P_37","P_38","P_39","P_40","P_41","P_42","P_43","P_44","P_45","P_46","P_47","P_48","P_49","P_50","P_51","P_52","P_53","P_54","P_55","P_56","P_57","P_58","P_59","P_60","P_61","P_62","P_63","P_64","P_65","P_66","P_67","P_68","P_69","P_70","P_71","P_72","P_73","P_74","P_75","P_76","P_77","P_78","P_79","P_80","P_81","P_82","P_83","P_84","P_85","P_86","P_87","P_88","P_89","P_90","P_91","P_92","P_93","P_94","P_95","P_96","P_97","P_98","P_99"]
[null,null,null,null,null,null,null,null,null,null,null,null,null,375,395,400,400,400,400,400,400,400,400,400,400,400,400,400,400,400,400,400,400,400,400,407.5,420,425,425,425,425,435,437.5,440,450,450,450,450,450,450,450,450,450,450,480,480,480,485,485,500,500,500,500,500,500,508.33,540,550,550,550,550,550,550,550,550,550,550,550,551.79,575,600,600,600,600,600]
[null,null,null,null,null,null,null,null,null,null,null,null,null,625,650,650,650,650,650,650,650,650,650,650,650,650,650,650,650,650,650,650,650,670,675,675,675,675,675,675,675,675,675,675,695,695,695,695,695,700,700,700,700,700,700,700,700,700,700,700,700,700,720,725,725,725,725,725,730,750,750,750,750,750,750,750,750,750,750,750,775,800,800,825,870]
[null,null,null,null,null,null,null,null,null,null,null,null,null,800,800,800,800,800,800,825,825,825,825,825,850,850,850,850,850,850,850,850,850,850,850,875,875,875,875,875,895,895,895,900,900,900,900,900,900,900,900,900,925,925,950,950,950,950,950,950,950,975,975,975,995,995,995,1000,1000,1000,1000,1000,1000,1050,1100,1100,1100,1100,1100,1200,1200,1200,1200,1250,1300]
[null,null,null,null,null,null,null,null,null,null,null,null,null,925,950,950,950,950,950,950,975,975,995,995,995,1000,1000,1000,1000,1000,1000,1000,1050,1080,1100,1100,1100,1100,1100,1100,1100,1100,1100,1100,1134,1150,1150,1175,1200,1200,1200,1200,1200,1200,1200,1200,1200,1200,1200,1200,1250,1250,1250,1250,1275,1300,1300,1300,1300,1350,1350,1350,1350,1400,1400,1400,1400,1450,1500,1500,1500,1600,1600,1700,1750]
[null,null,null,null,null,null,null,null,null,null,null,null,null,1295,1300,1300,1300,1300,1300,1300,1300,1350,1350,1350,1350,1350,1400,1400,1400,1400,1400,1400,1400,1400,1450,1450,1500,1500,1500,1500,1500,1500,1500,1500,1500,1500,1500,1550,1600,1600,1600,1600,1600,1600,1600,1600,1650,1650,1700,1700,1700,1750,1750,1800,1800,1800,1800,1800,1800,1850,1900,1900,1900,1995,2000,2000,2000,2000,2000,2100,2200,2250,2300,2300,2400]
[null,null,null,null,null,null,null,null,null,null,null,null,null,1000,1000,1000,1000,1000,1000,1350,1350,1350,1350,1350,1350,1350,1350,1500,1500,1500,1500,1500,1500,1500,1500,1500,1500,1500,1500,1500,1500,1500,1500,1500,1550,1550,1550,1550,1550,1550,1550,1550,1700,1700,1700,1700,1700,1700,1700,1700,1825,1950,1950,1950,1950,1950,1950,1950,1950,2200,2200,2200,2200,2200,2200,2200,2200,2350,2350,2350,2350,2350,2350,2350,2350]
[null,null,null,null,null,null,null,null,null,null,null,null,null,550,550,550,550,550,550,550,550,550,550,550,550,550,550,550,550,550,550,550,550,550,575,575,575,575,575,575,575,575,575,575,575,575,575,590,590,590,595,595,595,600,600,600,600,600,600,600,600,600,600,600,600,600,625,625,625,625,625,625,625,625,625,625,625,625,625,650,650,650,670,670,670]
[null,null,null,null,null,null,null,null,null,null,null,null,null,275,285,294.35000000000002,300,300,300,300,300,300,300,300,304.17,304.17,305,305,305,305,305,316.07,316.07,316.07,316.07,325,325,325,325,325,325,325,325,325,325,325,325,325.89,337.62,337.62,337.8,337.8,337.8,345,345,345,345,345,347.62,347.62,347.62,347.62,359.52,359.52,359.52,359.52,359.52,359.52,369.35,375,375,375,381.07,421.43,421.43,421.43,421.43,421.43,421.43,424.52,424.52,424.52,424.52,434.52,551.79]
[null,null,null,null,null,null,null,null,null,null,null,null,null,360,364,375,375,375,375,375,375,375,375,375,375,380,390,390,395,395,395,395,395,395,400,400,400,400,400,400,400,400,400,400,400,400,400,400,400,400,410,420,420,420,425,425,425,425,425,425,450,450,450,450,450,450,450,450,450,450,450,450,450,460,465,470,475,485,495,495,495,500,500,517.08000000000004,550]
[null,null,null,null,null,null,null,null,null,null,null,null,null,450,450,450,450,450,460,475,475,475,475,475,475,475,475,490,495,495,495,495,495,495,495,495,500,500,500,500,500,500,500,500,500,500,525,525,525,525,525,525,530,550,550,550,550,550,550,550,550,550,550,550,550,575,575,575,585,595,599,600,600,600,600,625,625,625,650,650,675,675,695,750,895]
[null,null,null,null,null,null,null,null,null,null,null,null,null,520,525,525,550,550,550,550,550,550,550,550,550,550,550,550,550,550,550,575,575,595,595,595,595,600,600,600,620,625,625,625,650,650,650,650,650,650,650,650,650,650,650,650,650,650,650,675,675,695,695,695,700,725,725,750,750,750,750,795,795,795,795,800,850,850,895,895,900,900,950,950,1295]
[null,null,null,null,null,null,null,null,null,null,null,null,null,850,850,850,850,850,850,850,850,850,850,875,875,875,875,875,875,875,885,895,895,900,900,900,900,900,900,900,900,900,900,900,900,912.5,925,925,950,950,950,950,950,950,950,972.5,995,995,995,995,995,995,995,995,995,1047.5,1100,1100,1100,1100,1175,1250,1250,1250,1250,1300,1350,1350,1400,1400,1450,1500,1500,1570,1570]
[null,null,null,null,null,null,null,null,null,null,null,null,null,995,995,995,995,995,995,995,995,995,995,995,995,995,995,995,995,1000,1000,1000,1000,1000,1000,1050,1100,1100,1100,1100,1100,1100,1100,1100,1100,1100,1100,1100,1150,1150,1150,1150,1150,1150,1250,1250,1250,1250,1250,1250,1250,1250,1250,1250,1250,1250,1250,1250,1250,1250,1250,1250,1250,1350,1350,1350,1350,1350,1350,3000,3000,3000,3000,3000,3000]
[null,null,null,null,null,null,null,null,null,null,null,null,null,300,300,300,300,300,300,300,300,300,300,300,300,300,300,300,300,300,300,300,300,300,300,300,300,300,300,300,300,300,300,300,300,300,300,300,300,300,300,300,330,330,330,330,330,330,330,330,330,330,330,330,330,330,330,330,330,330,330,330,330,330,330,330,330,330,330,330,330,330,330,330,330]
[null,null,null,null,null,null,null,null,null,null,null,null,null,275,275,275,275,275,275,275,275,280,280,282.44,283,285,290,294.33999999999997,294.33999999999997,294.33999999999997,294.33999999999997,294.33999999999997,294.35000000000002,294.35000000000002,295,300,300,300,300,300,300,300,304.16000000000003,304.16000000000003,305,305,305,315,316.07,316.07,316.07,316.07,316.07,325,325,325,325,325,325.89,325.89,333,333,337.79,350,350,359.52,359.52,359.52,359.52,359.52,359.52,359.52,359.52,359.52,359.52,359.52,359.52,365,367.52,375,402.97,402.97,434.52,468.15,468.15]
[null,null,null,null,null,null,null,null,null,null,null,null,null,340,350,350,350,350,350,350,350,350,350,350,350,350,350,350,350,350,350,350,350,350,350,350,360,360,360,365,375,375,375,375,375,375,375,375,375,375,375,375,375,375,380,380,380,380,385,390,395,395,395,395,395,395,395,400,400,400,400,400,400,412,425,425,425,425,430,440,450,450,450,475,550]
[null,null,null,null,null,null,null,null,null,null,null,null,null,425,425,425,425,425,425,425,425,425,425,425,425,425,430,435,450,450,450,450,450,450,450,450,450,450,450,450,450,450,450,450,450,450,460,470,475,475,475,475,475,475,475,480,490,495,495,500,500,500,500,500,500,525,525,525,525,525,540,550,550,550,550,550,565,575,575,595,595,625,650,670,695]
[null,null,null,null,null,null,null,null,null,null,null,null,null,495,495,500,500,500,500,500,500,500,500,500,500,500,500,520,525,525,525,525,525,525,525,525,530,550,550,550,550,550,550,550,555,575,575,575,580,595,595,595,600,600,600,617.5,625,625,625,625,642.5,650,650,650,650,650,650,675,680,695,695,700,700,700,725,745,750,750,750,750,795,800,850,895,1100]
[null,null,null,null,null,null,null,null,null,null,null,null,null,700,700,700,725,725,725,750,750,750,750,750,750,775,795,795,795,795,800,800,800,810,825,850,850,850,850,850,850,850,850,850,850,850,850,875,875,895,895,900,950,950,950,950,950,950,975,995,995,995,995,995,1000,1000,1050,1050,1100,1100,1175,1200,1200,1200,1200,1200,1250,1250,1275,1295,1295,1395,1450,1750,1800]
[null,null,null,null,null,null,null,null,null,null,null,null,null,775,775,825,825,825,850,850,850,895,895,895,895,895,895,900,900,900,900,900,900,900,925,925,925,950,950,950,995,995,995,995,1050,1050,1050,1175,1175,1175,1200,1200,1200,1200,1200,1200,1200,1200,1200,1200,1200,1200,1200,1200,1200,1200,1250,1250,1250,1295,1295,1295,1295,1303.57,1303.57,1303.57,1350,1350,1350,1400,1400,1400,1500,1500,1500]
[null,null,null,null,null,null,null,null,null,null,null,null,null,325,325,325,325,325,325,325,325,325,325,325,325,325,325,325,325,325,325,325,325,325,325,347.5,370,370,370,370,370,370,370,370,370,370,370,370,370,370,370,370,370,370,370,370,370,370,370,370,370,370,370,370,370,370,370,370,370,370,370,370,370,370,370,370,370,370,370,370,370,370,370,370,370]
[null,null,null,null,null,null,null,null,null,null,null,null,null,260,265,265,265,270,272.62,275,275,275,275,275,275,275,275,275,275,275,275,275,275,275,280.62,281.81,283,285,285,285,285,285,285,285,285,289.68,294.35000000000002,295,295,295,295,295,295,295,295,295,295,305,305,305,305,305,305,305,305,305,305,305,305,305,305,305,305,305,315,315,315,315,316.07,316.07,320.54000000000002,325,335,335,359.52]
[null,null,null,null,null,null,null,null,null,null,null,null,null,350,350,350,350,350,350,360,360,368.33,368.33,368.33,369.35,370,370,375,375,375,375,375,375,375,375,375,375,375,375,380,380,380,389,390,390,390,390,390,395,395,395,395,395,395,400,400,400,400,400,400,400,400,400,400,400,400,400,400,400,400,400,403,410,414,415,420,420,420,425,425,425,425,425,440,450]
[null,null,null,null,null,null,null,null,null,null,null,null,null,425,425,425,425,425,425,425,425,425,425,425,430,430,435,435,437,440,440,440,450,450,450,450,450,450,450,450,450,450,450,450,450,450,450,450,450,450,450,450,460,465,470,475,475,475,475,475,475,475,475,480,480,485,485,495,500,500,500,500,500,500,500,500,500,500,520,525,525,525,550,550,550]
[null,null,null,null,null,null,null,null,null,null,null,null,null,460,475,475,475,475,475,475,475,475,475,475,480,480,480,485,485,486,495,495,495,500,500,500,500,500,500,500,500,500,500,500,500,500,500,500,500,500,520,525,525,525,540,550,550,550,550,550,550,550,550,550,560,565,575,575,575,575,580,595,595,595,600,600,600,600,625,625,625,650,650,650,650]
[null,null,null,null,null,null,null,null,null,null,null,null,null,565,565,570,570,570,575,575,575,575,575,590,600,600,600,600,600,600,600,630,650,650,650,650,650,650,650,650,650,650,650,650,650,675,675,675,690,690,700,700,700,700,700,700,700,700,750,750,750,750,750,750,750,750,750,750,750,750,750,800,800,800,825,825,825,850,850,850,850,850,975,975,1250]
[null,null,null,null,null,null,null,null,null,null,null,null,null,650,675,675,675,675,675,675,675,675,675,675,680,680,680,680,750,750,750,750,750,750,750,750,750,750,795,795,795,795,795,800,800,800,800,800,800,800,800,800,825,825,825,825,825,850,850,850,850,850,900,900,900,900,900,900,900,900,900,950,950,950,950,950,1000,1000,1000,1000,1000,1260,1260,1260,1260]
[null,null,null,null,null,null,null,null,null,null,null,null,null,275,275,275,275,275,275,300,300,300,300,300,300,300,300,300,300,300,300,300,300,300,300,300,300,300,300,300,300,300,300,300,300,300,300,300,300,300,300,300,325,325,325,325,325,325,325,325,325,325,325,325,325,325,325,325,325,325,325,325,325,325,325,325,325,325,325,325,325,325,325,325,325]
[null,null,null,null,null,null,null,null,null,null,null,null,null,250,260,269.35000000000002,269.35000000000002,269.35000000000002,270,275,275,275,275,275,280,280,280,280,280,280,285,285,285,289,290,290,291.07,300,300,300,300,300,300,300,300,300,300,300,300,300,300,300,300,300,300,310,310,312,317,320,320,320,320,325,325,325,325,325,325,330,330,334.52,340,347.62,347.62,350,350,350,350,350,370,380,400,400,400]
[null,null,null,null,null,null,null,null,null,null,null,null,null,350,350,350,350,350,350,350,350,350,350,350,360,360,360,360,360,360,365,365,370,370,375,375,375,375,375,375,375,380,380,380,380,380,385,385,390,390,395,395,400,400,400,400,400,400,400,400,400,400,400,400,410,415,420,425,425,425,425,434.52,445,450,450,450,450,450,465,475,485,500,500,525,600]
[null,null,null,null,null,null,null,null,null,null,null,null,null,460,470,475,475,475,475,475,480,480,490,495,495,495,495,500,500,500,500,500,500,500,500,517.5,525,525,525,525,530,540,545,550,550,550,550,550,550,550,555,560,575,575,575,580,590,590,595,600,600,600,600,600,600,600,600,600,620,625,630,640,650,650,650,660,675,675,685,700,720,725,750,750,775]
[null,null,null,null,null,null,null,null,null,null,null,null,null,580,590,595,595,600,600,600,600,620,620,625,630,650,650,650,650,650,650,660,675,675,690,690,695,695,700,700,700,700,700,700,720,725,725,750,750,750,750,750,750,750,750,775,775,780,780,795,795,800,800,800,810,825,825,825,825,840,850,850,855,855,855,870,875,900,900,900,900,900,950,975,1100]
[null,null,null,null,null,null,null,null,null,null,null,null,null,850,850,850,850,850,850,850,850,875,880,880,895,897.5,900,900,900,900,900,900,920,925,940,950,950,950,950,960,960,975,990,995,995,1000,1000,1000,1000,1000,1000,1050,1100,1100,1100,1100,1120,1140,1140,1140,1140,1140,1140,1180,1195,1197.5,1200,1200,1200,1200,1200,1200,1200,1200,1200,1250,1250,1260,1300,1300,1300,1300,1300,1300,1320]
[null,null,null,null,null,null,null,null,null,null,null,null,null,750,800,800,800,800,800,800,800,950,950,950,950,950,950,950,1100,1100,1100,1100,1100,1100,1100,1112.5,1125,1125,1125,1125,1125,1125,1125,1425,1425,1425,1425,1425,1425,1425,1425,1425,1425,1425,1425,1425,1425,1425,1425,1425,1425,1425,1425,1425,1500,1500,1500,1500,1500,1500,1500,1500,1500,1500,1500,1500,1500,1500,1625,1625,1625,1625,1625,1625,1625]
[null,null,null,null,null,null,null,null,null,null,null,null,null,280,290,290,290,290,290,290,300,300,300,300,300,300,300,300,300,300,300,300,300,300,300,300,300,300,300,300,300,300,300,300,300,320,320,320,325,325,325,325,325,325,325,325,325,340,340,340,340,340,340,340,340,340,340,340,340,340,340,340,340,350,350,350,350,350,350,375,375,375,434.52,434.52,434.52]
[null,null,null,null,null,null,null,null,null,null,null,null,null,285,300,300,300,300,300,300,300,300,300,305,305,305,316.07,316.07,316.07,316.07,316.07,316.07,319.07,319.07,319.07,319.54000000000002,320,320,320,320,320,320,320,320,320,325,325,325,325,325,325,325,325,325,325,325,325,325,325,325,325,325,325,325,345,345,345,375,375,375,400,400,400,400,400,400,425,425,425,446.42,446.42,446.42,446.42,446.42,446.42]
[null,null,null,null,null,null,null,null,null,null,null,null,null,425,425,425,425,425,425,425,425,425,425,425,425,425,425,425,425,425,425,435,435,445,450,450,450,450,450,450,450,450,450,450,450,450,450,450,450,450,450,450,450,455,475,475,475,475,475,480,495,495,495,495,500,500,500,500,500,525,525,525,525,550,550,550,550,550,575,595,595,625,650,700,820]
[null,null,null,null,null,null,null,null,null,null,null,null,null,525,525,525,525,525,525,545,550,550,550,550,550,550,550,550,550,550,550,575,575,575,575,575,590,595,595,595,595,595,595,595,600,610,615,625,625,625,625,625,640,650,650,650,650,650,650,660,675,685,695,695,695,695,700,700,700,725,725,750,750,750,770,795,795,795,800,850,895,895,900,995,1100]
[null,null,null,null,null,null,null,null,null,null,null,null,null,700,700,700,700,700,725,725,725,750,750,750,750,770,775,775,795,795,795,795,795,795,795,797.5,800,800,800,800,800,800,800,825,850,850,850,850,875,875,875,890,895,895,895,900,900,900,900,900,900,900,925,950,950,950,950,950,950,975,995,995,995,1050,1050,1100,1100,1100,1150,1150,1150,1200,1250,1495,1500]
[null,null,null,null,null,null,null,null,null,null,null,null,null,995,1000,1000,1095,1095,1100,1100,1100,1100,1100,1100,1100,1195,1195,1200,1200,1200,1200,1200,1200,1200,1200,1200,1200,1200,1250,1250,1250,1250,1300,1300,1300,1300,1350,1350,1350,1400,1400,1400,1400,1495,1495,1500,1500,1500,1500,1500,1500,1500,1500,1500,1500,1500,1500,1500,1550,1550,1600,1600,1650,1650,1650,1700,1700,1800,1800,1950,1950,2200,2200,2250,2250]
[null,null,null,null,null,null,null,null,null,null,null,null,null,1600,1600,1600,1600,1600,1600,1600,1600,1600,1600,1600,1600,1600,1600,1600,1600,1600,1600,1600,1600,1600,1600,1697.5,1795,1795,1795,1795,1795,1795,1795,1795,1795,1795,1795,1795,1795,1795,1795,1795,1950,1950,1950,1950,1950,1950,1950,1950,1950,1950,1950,1950,1950,1950,1950,1950,1950,1950,1950,1950,1950,1950,1950,1950,1950,1950,1950,1950,1950,1950,1950,1950,1950]
[null,null,null,null,null,null,null,null,null,null,null,null,null,425,425,425,425,425,425,425,425,425,425,425,425,425,425,425,425,425,425,425,425,425,425,512.5,600,600,600,600,600,600,600,600,600,600,600,600,600,600,600,600,600,600,600,600,600,600,600,600,600,600,600,600,600,600,600,600,600,600,600,600,600,600,600,600,600,600,600,600,600,600,600,600,600]
[null,null,null,null,null,null,null,null,null,null,null,null,null,275,275,275,280.62,282.44,285,285,294.33999999999997,297.61,300,300,300,305,305,305,305,305,305,305,315,316.07,316.07,316.07,316.07,316.07,316.07,316.07,316.07,316.07,316.07,316.07,316.07,319.33999999999997,325,325,325,325,325,325,325.89,333,334.52,337.79,345,350,350,350,355,359.52,359.52,359.52,359.52,359.52,359.52,359.52,359.52,359.52,367.52,367.52,375,379.52,405,410.98,410.98,425,425,425,468.15,475,475,490,533.33000000000004]
[null,null,null,null,null,null,null,null,null,null,null,null,null,350,350,360,360,360,360,360,360,361.74,365,370,370,370,375,375,375,375,380,380,385,385,390,395,395,395,395,395,395,395,395,395,400,400,400,400,400,400,400,400,400,400,410,420,420,420,425,425,425,425,425,425,425,425,425,430,430,445,450,450,450,450,450,450,450,460,475,495,525,550,550,650,750]
[null,null,null,null,null,null,null,null,null,null,null,null,null,450,450,450,450,450,450,450,450,450,450,450,450,460,465,470,470,475,475,475,475,475,475,475,480,480,485,485,495,495,495,495,495,495,495,500,500,500,500,500,520,525,525,525,525,525,530,540,550,550,550,550,550,550,550,550,570,575,575,575,585,595,595,600,600,625,650,650,670,695,730,765,875]
[null,null,null,null,null,null,null,null,null,null,null,null,null,525,525,525,525,525,525,525,525,525,540,545,550,550,550,550,550,550,550,550,550,565,575,575,575,575,575,580,588.41,595,595,595,600,600,600,620,625,625,625,625,650,650,650,650,660,675,675,675,680,695,695,695,695,700,700,725,725,725,750,750,750,750,750,760,775,785,795,800,825,850,875,900,995]
[null,null,null,null,null,null,null,null,null,null,null,null,null,750,750,775,785,795,795,795,800,800,800,825,825,825,825,830,845,850,850,850,850,850,850,850,875,875,875,875,875,890,895,895,895,895,900,900,900,900,900,900,900,925,950,950,950,950,950,950,950,950,950,975,995,995,1000,1000,1000,1000,1025,1050,1100,1100,1100,1100,1200,1200,1200,1250,1250,1300,1300,1500,2000]
[null,null,null,null,null,null,null,null,null,null,null,null,null,895,895,895,895,900,900,900,915,915,950,950,950,950,950,950,950,975,975,975,995,995,995,995,995,1000,1000,1100,1100,1100,1100,1100,1150,1150,1200,1200,1200,1200,1200,1200,1200,1200,1300,1300,1300,1300,1300,1380,1380,1500,1500,1500,1500,1500,1500,1500,1550,1550,1550,1600,1600,1850,1850,1850,1900,1900,1950,1950,1950,2300,2300,2450,2450]
[null,null,null,null,null,null,null,null,null,null,null,null,null,300,300,300,300,300,300,320,320,320,320,320,320,320,320,320,320,320,325,325,325,325,325,325,325,325,325,325,325,350,350,350,350,350,350,350,350,350,350,350,350,350,350,350,350,350,350,350,350,350,350,350,350,350,350,350,350,350,350,350,350,350,550,550,550,550,550,550,550,550,550,550,550]
[null,null,null,null,null,null,null,null,null,null,null,null,null,272.62,275,275,275,275,275,275,275,275,275,285,290,290,290,290,294.35000000000002,294.35000000000002,294.35000000000002,300,300,300,300,300,300,300,300,300,313,315,315,315,316.07,316.07,316.07,320,324.07,325,325,325,325,325,325,325,325,333,333,334.52,350,359.52,359.52,359.52,359.52,359.52,359.52,359.52,359.52,359.52,359.52,359.52,359.52,359.52,375,375,390,402.98,410.98,443.15,446.43,446.43,446.43,489.88,489.88]
[null,null,null,null,null,null,null,null,null,null,null,null,null,360,360,365,370,370,375,375,375,375,375,375,375,375,375,375,375,375,375,375,375,375,375,380,385,395,395,395,395,395,395,399.5,400,400,400,400,400,400,412.5,415,420,420,422.5,425,425,425,425,425,425,425,425,425,425,425.42,435,445,450,450,450,450,450,450,450,462.5,475,475,490,495,495,500,525,550,597.5]
[null,null,null,null,null,null,null,null,null,null,null,null,null,450,450,450,450,450,450,450,450,450,450,450,465,475,475,475,475,475,475,475,485,495,495,495,495,495,495,500,500,500,500,500,525,525,525,525,525,525,540,550,550,550,550,550,550,550,550,550,550,565,575,575,575,575,580,595,595,595,595,595,600,600,600,615,625,625,650,650,695,700,750,800,895]
[null,null,null,null,null,null,null,null,null,null,null,null,null,530,540,550,550,550,550,550,550,550,550,550,575,575,575,580,595,595,595,595,595,595,595,600,600,600,600,625,625,645,650,650,650,650,650,650,650,650,675,675,675,675,695,695,695,695,695,695,695,700,700,725,725,725,750,750,750,750,795,795,800,800,850,850,850,860,900,900,950,995,1000,1200,1200]
[null,null,null,null,null,null,null,null,null,null,null,null,null,795,795,795,795,800,825,825,825,825,825,850,850,850,850,850,850,850,850,850,850,850,850,850,875,875,875,875,875,895,895,895,895,900,950,950,950,950,950,950,950,950,950,960,960,995,995,995,1000,1000,1000,1095,1100,1100,1100,1100,1100,1100,1150,1200,1200,1200,1200,1240,1250,1250,1295,1300,1300,1300,1350,1695,1700]
[null,null,null,null,null,null,null,null,null,null,null,null,null,1200,1200,1200,1200,1200,1200,1200,1200,1200,1200,1200,1200,1200,1200,1350,1350,1350,1350,1400,1400,1400,1400,1400,1400,1400,1400,1400,1500,1500,1500,1500,1500,1500,1500,1500,1500,1500,1500,1500,1660,1660,1660,1660,1695,1695,1695,1695,1697.5,1700,1700,1700,1700,1700,1700,1700,1700,1700,1700,1700,1700,1950,1950,1950,1950,2000,2000,2000,2000,2200,2200,2200,2200]
[null,null,null,null,null,null,null,null,null,null,null,null,null,350,350,350,350,350,350,350,350,350,350,375,375,375,375,375,375,375,375,375,375,375,375,385,395,395,395,395,395,395,395,395,395,395,395,395,395,395,395,395,395,395,395,395,395,395,395,395,397.5,400,400,400,400,400,400,400,400,400,400,400,400,450,450,450,450,450,450,450,450,450,450,450,450]
[null,null,null,null,null,null,null,null,null,null,null,null,null,300,300,300,300,300,300,304.17,310,310,316.07,316.07,320,320,325,325,325,325,325,325,325,330,330,335,340,340,345,350,350,350,359.52,360,360,369.35,370,375,375,375,375,375,375,375,380,385,390,400,400,400,400,400,405,405,420,422,425,425,425,430,435,446.43,450,450,460,468.15,475,475,485.54,495,502,525,528.99,533.33000000000004,576.79]
[null,null,null,null,null,null,null,null,null,null,null,null,null,425,425,425,425,430,445,450,450,450,450,450,450,450,450,450,450,470,475,475,475,475,475,480,490,495,495,495,495,495,495,500,500,500,520,525,525,525,525,535,550,550,550,550,550,550,550,575,575,575,575,595,595,595,595,600,600,620,625,625,650,650,650,650,675,690,695,700,715,750,750,750,850]
[null,null,null,null,null,null,null,null,null,null,null,null,null,550,550,550,550,550,550,550,565,575,575,575,575,595,595,595,595,595,600,600,600,600,620,625,625,625,625,645,650,650,650,650,650,650,650,675,675,685,695,695,695,700,700,725,725,750,750,750,750,775,795,795,795,800,800,825,825,850,850,850,875,895,895,895,900,925,950,975,995,1000,1150,1200,1385]
[null,null,null,null,null,null,null,null,null,null,null,null,null,595,595,600,600,620,625,645,650,650,650,650,650,650,675,675,695,695,695,695,710,725,725,750,750,750,750,750,750,775,795,795,800,825,850,850,850,850,850,850,875,895,900,900,900,925,950,950,975,995,995,1000,1000,1050,1075,1100,1125,1150,1170,1200,1200,1200,1200,1250,1275,1300,1400,1450,1500,1595,1795,1895,2100]
[null,null,null,null,null,null,null,null,null,null,null,null,null,895,895,900,900,925,925,950,975,975,995,995,995,995,995,995,995,995,1000,1050,1050,1100,1100,1100,1100,1150,1150,1200,1200,1200,1200,1200,1200,1250,1250,1295,1300,1300,1300,1350,1395,1400,1400,1400,1400,1400,1450,1450,1500,1500,1500,1500,1500,1500,1540,1560,1560,1580,1595,1595,1600,1600,1660,1695,1750,1750,1850,1900,1900,1950,1995,2000,2750]
[null,null,null,null,null,null,null,null,null,null,null,null,null,1400,1500,1500,1500,1500,1500,1500,1595,1595,1595,1650,1650,1700,1750,1750,1750,1750,1750,1750,1750,1750,1800,1800,1800,1800,1800,1800,1800,1800,1800,1875,1875,1935,1995,1995,2000,2000,2000,2000,2000,2000,2000,2000,2000,2125,2125,2125,2200,2200,2200,2340,2340,2345,2350,2350,2500,2500,2500,2750,2750,2750,2750,2750,2750,2750,2750,2750,2995,2995,2995,3500,3500]
[null,null,null,null,null,null,null,null,null,null,null,null,null,362.5,375,375,375,382.5,390,390,390,392.5,395,395,395,395,395,395,395,397.5,400,400,400,400,400,400,400,412.5,425,425,425,425,425,425,425,437.5,450,450,450,450,450,450,450,450,450,450,450,462.5,475,475,475,475,475,475,475,485,495,495,495,527.5,560,560,560,577.5,595,595,595,617.5,640,640,640,682.5,725,725,725]
[null,null,null,null,null,null,null,null,null,null,null,null,null,270,275,275.89,275.89,280,280,280,285,286.73,290,290,290,290,290,291.07,291.07,297.62,297.62,300,300,300,300,300,300,300,300,300,300,300,300,300,310,312.8,312.8,312.8,315,320,325,325,325,325.83,325.89,330,330.18,334.52,334.52,334.52,334.52,334.52,334.52,334.52,334.52,340,350,350,350,350,350,350,355,377.97,377.98,391.07,400,400,421.43,421.43,421.43,464.88,495,660.42,660.42]
[null,null,null,null,null,null,null,null,null,null,null,null,null,400,410,420,420,425,425,425,425,425,430,430,433,433,435,445,450,450,450,450,450,450,450,450,450,450,450,450,450,450,450,460,460,460,465,470,475,475,475,475,475,475,480,480,480,480,485,490,495,495,495,495,495,495,495,495,500,500,500,500,500,510,520,525,525,525,525,540,550,550,550,560,650]
[null,null,null,null,null,null,null,null,null,null,null,null,null,495,495,500,500,500,500,500,500,500,500,500,510,520,525,525,525,525,525,525,530,530,540,550,550,550,550,550,550,550,550,550,550,550,560,565,570,575,575,575,575,575,580,585,595,595,595,595,600,600,600,600,600,600,610,620,625,625,625,630,650,650,650,650,650,670,675,675,690,695,695,725,750]
[null,null,null,null,null,null,null,null,null,null,null,null,null,550,550,575,575,575,575,580,595,595,600,600,600,600,600,600,600,625,625,625,650,650,650,650,650,650,650,650,650,675,675,675,675,680,695,695,695,695,700,700,700,720,725,725,725,750,750,750,750,750,750,750,750,750,775,775,775,795,795,795,800,800,800,825,825,850,850,875,895,900,900,950,975]
[null,null,null,null,null,null,null,null,null,null,null,null,null,700,700,700,725,725,725,725,738.69,750,750,750,750,750,750,750,750,750,775,780,780,795,795,795,800,800,800,800,800,825,825,825,825,825,825,840,850,850,850,875,875,875,875,875,875,875,895,900,900,920,925,925,925,925,925,950,950,950,950,975,995,995,995,1000,1050,1100,1100,1150,1200,1200,1200,1400,1400]
[null,null,null,null,null,null,null,null,null,null,null,null,null,630,630,630,630,630,630,875,875,875,875,875,875,875,875,875,875,875,875,875,875,875,875,875,875,875,875,875,875,875,875,875,875,875,875,875,875,875,875,875,1200,1200,1200,1200,1200,1200,1200,1200,1200,1200,1200,1200,1200,1200,1200,1200,1200,1200,1200,1200,1200,1200,1200,1200,1200,1200,1200,1200,1200,1200,1200,1200,1200]
[null,null,null,null,null,null,null,null,null,null,null,null,null,315,315,315,315,315,315,350,350,350,350,350,350,350,350,350,350,350,350,350,350,350,350,365,380,380,380,380,380,380,380,380,380,380,380,380,380,380,380,380,395,395,395,395,395,395,395,395,395,395,395,395,395,395,395,395,395,450,450,450,450,450,450,450,450,450,450,450,450,450,450,450,450]
[null,null,null,null,null,null,null,null,null,null,null,null,null,315,324,325,325,325,325,325,325,325,325,325,325,325,325,325,333,335,337.8,340,345,350,350,350,350,350,350,350,350,350,359,359.52,359.52,360,365,375,375,375,375,375,375,375,375,375,375,380,388,390,395,400,400,400,400,400,405,415,425,425,425,425,425,425,430,446.43,450,450,468.15,475,475,485,500,500,545]
[null,null,null,null,null,null,null,null,null,null,null,null,null,550,550,550,550,550,550,550,560,560,570,575,575,575,575,575,575,575,575,580,585,595,595,595,595,595,595,600,600,600,600,600,615,625,625,625,625,625,625,630,645,650,650,650,650,650,650,655,675,675,675,675,680,685,695,695,700,705,725,725,735,750,750,760,770,775,800,810,850,875,900,1000,1100]
[null,null,null,null,null,null,null,null,null,null,null,null,null,680,695,695,695,695,700,700,700,710,720,725,725,725,735,750,750,750,750,750,750,750,760,775,775,775,785,795,795,795,800,800,800,810,825,825,825,850,850,850,850,850,870,875,875,890,895,895,900,900,915,925,945,950,950,950,980,995,1000,1050,1100,1100,1150,1155,1200,1200,1250,1260,1300,1365,1400,1500,1600]
[null,null,null,null,null,null,null,null,null,null,null,null,null,850,850,875,895,895,895,900,900,900,915,925,945,950,950,950,975,975,980,995,995,995,1000,1000,1000,1020,1050,1050,1080,1095,1100,1100,1100,1100,1130,1150,1150,1185,1200,1200,1200,1200,1200,1225,1250,1250,1250,1260,1300,1300,1300,1335,1350,1350,1395,1400,1410,1450,1495,1500,1500,1550,1575,1595,1600,1625,1680,1705,1750,1850,1950,2000,2200]
[null,null,null,null,null,null,null,null,null,null,null,null,null,1250,1250,1280,1295,1300,1300,1300,1300,1350,1350,1350,1365,1400,1400,1400,1425,1450,1450,1450,1460,1495,1496,1500,1500,1500,1500,1500,1500,1500,1515,1520,1540,1595,1596,1600,1600,1600,1600,1600,1600,1640,1680,1695,1700,1700,1700,1700,1730,1750,1785,1795,1800,1800,1800,1820,1850,1890,1890,1900,1995,2000,2000,2000,2200,2200,2250,2250,2250,2300,2500,2500,2520]
[null,null,null,null,null,null,null,null,null,null,null,null,null,1550,1650,1650,1650,1675,1690,1750,1750,1750,1750,1750,1750,1750,1750,1750,1785,1785,1800,1800,1800,1800,1875,1875,1890,1900,1900,1950,1995,1995,1995,1995,2000,2000,2000,2000,2000,2100,2100,2100,2100,2100,2100,2100,2200,2250,2250,2250,2250,2250,2300,2360,2360,2395,2450,2500,2500,2500,2500,2500,2500,2500,2500,2600,2600,2600,2650,2800,2950,2950,3100,3250,3750]
[null,null,null,null,null,null,null,null,null,null,null,null,null,465,465,465,465,475,475,490,490,495,495,495,495,497.5,500,500,500,500,500,500,500,500,525,525,525,525,525,525,525,525,525,525,525,525,525,525,550,550,550,550,550,550,550,550,550,550,550,550,550,570,570,575,575,575,575,575,575,575,605,605,625,625,650,650,650,650,650,700,700,705,705,800,800]
[null,null,null,null,null,null,null,null,null,null,null,null,null,260.70999999999998,270,275,275,275,275,275,275,275,275,275,275,275,275,275,275,300,300,300,300,300,300,300,300,300,300,300,300,300,300,300,300,300,304.17,304.17,310,310,316.07,320,320,325,325.89,325.89,325.89,330,330,330,338.81,347.62,350,350,350,359.52,359.52,359.52,359.52,359.52,359.52,375,375,375,375,385.98,390,390,400,402.98,402.98,425,576.79,576.79,794.05]
[null,null,null,null,null,null,null,null,null,null,null,null,null,350,350,350,350,350,350,350,355,365,370,370,375,375,375,375,375,375,375,375,375,375,375,375,375,375,375,375,377.5,380,390,390,395,395,395,395,395,395,395,395,395,395,395,400,400,400,400,400,400,400,400,415,425,425,425,425,425,430,445,450,450,450,450,450,450,450,450,470,475,475,500,500,550]
[null,null,null,null,null,null,null,null,null,null,null,null,null,425,425,435,440,450,450,450,450,450,450,450,450,450,450,450,450,450,450,450,450,450,450,450,460,460,475,475,475,475,475,475,475,475,475,485,495,495,495,495,495,495,495,500,500,500,500,500,525,525,525,525,525,525,525,540,550,550,550,550,550,550,550,550,575,580,585,595,595,600,650,650,695]
[null,null,null,null,null,null,null,null,null,null,null,null,null,495,495,500,500,500,500,500,510,525,525,525,525,525,525,525,545,550,550,550,550,550,550,550,550,550,550,550,550,560,575,575,575,575,575,575,590,595,595,595,600,600,600,600,625,625,625,636,650,650,650,650,650,650,650,650,675,675,695,695,695,695,700,725,750,750,750,750,795,795,800,850,895]
[null,null,null,null,null,null,null,null,null,null,null,null,null,750,750,750,775,775,795,795,795,795,795,800,800,800,800,835,835,845,845,850,850,850,850,850,850,850,850,850,850,850,850,850,850,875,875,875,895,895,895,895,900,900,900,950,950,950,950,950,950,975,975,995,995,995,995,995,1095,1100,1100,1150,1150,1150,1150,1150,1200,1200,1200,1300,1300,1699,1800,1800,1800]
[null,null,null,null,null,null,null,null,null,null,null,null,null,850,850,862.5,875,875,875,875,875,875,875,875,875,912.5,950,950,950,950,950,950,950,950,950,1025,1100,1100,1100,1100,1100,1100,1100,1100,1100,1100,1100,1100,1100,1100,1100,1100,1100,1100,1100,1175,1250,1250,1250,1250,1250,1250,1250,1250,1250,1325,1400,1400,1400,1400,1400,1400,1400,1400,1400,1700,2000,2000,2000,2000,2000,2000,2000,2000,2000]
[null,null,null,null,null,null,null,null,null,null,null,null,null,250,250,250,250,250,250,250,250,250,250,250,250,250,250,250,250,250,250,250,250,250,250,250,250,250,250,250,250,250,250,250,250,250,250,250,250,250,250,250,250,250,250,250,250,250,250,250,250,250,250,250,250,250,250,250,250,250,250,250,250,250,250,250,250,250,250,250,250,250,250,250,250]
[null,null,null,null,null,null,null,null,null,null,null,null,null,254.17,260,260,269.35000000000002,269.35000000000002,270,270,275,275,275,275,280,280,280,280,280,280,291.07,291.07,291.07,291.07,291.07,291.07,291.07,297.62,297.62,297.62,297.62,297.62,297.62,300,300,300,300,300,300,300,300,300,300,300,300,325,325,325,325,330,330,330,330,330,330,334.52,334.52,334.52,334.52,350,350,350,350,350,350,350,350,370,370,399.7,399.7,399.7,399.7,421.43,421.43]
[null,null,null,null,null,null,null,null,null,null,null,null,null,375,380,380,380,380,380,380,380,385,385,390,390,390,395,395,395,395,400,400,400,400,400,400,400,400,400,400,400,400,400,400,400,400,400,420,420,420,420,420,420,420,420,425,425,425,425,425,425,430,435,435,435,435,440,450,450,450,450,450,450,460,475,475,475,475,475,475,490,495,500,520,530]
[null,null,null,null,null,null,null,null,null,null,null,null,null,480,480,495,495,495,495,495,495,500,500,500,500,500,500,500,500,500,500,500,520,525,525,525,525,525,525,525,525,530,545,550,550,550,550,550,550,550,550,550,550,550,550,550,550,550,575,575,575,575,575,585,595,595,595,595,595,600,600,600,600,625,625,625,625,650,650,650,650,650,675,700,750]
[null,null,null,null,null,null,null,null,null,null,null,null,null,600,600,600,600,600,600,600,620,625,625,625,625,650,650,650,650,650,650,650,650,650,650,650,650,675,675,675,675,675,675,695,695,695,695,695,695,695,695,700,700,700,700,700,725,725,750,750,750,750,750,750,775,775,775,795,795,795,795,800,800,825,825,850,875,895,895,900,900,950,995,995,1000]
[null,null,null,null,null,null,null,null,null,null,null,null,null,875,875,875,880,880,890,890,895,895,895,895,895,895,900,900,950,950,950,950,950,950,950,972.5,995,995,995,995,995,995,995,995,995,1000,1000,1000,1000,1000,1000,1050,1050,1050,1050,1050,1050,1095,1095,1100,1100,1100,1100,1100,1100,1100,1200,1200,1200,1200,1200,1200,1200,1200,1250,1250,1295,1295,1300,1300,1300,1300,1500,1500,1600]
[null,null,null,null,null,null,null,null,null,null,null,null,null,850,895,895,895,895,895,895,895,895,895,895,895,895,895,895,950,950,950,950,950,950,950,950,950,950,950,950,950,950,950,1150,1150,1150,1150,1150,1150,1150,1150,1150,1150,1150,1150,1150,1150,1295,1295,1295,1295,1295,1295,1295,1295,1295,1295,1295,1295,1295,1295,2000,2000,2000,2000,2000,2000,2000,2000,2000,2000,2000,2000,2000,2000]
[null,null,null,null,null,null,null,null,null,null,null,null,null,295,325,325,325,325,325,325,325,325,325,325,325,325,325,325,350,350,350,350,350,350,350,350,350,350,350,350,350,350,350,350,350,350,350,350,350,350,350,350,350,350,350,350,350,350,350,350,350,350,350,350,350,350,350,350,350,350,350,430,430,430,430,430,430,430,430,430,430,430,430,430,430]
[null,null,null,null,null,null,null,null,null,null,null,null,null,260.70999999999998,265,272.62,272.62,272.62,272.62,275,275,275,275,275,275,275,275,275,275,275,275.89,282.44,290,290,294.33999999999997,294.35000000000002,295,295,295,300,300,300,300,300,300,300,300,300,300,300,304.17,304.17,305,305,305,310,315,315,320,320,320,320,320,325,325,325,325.89,330,340,350,350,350,359.52,359.52,359.52,359.52,359.52,359.52,359.52,375,377.97,377.97,400,425,434.52]
[null,null,null,null,null,null,null,null,null,null,null,null,null,350,350,350,350,350,350,350,350,350,350,350,350,350,350,350,350,350,350,350,350,350,350,350,360,365,375,375,375,375,375,375,375,375,375,375,375,380,380,385,388,395,395,395,395,395,399,400,400,400,400,400,410,425,425,425,425,425,425,445,450,450,450,450,465,475,475,475,485,495,520,550,575]
[null,null,null,null,null,null,null,null,null,null,null,null,null,425,425,440,445,450,450,450,450,450,450,450,450,450,450,450,450,450,450,450,450,460,465,475,475,475,475,475,475,475,475,480,495,495,495,495,499,500,500,500,500,525,525,525,525,525,525,545,550,550,550,550,550,550,550,565,575,575,595,595,595,600,600,600,625,625,650,650,650,675,695,750,750]
[null,null,null,null,null,null,null,null,null,null,null,null,null,525,525,550,550,550,550,550,550,550,550,550,560,575,575,580,595,595,595,595,595,600,625,625,625,650,650,650,650,650,650,650,650,675,675,675,680,695,695,695,695,695,695,700,700,700,700,725,725,750,750,750,750,775,775,795,795,799,800,825,850,850,850,850,850,895,900,950,995,995,1100,1200,1600]
[null,null,null,null,null,null,null,null,null,null,null,null,null,800,800,850,850,850,850,850,850,850,850,850,850,850,850,850,850,860,875,895,895,895,895,895,900,900,900,925,945,950,950,950,950,950,950,975,975,975,975,995,995,995,995,995,995,1000,1050,1050,1100,1100,1100,1100,1100,1125,1150,1200,1200,1200,1200,1200,1250,1295,1295,1300,1350,1400,1400,1400,1500,1500,1650,1750,2995]
[null,null,null,null,null,null,null,null,null,null,null,null,null,1000,1100,1100,1100,1100,1100,1195,1195,1195,1195,1195,1200,1200,1200,1200,1250,1250,1250,1250,1250,1300,1300,1300,1300,1300,1400,1400,1400,1400,1400,1400,1400,1400,1400,1400,1400,1400,1400,1400,1495,1495,1495,1495,1495,1500,1500,1500,1500,1500,1575,1575,1575,1575,1950,1950,1950,1950,1950,2000,2000,2000,2000,2000,2500,2500,2500,2500,2500,2750,2750,2750,2750]
[null,null,null,null,null,null,null,null,null,null,null,null,null,250,250,250,250,250,250,275,275,275,275,275,275,275,275,280,280,280,280,280,280,280,280,302.5,325,325,325,325,325,325,325,325,350,350,350,350,350,350,350,350,350,350,350,350,350,350,350,350,350,350,350,350,350,350,350,350,350,350,350,350,350,350,350,350,350,375,375,375,375,375,375,375,375]
[null,null,null,null,null,null,null,null,null,null,null,null,null,250,250,250,250,250,250,250,250,250,250,250,250,250,250,250,250,250.89,250.89,250.89,250.89,250.89,250.89,250.89,250.89,254.17,254.17,254.17,258.89,258.89,260.89,260.89,260.89,275,275,275,282.62,282.62,291.07,291.07,291.07,291.07,291.07,291.07,291.07,291.07,300,300,300,311.73,311.73,311.73,315,315,315,316.07,316.07,316.07,316.07,316.07,325,325,325,325,325,355,355,355,356.25,356.25,356.25,434.52,434.52]
[null,null,null,null,null,null,null,null,null,null,null,null,null,300,310,315,315,320,325,325,325,325,325,325,325,325,325,330,330,330,330,335,340,340,340,345,350,350,350,350,350,350,350,350,350,350,350,350,350,350,350,350,350,350,350,350,350,350,360,360,360,360,360,360,365,365,370,375,375,375,375,380,390,395,395,395,395,395,400,425,425,450,495,500,550]
[null,null,null,null,null,null,null,null,null,null,null,null,null,400,400,400,400,400,400,410,420,420,425,425,425,425,425,425,425,425,425,425,425,430,430,435,440,440,450,450,450,450,450,450,450,450,450,450,450,460,460,460,475,475,475,475,475,475,475,485,490,495,495,495,495,500,500,500,500,500,520,525,525,525,550,550,550,550,550,550,575,580,600,650,650]
[null,null,null,null,null,null,null,null,null,null,null,null,null,465,470,475,475,475,480,485,490,495,495,495,495,495,495,499.7,500,500,500,515,525,525,525,525,525,535,550,550,550,550,550,550,550,550,550,550,550,560,575,575,575,575,575,575,575,580,590,595,595,595,600,600,615,620,625,625,625,650,650,650,650,650,655,660,675,695,700,700,700,720,750,750,850]
[null,null,null,null,null,null,null,null,null,null,null,null,null,695,695,695,695,725,725,725,725,725,735,735,750,750,750,750,750,750,750,750,750,750,750,755,760,780,780,780,787.5,795,795,795,795,797.5,800,800,800,800,800,800,800,800,800,812.5,825,825,825,830,830,830,850,850,850,850,850,850,850,850,850,850,850,850,885,887.5,890,895,895,950,975,1000,1000,1000,1050]
[null,null,null,null,null,null,null,null,null,null,null,null,null,800,800,800,860,860,860,860,895,895,895,895,925,925,925,925,975,975,975,975,1000,1000,1000,1000,1000,1000,1000,1100,1100,1100,1100,1200,1200,1200,1200,1225,1225,1225,1225,1225,1225,1225,1225,1300,1300,1300,1300,1300,1300,1300,1350,1350,1350,1350,1350,1350,1350,1350,1475,1475,1475,1475,1500,1500,1500,1500,1750,1750,1750,1750,2000,2000,2000]
[null,null,null,null,null,null,null,null,null,null,null,null,null,230,230,230,230,230,230,230,230,230,230,230,230,230,230,230,230,230,230,230,230,230,230,240,250,250,250,250,250,250,250,250,250,250,250,250,250,250,250,250,250,250,250,250,250,250,250,250,287.5,325,325,325,325,325,325,325,325,325,325,325,325,325,325,325,325,325,325,325,325,325,325,325,325]
[null,null,null,null,null,null,null,null,null,null,null,null,null,290,294.35000000000002,297.62,297.62,300,300,300,300,300,300,300,300,300,300,300,300,300,305,305,316.07,316.07,316.07,325,325,325,325,325,325,325,325,325,325,325.89,325.89,340,341.07,341.07,345,350,350,350,350,350,350,350,350,359.52,359.52,359.52,369.52,384.52,384.52,400,400,400,400,400,400,400,400,400,400,400,400,400,434.52,434.52,445,445,445,450,450]
[null,null,null,null,null,null,null,null,null,null,null,null,null,360,360,365,370,370,375,375,375,375,375,375,375,375,375,375,375,375,375,375,375,375,380,380,380,390,395,395,395,395,395,395,395,395,395,395,395,395,395,395,395,395,395,400,400,400,400,400,400,400,400,400,420,425,425,425,425,425,425,425,425,430,450,450,450,450,450,450,450,450,450,500,515]
[null,null,null,null,null,null,null,null,null,null,null,null,null,450,450,450,450,450,450,450,450,450,450,450,450,450,450,450,470,475,475,475,475,475,475,475,485,495,495,495,495,495,495,500,500,500,500,500,520,525,525,525,525,525,525,525,525,550,550,550,550,550,550,550,550,550,550,550,550,575,575,575,575,595,595,595,600,600,625,625,650,650,695,795,850]
[null,null,null,null,null,null,null,null,null,null,null,null,null,550,550,560,575,575,575,575,575,575,575,595,595,595,595,595,595,595,595,600,600,600,600,600,600,600,600,600,610,620,625,625,625,625,625,650,650,650,650,650,650,650,650,650,675,675,675,675,695,695,695,700,725,725,725,750,750,750,750,750,750,775,795,795,795,795,795,850,850,895,900,995,1300]
[null,null,null,null,null,null,null,null,null,null,null,null,null,850,850,862.5,875,895,895,895,895,895,895,895,895,897.5,900,925,925,950,950,950,950,950,950,970,990,995,995,995,995,995,995,995,995,1022.5,1050,1050,1050,1050,1075,1100,1100,1100,1100,1100,1100,1200,1200,1200,1200,1200,1200,1200,1200,1225,1250,1300,1300,1300,1325,1350,1395,1395,1450,1475,1500,1500,1500,1595,1697.5,1800,1995,1995,2500]
[null,null,null,null,null,null,null,null,null,null,null,null,null,800,800,800,800,800,800,1195,1195,1195,1195,1195,1195,1247.5,1300,1300,1300,1300,1300,1300,1395,1395,1395,1395,1395,1395,1395,1500,1500,1500,1500,1500,1500,1625,1750,1750,1750,1750,1750,1750,1950,1950,1950,1950,1950,1950,1950,2000,2000,2000,2000,2000,2000,2250,2500,2500,2500,2500,2500,2500,2500,2500,2500,2500,2500,2500,2500,2800,2800,2800,2800,2800,2800]
[null,null,null,null,null,null,null,null,null,null,null,null,null,200,265,265,265,265,265,265,265,265,265,265,265,265,265,265,275,275,275,275,275,275,275,275,275,275,275,275,275,275,275,280,280,280,280,280,280,280,280,280,280,280,280,280,280,285,285,285,285,285,285,285,285,285,285,285,285,285,285,322,322,322,322,322,322,322,322,322,322,322,322,322,322]
[null,null,null,null,null,null,null,null,null,null,null,null,null,275,280,280,285,285,285,285,285,285,295,300,300,300,300,300,300,300,300,300,300,300,300,305,315,315,320,325,325,325.89,325.89,325.89,325.89,334.52,334.52,334.52,334.52,345,345,347.61,350,350,350,359.52,359.52,359.52,359.52,359.52,359.52,359.52,375,375,375,375,375,375,375,375,375,375,383,383,400,400,400,400,400,400,425,425,425,495,543.15]
[null,null,null,null,null,null,null,null,null,null,null,null,null,370,375,375,375,375,375,375,375,375,375,375,375,375,375,375,375,375,375,380,380,385,395,395,395,395,395,395,395,395,395,395,395,395,395,395,400,400,400,400,400,400,400,400,400,400,400,410,417.5,425,425,425,425,425,425,425,425,425,425,425,425,435,450,450,450,450,450,450,460,475,475,475,500]
[null,null,null,null,null,null,null,null,null,null,null,null,null,430,440,450,450,450,450,450,450,450,450,450,450,450,450,450,450,450,450,450,450,450,450,460,460,475,475,475,475,475,475,475,475,475,490,495,495,495,495,495,495,495,495,500,500,500,500,500,525,525,550,550,550,550,550,550,550,550,550,550,550,575,575,575,575,575,595,595,595,595,595,650,750]
[null,null,null,null,null,null,null,null,null,null,null,null,null,495,500,500,500,500,500,500,500,500,500,525,525,525,525,525,550,550,550,550,550,550,550,550,550,550,550,550,550,550,550,550,575,575,575,575,575,575,575,595,595,595,595,595,595,600,620,625,625,650,650,650,650,650,650,650,650,695,695,695,695,700,700,745,750,795,795,795,795,850,850,945,995]
[null,null,null,null,null,null,null,null,null,null,null,null,null,795,795,795,795,795,795,795,795,795,795,795,800,800,800,800,800,800,800,800,800,800,800,800,800,800,800,850,850,850,850,850,850,850,850,860,860,860,860,860,860,860,860,875,875,875,875,875,875,875,895,895,895,895,895,895,895,895,1100,1100,1100,1100,1100,1100,1100,1100,1200,1200,1200,1200,1200,1200,1200]
[null,null,null,null,null,null,null,null,null,null,null,null,null,995,995,995,995,995,995,995,995,995,995,995,995,995,995,995,995,995,995,995,995,995,995,1097.5,1200,1200,1200,1200,1200,1200,1200,1200,1200,1200,1200,1200,1200,1200,1200,1200,1200,1200,1200,1200,1200,1200,1200,1200,1200,1200,1200,1200,1200,1200,1200,1200,1200,1200,1200,1200,1200,1200,1200,1200,1200,1200,1200,1200,1200,1200,1200,1200,1200]
[null,null,null,null,null,null,null,null,null,null,null,null,null,270,270,270,270,270,270,295,295,295,295,295,295,295,295,295,295,295,295,295,295,295,295,295,295,295,295,295,295,295,295,295,295,295,295,295,295,295,295,295,300,300,300,300,300,300,300,300,300,300,300,300,300,300,300,300,300,300,300,300,300,300,300,300,300,300,300,300,300,300,300,300,300]
[null,null,null,null,null,null,null,null,null,null,null,null,null,260,270,271.31,272.62,272.62,272.62,272.62,272.62,275,275,275,275,275,275,275,280,280,291.07,291.07,291.07,294.35000000000002,300,300,300,300,305,305,305,316.07,316.07,316.07,325,325,325,325,325,325,325,325,325,325,325,325,325,345,347.62,347.62,355,359.52,359.52,359.52,359.52,359.52,359.52,359.52,359.52,359.52,359.52,375,375,375,375,378.13,381.25,385.98,399.7,399.7,400,400,400,400,415]
[null,null,null,null,null,null,null,null,null,null,null,null,null,425,425,425,425,425,425,430,435,435,445,450,450,450,450,450,450,450,450,450,450,450,450,450,450,450,450,450,450,450,450,450,450,450,450,450,450,450,450,450,450,455,465,470,475,475,475,475,475,475,475,475,475,475,475,475,475,475,475,480,485,485,495,495,495,495,495,495,495,495,500,500,520]
[null,null,null,null,null,null,null,null,null,null,null,null,null,525,525,525,525,530,540,545,550,550,550,550,550,550,550,550,550,550,550,550,550,550,550,550,550,550,550,550,550,560,565,570,575,575,575,575,575,575,575,575,575,575,575,580,585,595,595,595,595,595,599,600,600,600,600,600,600,600,617.5,625,625,625,625,642.5,650,650,650,650,660,675,695,700,725]
[null,null,null,null,null,null,null,null,null,null,null,null,null,600,600,600,600,625,625,625,625,625,625,625,645,650,650,650,650,650,650,650,650,650,650,650,650,650,650,660,670,675,675,675,675,675,675,675,685,695,695,695,695,695,695,700,710,710,725,725,725,750,750,750,750,750,750,750,760,775,785,795,795,795,795,800,800,825,825,850,900,950,950,975,995]
[null,null,null,null,null,null,null,null,null,null,null,null,null,850,850,850,850,850,850,850,862.5,875,895,895,895,895,895,900,900,900,900,900,925,925,925,935,945,945,945,950,950,950,950,950,950,950,950,975,975,975,975,975,985,985,995,997.5,1000,1000,1000,1000,1000,1000,1000,1000,1000,1000,1000,1100,1100,1100,1100,1100,1100,1100,1195,1197.5,1200,1200,1200,1300,1335,1370,1450,1450,1470]
[null,null,null,null,null,null,null,null,null,null,null,null,null,975,975,987.5,1000,1000,1000,1000,1025,1050,1050,1050,1050,1075,1100,1100,1100,1100,1150,1200,1200,1200,1200,1200,1200,1200,1200,1200,1225,1250,1250,1250,1250,1250,1250,1250,1250,1250,1275,1300,1300,1300,1300,1300,1300,1300,1300,1300,1325,1350,1350,1350,1350,1375,1400,1400,1400,1400,1500,1600,1600,1600,1600,1775,1950,1950,1950,1950,2225,2500,2500,2500,2500]
[null,null,null,null,null,null,null,null,null,null,null,null,null,350,360,360,360,360,360,360,360,360,360,360,360,360,360,360,375,375,375,375,375,375,375,375,375,375,375,375,375,375,375,375,375,375,375,375,375,375,375,375,375,375,375,375,375,395,395,395,395,395,395,395,395,395,395,395,395,395,395,395,395,395,395,395,395,395,395,395,395,395,395,395,395]

{"sheet":"Table 8","index":34,"n_rows":69,"n_cols":12,"rows_kept":69,"cut":false,"hidden":false,"merged":[[66,0,66,11],[68,0,68,11]]}
["Back to contents"]
["TABLE 8 - Private Rents (£ Monthly), by Broad Rental Market Area, 2011 (year to end Sept)"]
[null,"1 Bedroom Properties",null,null,null,null,null,"2 Bedroom Properties"]
[null,"Number of records","Lower Quartile","Median","Mean","Upper Quartile",null,"Number of records","Lower Quartile","Median","Mean","Upper Quartile"]
["Scotland",5471,370,425,439.26,500,null,10841,450,525,546.41999999999996,600]
["Aberdeen and Shire",691,500,550,540.49,575,null,870,600,695,670.81,750]
["Argyll and Bute",89,325,395,369.11,425,null,143,425,495,499.54,550]
["Ayrshires",354,350,375,378.48,400,null,737,425,450,469.47,500]
["Dumfries and Galloway",82,340,375,367.22,395,null,280,420,450,444.21,475]
["Dundee and Angus",458,325,350,360.3,385,null,818,450,500,520.5,585]
["East Dunbartonshire",84,412.5,450,456.61,475,null,137,500,550,571.97,650]
["Fife",186,350,375,383.44,400,null,503,425,470,476.96,520]
["Forth Valley",208,350,385,384.61,400,null,576,450,495,506.53,550]
["Greater Glasgow",747,395,450,451.11,495,null,1374,495,550,588.04999999999995,650]
["Highland and Islands",244,375,420,419.9,450,null,783,460,500,513.76,550]
["Lothian",987,480,525,535.28,575,null,1495,595,650,688.96,750]
["North Lanarkshire",185,350,375,378.99,425,null,548,425,450,463.08,495]
["Perth and Kinross",212,350,380,377.57,400,null,472,452.5,500,512.44000000000005,550]
["Renfrewshire / Inverclyde",360,350,372.5,373.37,395,null,653,425,475,477.94,525]
["Scottish Borders",118,300,350,344.54,375,null,272,400,450,446.24,495]
["South Lanarkshire",272,350,375,384.89,395,null,657,435,475,492.1,550]
["West Dunbartonshire",90,350,395,390.11,425,null,161,450,495,493.6,550]
["West Lothian",104,425,435,435.58,450,null,362,495,525,525.86,550]
[null,"3 Bedroom Properties",null,null,null,null,null,"4 Bedroom Properties"]
[null,"Number of records","Lower Quartile","Median","Mean","Upper Quartile",null,"Number of records","Lower Quartile","Median","Mean","Upper Quartile"]
["Scotland",5268,545,625,672.41,750,null,2243,750,875,970.8,1100]
["Aberdeen and Shire",364,650,750,752.95,875,null,174,850,995,1017.76,1200]
["Argyll and Bute",87,495,595,627.45000000000005,750,null,46,725,800,834.13,995]
["Ayrshires",417,495,550,569.88,625,null,136,650,750,788.66,875]
["Dumfries and Galloway",200,450,500,509.58,560,null,80,550,650,648.78,700]
["Dundee and Angus",224,575,650,651.09,750,null,107,780,850,894.44,1000]
["East Dunbartonshire",115,650,730,772.43,800,null,51,950,1100,1204.31,1400]
["Fife",282,495,560,588.67999999999995,650,null,120,750,800,823.76,895]
["Forth Valley",241,545,600,626.70000000000005,695,null,144,732.5,800,858.02,900]
["Greater Glasgow",476,575,695,753.27,862.5,null,233,875,1100,1169.83,1300]
["Highland and Islands",467,550,625,619.54,695,null,170,650,750,745.16,825]
["Lothian",737,750,895,924.64,1050,null,406,1045,1300,1321.2,1500]
["North Lanarkshire",251,475,550,545.82000000000005,595,null,97,695,750,769.27,850]
["Perth and Kinross",218,575,650,646.58000000000004,700,null,78,750,875,865.06,975]
["Renfrewshire / Inverclyde",269,500,595,620.07000000000005,695,null,100,775,875,954.19,1000]
["Scottish Borders",235,450,525,539.47,595,null,81,615,700,724.63,845]
["South Lanarkshire",374,550,595,618.54,675,null,121,750,850,925.78,995]
["West Dunbartonshire",92,495,575,592.34,650,null,25,700,850,821.4,900]
["West Lothian",219,575,600,619.26,650,null,74,745,800,796.42,875]
[null,"1 Bedroom Shared Properties"]
[null,"Number of records","Lower Quartile","Median","Mean","Upper Quartile"]
["Scotland",1650,257,294.67,293.67,325]
["Aberdeen and Shire",192,285,325,322.86,355]
["Argyll and Bute",17,284,324,318.41000000000003,340]
["Ayrshires",67,274,298,300.68,324]
["Dumfries and Galloway",59,255,275,274.11,290]
["Dundee and Angus",138,235,260,263.08,290]
["East Dunbartonshire",31,257,305,303.58999999999997,335]
["Fife",69,224,250,253.94,275]
["Forth Valley",56,250,275,278.14,297.5]
["Greater Glasgow",302,270,300,295.45999999999998,325]
["Highland and Islands",133,258.27,285,289.49,320]
["Lothian",243,285,320,313.86,341.47]
["North Lanarkshire",51,280,300,306.67,349]
["Perth and Kinross",54,235,265,267.89,300]
["Renfrewshire / Inverclyde",64,265.5,300,299.05,324]
["Scottish Borders",22,220,250,246.95,260]
["South Lanarkshire",68,252.5,285,290.62,303]
["West Dunbartonshire",20,277,294,300.14999999999998,315]
["West Lothian",64,235,281.67,274.61,304.17]
["Notes:"]
["Total figures exclude any studio properties, properties with 5 or more bedrooms, or room rents associated with bed and breakfast lodgings"]
["Figures for rooms in shared properties represent \"rent only\", i.e. exclude any payments for shared services"]
["Note that some caution is needed when interpreting Scotland level findings. This is because whilst the underlying data aims to be representative of rents within each broad rental market area, no attempt has been made to apply any formal weighting techniques to account for any specific area-level sample sizes or structures when aggregating up to a single Scotland level figure "]

{"sheet":"Table 9","index":35,"n_rows":69,"n_cols":12,"rows_kept":69,"cut":false,"hidden":false,"merged":[[66,0,66,11],[68,0,68,11]]}
["Back to contents"]
["TABLE 9 - Private Rents (£ Monthly), by Broad Rental Market Area, 2012 (year to end Sept)"]
[null,"1 Bedroom Properties",null,null,null,null,null,"2 Bedroom Properties"]
[null,"Number of records","Lower Quartile","Median","Mean","Upper Quartile",null,"Number of records","Lower Quartile","Median","Mean","Upper Quartile"]
["Scotland",5846,370,425,447.35,520,null,11298,450,525,552.89,625]
["Aberdeen and Shire",690,520,550,555.25,600,null,1062,650,700,701.44,775]
["Argyll and Bute",95,350,395,383.07,425,null,172,450,495,508.31,550]
["Ayrshires",284,330,350,365.01,395,null,607,425,450,459.24,495]
["Dumfries and Galloway",97,350,370,366.47,395,null,322,420,450,443.75,475]
["Dundee and Angus",483,330,360,361.48,380,null,918,440,490,502.96,560]
["East Dunbartonshire",70,400,425,440.86,475,null,114,525,595,608.66,680]
["Fife",227,350,375,387.33,400,null,711,430,470,481.34,510]
["Forth Valley",217,350,395,392.76,425,null,581,450,500,510.32,550]
["Greater Glasgow",998,375,430,444.05,495,null,1570,495,550,572.74,625]
["Highland and Islands",257,375,425,424.36,450,null,785,450,500,516.38,550]
["Lothian",1276,495,525,541.54999999999995,575,null,1654,600,650,699.53,750]
["North Lanarkshire",162,350,375,382.48,400,null,430,425,450,464.37,500]
["Perth and Kinross",210,350,380,380.4,400,null,516,450,495,504.82,550]
["Renfrewshire / Inverclyde",257,330,365,370.31,395,null,528,425,475,484.84,550]
["Scottish Borders",138,300,340,336.91,355,null,301,400,440,444.92,485]
["South Lanarkshire",246,350,375,379,395,null,597,425,475,485.26,550]
["West Dunbartonshire",72,357.5,395,399.03,425,null,165,450,495,493.9,550]
["West Lothian",67,425,435,435.6,450,null,265,495,525,527.74,550]
[null,"3 Bedroom Properties",null,null,null,null,null,"4 Bedroom Properties"]
[null,"Number of records","Lower Quartile","Median","Mean","Upper Quartile",null,"Number of records","Lower Quartile","Median","Mean","Upper Quartile"]
["Scotland",5337,550,650,695.21,795,null,2357,750,895,982.58,1200]
["Aberdeen and Shire",486,700,825,827.09,950,null,239,900,1100,1105.08,1300]
["Argyll and Bute",102,550,650,678.87,775,null,51,725,800,877.55,950]
["Ayrshires",328,495,550,576.09,650,null,108,650,750,816.47,900]
["Dumfries and Galloway",256,450,500,507.7,550,null,80,545,622.5,632.94000000000005,675]
["Dundee and Angus",283,550,650,643.12,725,null,121,750,850,849.5,950]
["East Dunbartonshire",79,695,750,810.13,895,null,37,900,1195,1137.57,1300]
["Fife",407,500,575,592.24,650,null,185,750,825,859.7,895]
["Forth Valley",194,545,625,647.5,725,null,114,750,850,883.77,950]
["Greater Glasgow",474,575,695,734.1,800,null,227,800,950,1048.83,1250]
["Highland and Islands",491,550,620,623.1,695,null,184,650,750,755.01,850]
["Lothian",801,795,925,983.3,1100,null,442,1100,1300,1341.31,1500]
["North Lanarkshire",229,495,550,571.46,650,null,96,725,795,793.22,850]
["Perth and Kinross",213,575,650,639.04999999999995,700,null,77,725,850,870.84,995]
["Renfrewshire / Inverclyde",199,500,595,609.26,695,null,66,795,900,998.27,1000]
["Scottish Borders",250,475,550,553.24,600,null,94,600,695,712.45,800]
["South Lanarkshire",299,550,595,625.94000000000005,695,null,158,795,885,956.99,995]
["West Dunbartonshire",73,498,575,606.89,680,null,16,700,795,834.38,912.5]
["West Lothian",173,560,599,624.25,650,null,62,750,850,856.56,895]
[null,"1 Bedroom Shared Properties"]
[null,"Number of records","Lower Quartile","Median","Mean","Upper Quartile"]
["Scotland",1926,260,300,300.98,336.27]
["Aberdeen and Shire",232,300,340,338.34,375]
["Argyll and Bute",38,260,281.66000000000003,274.73,325]
["Ayrshires",97,273,300,301.73,325]
["Dumfries and Galloway",55,250.47,275,274.66000000000003,305]
["Dundee and Angus",143,238.33,265,269.83,300]
["East Dunbartonshire",26,285,327.5,338.4,368.33]
["Fife",109,251.33,285,292.26,325]
["Forth Valley",67,250,275,273.16000000000003,300]
["Greater Glasgow",372,275,302.5,312.27999999999997,350]
["Highland and Islands",143,250,275,279.29000000000002,300]
["Lothian",307,280,325,316.18,350]
["North Lanarkshire",64,255.5,301.5,297.25,329]
["Perth and Kinross",69,236,253.33,258.69,283]
["Renfrewshire / Inverclyde",65,275,300,290.55,320]
["Scottish Borders",16,225,244.17,244.81,268.67]
["South Lanarkshire",66,260,300,304,320]
["West Dunbartonshire",18,268,292.5,291.19,325]
["West Lothian",39,250,275,274.07,295]
["Notes:"]
["Total figures exclude any studio properties, properties with 5 or more bedrooms, or room rents associated with bed and breakfast lodgings"]
["Figures for rooms in shared properties represent \"rent only\", i.e. exclude any payments for shared services"]
["Note that some caution is needed when interpreting Scotland level findings. This is because whilst the underlying data aims to be representative of rents within each broad rental market area, no attempt has been made to apply any formal weighting techniques to account for any specific area-level sample sizes or structures when aggregating up to a single Scotland level figure "]

{"sheet":"Table 10","index":36,"n_rows":69,"n_cols":12,"rows_kept":69,"cut":false,"hidden":false,"merged":[[66,0,66,11],[68,0,68,11]]}
["Back to contents"]
["TABLE 10 - Private Rents (£ Monthly), by Broad Rental Market Area, 2013 (year to end Sept)"]
[null,"1 Bedroom Properties",null,null,null,null,null,"2 Bedroom Properties"]
[null,"Number of records","Lower Quartile","Median","Mean","Upper Quartile",null,"Number of records","Lower Quartile","Median","Mean","Upper Quartile"]
["Scotland",5112,375,425,454.38,525,null,11005,450,530,575.84,650]
["Aberdeen and Shire",534,550,600,600.17999999999995,650,null,967,700,800,819.48,900]
["Argyll and Bute",65,350,400,398.82,440,null,151,450,495,502.51,550]
["Ayrshires",201,325,360,369.38,400,null,592,425,450,469.51,500]
["Dumfries and Galloway",102,350,375,374.15,395,null,339,425,450,444.46,475]
["Dundee and Angus",437,330,350,362.12,385,null,790,450,500,515.07000000000005,575]
["East Dunbartonshire",52,420,450,465.96,495,null,123,500,575,587.11,650]
["Fife",253,350,375,381.48,400,null,738,425,475,485.39,525]
["Forth Valley",219,350,390,388.84,425,null,582,450,495,505.6,550]
["Greater Glasgow",945,395,450,455.78,500,null,1623,495,550,593.71,650]
["Highland and Islands",179,395,430,430.75,475,null,566,475,525,527.24,575]
["Lothian",1049,495,525,555.27,595,null,1791,625,680,728.57,775]
["North Lanarkshire",127,350,375,382.66,425,null,431,425,450,463.09,495]
["Perth and Kinross",165,365,395,396.18,420,null,419,460,500,518.61,550]
["Renfrewshire / Inverclyde",244,350,375,377.76,400,null,478,425,475,480.45,525]
["Scottish Borders",141,300,325,331.99,350,null,317,395,450,443.86,495]
["South Lanarkshire",245,350,375,375.26,395,null,565,435,475,490.7,545]
["West Dunbartonshire",50,375,395,392.2,425,null,175,425,475,486.03,550]
["West Lothian",104,400,435,433.11,450,null,358,500,529,536.71,558]
[null,"3 Bedroom Properties",null,null,null,null,null,"4 Bedroom Properties"]
[null,"Number of records","Lower Quartile","Median","Mean","Upper Quartile",null,"Number of records","Lower Quartile","Median","Mean","Upper Quartile"]
["Scotland",4863,550,650,707.47,795,null,1951,750,900,1059.69,1250]
["Aberdeen and Shire",448,775,950,1019.32,1200,null,324,1100,1400,1484.07,1800]
["Argyll and Bute",83,500,600,624.94000000000005,745,null,60,722.5,850,921.83,1197.5]
["Ayrshires",347,495,550,574.91,650,null,136,677.5,795,834.36,900]
["Dumfries and Galloway",259,475,500,508.44,550,null,80,550,632.5,635.38,700]
["Dundee and Angus",245,550,625,644.39,750,null,93,750,850,883.13,950]
["East Dunbartonshire",95,650,750,797.68,850,null,48,950,1100,1246.04,1500]
["Fife",381,500,575,600.47,675,null,138,750,850,884.28,925]
["Forth Valley",199,550,600,637.34,695,null,71,775,850,891.69,975]
["Greater Glasgow",503,575,675,753.15,850,null,138,895,1000,1189.78,1400]
["Highland and Islands",355,550,600,620.37,695,null,128,650,750,748.89,850]
["Lothian",666,795,920,970.95,1100,null,264,1175,1400,1416.47,1600]
["North Lanarkshire",199,475,550,540.87,600,null,66,750,800,826.73,895]
["Perth and Kinross",153,575,650,665.03,700,null,76,762.5,895,972.7,1000]
["Renfrewshire / Inverclyde",195,525,625,626.29,700,null,81,750,875,915.1,1000]
["Scottish Borders",222,450,525,541.89,600,null,81,595,665,700.65,795]
["South Lanarkshire",251,525,595,615.73,695,null,92,750,847.5,893.4,995]
["West Dunbartonshire",79,495,550,573.74,635,null,12,695,772.5,774.17,850]
["West Lothian",183,558,608,623.23,675,null,63,795,850,870.95,940]
[null,"1 Bedroom Shared Properties"]
[null,"Number of records","Lower Quartile","Median","Mean","Upper Quartile"]
["Scotland",2025,268,300,308.81,340]
["Aberdeen and Shire",142,316.33,350,365.66,400]
["Argyll and Bute",70,228.33,301.67,280.18,325]
["Ayrshires",120,260,286.5,301.14999999999998,325]
["Dumfries and Galloway",65,250,265,272.17,293.8]
["Dundee and Angus",108,250,273.33999999999997,268.35000000000002,300]
["East Dunbartonshire",38,281.66000000000003,310,323.36,376.66]
["Fife",152,274,303.33,312.87,336.5]
["Forth Valley",85,260,275,284.89,315.47000000000003]
["Greater Glasgow",379,290,320,323.08999999999997,350]
["Highland and Islands",126,250,285.33999999999997,317.58999999999997,311.67]
["Lothian",329,285,325,327.84,366.33]
["North Lanarkshire",59,253,275,274.70999999999998,300]
["Perth and Kinross",69,250,280,275.49,300]
["Renfrewshire / Inverclyde",88,250,287.5,292.81,315]
["Scottish Borders",32,245,250,265.16000000000003,290]
["South Lanarkshire",68,260,300,292.51,317.5]
["West Dunbartonshire",30,275,285,286.20999999999998,303.33]
["West Lothian",65,250.47,275,287.04000000000002,325]
["Notes:"]
["Total figures exclude any studio properties, properties with 5 or more bedrooms, or room rents associated with bed and breakfast lodgings"]
["Figures for rooms in shared properties represent \"rent only\", i.e. exclude any payments for shared services"]
["Note that some caution is needed when interpreting Scotland level findings. This is because whilst the underlying data aims to be representative of rents within each broad rental market area, no attempt has been made to apply any formal weighting techniques to account for any specific area-level sample sizes or structures when aggregating up to a single Scotland level figure "]

{"sheet":"Table 11","index":37,"n_rows":69,"n_cols":12,"rows_kept":69,"cut":false,"hidden":false,"merged":[[66,0,66,11],[68,0,68,11]]}
["Back to contents"]
["TABLE 11 - Private Rents (£ Monthly), by Broad Rental Market Area, 2014 (year to end Sept)"]
[null,"1 Bedroom Properties",null,null,null,null,null,"2 Bedroom Properties"]
[null,"Number of records","Lower Quartile","Median","Mean","Upper Quartile",null,"Number of records","Lower Quartile","Median","Mean","Upper Quartile"]
["Scotland",5197,375,435,472.18,550,null,11206,450,550,596.45000000000005,660]
["Aberdeen and Shire",561,625,650,663.52,725,null,1025,795,875,898.08,1000]
["Argyll and Bute",91,360,395,395.47,425,null,140,425,495,495.44,550]
["Ayrshires",206,325,360,364.83,395,null,604,425,450,460.9,497.5]
["Dumfries and Galloway",114,350,375,369.27,390,null,363,410,450,442.14,475]
["Dundee and Angus",405,335,365,369.12,400,null,856,450,500,517.76,575]
["East Dunbartonshire",58,425,450,472.07,525,null,150,525,575,603.70000000000005,695]
["Fife",180,350,395,405.31,425,null,626,450,490,509.51,550]
["Forth Valley",218,350,392.5,387.39,425,null,540,435,495,506.37,550]
["Greater Glasgow",1116,395,450,476.49,535,null,1840,500,575,626.38,695]
["Highland and Islands",236,400,445,439.51,475,null,741,475,525,532.32000000000005,580]
["Lothian",950,515,550,582.17999999999995,625,null,1602,630,705,779.12,840]
["North Lanarkshire",164,350,375,375.12,395,null,468,425,450,463.85,497.5]
["Perth and Kinross",200,360,392.5,388.83,420,null,462,460,500,520.45000000000005,575]
["Renfrewshire / Inverclyde",232,350,375,377.5,395,null,513,425,475,483,525]
["Scottish Borders",126,300,350,337.33,370,null,325,400,440,444.22,495]
["South Lanarkshire",188,350,375,379.54,400,null,468,447.5,475,494.06,550]
["West Dunbartonshire",56,360,395,390,425,null,145,450,475,479,525]
["West Lothian",96,425,450,448.15,475,null,338,500,542.5,542.6,575]
[null,"3 Bedroom Properties",null,null,null,null,null,"4 Bedroom Properties"]
[null,"Number of records","Lower Quartile","Median","Mean","Upper Quartile",null,"Number of records","Lower Quartile","Median","Mean","Upper Quartile"]
["Scotland",5007,550,650,723.61,800,null,1799,760,925,1082.73,1300]
["Aberdeen and Shire",422,850,1100,1089.01,1300,null,293,1200,1550,1564.74,1850]
["Argyll and Bute",82,500,650,639.6,750,null,36,772.5,895,908.89,997.5]
["Ayrshires",346,495,550,568.83000000000004,625,null,115,675,750,840.12,1000]
["Dumfries and Galloway",284,450,500,511.86,550,null,65,550,650,636.91999999999996,700]
["Dundee and Angus",303,550,650,668.02,750,null,107,800,950,961.21,1140]
["East Dunbartonshire",114,695,795,798.73,890,null,40,922.5,1200,1279.83,1525]
["Fife",415,525,590,608.70000000000005,675,null,168,750,850,870.87,947.5]
["Forth Valley",176,525,595,637.21,750,null,73,775,850,878.77,900]
["Greater Glasgow",512,567.5,695,795.62,900,null,130,895,1200,1211.1199999999999,1500]
["Highland and Islands",436,550,600,625.22,700,null,123,675,750,761.79,850]
["Lothian",612,800,985,1065.8599999999999,1215,null,242,1050,1395,1428.27,1695]
["North Lanarkshire",200,495,550,550.52,597.5,null,55,695,795,791.64,850]
["Perth and Kinross",179,550,625,639.44000000000005,695,null,66,725,885,912.59,1000]
["Renfrewshire / Inverclyde",276,500,595,621.87,700,null,74,800,912.5,975.32,1200]
["Scottish Borders",218,450,515,528.23,580,null,73,600,695,727.05,800]
["South Lanarkshire",202,550,600,617.05999999999995,670,null,70,800,925,976.84,1100]
["West Dunbartonshire",87,480,550,590.70000000000005,650,null,15,750,795,795.87,850]
["West Lothian",143,575,625,636.77,675,null,54,795,862.5,889.07,950]
[null,"1 Bedroom Shared Properties"]
[null,"Number of records","Lower Quartile","Median","Mean","Upper Quartile"]
["Scotland",1938,271.66000000000003,300,316.88,350]
["Aberdeen and Shire",148,345,400,401.77,450]
["Argyll and Bute",68,273.33,303.33,305.91000000000003,334.52]
["Ayrshires",107,260,276.66000000000003,289.5,315]
["Dumfries and Galloway",74,255,271.67,268.81,285]
["Dundee and Angus",104,250,275,274.42,300]
["East Dunbartonshire",28,285,315,322.2,341.67]
["Fife",146,275,304.17,312.33,350]
["Forth Valley",108,270.17,305,308.49,354.17]
["Greater Glasgow",273,293.33,325,346.23,400]
["Highland and Islands",134,253.33,290,290.83,318.33]
["Lothian",333,300,328,338.41,375]
["North Lanarkshire",51,260,300,296.10000000000002,325]
["Perth and Kinross",54,250,256.67,280.86,300]
["Renfrewshire / Inverclyde",92,250,283.33,291.26,325]
["Scottish Borders",30,235,251.67,262.89999999999998,300]
["South Lanarkshire",74,271.66000000000003,300,302.57,325]
["West Dunbartonshire",49,260,281.66000000000003,283.39999999999998,305]
["West Lothian",65,260,285,293.83,325]
["Notes:"]
["Total figures exclude any studio properties, properties with 5 or more bedrooms, or room rents associated with bed and breakfast lodgings"]
["Figures for rooms in shared properties represent \"rent only\", i.e. exclude any payments for shared services"]
["Note that some caution is needed when interpreting Scotland level findings. This is because whilst the underlying data aims to be representative of rents within each broad rental market area, no attempt has been made to apply any formal weighting techniques to account for any specific area-level sample sizes or structures when aggregating up to a single Scotland level figure "]

{"sheet":"Table 12","index":38,"n_rows":1222,"n_cols":453,"rows_kept":1222,"cut":false,"hidden":false,"merged":[[66,0,66,11],[68,0,68,11]]}
["Back to contents"]
["TABLE 12 - Private Rents (£ Monthly), by Broad Rental Market Area, 2015 (year to end Sept)"]
[null,"1 Bedroom Properties",null,null,null,null,null,"2 Bedroom Properties"]
[null,"Number of records","Lower Quartile","Median","Mean","Upper Quartile",null,"Number of records","Lower Quartile","Median","Mean","Upper Quartile"]
["Scotland",5682,375,450,479.87,575,null,12042,470,550,609.52,695]
["Aberdeen and Shire",596,625,675,666.96,700,null,1009,795,875,873.8,950]
["Argyll and Bute",102,350,400,398.16,450,null,178,450,495,508.79,550]
["Ayrshires",286,325,350,362.86,395,null,681,420,450,460.63,500]
["Dumfries and Galloway",110,350,375,373.39,400,null,371,420,450,446.25,475]
["Dundee and Angus",406,350,375,381.24,400,null,860,450,517.5,530.9,600]
["East Dunbartonshire",111,425,450,461.49,495,null,177,525,575,610.75,675]
["Fife",279,350,395,395.12,425,null,812,440,475,497.96,550]
["Forth Valley",300,357.5,380,396.32,425,null,739,450,495,508.44,550]
["Greater Glasgow",1097,420,480,501.23,575,null,1856,525,625,667.74,750]
["Highland and Islands",258,400,450,449.77,495,null,734,495,550,544.54999999999995,600]
["Lothian",939,550,595,619.9,675,null,1818,675,775,828.92,900]
["North Lanarkshire",160,350,375,383.63,400,null,437,425,450,474.83,525]
["Perth and Kinross",201,375,400,402.5,425,null,442,475,525,528.99,575]
["Renfrewshire / Inverclyde",277,330,350,372.21,400,null,493,425,475,488.37,550]
["Scottish Borders",157,300,345,339.71,360,null,309,400,435,443.93,490]
["South Lanarkshire",192,350,380,384.36,400,null,503,450,475,497.05,550]
["West Dunbartonshire",108,360,395,390.14,417.5,null,243,425,460,476.44,525]
["West Lothian",103,425,450,445.29,475,null,380,525,550,559.54,595]
[null,"3 Bedroom Properties",null,null,null,null,null,"4 Bedroom Properties"]
[null,"Number of records","Lower Quartile","Median","Mean","Upper Quartile",null,"Number of records","Lower Quartile","Median","Mean","Upper Quartile"]
["Scotland",5079,550,650,743.8,850,null,1777,800,975,1096.83,1300]
["Aberdeen and Shire",428,900,1100,1072.46,1250,null,281,1250,1450,1492.52,1700]
["Argyll and Bute",98,510,595,612.35,675,null,40,850,900,946.5,995]
["Ayrshires",380,490,525,568.07000000000005,642.5,null,106,695,850,871.69,995]
["Dumfries and Galloway",234,450,500,505.94,550,null,62,550,650,646.85,750]
["Dundee and Angus",283,560,690,684.17,795,null,105,825,950,967.81,1140]
["East Dunbartonshire",98,695,797.5,819.59,900,null,46,950,1200,1264.46,1500]
["Fife",455,500,575,602.28,680,null,167,750,850,884.35,950]
["Forth Valley",236,525,600,633.64,695,null,83,795,850,905.72,1000]
["Greater Glasgow",545,595,750,833.69,975,null,127,850,1100,1189.33,1500]
["Highland and Islands",347,550,650,652.25,750,null,129,695,795,814.1,900]
["Lothian",698,825,1000,1097.1500000000001,1300,null,229,1200,1500,1510.64,1730]
["North Lanarkshire",237,479,550,564.87,650,null,62,750,850,895.06,950]
["Perth and Kinross",133,595,650,679.55,750,null,52,862.5,972.5,992.12,1100]
["Renfrewshire / Inverclyde",227,500,625,646.1,725,null,95,795,895,977.39,1100]
["Scottish Borders",223,450,525,535.36,595,null,60,675,755,746.42,830]
["South Lanarkshire",181,550,600,634.01,695,null,60,825,970,1042.67,1200]
["West Dunbartonshire",103,495,550,571.15,625,null,13,795,800,861.7,875]
["West Lothian",173,600,650,673.9,725,null,60,810,935,936.17,1000]
[null,"1 Bedroom Shared Properties"]
[null,"Number of records","Lower Quartile","Median","Mean","Upper Quartile"]
["Scotland",2178,275,316.07,326.54000000000002,359.52]
["Aberdeen and Shire",138,375,407.5,433.46,500]
["Argyll and Bute",81,275,325,319.23,347.62]
["Ayrshires",139,275,300,304.35000000000002,333]
["Dumfries and Galloway",80,257.5,281.81,277.7,305]
["Dundee and Angus",95,250,290,289.27999999999997,320]
["East Dunbartonshire",32,280,319.54000000000002,312.08,325]
["Fife",209,275,316.07,320.61,355]
["Forth Valley",135,272.62,300,307.52,350]
["Greater Glasgow",255,285,335,352.87,400]
["Highland and Islands",201,270,300,315.31,334.52]
["Lothian",339,305,350,351.08,395]
["North Lanarkshire",64,260.70999999999998,300,310.17,338.81]
["Perth and Kinross",49,254.17,291.07,294.54000000000002,330]
["Renfrewshire / Inverclyde",118,250,294.35000000000002,286.83999999999997,320]
["Scottish Borders",37,250,250.89,271.45,300]
["South Lanarkshire",67,275,325,325.39,359.52]
["West Dunbartonshire",69,272.61,305,315.55,359.52]
["West Lothian",70,250.89,300,298.56,355]
["Notes:"]
["Total figures exclude any studio properties, properties with 5 or more bedrooms, or room rents associated with bed and breakfast lodgings"]
["Figures for rooms in shared properties represent \"rent only\", i.e. exclude any payments for shared services"]
["Note that some caution is needed when interpreting Scotland level findings. This is because whilst the underlying data aims to be representative of rents within each broad rental market area, no attempt has been made to apply any formal weighting techniques to account for any specific area-level sample sizes or structures when aggregating up to a single Scotland level figure "]
[]
[]
[]
[]
[]
[]
[]
[]
[]
[]
[]
[]
[]
[]
[]
[]
[]
[]
[]
[]
[]
[]
[]
[]
[]
[]
[]
[]
[]
[]
[]
[]
[]
[]
[]
[]
[]
[]
[]
[]
[]
[]
[]
[]
[]
[]
[]
[]
[]
[]
[]
[]
[]
[]
[]
[]
[]
[]
[]
[]
[]
[]
[]
[]
[]
[]
[]
[]
[]
[]
[]
[]
[]
[]
[]
[]
[]
[]
[]
[]
[]
[]
[]
[]
[]
[]
[]
[]
[]
[]
[]
[]
[]
[]
[]
[]
[]
[]
[]
[]
[]
[]
[]
[]
[]
[]
[]
[]
[]
[]
[]
[]
[]
[]
[]
[]
[]
[]
[]
[]
[]
[]
[]
[]
[]
[]
[]
[]
[]
[]
[]
[]
[]
[]
[]
[]
[]
[]
[]
[]
[]
[]
[]
[]
[]
[]
[]
[]
[]
[]
[]
[]
[]
[]
[]
[]
[]
[]
[]
[]
[]
[]
[]
[]
[]
[]
[]
[]
[]
[]
[]
[]
[]
[]
[]
[]
[]
[]
[]
[]
[]
[]
[]
[]
[]
[]
[]
[]
[]
[]
[]
[]
[]
[]
[]
[]
[]
[]
[]
[]
[]
[]
[]
[]
[]
[]
[]
[]
[]
[]
[]
[]
[]
[]
[]
[]
[]
[]
[]
[]
[]
[]
[]
[]
[]
[]
[]
[]
[]
[]
[]
[]
[]
[]
[]
[]
[]
[]
[]
[]
[]
[]
[]
[]
[]
[]
[]
[]
[]
[]
[]
[]
[]
[]
[]
[]
[]
[]
[]
[]
[]
[]
[]
[]
[]
[]
[]
[]
[]
[]
[]
[]
[]
[]
[]
[]
[]
[]
[]
[]
[]
[]
[]
[]
[]
[]
[]
[]
[]
[]
[]
[]
[]
[]
[]
[]
[]
[]
[]
[]
[]
[]
[]
[]
[]
[]
[]
[]
[]
[]
[]
[]
[]
[]
[]
[]
[]
[]
[]
[]
[]
[]
[]
[]
[]
[]
[]
[]
[]
[]
[]
[]
[]
[]
[]
[]
[]
[]
[]
[]
[]
[]
[]
[]
[]
[]
[]
[]
[]
[]
[]
[]
[]
[]
[]
[]
[]
[]
[]
[]
[]
[]
[]
[]
[]
[]
[]
[]
[]
[]
[]
[]
[]
[]
[]
[]
[]
[]
[]
[]
[]
[]
[]
[]
[]
[]
[]
[]
[]
[]
[]
[]
[]
[]
[]
[]
[]
[]
[]
[]
[]
[]
[]
[]
[]
[]
[]
[]
[]
[]
[]
[]
[]
[]
[]
[]
[]
[]
[]
[]
[]
[]
[]
[]
[]
[]
[]
[]
[]
[]
[]
[]
[]
[]
[]
[]
[]
[]
[]
[]
[]
[]
[]
[]
[]
[]
[]
[]
[]
[]
[]
[]
[]
[]
[]
[]
[]
[]
[]
[]
[]
[]
[]
[]
[]
[]
[]
[]
[]
[]
[]
[]
[]
[]
[]
[]
[]
[]
[]
[]
[]
[]
[]
[]
[]
[]
[]
[]
[]
[]
[]
[]
[]
[]
[]
[]
[]
[]
[]
[]
[]
[]
[]
[]
[]
[]
[]
[]
[]
[]
[]
[]
[]
[]
[]
[]
[]
[]
[]
[]
[]
[]
[]
[]
[]
[]
[]
[]
[]
[]
[]
[]
[]
[]
[]
[]
[]
[]
[]
[]
[]
[]
[]
[]
[]
[]
[]
[]
[]
[]
[]
[]
[]
[]
[]
[]
[]
[]
[]
[]
[]
[]
[]
[]
[]
[]
[]
[]
[]
[]
[]
[]
[]
[]
[]
[]
[]
[]
[]
[]
[]
[]
[]
[]
[]
[]
[]
[]
[]
[]
[]
[]
[]
[]
[]
[]
[]
[]
[]
[]
[]
[]
[]
[]
[]
[]
[]
[]
[]
[]
[]
[]
[]
[]
[]
[]
[]
[]
[]
[]
[]
[]
[]
[]
[]
[]
[]
[]
[]
[]
[]
[]
[]
[]
[]
[]
[]
[]
[]
[]
[]
[]
[]
[]
[]
[]
[]
[]
[]
[]
[]
[]
[]
[]
[]
[]
[]
[]
[]
[]
[]
[]
[]
[]
[]
[]
[]
[]
[]
[]
[]
[]
[]
[]
[]
[]
[]
[]
[]
[]
[]
[]
[]
[]
[]
[]
[]
[]
[]
[]
[]
[]
[]
[]
[]
[]
[]
[]
[]
[]
[]
[]
[]
[]
[]
[]
[]
[]
[]
[]
[]
[]
[]
[]
[]
[]
[]
[]
[]
[]
[]
[]
[]
[]
[]
[]
[]
[]
[]
[]
[]
[]
[]
[]
[]
[]
[]
[]
[]
[]
[]
[]
[]
[]
[]
[]
[]
[]
[]
[]
[]
[]
[]
[]
[]
[]
[]
[]
[]
[]
[]
[]
[]
[]
[]
[]
[]
[]
[]
[]
[]
[]
[]
[]
[]
[]
[]
[]
[]
[]
[]
[]
[]
[]
[]
[]
[]
[]
[]
[]
[]
[]
[]
[]
[]
[]
[]
[]
[]
[]
[]
[]
[]
[]
[]
[]
[]
[]
[]
[]
[]
[]
[]
[]
[]
[]
[]
[]
[]
[]
[]
[]
[]
[]
[]
[]
[]
[]
[]
[]
[]
[]
[]
[]
[]
[]
[]
[]
[]
[]
[]
[]
[]
[]
[]
[]
[]
[]
[]
[]
[]
[]
[]
[]
[]
[]
[]
[]
[]
[]
[]
[]
[]
[]
[]
[]
[]
[]
[]
[]
[]
[]
[]
[]
[]
[]
[]
[]
[]
[]
[]
[]
[]
[]
[]
[]
[]
[]
[]
[]
[]
[]
[]
[]
[]
[]
[]
[]
[]
[]
[]
[]
[]
[]
[]
[]
[]
[]
[]
[]
[]
[]
[]
[]
[]
[]
[]
[]
[]
[]
[]
[]
[]
[]
[]
[]
[]
[]
[]
[]
[]
[]
[]
[]
[]
[]
[]
[]
[]
[]
[]
[]
[]
[]
[]
[]
[]
[]
[]
[]
[]
[]
[]
[]
[]
[]
[]
[]
[]
[]
[]
[]
[]
[]
[]
[]
[]
[]
[]
[]
[]
[]
[]
[]
[]
[]
[]
[]
[]
[]
[]
[]
[]
[]
[]
[]
[]
[]
[]
[]
[]
[]
[]
[]
[]
[]
[]
[]
[]
[]
[]
[]
[]
[null,null,null,null,null,null,null,null,null,null,null,null,null,235,238,239,240,243,244,245,248,250,251,252,253,254,255,259,260,261,262,263,265,269,270,271,273,275,276,278,280,281,282,283,285,287,288,289,290,291,293,294,295,298,299,300,303,304,305,308,309,310,312,313,315,316,317,319,320,322,323,324,325,326,328,329,330,331,333,335,336,337,338,340,341,342,345,346,347,348,349,350,353,354,355,356,359,360,361,362,363,364,365,368,369,370,373,375,378,380,381,383,385,386,388,389,390,391,395,396,399,400,403,404,405,406,410,411,412,413,414,415,420,421,424,425,426,427,429,430,433,435,437,438,440,441,443,445,446,449,450,455,456,460,465,468,470,472,473,475,477,478,479,480,485,486,489,490,492,494,495,498,499,500,502,505,508,510,515,517,520,525,526,529,530,533,535,540,542,543,545,548,550,552,555,560,564,565,570,575,577,578,580,585,588,590,595,599,600,605,609,610,615,620,625,626,630,635,636,640,645,650,655,660,665,670,672,675,680,682,685,690,693,694,695,696,699,700,705,710,715,720,725,730,735,739,740,745,748,749,750,755,760,765,770,775,780,782,785,790,794,795,799,800,810,815,820,825,830,835,840,845,849,850,855,860,865,870,875,878,880,885,890,895,897,900,910,915,920,925,930,935,940,945,950,960,965,968,970,975,980,985,990,995,999,1000,1020,1025,1030,1040,1045,1050,1055,1070,1075,1080,1090,1095,1099,1100,1120,1125,1130,1134,1140,1150,1155,1170,1175,1180,1185,1190,1195,1200,1205,1215,1225,1230,1240,1245,1250,1260,1265,1275,1280,1285,1295,1300,1304,1310,1320,1325,1335,1340,1345,1350,1365,1370,1375,1380,1385,1390,1395,1400,1410,1415,1420,1425,1440,1444,1445,1450,1460,1470,1475,1480,1495,1496,1500,1515,1520,1525,1540,1545,1550,1560,1570,1575,1580,1595,1596,1599,1600,1625,1640,1645,1650,1660,1675,1680,1690,1695,1699,1700,1705,1730,1750,1785,1795,1800,1820,1835,1840,1850,1875,1890,1895,1900,1940,1950,1975,1995,2000,2050,2095,2100,2125,2150,2195,2200,2250,2275,2300,2340,2350,2360,2395,2400,2450,2500,2520,2600,2650,2750,2775,2800,2950,2995,3000,3100,3250,3500,3750]
[null,null,null,null,null,null,null,null,null,null,null,null,null,"N","N","N","N","N","N","N","N","N","N","N","N","N","N","N","N","N","N","N","N","N","N","N","N","N","N","N","N","N","N","N","N","N","N","N","N","N","N","N","N","N","N","N","N","N","N","N","N","N","N","N","N","N","N","N","N","N","N","N","N","N","N","N","N","N","N","N","N","N","N","N","N","N","N","N","N","N","N","N","N","N","N","N","N","N","N","N","N","N","N","N","N","N","N","N","N","N","N","N","N","N","N","N","N","N","N","N","N","N","N","N","N","N","N","N","N","N","N","N","N","N","N","N","N","N","N","N","N","N","N","N","N","N","N","N","N","N","N","N","N","N","N","N","N","N","N","N","N","N","N","N","N","N","N","N","N","N","N","N","N","N","N","N","N","N","N","N","N","N","N","N","N","N","N","N","N","N","N","N","N","N","N","N","N","N","N","N","N","N","N","N","N","N","N","N","N","N","N","N","N","N","N","N","N","N","N","N","N","N","N","N","N","N","N","N","N","N","N","N","N","N","N","N","N","N","N","N","N","N","N","N","N","N","N","N","N","N","N","N","N","N","N","N","N","N","N","N","N","N","N","N","N","N","N","N","N","N","N","N","N","N","N","N","N","N","N","N","N","N","N","N","N","N","N","N","N","N","N","N","N","N","N","N","N","N","N","N","N","N","N","N","N","N","N","N","N","N","N","N","N","N","N","N","N","N","N","N","N","N","N","N","N","N","N","N","N","N","N","N","N","N","N","N","N","N","N","N","N","N","N","N","N","N","N","N","N","N","N","N","N","N","N","N","N","N","N","N","N","N","N","N","N","N","N","N","N","N","N","N","N","N","N","N","N","N","N","N","N","N","N","N","N","N","N","N","N","N","N","N","N","N","N","N","N","N","N","N","N","N","N","N","N","N","N","N","N","N","N","N","N","N","N","N","N","N","N","N","N","N","N","N","N","N","N","N","N","N","N","N","N","N","N","N","N","N","N","N","N","N","N","N","N","N","N","N","N","N","N","N","N"]
[null,null,null,null,null,null,null,null,null,null,null,null,null,13,1,6,19,1,1,23,14,101,19,1,1,9,10,1,29,13,2,1,20,13,28,2,46,189,6,1,37,5,3,8,37,3,1,1,32,14,1,25,75,8,6,305,1,12,53,1,1,26,3,7,32,57,2,3,72,1,1,3,317,18,1,1,71,2,9,56,1,1,12,73,1,1,35,2,2,13,2,739,4,1,11,1,1,222,1,1,1,1,45,10,6,63,1,593,8,123,4,3,64,2,2,1,81,6,475,1,13,781,7,1,11,1,44,5,2,6,1,44,156,12,1,928,1,1,1,89,9,77,1,1,85,1,1,38,11,4,1629,10,1,112,58,11,71,1,1,855,1,2,1,116,101,2,1,62,1,1,775,2,5,892,2,1,1,42,27,1,89,924,2,1,64,4,40,53,1,2,55,1,1512,7,3,72,1,43,44,688,5,2,65,48,1,47,625,5,709,2,1,27,25,67,552,2,56,12,1,28,39,1068,11,29,8,25,1,407,59,1,20,18,2,1,457,1,4,414,12,14,18,27,309,19,15,1,11,28,1,4,740,3,30,4,10,165,27,1,28,6,1,349,1,352,20,2,7,216,11,5,21,11,2,520,11,7,7,13,184,1,13,3,34,221,1,314,3,12,7,101,7,2,4,20,325,5,2,1,7,105,9,4,10,208,2,207,7,3,1,1,3,93,1,1,6,6,1,21,1,264,1,15,1,1,7,84,13,2,11,2,4,1,20,333,1,1,6,3,2,4,130,16,1,14,1,1,27,132,1,2,2,1,1,1,3,82,6,1,7,1,1,1,13,102,2,2,2,7,1,1,1,35,1,6,1,2,10,1,143,1,8,1,3,1,24,3,1,8,1,17,1,1,76,5,2,1,21,2,2,7,1,10,1,35,1,2,33,5,9,48,1,1,1,12,3,6,2,15,2,17,1,15,48,1,1,10,1,1,1,16,17,1,10,1,2,2,1,3,2,20,2,4,1,6,1,2,2,2,2,1,1,1,1]
[null,null,null,null,null,null,null,null,null,null,null,null,null,1,".",".",".",".",".",".",".",".",".",".",".",".",".",".",".",".",".",".",".",".",".",".",".",".",1,".",1,".",".",".",".",".",".",".",1,".",".",".",".",".",".",7,".",".",".",".",".",".",".",".",".",".",".",".",4,".",".",".",".",".",".",".",".",".",".",5,".",".",".",".",".",".",".",".",".",".",".",15,".",".",".",".",".",".",".",".",".",".",".",".",".",".",".",10,".",".",".",".",1,".",".",".",1,".",2,".",".",31,".",".",1,".",1,".",".",".",".",".",1,".",".",9,".",".",".",1,".",1,".",1,2,".",".",".",".",".",20,".",".",".",".",".",".",".",".",5,".",".",".",4,3,".",".",1,".",".",6,".",".",26,".",".",1,".",".",".",1,19,".",".",".",".",".",1,".",".",".",".",58,2,".",".",".",".",".",27,".",".",1,".",".",3,19,".",85,".",".",".",".",".",60,".",2,".",".",2,1,140,".",1,".",3,".",66,".",".",2,1,1,".",40,".",".",106,".",".",1,1,56,2,".",".",".",2,".",1,138,".",".",".",".",27,2,".",".",".",".",35,".",113,".",".",".",48,1,".",1,2,".",129,".",".",".",1,54,".",1,".",2,38,".",106,".",".",".",25,2,".",".",".",98,".",".",".",2,33,1,".",3,43,".",101,".",".",".",".",".",24,".",".",1,1,".",1,".",98,".",1,".",1,1,19,".",".",2,".",".",".",".",116,".",".",".",".",".",".",37,".",1,6,".",".",3,44,".",".",".",1,".",".",".",31,".",".",2,".",".",".",".",40,".",".",".",".",".",1,".",8,".",".",".",".",".",".",46,".",".",".",".",".",7,".",".",".",".",1,".",".",29,".",1,".",7,".",".",".",".",1,".",14,".",".",7,".",".",19,".",".",".",3,".",".",".",7,".",2,1,3,16,".",".",1,".",".",".",5,1,".",6,".",1,".",".",3,".",1,".",".",".",".",".",".",1,".",".",".",".",".","."]
[]
[null,null,null,null,null,null,null,null,null,null,null,null,null,".",".",".",".",".",".",".",".",1,".",".",".",".",".",".",2,".",".",".",1,".",".",2,".",10,".",".",1,".",".",".",1,".",".",".",".",".",".",1,1,".",".",10,".",2,4,".",".",".",".",".",1,3,".",".",1,".",".",".",10,2,".",".",3,".",".",1,".",".",4,1,".",".",4,".",".",3,".",21,".",".",".",".",".",9,".",".",".",1,".",".",1,1,".",15,".",2,1,".",1,".",".",".",2,".",10,".",".",21,".",".",".",".",1,".",".",".",".",".",4,5,".",18,".",".",".",4,".",1,".",".",3,".",".",".",".",".",44,".",".",4,2,".",2,".",".",15,".",".",".",2,1,".",".",2,".",".",19,".",".",24,".",".",".",1,".",1,3,12,1,".",2,".",".",".",".",".",".",".",37,1,".",1,".",".",".",7,".",".",".",2,".",".",5,1,12,".",".",".",".",1,9,".",".",".",".",".",".",20,".",".",".",".",".",4,".",".",".",".",".",".",6,".",".",4,".",".",".",".",2,".",".",".",".",".",".",".",5,".",".",".",".",".",1,".",".",".",".",5,".",1,".",".",".",".",".",".",".",".",".",12,".",".",".",".",3,".",".",".",".",5,".",8,".",".",".",2,".",".",".",".",5,".",".",".",".",".",".",".",".",7,".",1,".",".",".",".",".",".",".",".",".",".",".",".",".",4,".",".",".",".",".",1,".",".",".",".",".",".",".",".",".",".",".",".",".",".",5,".",".",".",".",".",1,".",".",".",".",".",".",".",".",2,".",".",".",".",".",".",".",1,".",".",".",".",".",".",".",".",".",".",".",".",".",".",1,".",".",".",".",".",".",".",1,".",".",".",".",".",".",".",".",".",".",".",".",".",".",".",".",".",".",".",".",".",".",".",".",".",".",".",".",".",".",".",".",".",".",".",".",".",".",".",".",".",".",".",".",".",".",".",".",".",".",".",".",".",".",".",".",".",".",".",".",".",1,".",".",".","."]
[null,null,null,null,null,null,null,null,null,null,null,null,null,4,".",".",".",".",".",4,".",5,4,".",".",1,3,".",".",2,".",".",1,".",2,".",6,21,".",".",5,".",1,2,3,".",".",".",2,".",".",10,5,".",2,31,1,3,4,".",".",".",".",".",1,7,".",".",3,".",".",".",42,3,".",".",4,".",2,1,".",".",1,5,".",".",".",".",".",".",1,96,".",".",".",".",".",24,".",".",".",".",5,3,".",5,".",74,".",12,".",".",5,".",".",".",7,1,51,".",1,76,2,".",".",".",".",".",1,".",".",3,7,".",".",131,".",".",".",4,3,8,".",".",3,".",".",4,".",1,158,".",".",9,1,3,5,".",".",80,".",1,".",7,5,".",".",3,".",".",36,".",".",84,".",".",".",2,".",".",3,67,".",".",3,".",".",1,".",".",3,".",68,2,1,2,".",3,2,26,".",1,3,1,".",2,23,".",14,".",".",1,".",".",24,".",1,1,".",".",1,43,".",".",".",1,".",12,2,".",".",1,".",".",16,".",1,17,".",1,".",1,9,".",".",".",2,".",".",".",26,".",".",".",".",3,".",".",".",".",".",10,".",8,1,".",".",2,".",".",".",".",".",20,".",".",".",".",2,".",".",".",".",5,".",5,".",".",".",2,".",".",".",".",7,".",".",".",".",1,".",".",".",7,".",2,".",".",".",".",".",3,".",".",".",".",".",".",".",4,".",".",".",".",".",".",".",".",3,".",".",".",".",11,".",".",".",".",".",".",3,".",".",1,".",".",4,".",1,".",".",".",".",".",".",1,".",".",".",".",".",".",1,1,".",".",".",".",".",".",".",1,".",".",".",".",".",".",1,".",".",".",".",".",".",".",".",".",".",".",".",".",".",".",".",".",".",".",".",".",".",".",".",".",".",".",1,".",".",2,".",".",".",".",".",".",".",".",".",".",".",".",".",".",".",".",".",".",".",".",".",".",".",".",".",".",".",".",".",".",".",".",".",".",".",".",".",".",".",".",".",".","."]
[null,null,null,null,null,null,null,null,null,null,null,null,null,1,".",1,1,".",".",3,".",2,".",".",".",".",2,".",3,1,".",".",2,".",1,".",1,13,".",".",1,1,".",1,7,".",".",".",".",".",".",1,8,".",".",5,".",".",14,".",".",".",".",".",3,2,".",".",3,".",".",".",14,1,".",".",".",".",".",3,".",".",".",4,".",".",".",".",1,1,".",25,".",".",".",".",".",4,".",".",".",".",1,3,3,8,".",25,".",6,1,".",1,".",".",1,8,3,7,".",".",52,1,".",".",".",4,".",".",5,1,6,24,".",".",56,".",".",".",8,1,11,1,".",13,".",".",1,".",".",113,2,".",8,2,".",2,".",".",59,1,".",".",15,9,1,".",3,".",".",11,".",".",78,".",".",".",".",1,".",6,20,".",".",1,".",".",1,1,".",1,".",34,".",1,4,".",2,2,12,".",".",3,".",".",2,6,".",15,".",".",1,".",".",6,1,1,".",".",".",".",21,".",".",".",".",".",4,1,".",".",1,".",".",".",".",".",6,".",".",".",".",".",".",".",".",".",".",".",".",12,".",".",".",".",".",".",".",".",".",".",1,".",4,".",".",".",3,".",".",".",".",".",4,".",".",".",".",".",".",".",".",".",".",".",2,".",".",".",".",".",".",".",".",1,".",".",".",".",1,".",".",".",".",".",1,".",".",".",".",".",".",".",".",".",".",".",".",".",".",".",".",".",".",".",".",".",".",".",".",".",".",".",".",".",".",".",".",".",".",1,1,".",".",".",".",".",".",".",".",".",".",".",".",".",".",".",".",".",".",".",".",".",".",".",".",".",".",".",".",".",".",".",".",".",".",".",".",".",".",".",".",".",".",".",".",".",".",".",".",".",".",".",".",".",".",".",".",".",".",".",".",".",".",".",".",".",".",".",".",".",".",".",".",".",".",".",".",".",".",".",".",".",".",".",".",".",".",".",".",".",".",".",".",".",".",".",".",".",".",".",".",".",".",".",".",".",".",".",".",".",".","."]
[null,null,null,null,null,null,null,null,null,null,null,null,null,".",".",".",5,".",".",5,".",12,".",".",".",".",".",".",5,".",".",".",".",3,2,".",".",6,".",".",6,".",".",".",5,".",".",1,5,1,".",".",4,".",".",36,".",".",".",".",".",6,1,".",1,".",1,".",16,".",".",".",18,".",".",".",14,".",".",6,".",".",".",27,".",".",6,".",".",2,".",84,".",".",1,".",".",28,".",".",".",".",9,".",".",11,".",34,".",24,".",".",9,".",".",".",16,".",20,".",".",74,".",".",".",".",8,".",".",".",".",5,14,".",".",55,".",".",".",8,".",8,".",".",8,".",".",5,".",".",131,1,".",10,5,".",7,".",".",52,".",".",".",14,7,".",".",13,".",".",36,".",".",90,".",".",".",3,2,".",8,39,".",".",11,".",2,10,".",".",6,".",86,".",".",10,".",3,5,34,".",".",8,2,".",13,21,".",86,".",".",4,1,11,15,".",7,2,".",5,2,55,".",6,".",4,".",18,6,".",2,5,".",".",12,".",".",31,".",".",1,10,12,4,".",".",".",3,".",".",45,1,2,".",".",9,4,".",".",".",".",9,".",15,2,".",".",15,1,".",5,".",".",16,7,1,".",2,3,".",2,2,".",2,".",19,".",".",1,1,1,".",1,1,9,2,".",".",".",3,".",".",1,3,".",8,".",".",".",".",".",1,".",".",".",".",".",".",".",7,1,1,".",".",6,".",".",".",1,1,".",".",2,10,".",".",".",".",".",".",2,1,".",".",".",".",".",6,".",".",1,".",".",".",".",".",".",".",".",".",".",".",".",".",".",".",".",3,".",".",".",".",".",".",".",".",".",".",3,".",".",".",".",".",".",".",".",".",".",".",".",".",".",1,".",".",".",".",".",".",".",".",".",".",".",".",".",".",".",".",".",".",".",".",".",".",".",".",".",".",".",".",".",".",".",".",".",".",".",".",".",".",".",".",".",".",".",".",".",".",".",".",".",".",".",".",".",".",".",".",".",".","."]
[null,null,null,null,null,null,null,null,null,null,null,null,null,".",".",".",".",".",".",".",".",2,".",".",".",".",".",".",".",".",".",".",".",".",".",".",1,1,".",".",".",".",".",".",1,".",".",".",".",".",".",".",".",".",".",3,".",".",1,".",".",".",".",".",".",2,".",1,3,".",".",".",6,".",".",".",".",".",".",".",".",".",".",".",".",".",1,".",".",".",".",2,".",".",".",".",".",".",".",".",".",".",".",".",".",".",".",7,".",".",".",".",".",".",".",".",2,".",7,".",".",9,".",".",".",".",1,".",".",".",".",".",2,".",".",29,".",".",".",1,".",2,".",".",1,".",".",1,2,".",25,1,".",".",".",".",1,".",".",13,".",".",".",1,1,".",".",".",".",".",14,1,".",15,".",".",".",".",3,".",".",25,".",".",".",".",".",".",".",".",2,".",30,".",".",".",".",1,".",9,".",".",".",".",".",2,17,".",5,".",".",1,1,1,12,".",".",".",".",1,".",19,".",2,".",".",".",3,".",".",3,".",".",".",11,".",".",11,".",".",".",".",6,".",".",".",".",1,".",".",10,".",".",".",2,2,".",".",".",".",".",14,".",11,".",".",1,4,".",".",".",".",".",6,".",".",".",".",4,".",".",".",1,7,".",9,".",".",".",1,".",".",".",".",10,".",".",".",".",1,".",".",".",6,".",1,".",".",".",".",".",2,".",".",".",".",".",1,".",7,".",".",".",".",".",3,".",".",".",".",".",".",1,7,".",".",".",".",".",".",3,".",".",".",".",".",".",2,".",".",".",".",".",".",".",1,".",".",1,".",".",".",".",2,".",".",".",".",".",".",".",".",".",".",".",".",2,".",7,".",".",".",".",".",1,".",".",".",".",".",".",".",3,".",".",".",1,".",".",".",".",".",".",1,".",".",".",".",1,1,".",".",".",".",".",".",".",".",".",3,".",".",".",".",".",".",".",".",".",1,1,".",".",".",".",".",".",".",".",".",".",".",".",".",".",".",".",".",".",".",".",".","."]
[null,null,null,null,null,null,null,null,null,null,null,null,null,1,1,".",2,1,".",3,".",5,".",".",".",".",".",".",".",2,".",".",2,".",1,".",14,25,".",".",".",3,1,1,6,".",".",".",1,".",1,2,2,1,1,17,".",1,14,".",".",2,".",".",1,26,".",1,5,".",".",1,26,2,".",".",4,".",1,5,".",".",2,4,".",".",5,1,".",2,".",57,".",".",2,".",".",38,1,1,".",".",7,3,".",9,".",27,".",15,".",1,8,".",".",".",6,".",43,".",3,79,".",".",3,".",5,4,".",".",".",".",24,".",".",80,".",".",".",14,".",4,".",".",15,".",".",7,1,3,139,1,".",16,10,2,13,".",".",78,".",1,".",17,18,".",1,5,".",1,87,".",".",74,1,1,".",3,1,".",4,96,".",".",4,2,5,10,".",".",2,".",112,".",".",5,1,4,6,49,".",".",10,4,1,3,40,".",28,".",".",".",".",4,28,".",".",".",".",2,".",44,".",3,".",3,".",25,2,".",1,".",".",1,26,".",1,19,".",1,1,2,13,3,1,".",".",1,1,".",44,1,3,1,".",4,4,".",3,".",".",13,".",12,".",".",1,13,1,".",".",2,".",17,".",".",".",1,15,".",".",".",1,14,".",16,1,1,".",4,".",".",".",".",18,".",".",".",".",5,".",".",".",7,".",7,".",1,".",".",".",2,".",".",".",".",".",".",".",10,".",".",".",".",".",2,".",".",".",".",".",".",".",10,".",".",".",1,".",".",4,".",".",".",".",".",".",5,".",".",".",".",".",".",".",1,".",".",".",1,".",".",".",".",".",".",".",".",".",".",".",".",".",".",".",".",".",".",5,".",".",".",".",".",1,".",".",".",".",".",".",".",2,".",".",".",".",".",".",".",".",".",".",".",".",".",".",".",".",1,".",".",".",1,".",".",".",1,".",1,".",".",1,".",".",".",".",1,".",".",".",".",1,".",".",".",".",".",1,".",".",".",".",".",".",".",".",".",".",".",".",".","."]
[null,null,null,null,null,null,null,null,null,null,null,null,null,".",".",".",1,".",1,3,".",1,1,".",".",".",".",".",4,".",".",".",3,".",2,".",6,13,".",".",".",".",".",".",3,".",".",".",5,".",".",4,4,".",".",18,".",".",1,".",".",1,".",1,4,4,".",".",3,".",".",1,23,".",".",".",4,".",2,6,".",".",".",3,".",".",3,".",".",".",".",56,".",".",2,".",".",32,".",".",".",".",6,".",".",5,".",69,".",6,".",".",3,".",".",".",4,".",49,".",1,52,1,".",".",".",8,1,".",".",".",5,12,".",".",92,1,1,".",5,".",2,".",".",4,".",1,5,5,".",149,1,".",9,2,".",1,".",".",69,".",".",".",3,6,".",".",5,".",".",61,".",".",47,".",".",".",1,".",".",2,55,".",".",1,".",3,3,".",".",3,".",101,".",".",1,".",4,2,39,1,".",3,2,".",1,54,".",38,".",".",1,3,1,18,".",1,1,".",".",6,38,".",".",".",".",".",11,".",".",".",".",".",".",24,".",".",8,".",".",1,".",10,".",".",".",".",".",".",".",21,".",".",".",".",2,".",".",".",".",".",13,".",7,".",1,".",6,".",".",1,".",".",20,".",1,".",".",5,".",".",".",".",5,".",7,".",".",".",".",2,".",".",".",12,1,".",".",".",".",".",".",".",6,".",7,".",".",".",".",".",".",".",".",".",".",".",1,".",6,".",".",".",".",".",1,".",".",".",".",".",".",".",14,".",".",".",".",1,".",4,".",".",".",".",".",1,2,".",".",".",".",".",".",".",2,".",".",".",".",".",".",".",2,".",".",".",".",".",".",".",".",".",".",".",".",".",".",3,".",".",".",".",".",".",".",".",".",".",".",".",".",".",".",".",".",".",1,".",".",".",2,".",4,".",".",".",".",".",".",".",".",".",".",".",".",".",".",".",1,".",".",1,".",".",".",".",".",".",1,".",".",".",".",".",".",".",".",".",".",".",".",".",".",".",".",".",".",".",".",".",".","."]
[null,null,null,null,null,null,null,null,null,null,null,null,null,2,".",".",1,".",".",1,".",11,".",".",".",".",3,".",3,".",2,1,3,".",4,".",6,16,".",".",4,".",".",1,1,".",".",".",1,".",".",2,6,".",".",28,".",1,".",1,1,4,".",".",4,4,".",1,5,".",1,".",26,".",".",".",9,".",1,3,".",".",2,7,".",".",4,".",1,".",".",53,1,1,".",".",".",10,".",".",".",".",4,1,2,5,1,69,".",5,1,1,14,".",".",".",5,".",74,".",1,54,1,".",4,".",4,".",".",".",".",9,12,".",1,104,".",".",".",5,".",9,".",".",6,".",".",2,2,".",173,1,1,9,7,3,10,".",".",136,".",".",".",4,16,1,".",9,".",".",185,".",".",91,1,".",".",6,9,".",12,202,1,1,7,2,6,6,".",".",13,1,269,".",".",8,".",5,4,144,2,".",3,7,".",3,160,".",102,".",".",2,6,15,118,1,5,1,".",4,7,210,".",2,2,1,1,67,2,1,2,3,".",".",103,1,".",57,".",2,3,2,56,3,".",".",1,4,".",1,126,".",3,1,2,28,2,".",1,1,".",82,".",44,1,".",".",30,1,1,3,".",".",98,3,".",1,3,19,".",1,".",2,56,".",45,".",".",".",20,".",1,".",".",49,".",".",".",".",16,3,".",1,40,".",22,1,".",1,".",".",14,".",".",2,1,".",3,".",23,".",4,".",".",".",12,1,2,1,".",2,".",4,44,".",1,".",".",".",".",14,1,".",5,".",".",7,10,".",".",".",".",".",".",".",7,".",".",".",".",1,".",4,12,".",".",".",1,".",".",".",4,".",".",".",".",1,".",25,".",".",".",1,".",3,3,".",".",1,6,".",".",5,".",".",".",3,1,".",".",".",3,".",1,".",".",5,".",5,7,".",".",".",2,1,".",1,2,".",3,".",4,5,".",".",1,1,".",".",1,2,".",".",1,1,".",".",".",".",2,".",1,".",5,".",".",".",1,1,".",".",1,"."]
[null,null,null,null,null,null,null,null,null,null,null,null,null,1,".",".",2,".",".",".",9,16,".",".",".",4,".",".",3,".",".",".",".",9,8,".",".",2,4,1,6,1,".",".",1,2,1,".",9,4,".",".",1,3,".",30,".",2,".",".",".",2,".",6,2,".",1,".",3,".",".",".",10,3,".",".",5,".",".",16,".",".",".",2,".",".",".",".",".",1,".",28,".",".",1,".",".",3,".",".",".",".",2,".",".",".",".",12,4,12,".",".",1,".",".",".",3,1,10,".",".",47,".",".",".",1,2,".",1,1,".",1,5,6,".",30,".",".",".",10,5,2,".",".",4,".",".",2,".",".",113,".",".",10,8,".",8,".",".",59,".",".",".",19,8,".",".",3,".",".",61,".",".",109,".",".",".",7,1,".",10,65,".",".",15,".",4,10,".",1,3,".",118,1,".",16,".",1,8,51,".",".",12,9,".",2,33,".",78,".",".",7,1,7,35,".",5,2,".",3,".",77,".",6,".",4,".",27,9,".",1,3,".",".",35,".",".",18,".",".",".",1,22,".",2,1,".",".",".",".",50,".",".",1,".",11,3,".",".",1,".",15,".",19,".",".",1,13,1,".",1,".",".",11,".",".",".",1,13,1,".",".",".",5,".",9,".",".",2,8,".",".",".",".",8,".",".",".",".",3,".",".",".",3,".",2,".",".",".",".",".",1,".",".",".",".",".",".",".",6,".",".",".",".",".",1,".",".",".",".",".",".",".",5,".",".",".",".",".",".",".",".",".",".",".",".",".",1,".",".",".",".",".",".",".",".",".",".",".",".",".",".",".",2,".",".",".",".",".",".",".",".",".",".",".",".",".",".",".",".",".",".",".",".",".",".",".",".",".",".",".",".",1,".",".",".",".",".",".",".",".",".",".",".",".",".",".",".",".",".",".",".",".",".",".",".",".",".",".",".",".",".",".",".",".",".",".",".",".",".",".",".",".",".",".",".",".",".",".",".",".",".",".",".",".",".",".",".",".",".",".",".","."]
[null,null,null,null,null,null,null,null,null,null,null,null,null,1,".",1,5,".",".",2,".",6,3,".",".",".",1,".",1,".",".",".",4,".",".",".",1,15,".",".",2,".",".",1,3,1,".",".",".",1,".",".",3,".",".",13,".",".",7,".",".",4,1,".",4,1,".",".",2,".",".",1,44,".",1,".",".",".",3,3,".",".",3,3,".",1,4,".",".",".",".",30,".",".",3,".",1,11,".",".",1,".",1,".",".",1,".",34,1,5,".",".",1,".",1,".",3,1,3,".",1,17,1,".",3,".",1,".",".",".",".",3,2,".",".",25,".",".",".",2,".",2,".",".",1,".",".",".",1,".",20,".",".",3,8,3,3,1,".",23,".",".",".",".",7,".",".",4,1,".",38,".",".",33,".",".",".",7,5,".",20,86,".",".",11,".",10,4,".",".",7,".",131,1,1,14,".",8,10,104,1,".",9,8,".",8,94,1,102,2,1,7,11,15,124,".",32,1,".",11,18,201,9,6,4,5,".",112,33,".",8,4,".",".",96,".",".",85,12,7,11,9,92,5,11,".",8,13,".",".",172,1,19,1,5,63,9,".",17,3,".",91,".",73,16,1,4,65,4,3,10,5,2,117,1,2,6,5,51,".",8,".",26,53,1,70,2,11,4,31,2,1,3,14,76,2,2,1,5,30,5,3,4,52,2,36,6,2,".",1,3,36,1,1,3,4,1,13,1,71,".",9,1,".",".",38,12,".",4,1,2,1,10,88,1,".",4,2,1,4,49,13,".",2,1,1,7,48,".",2,1,".",1,1,3,31,6,".",3,".",".",".",6,34,2,2,2,3,1,".",1,19,1,5,".",2,6,1,44,1,8,1,2,1,12,".",".",7,".",9,1,1,32,4,1,1,9,".",2,7,1,4,".",15,1,2,17,5,3,14,1,1,1,6,2,6,1,5,2,4,".",7,19,1,1,8,".",".",1,8,13,1,3,".",".",2,1,".",1,12,2,3,1,".",1,1,1,".",".",1,1,".",1]
[null,null,null,null,null,null,null,null,null,null,null,null,null,".",".",2,".",".",".",1,".",6,1,".",".",1,".",".",1,5,".",".",1,".",1,".",".",10,".",".",".",".",".",".",".",".",".",".",".",".",".",".",11,".",".",15,".",1,".",".",".",1,".",".",2,1,".",".",4,".",".",".",12,2,".",".",6,".",".",".",".",".",".",1,".",".",".",".",".",1,".",45,".",".",".",".",".",5,".",".",".",".",1,".",".",3,".",42,".",4,".",".",1,1,".",".",5,".",33,".",".",44,1,".",".",".",1,".",".",".",".",2,7,".",".",67,".",".",".",4,".",3,".",".",5,".",".",2,".",".",111,".",".",7,2,".",3,".",".",57,".",".",1,".",4,".",".",".",".",".",42,".",".",34,".",".",".",2,1,".",1,47,".",".",1,".",1,1,".",".",1,".",68,".",".",2,".",2,".",19,1,".",1,6,".",1,18,".",14,".",".",".",".",".",9,".",1,".",1,".",".",27,".",".",".",".",".",6,".",".",".",".",".",".",17,".",".",5,".",".",".",".",1,2,".",".",".",".",".",".",17,".",".",".",".",1,".",".",".",".",1,9,".",5,".",".",".",".",".",1,".",1,".",14,".",".",".",".",3,".",".",".",".",3,".",2,".",".",".",".",".",".",".",".",6,".",".",".",".",1,".",".",".",4,".",".",".",".",".",".",".",".",".",".",".",".",".",1,".",3,".",".",".",".",".",3,".",".",".",".",".",".",".",3,".",".",".",".",".",".",1,".",".",".",".",".",".",1,".",".",".",".",".",".",".",".",".",".",".",".",".",".",".",1,".",".",".",".",".",".",".",".",".",".",".",".",".",".",".",".",".",".",".",".",".",".",".",".",".",".",".",".",".",".",".",".",".",".",".",".",".",".",1,".",".",".",".",".",".",3,".",".",".",".",".",".",".",".",".",".",".",".",1,".",".",".",".",".",".",".",".",".",".",".",".",".",".",".",".",".",".",".",".",".",".",".",".",".",".",".",".",".","."]
[null,null,null,null,null,null,null,null,null,null,null,null,null,".",".",".",1,".",".",".",5,4,".",".",".",2,".",".",1,".",".",".",".",1,1,".",".",4,".",".",3,".",".",".",".",".",".",".",".",3,".",".",1,3,".",10,".",".",".",".",".",2,".",".",".",".",".",".",1,".",".",".",10,".",".",".",5,".",".",2,".",".",".",2,".",".",".",".",".",".",".",23,".",".",".",".",".",3,".",".",".",".",".",".",".",3,".",21,".",13,".",".",4,".",".",".",6,".",16,".",".",43,".",".",".",".",".",".",".",".",".",".",17,1,".",25,".",".",".",6,".",10,".",".",4,".",".",".",".",".",52,".",".",4,".",".",1,".",1,43,".",".",".",17,1,".",".",2,".",".",31,".",".",51,".",".",".",".",".",".",8,36,".",".",4,".",1,2,".",".",1,".",82,".",".",".",".",1,".",29,".",1,1,2,".",1,26,".",33,".",".",".",".",2,22,".",".",1,".",".",".",37,1,".",".",".",".",11,".",".",".",".",".",".",11,".",".",13,".",".",".",".",6,".",".",".",".",".",".",".",11,".",".",".",".",3,".",".",".",".",".",9,".",7,".",".",".",3,".",".",".",1,".",6,".",".",".",".",5,".",1,".",1,7,".",3,".",".",".",".",".",".",".",".",7,".",".",".",".",".",".",".",".",7,".",4,".",".",".",".",".",3,".",".",".",".",".",1,".",5,".",".",".",".",".",1,".",".",".",".",".",".",".",4,".",".",".",".",".",".",1,".",".",".",".",".",2,2,".",".",".",".",".",".",".",".",".",".",".",".",".",".",".",".",".",".",".",".",".",".",".",".",".",".",".",".",".",".",1,".",".",".",".",".",".",".",".",".",".",".",".",".",1,".",".",".",".",".",".",".",".",".",".",".",".",".",".",".",".",".",".",".",".",".",".",".",".",".",".",".",".",".",1,".",".",".",".",".",".",".",".",".",".",".",".",".",".",".",".",".",".",".",".",".",".",".",".",".",".",".",".",".","."]
[null,null,null,null,null,null,null,null,null,null,null,null,null,".",".",".",".",".",".",".",".",9,3,".",".",".",".",".",".",1,".",".",2,".",".",".",4,26,1,".",1,".",1,1,".",".",".",".",3,".",".",3,13,".",2,33,".",2,4,".",".",2,".",".",4,1,".",".",8,".",".",".",27,1,".",".",3,".",".",".",1,".",".",3,".",".",2,1,".",".",1,86,3,".",".",".",".",13,".",".",".",".",2,".",".",2,".",53,3,6,".",".",7,".",1,".",2,".",35,1,5,50,".",".",".",".",1,".",".",".",".",3,5,".",".",61,".",".",1,2,".",3,".",".",4,1,".",5,".",".",103,1,".",6,5,".",1,".",".",56,".",".",".",3,5,".",".",2,".",".",28,1,4,31,".",".",".",".",".",".",1,32,".",".",1,".",1,".",".",".",7,".",61,".",".",1,".",2,".",19,".",".",1,1,".",1,22,".",18,".",".",1,".",1,17,".",1,".",".",".",1,33,".",".",".",1,".",12,2,".",".",".",1,".",20,".",2,15,".",".",".",".",8,".",".",".",".",1,".",2,18,".",1,".",".",5,".",".",2,".",".",9,1,8,".",".",".",3,".",".",".",".",".",25,".",1,".",".",2,".",".",".",".",8,".",5,".",".",".",1,".",".",".",1,6,".",".",".",".",4,".",".",".",11,".",3,".",".",".",".",".",2,".",".",".",".",".",".",".",8,".",".",".",".",".",1,".",".",".",".",".",".",1,8,".",".",".",".",".",".",2,".",".",".",".",".",2,2,".",".",".",".",".",".",".",1,".",".",1,".",".",".",".",6,".",".",".",".",".",".",".",1,".",".",".",".",1,".",3,".",".",".",".",".",".",".",".",1,".",".",".",".",2,".",".",".",1,".",".",".",".",".",".",".",".",".",1,".",".",".",".",".",".",".",".",".",".",".",".",1,".",".",2,".",".",".",".",".",".",".",".",".",".",".",".",".",".",".",".",1,".",".",".",1,".",".",".",1,".",".",".",".","."]
[null,null,null,null,null,null,null,null,null,null,null,null,null,1,".",1,".",".",".",".",".",13,3,".",".",1,".",1,4,1,".",".",".",".",2,".",".",6,".",".",4,".",".",1,1,".",".",".",4,3,".",".",11,".",".",21,".",".",".",".",".",2,1,".",3,2,".",".",4,".",".",".",23,".",".",".",10,".",".",1,".",".",".",6,".",".",1,".",".",".",".",48,".",".",1,1,".",13,".",".",".",".",3,".",".",4,".",21,".",2,".",".",2,".",".",".",4,".",26,".",".",46,".",1,".",".",3,".",".",".",".",1,8,".",".",46,".",".",".",7,".",5,".",".",8,".",".",1,".",".",58,".",".",10,4,".",3,".",".",27,".",".",".",4,4,".",".",7,".",".",28,".",".",27,".",".",".",".",1,".",1,20,".",".",1,".",3,".",".",".",".",".",43,".",".",2,".",1,1,21,".",".",4,1,".",1,8,".",11,".",".",".",1,2,8,".",".",".",".",".",".",20,1,2,1,".",".",5,".",".",".",".",".",".",8,".",".",9,".",".",".",1,3,".",1,".",".",".",".",".",13,".",1,".",1,".",2,".",".",1,".",3,".",9,".",".",".",3,2,".",".",".",".",9,".",1,".",".",".",".",".",1,1,2,".",1,".",".",".",1,".",".",".",".",1,".",".",".",".",1,".",".",".",".",".",4,".",".",".",".",".",1,".",".",".",".",".",".",".",1,".",".",".",".",".",".",".",".",".",".",".",".",".",1,".",".",2,".",".",".",".",".",".",".",".",".",".",2,".",".",".",".",".",".",".",2,".",".",".",".",".",".",".",".",".",".",".",".",".",".",".",".",".",".",1,".",".",".",1,".",".",".",".",".",".",".",".",".",".",".",".",".",".",".",".",".",".",".",".",".",".",".",".",".",".",".",1,".",".",".",".",".",".",".",".",".",".",".",".",".",".",".",1,".",".",".",".",".",".",".",".",".",".",".",".",".",".",".",".",".",".",".",".",".",".",".",".",".",".",".",".",".","."]
[null,null,null,null,null,null,null,null,null,null,null,null,null,".",".",".",".",".",".",".",".",4,".",1,".",".",".",".",".",1,".",".",1,".",1,".",".",14,".",".",1,".",".",".",1,".",".",".",1,".",".",1,2,1,1,15,".",".",1,".",".",".",".",".",1,2,".",".",3,1,".",".",13,1,".",".",2,".",".",1,".",".",".",4,1,".",2,".",".",1,".",42,".",".",".",".",".",12,".",".",".",".",1,".",".",5,".",43,".",8,".",".",2,".",".",".",6,".",49,".",1,48,".",".",".",".",2,".",".",".",".",1,9,".",".",44,".",".",".",4,".",2,".",".",2,".",".",2,".",".",116,".",".",1,1,".",6,".",".",37,".",".",".",3,2,".",".",1,".",".",34,".",1,29,".",".",".",1,1,".",5,50,".",".",".",".",1,2,".",".",1,".",80,".",".",3,".",".",1,30,".",".",".",".",".",3,33,".",26,".",".",1,".",4,16,".",".",".",".",".",1,28,".",".",".",".",".",8,1,".",".",".",".",".",10,".",".",2,".",".",".",".",6,".",".",".",".",".",".",".",13,".",".",".",".",3,".",".",1,".",".",14,".",9,".",".",".",3,".",".",".",".",".",6,".",".",".",".",2,".",".",".",".",7,".",3,".",".",".",1,".",".",".",".",4,".",".",".",".",".",".",".",1,7,".",".",".",".",".",".",".",3,".",".",".",".",".",".",".",4,".",".",".",".",".",2,".",".",".",".",".",".",1,6,".",".",".",".",".",".",2,".",".",".",".",".",".",4,".",".",".",".",".",".",".",1,".",".",".",".",".",1,2,".",".",".",".",".",".",".",".",1,".",".",".",".",".",".",3,".",".",".",".",".",".",".",".",".",".",1,".",".",".",".",".",".",".",".",".",".",".",".",".",".",".",".",1,".",".",1,".",".",".",".",".",".",".",".",".",1,".",1,1,".",".",".",".",".",".",".",".",".",".",".",".",".",".",".",".",3,".",".",".",".",".",1,".",".",".",".",".",".","."]
[null,null,null,null,null,null,null,null,null,null,null,null,null,".",".",".",".",".",".",".",".",3,3,".",1,".",".",".",1,".",".",".",".",".",2,".",3,2,".",".",1,".",".",".",4,".",".",".",".",".",".",".",3,".",".",10,".",".",1,".",".",".",".",".",1,".",".",".",4,".",".",".",4,3,".",1,2,2,".",3,".",1,".",1,".",".",2,".",".",1,".",24,".",".",".",".",".",9,".",".",".",".",3,".",".",1,".",28,".",3,".",1,2,".",".",".",1,".",31,".",".",31,".",".",".",".",1,".",".",".",".",4,3,".",".",35,".",".",".",3,".",2,".",".",1,".",".",".",".",".",60,".",".",6,".",".",1,".",".",25,".",".",".",".",1,".",".",2,".",".",32,".",".",21,".",".",".",1,".",".",".",12,".",".",".",".",".",".",".",1,".",".",41,".",".",".",".",1,".",18,".",".",1,".",".",".",18,".",1,".",".",".",".",1,4,".",".",".",".",".",".",9,".",".",".",".",".",".",".",".",".",".",".",".",4,".",".",3,".",".",".",".",".",".",".",".",".",2,".",".",3,".",".",".",".",".",".",1,".",".",".",8,".",2,".",".",".",".",".",".",".",".",".",3,".",1,".",".",1,".",".",".",".",1,".",".",".",".",".",".",".",".",".",1,".",".",".",".",".",".",".",".",".",2,".",".",".",".",".",".",".",".",".",".",".",".",".",".",".",1,".",".",".",".",".",".",".",".",".",".",".",".",".",2,".",".",".",".",".",".",".",".",".",".",".",".",".",".",".",".",".",".",".",".",".",1,".",".",".",".",".",".",".",".",".",".",".",".",".",".",".",".",".",".",".",".",".",".",".",".",".",".",".",".",".",".",".",".",".",".",".",".",".",".",".",".",".",".",".",".",".",".",".",".",".",".",".",".",".",".",".",".",".",".",".",".",".",".",".",".",".",".",".",".",".",".",".",".",".",".",".",".",".",".",".",".",".",".",".",".",".",".",".",".",".",".",".",".",".",".",".",".","."]
[null,null,null,null,null,null,null,null,null,null,null,null,null,1,".",1,1,".",".",1,".",1,1,".",".",".",1,".",1,".",".",".",".",".",1,".",4,5,".",".",1,".",".",".",".",".",".",".",".",2,".",1,".",".",".",3,".",".",2,".",".",".",".",".",".",2,".",".",".",".",".",".",9,".",".",".",".",".",".",".",".",".",".",".",".",".",1,".",".",1,".",4,".",".",1,".",".",8,".",".",".",".",".",".",".",".",".",9,".",".",1,".",2,1,".",".",".",".",9,".",".",7,".",".",".",".",1,".",".",".",".",1,".",".",".",21,".",".",".",1,".",2,".",".",1,".",".",1,".",".",44,2,".",".",1,".",4,".",".",21,".",".",".",3,3,".",".",".",".",".",26,".",".",28,".",".",".",8,2,".",4,41,".",".",2,".",3,2,".",".",5,".",93,".",".",3,".",5,3,50,".",".",5,3,".",1,28,3,41,".",".",1,1,2,27,".",".",3,".",".",2,46,".",1,1,3,".",16,1,".",1,".",".",".",18,".",".",5,".",3,".",".",7,".",".",".",".",1,".",".",16,".",1,".",".",4,".",".",4,".",".",9,".",5,".",".",".",5,".",".",".",".",".",7,".",".",".",".",2,".",".",".",".",3,".",4,".",".",".",4,".",".",".",3,8,".",".",".",".",6,".",1,".",3,".",8,".",".",".",".",".",1,".",".",".",".",".",".",".",6,".",".",".",".",".",".",".",".",".",".",".",".",1,4,".",".",".",".",".",".",2,".",".",".",".",".",".",3,".",".",".",".",".",".",".",1,".",1,".",".",".",".",".",1,".",".",".",".",".",".",".",1,".",1,".",".",".",".",".",".",".",".",".",".",".",".",".",".",".",".",".",".",1,".",".",".",".",".",".",".",".",".",".",".",".",".",".",".",".",".",".",".",".",".",".",".",".",".",".",1,".",".",".",".",".",".",".",".",".",".",".",".",".",".",".",".",".",".",".",1,".",".",".",".",".",".",".",".",".",".",".",".","."]
[]
[null,null,null,null,null,null,null,null,null,null,null,null,null,"P_27","P_28","P_29","P_30","P_31","P_32","P_33","P_34","P_35","P_36","P_37","P_38","P_39","P_40","P_41","P_42","P_43","P_44","P_45","P_46","P_47","P_48","P_49","P_50","P_51","P_52","P_53","P_54","P_55","P_56","P_57","P_58","P_59","P_60","P_61","P_62","P_63","P_64","P_65","P_66","P_67","P_68","P_69","P_70","P_71","P_72","P_73","P_74","P_75","P_76","P_77","P_78","P_79","P_80","P_81","P_82","P_83","P_84","P_85","P_86","P_87","P_88","P_89","P_90","P_91","P_92","P_93","P_94","P_95","P_96","P_97","P_98","P_99"]
[null,null,null,null,null,null,null,null,null,null,null,null,null,375,375,395,400,400,400,400,400,400,400,400,400,400,400,400,400,400,400,400,400,400,400,400,407.5,420,425,425,425,425,435,437.5,440,450,450,450,450,450,450,450,450,450,450,480,480,480,485,485,500,500,500,500,500,500,508.33,540,550,550,550,550,550,550,550,550,550,550,550,551.79,575,600,600,600,600,600]
[null,null,null,null,null,null,null,null,null,null,null,null,null,625,625,650,650,650,650,650,650,650,650,650,650,650,650,650,650,650,650,650,650,650,670,675,675,675,675,675,675,675,675,675,675,695,695,695,695,695,700,700,700,700,700,700,700,700,700,700,700,700,700,720,725,725,725,725,725,730,750,750,750,750,750,750,750,750,750,750,750,775,800,800,825,870]
[null,null,null,null,null,null,null,null,null,null,null,null,null,800,800,800,800,800,800,800,825,825,825,825,825,850,850,850,850,850,850,850,850,850,850,850,875,875,875,875,875,895,895,895,900,900,900,900,900,900,900,900,900,925,925,950,950,950,950,950,950,950,975,975,975,995,995,995,1000,1000,1000,1000,1000,1000,1050,1100,1100,1100,1100,1100,1200,1200,1200,1200,1250,1300]
[null,null,null,null,null,null,null,null,null,null,null,null,null,900,925,950,950,950,950,950,950,975,975,995,995,995,1000,1000,1000,1000,1000,1000,1000,1050,1080,1100,1100,1100,1100,1100,1100,1100,1100,1100,1100,1134,1150,1150,1175,1200,1200,1200,1200,1200,1200,1200,1200,1200,1200,1200,1200,1250,1250,1250,1250,1275,1300,1300,1300,1300,1350,1350,1350,1350,1400,1400,1400,1400,1450,1500,1500,1500,1600,1600,1700,1750]
[null,null,null,null,null,null,null,null,null,null,null,null,null,1250,1295,1300,1300,1300,1300,1300,1300,1300,1350,1350,1350,1350,1350,1400,1400,1400,1400,1400,1400,1400,1400,1450,1450,1500,1500,1500,1500,1500,1500,1500,1500,1500,1500,1500,1550,1600,1600,1600,1600,1600,1600,1600,1600,1650,1650,1700,1700,1700,1750,1750,1800,1800,1800,1800,1800,1800,1850,1900,1900,1900,1995,2000,2000,2000,2000,2000,2100,2200,2250,2300,2300,2400]
[null,null,null,null,null,null,null,null,null,null,null,null,null,1000,1000,1000,1000,1000,1000,1000,1350,1350,1350,1350,1350,1350,1350,1350,1500,1500,1500,1500,1500,1500,1500,1500,1500,1500,1500,1500,1500,1500,1500,1500,1500,1550,1550,1550,1550,1550,1550,1550,1550,1700,1700,1700,1700,1700,1700,1700,1700,1825,1950,1950,1950,1950,1950,1950,1950,1950,2200,2200,2200,2200,2200,2200,2200,2200,2350,2350,2350,2350,2350,2350,2350,2350]
[null,null,null,null,null,null,null,null,null,null,null,null,null,550,550,550,550,550,550,550,550,550,550,550,550,550,550,550,550,550,550,550,550,550,550,575,575,575,575,575,575,575,575,575,575,575,575,575,590,590,590,595,595,595,600,600,600,600,600,600,600,600,600,600,600,600,600,625,625,625,625,625,625,625,625,625,625,625,625,625,650,650,650,670,670,670]
[null,null,null,null,null,null,null,null,null,null,null,null,null,275,275,285,294.35000000000002,300,300,300,300,300,300,300,300,304.17,304.17,305,305,305,305,305,316.07,316.07,316.07,316.07,325,325,325,325,325,325,325,325,325,325,325,325,325.89,337.62,337.62,337.8,337.8,337.8,345,345,345,345,345,347.62,347.62,347.62,347.62,359.52,359.52,359.52,359.52,359.52,359.52,369.35,375,375,375,381.07,421.43,421.43,421.43,421.43,421.43,421.43,424.52,424.52,424.52,424.52,434.52,551.79]
[null,null,null,null,null,null,null,null,null,null,null,null,null,360,360,364,375,375,375,375,375,375,375,375,375,375,380,390,390,395,395,395,395,395,395,400,400,400,400,400,400,400,400,400,400,400,400,400,400,400,400,410,420,420,420,425,425,425,425,425,425,450,450,450,450,450,450,450,450,450,450,450,450,450,460,465,470,475,485,495,495,495,500,500,517.08000000000004,550]
[null,null,null,null,null,null,null,null,null,null,null,null,null,450,450,450,450,450,450,460,475,475,475,475,475,475,475,475,490,495,495,495,495,495,495,495,495,500,500,500,500,500,500,500,500,500,500,525,525,525,525,525,525,530,550,550,550,550,550,550,550,550,550,550,550,550,575,575,575,585,595,599,600,600,600,600,625,625,625,650,650,675,675,695,750,895]
[null,null,null,null,null,null,null,null,null,null,null,null,null,520,520,525,525,550,550,550,550,550,550,550,550,550,550,550,550,550,550,550,575,575,595,595,595,595,600,600,600,620,625,625,625,650,650,650,650,650,650,650,650,650,650,650,650,650,650,650,675,675,695,695,695,700,725,725,750,750,750,750,795,795,795,795,800,850,850,895,895,900,900,950,950,1295]
[null,null,null,null,null,null,null,null,null,null,null,null,null,850,850,850,850,850,850,850,850,850,850,850,875,875,875,875,875,875,875,885,895,895,900,900,900,900,900,900,900,900,900,900,900,900,912.5,925,925,950,950,950,950,950,950,950,972.5,995,995,995,995,995,995,995,995,995,1047.5,1100,1100,1100,1100,1175,1250,1250,1250,1250,1300,1350,1350,1400,1400,1450,1500,1500,1570,1570]
[null,null,null,null,null,null,null,null,null,null,null,null,null,995,995,995,995,995,995,995,995,995,995,995,995,995,995,995,995,995,1000,1000,1000,1000,1000,1000,1050,1100,1100,1100,1100,1100,1100,1100,1100,1100,1100,1100,1100,1150,1150,1150,1150,1150,1150,1250,1250,1250,1250,1250,1250,1250,1250,1250,1250,1250,1250,1250,1250,1250,1250,1250,1250,1250,1350,1350,1350,1350,1350,1350,3000,3000,3000,3000,3000,3000]
[null,null,null,null,null,null,null,null,null,null,null,null,null,300,300,300,300,300,300,300,300,300,300,300,300,300,300,300,300,300,300,300,300,300,300,300,300,300,300,300,300,300,300,300,300,300,300,300,300,300,300,300,300,330,330,330,330,330,330,330,330,330,330,330,330,330,330,330,330,330,330,330,330,330,330,330,330,330,330,330,330,330,330,330,330,330]
[null,null,null,null,null,null,null,null,null,null,null,null,null,275,275,275,275,275,275,275,275,275,280,280,282.44,283,285,290,294.33999999999997,294.33999999999997,294.33999999999997,294.33999999999997,294.33999999999997,294.35000000000002,294.35000000000002,295,300,300,300,300,300,300,300,304.16000000000003,304.16000000000003,305,305,305,315,316.07,316.07,316.07,316.07,316.07,325,325,325,325,325,325.89,325.89,333,333,337.79,350,350,359.52,359.52,359.52,359.52,359.52,359.52,359.52,359.52,359.52,359.52,359.52,359.52,365,367.52,375,402.97,402.97,434.52,468.15,468.15]
[null,null,null,null,null,null,null,null,null,null,null,null,null,340,340,350,350,350,350,350,350,350,350,350,350,350,350,350,350,350,350,350,350,350,350,350,350,360,360,360,365,375,375,375,375,375,375,375,375,375,375,375,375,375,375,380,380,380,380,385,390,395,395,395,395,395,395,395,400,400,400,400,400,400,412,425,425,425,425,430,440,450,450,450,475,550]
[null,null,null,null,null,null,null,null,null,null,null,null,null,425,425,425,425,425,425,425,425,425,425,425,425,425,425,430,435,450,450,450,450,450,450,450,450,450,450,450,450,450,450,450,450,450,450,460,470,475,475,475,475,475,475,475,480,490,495,495,500,500,500,500,500,500,525,525,525,525,525,540,550,550,550,550,550,565,575,575,595,595,625,650,670,695]
[null,null,null,null,null,null,null,null,null,null,null,null,null,495,495,495,500,500,500,500,500,500,500,500,500,500,500,500,520,525,525,525,525,525,525,525,525,530,550,550,550,550,550,550,550,555,575,575,575,580,595,595,595,600,600,600,617.5,625,625,625,625,642.5,650,650,650,650,650,650,675,680,695,695,700,700,700,725,745,750,750,750,750,795,800,850,895,1100]
[null,null,null,null,null,null,null,null,null,null,null,null,null,700,700,700,700,725,725,725,750,750,750,750,750,750,775,795,795,795,795,800,800,800,810,825,850,850,850,850,850,850,850,850,850,850,850,850,875,875,895,895,900,950,950,950,950,950,950,975,995,995,995,995,995,1000,1000,1050,1050,1100,1100,1175,1200,1200,1200,1200,1200,1250,1250,1275,1295,1295,1395,1450,1750,1800]
[null,null,null,null,null,null,null,null,null,null,null,null,null,775,775,775,825,825,825,850,850,850,895,895,895,895,895,895,900,900,900,900,900,900,900,925,925,925,950,950,950,995,995,995,995,1050,1050,1050,1175,1175,1175,1200,1200,1200,1200,1200,1200,1200,1200,1200,1200,1200,1200,1200,1200,1200,1200,1250,1250,1250,1295,1295,1295,1295,1303.57,1303.57,1303.57,1350,1350,1350,1400,1400,1400,1500,1500,1500]
[null,null,null,null,null,null,null,null,null,null,null,null,null,325,325,325,325,325,325,325,325,325,325,325,325,325,325,325,325,325,325,325,325,325,325,325,347.5,370,370,370,370,370,370,370,370,370,370,370,370,370,370,370,370,370,370,370,370,370,370,370,370,370,370,370,370,370,370,370,370,370,370,370,370,370,370,370,370,370,370,370,370,370,370,370,370,370]
[null,null,null,null,null,null,null,null,null,null,null,null,null,260,260,265,265,265,270,272.62,275,275,275,275,275,275,275,275,275,275,275,275,275,275,275,280.62,281.81,283,285,285,285,285,285,285,285,285,289.68,294.35000000000002,295,295,295,295,295,295,295,295,295,295,305,305,305,305,305,305,305,305,305,305,305,305,305,305,305,305,305,315,315,315,315,316.07,316.07,320.54000000000002,325,335,335,359.52]
[null,null,null,null,null,null,null,null,null,null,null,null,null,350,350,350,350,350,350,350,360,360,368.33,368.33,368.33,369.35,370,370,375,375,375,375,375,375,375,375,375,375,375,375,380,380,380,389,390,390,390,390,390,395,395,395,395,395,395,400,400,400,400,400,400,400,400,400,400,400,400,400,400,400,400,400,403,410,414,415,420,420,420,425,425,425,425,425,440,450]
[null,null,null,null,null,null,null,null,null,null,null,null,null,425,425,425,425,425,425,425,425,425,425,425,425,430,430,435,435,437,440,440,440,450,450,450,450,450,450,450,450,450,450,450,450,450,450,450,450,450,450,450,450,460,465,470,475,475,475,475,475,475,475,475,480,480,485,485,495,500,500,500,500,500,500,500,500,500,500,520,525,525,525,550,550,550]
[null,null,null,null,null,null,null,null,null,null,null,null,null,455,460,475,475,475,475,475,475,475,475,475,475,480,480,480,485,485,486,495,495,495,500,500,500,500,500,500,500,500,500,500,500,500,500,500,500,500,500,520,525,525,525,540,550,550,550,550,550,550,550,550,550,560,565,575,575,575,575,580,595,595,595,600,600,600,600,625,625,625,650,650,650,650]
[null,null,null,null,null,null,null,null,null,null,null,null,null,550,565,565,570,570,570,575,575,575,575,575,590,600,600,600,600,600,600,600,630,650,650,650,650,650,650,650,650,650,650,650,650,650,675,675,675,690,690,700,700,700,700,700,700,700,700,750,750,750,750,750,750,750,750,750,750,750,750,750,800,800,800,825,825,825,850,850,850,850,850,975,975,1250]
[null,null,null,null,null,null,null,null,null,null,null,null,null,650,650,675,675,675,675,675,675,675,675,675,675,680,680,680,680,750,750,750,750,750,750,750,750,750,750,795,795,795,795,795,800,800,800,800,800,800,800,800,800,825,825,825,825,825,850,850,850,850,850,900,900,900,900,900,900,900,900,900,950,950,950,950,950,1000,1000,1000,1000,1000,1260,1260,1260,1260]
[null,null,null,null,null,null,null,null,null,null,null,null,null,275,275,275,275,275,275,275,300,300,300,300,300,300,300,300,300,300,300,300,300,300,300,300,300,300,300,300,300,300,300,300,300,300,300,300,300,300,300,300,300,325,325,325,325,325,325,325,325,325,325,325,325,325,325,325,325,325,325,325,325,325,325,325,325,325,325,325,325,325,325,325,325,325]
[null,null,null,null,null,null,null,null,null,null,null,null,null,250,250,260,269.35000000000002,269.35000000000002,269.35000000000002,270,275,275,275,275,275,280,280,280,280,280,280,285,285,285,289,290,290,291.07,300,300,300,300,300,300,300,300,300,300,300,300,300,300,300,300,300,300,310,310,312,317,320,320,320,320,325,325,325,325,325,325,330,330,334.52,340,347.62,347.62,350,350,350,350,350,370,380,400,400,400]
[null,null,null,null,null,null,null,null,null,null,null,null,null,350,350,350,350,350,350,350,350,350,350,350,350,360,360,360,360,360,360,365,365,370,370,375,375,375,375,375,375,375,380,380,380,380,380,385,385,390,390,395,395,400,400,400,400,400,400,400,400,400,400,400,400,410,415,420,425,425,425,425,434.52,445,450,450,450,450,450,465,475,485,500,500,525,600]
[null,null,null,null,null,null,null,null,null,null,null,null,null,450,460,470,475,475,475,475,475,480,480,490,495,495,495,495,500,500,500,500,500,500,500,500,517.5,525,525,525,525,530,540,545,550,550,550,550,550,550,550,555,560,575,575,575,580,590,590,595,600,600,600,600,600,600,600,600,600,620,625,630,640,650,650,650,660,675,675,685,700,720,725,750,750,775]
[null,null,null,null,null,null,null,null,null,null,null,null,null,575,580,590,595,595,600,600,600,600,620,620,625,630,650,650,650,650,650,650,660,675,675,690,690,695,695,700,700,700,700,700,700,720,725,725,750,750,750,750,750,750,750,750,775,775,780,780,795,795,800,800,800,810,825,825,825,825,840,850,850,855,855,855,870,875,900,900,900,900,900,950,975,1100]
[null,null,null,null,null,null,null,null,null,null,null,null,null,840,850,850,850,850,850,850,850,850,875,880,880,895,897.5,900,900,900,900,900,900,920,925,940,950,950,950,950,960,960,975,990,995,995,1000,1000,1000,1000,1000,1000,1050,1100,1100,1100,1100,1120,1140,1140,1140,1140,1140,1140,1180,1195,1197.5,1200,1200,1200,1200,1200,1200,1200,1200,1200,1250,1250,1260,1300,1300,1300,1300,1300,1300,1320]
[null,null,null,null,null,null,null,null,null,null,null,null,null,750,750,800,800,800,800,800,800,800,950,950,950,950,950,950,950,1100,1100,1100,1100,1100,1100,1100,1112.5,1125,1125,1125,1125,1125,1125,1125,1425,1425,1425,1425,1425,1425,1425,1425,1425,1425,1425,1425,1425,1425,1425,1425,1425,1425,1425,1425,1425,1500,1500,1500,1500,1500,1500,1500,1500,1500,1500,1500,1500,1500,1500,1625,1625,1625,1625,1625,1625,1625]
[null,null,null,null,null,null,null,null,null,null,null,null,null,280,280,290,290,290,290,290,290,300,300,300,300,300,300,300,300,300,300,300,300,300,300,300,300,300,300,300,300,300,300,300,300,300,320,320,320,325,325,325,325,325,325,325,325,325,340,340,340,340,340,340,340,340,340,340,340,340,340,340,340,340,350,350,350,350,350,350,375,375,375,434.52,434.52,434.52]
[null,null,null,null,null,null,null,null,null,null,null,null,null,285,285,300,300,300,300,300,300,300,300,300,305,305,305,316.07,316.07,316.07,316.07,316.07,316.07,319.07,319.07,319.07,319.54000000000002,320,320,320,320,320,320,320,320,320,325,325,325,325,325,325,325,325,325,325,325,325,325,325,325,325,325,325,325,345,345,345,375,375,375,400,400,400,400,400,400,425,425,425,446.42,446.42,446.42,446.42,446.42,446.42]
[null,null,null,null,null,null,null,null,null,null,null,null,null,425,425,425,425,425,425,425,425,425,425,425,425,425,425,425,425,425,425,425,435,435,445,450,450,450,450,450,450,450,450,450,450,450,450,450,450,450,450,450,450,450,455,475,475,475,475,475,480,495,495,495,495,500,500,500,500,500,525,525,525,525,550,550,550,550,550,575,595,595,625,650,700,820]
[null,null,null,null,null,null,null,null,null,null,null,null,null,525,525,525,525,525,525,525,545,550,550,550,550,550,550,550,550,550,550,550,575,575,575,575,575,590,595,595,595,595,595,595,595,600,610,615,625,625,625,625,625,640,650,650,650,650,650,650,660,675,685,695,695,695,695,700,700,700,725,725,750,750,750,770,795,795,795,800,850,895,895,900,995,1100]
[null,null,null,null,null,null,null,null,null,null,null,null,null,695,700,700,700,700,700,725,725,725,750,750,750,750,770,775,775,795,795,795,795,795,795,795,797.5,800,800,800,800,800,800,800,825,850,850,850,850,875,875,875,890,895,895,895,900,900,900,900,900,900,900,925,950,950,950,950,950,950,975,995,995,995,1050,1050,1100,1100,1100,1150,1150,1150,1200,1250,1495,1500]
[null,null,null,null,null,null,null,null,null,null,null,null,null,995,995,1000,1000,1095,1095,1100,1100,1100,1100,1100,1100,1100,1195,1195,1200,1200,1200,1200,1200,1200,1200,1200,1200,1200,1200,1250,1250,1250,1250,1300,1300,1300,1300,1350,1350,1350,1400,1400,1400,1400,1495,1495,1500,1500,1500,1500,1500,1500,1500,1500,1500,1500,1500,1500,1500,1550,1550,1600,1600,1650,1650,1650,1700,1700,1800,1800,1950,1950,2200,2200,2250,2250]
[null,null,null,null,null,null,null,null,null,null,null,null,null,1600,1600,1600,1600,1600,1600,1600,1600,1600,1600,1600,1600,1600,1600,1600,1600,1600,1600,1600,1600,1600,1600,1600,1697.5,1795,1795,1795,1795,1795,1795,1795,1795,1795,1795,1795,1795,1795,1795,1795,1795,1950,1950,1950,1950,1950,1950,1950,1950,1950,1950,1950,1950,1950,1950,1950,1950,1950,1950,1950,1950,1950,1950,1950,1950,1950,1950,1950,1950,1950,1950,1950,1950,1950]
[null,null,null,null,null,null,null,null,null,null,null,null,null,425,425,425,425,425,425,425,425,425,425,425,425,425,425,425,425,425,425,425,425,425,425,425,512.5,600,600,600,600,600,600,600,600,600,600,600,600,600,600,600,600,600,600,600,600,600,600,600,600,600,600,600,600,600,600,600,600,600,600,600,600,600,600,600,600,600,600,600,600,600,600,600,600,600]
[null,null,null,null,null,null,null,null,null,null,null,null,null,275,275,275,275,280.62,282.44,285,285,294.33999999999997,297.61,300,300,300,305,305,305,305,305,305,305,315,316.07,316.07,316.07,316.07,316.07,316.07,316.07,316.07,316.07,316.07,316.07,316.07,319.33999999999997,325,325,325,325,325,325,325.89,333,334.52,337.79,345,350,350,350,355,359.52,359.52,359.52,359.52,359.52,359.52,359.52,359.52,359.52,367.52,367.52,375,379.52,405,410.98,410.98,425,425,425,468.15,475,475,490,533.33000000000004]
[null,null,null,null,null,null,null,null,null,null,null,null,null,350,350,350,360,360,360,360,360,360,361.74,365,370,370,370,375,375,375,375,380,380,385,385,390,395,395,395,395,395,395,395,395,395,400,400,400,400,400,400,400,400,400,400,410,420,420,420,425,425,425,425,425,425,425,425,425,430,430,445,450,450,450,450,450,450,450,460,475,495,525,550,550,650,750]
[null,null,null,null,null,null,null,null,null,null,null,null,null,450,450,450,450,450,450,450,450,450,450,450,450,450,460,465,470,470,475,475,475,475,475,475,475,480,480,485,485,495,495,495,495,495,495,495,500,500,500,500,500,520,525,525,525,525,525,530,540,550,550,550,550,550,550,550,550,570,575,575,575,585,595,595,600,600,625,650,650,670,695,730,765,875]
[null,null,null,null,null,null,null,null,null,null,null,null,null,525,525,525,525,525,525,525,525,525,525,540,545,550,550,550,550,550,550,550,550,550,565,575,575,575,575,575,580,588.41,595,595,595,600,600,600,620,625,625,625,625,650,650,650,650,660,675,675,675,680,695,695,695,695,700,700,725,725,725,750,750,750,750,750,760,775,785,795,800,825,850,875,900,995]
[null,null,null,null,null,null,null,null,null,null,null,null,null,750,750,750,775,785,795,795,795,800,800,800,825,825,825,825,830,845,850,850,850,850,850,850,850,875,875,875,875,875,890,895,895,895,895,900,900,900,900,900,900,900,925,950,950,950,950,950,950,950,950,950,975,995,995,1000,1000,1000,1000,1025,1050,1100,1100,1100,1100,1200,1200,1200,1250,1250,1300,1300,1500,2000]
[null,null,null,null,null,null,null,null,null,null,null,null,null,895,895,895,895,895,900,900,900,915,915,950,950,950,950,950,950,950,975,975,975,995,995,995,995,995,1000,1000,1100,1100,1100,1100,1100,1150,1150,1200,1200,1200,1200,1200,1200,1200,1200,1300,1300,1300,1300,1300,1380,1380,1500,1500,1500,1500,1500,1500,1500,1550,1550,1550,1600,1600,1850,1850,1850,1900,1900,1950,1950,1950,2300,2300,2450,2450]
[null,null,null,null,null,null,null,null,null,null,null,null,null,300,300,300,300,300,300,300,320,320,320,320,320,320,320,320,320,320,320,325,325,325,325,325,325,325,325,325,325,325,350,350,350,350,350,350,350,350,350,350,350,350,350,350,350,350,350,350,350,350,350,350,350,350,350,350,350,350,350,350,350,350,350,550,550,550,550,550,550,550,550,550,550,550]
[null,null,null,null,null,null,null,null,null,null,null,null,null,272.62,272.62,275,275,275,275,275,275,275,275,275,285,290,290,290,290,294.35000000000002,294.35000000000002,294.35000000000002,300,300,300,300,300,300,300,300,300,313,315,315,315,316.07,316.07,316.07,320,324.07,325,325,325,325,325,325,325,325,333,333,334.52,350,359.52,359.52,359.52,359.52,359.52,359.52,359.52,359.52,359.52,359.52,359.52,359.52,359.52,375,375,390,402.98,410.98,443.15,446.43,446.43,446.43,489.88,489.88]
[null,null,null,null,null,null,null,null,null,null,null,null,null,360,360,360,365,370,370,375,375,375,375,375,375,375,375,375,375,375,375,375,375,375,375,375,380,385,395,395,395,395,395,395,399.5,400,400,400,400,400,400,412.5,415,420,420,422.5,425,425,425,425,425,425,425,425,425,425,425.42,435,445,450,450,450,450,450,450,450,462.5,475,475,490,495,495,500,525,550,597.5]
[null,null,null,null,null,null,null,null,null,null,null,null,null,450,450,450,450,450,450,450,450,450,450,450,450,465,475,475,475,475,475,475,475,485,495,495,495,495,495,495,500,500,500,500,500,525,525,525,525,525,525,540,550,550,550,550,550,550,550,550,550,550,565,575,575,575,575,580,595,595,595,595,595,600,600,600,615,625,625,650,650,695,700,750,800,895]
[null,null,null,null,null,null,null,null,null,null,null,null,null,525,530,540,550,550,550,550,550,550,550,550,550,575,575,575,580,595,595,595,595,595,595,595,600,600,600,600,625,625,645,650,650,650,650,650,650,650,650,675,675,675,675,695,695,695,695,695,695,695,700,700,725,725,725,750,750,750,750,795,795,800,800,850,850,850,860,900,900,950,995,1000,1200,1200]
[null,null,null,null,null,null,null,null,null,null,null,null,null,795,795,795,795,795,800,825,825,825,825,825,850,850,850,850,850,850,850,850,850,850,850,850,850,875,875,875,875,875,895,895,895,895,900,950,950,950,950,950,950,950,950,950,960,960,995,995,995,1000,1000,1000,1095,1100,1100,1100,1100,1100,1100,1150,1200,1200,1200,1200,1240,1250,1250,1295,1300,1300,1300,1350,1695,1700]
[null,null,null,null,null,null,null,null,null,null,null,null,null,1200,1200,1200,1200,1200,1200,1200,1200,1200,1200,1200,1200,1200,1200,1200,1350,1350,1350,1350,1400,1400,1400,1400,1400,1400,1400,1400,1400,1500,1500,1500,1500,1500,1500,1500,1500,1500,1500,1500,1500,1660,1660,1660,1660,1695,1695,1695,1695,1697.5,1700,1700,1700,1700,1700,1700,1700,1700,1700,1700,1700,1700,1950,1950,1950,1950,2000,2000,2000,2000,2200,2200,2200,2200]
[null,null,null,null,null,null,null,null,null,null,null,null,null,350,350,350,350,350,350,350,350,350,350,350,375,375,375,375,375,375,375,375,375,375,375,375,385,395,395,395,395,395,395,395,395,395,395,395,395,395,395,395,395,395,395,395,395,395,395,395,395,397.5,400,400,400,400,400,400,400,400,400,400,400,400,450,450,450,450,450,450,450,450,450,450,450,450]
[null,null,null,null,null,null,null,null,null,null,null,null,null,295,300,300,300,300,300,300,304.17,310,310,316.07,316.07,320,320,325,325,325,325,325,325,325,330,330,335,340,340,345,350,350,350,359.52,360,360,369.35,370,375,375,375,375,375,375,375,380,385,390,400,400,400,400,400,405,405,420,422,425,425,425,430,435,446.43,450,450,460,468.15,475,475,485.54,495,502,525,528.99,533.33000000000004,576.79]
[null,null,null,null,null,null,null,null,null,null,null,null,null,425,425,425,425,425,430,445,450,450,450,450,450,450,450,450,450,450,470,475,475,475,475,475,480,490,495,495,495,495,495,495,500,500,500,520,525,525,525,525,535,550,550,550,550,550,550,550,575,575,575,575,595,595,595,595,600,600,620,625,625,650,650,650,650,675,690,695,700,715,750,750,750,850]
[null,null,null,null,null,null,null,null,null,null,null,null,null,550,550,550,550,550,550,550,550,565,575,575,575,575,595,595,595,595,595,600,600,600,600,620,625,625,625,625,645,650,650,650,650,650,650,650,675,675,685,695,695,695,700,700,725,725,750,750,750,750,775,795,795,795,800,800,825,825,850,850,850,875,895,895,895,900,925,950,975,995,1000,1150,1200,1385]
[null,null,null,null,null,null,null,null,null,null,null,null,null,595,595,595,600,600,620,625,645,650,650,650,650,650,650,675,675,695,695,695,695,710,725,725,750,750,750,750,750,750,775,795,795,800,825,850,850,850,850,850,850,875,895,900,900,900,925,950,950,975,995,995,1000,1000,1050,1075,1100,1125,1150,1170,1200,1200,1200,1200,1250,1275,1300,1400,1450,1500,1595,1795,1895,2100]
[null,null,null,null,null,null,null,null,null,null,null,null,null,895,895,895,900,900,925,925,950,975,975,995,995,995,995,995,995,995,995,1000,1050,1050,1100,1100,1100,1100,1150,1150,1200,1200,1200,1200,1200,1200,1250,1250,1295,1300,1300,1300,1350,1395,1400,1400,1400,1400,1400,1450,1450,1500,1500,1500,1500,1500,1500,1540,1560,1560,1580,1595,1595,1600,1600,1660,1695,1750,1750,1850,1900,1900,1950,1995,2000,2750]
[null,null,null,null,null,null,null,null,null,null,null,null,null,1400,1400,1500,1500,1500,1500,1500,1500,1595,1595,1595,1650,1650,1700,1750,1750,1750,1750,1750,1750,1750,1750,1800,1800,1800,1800,1800,1800,1800,1800,1800,1875,1875,1935,1995,1995,2000,2000,2000,2000,2000,2000,2000,2000,2000,2125,2125,2125,2200,2200,2200,2340,2340,2345,2350,2350,2500,2500,2500,2750,2750,2750,2750,2750,2750,2750,2750,2750,2995,2995,2995,3500,3500]
[null,null,null,null,null,null,null,null,null,null,null,null,null,350,362.5,375,375,375,382.5,390,390,390,392.5,395,395,395,395,395,395,395,397.5,400,400,400,400,400,400,400,412.5,425,425,425,425,425,425,425,437.5,450,450,450,450,450,450,450,450,450,450,450,462.5,475,475,475,475,475,475,475,485,495,495,495,527.5,560,560,560,577.5,595,595,595,617.5,640,640,640,682.5,725,725,725]
[null,null,null,null,null,null,null,null,null,null,null,null,null,270,270,275,275.89,275.89,280,280,280,285,286.73,290,290,290,290,290,291.07,291.07,297.62,297.62,300,300,300,300,300,300,300,300,300,300,300,300,300,310,312.8,312.8,312.8,315,320,325,325,325,325.83,325.89,330,330.18,334.52,334.52,334.52,334.52,334.52,334.52,334.52,334.52,340,350,350,350,350,350,350,355,377.97,377.98,391.07,400,400,421.43,421.43,421.43,464.88,495,660.42,660.42]
[null,null,null,null,null,null,null,null,null,null,null,null,null,400,400,410,420,420,425,425,425,425,425,430,430,433,433,435,445,450,450,450,450,450,450,450,450,450,450,450,450,450,450,450,460,460,460,465,470,475,475,475,475,475,475,480,480,480,480,485,490,495,495,495,495,495,495,495,495,500,500,500,500,500,510,520,525,525,525,525,540,550,550,550,560,650]
[null,null,null,null,null,null,null,null,null,null,null,null,null,495,495,495,500,500,500,500,500,500,500,500,500,510,520,525,525,525,525,525,525,530,530,540,550,550,550,550,550,550,550,550,550,550,550,560,565,570,575,575,575,575,575,580,585,595,595,595,595,600,600,600,600,600,600,610,620,625,625,625,630,650,650,650,650,650,670,675,675,690,695,695,725,750]
[null,null,null,null,null,null,null,null,null,null,null,null,null,550,550,550,575,575,575,575,580,595,595,600,600,600,600,600,600,600,625,625,625,650,650,650,650,650,650,650,650,650,675,675,675,675,680,695,695,695,695,700,700,700,720,725,725,725,750,750,750,750,750,750,750,750,750,775,775,775,795,795,795,800,800,800,825,825,850,850,875,895,900,900,950,975]
[null,null,null,null,null,null,null,null,null,null,null,null,null,695,700,700,700,725,725,725,725,738.69,750,750,750,750,750,750,750,750,750,775,780,780,795,795,795,800,800,800,800,800,825,825,825,825,825,825,840,850,850,850,875,875,875,875,875,875,875,895,900,900,920,925,925,925,925,925,950,950,950,950,975,995,995,995,1000,1050,1100,1100,1150,1200,1200,1200,1400,1400]
[null,null,null,null,null,null,null,null,null,null,null,null,null,630,630,630,630,630,630,630,875,875,875,875,875,875,875,875,875,875,875,875,875,875,875,875,875,875,875,875,875,875,875,875,875,875,875,875,875,875,875,875,875,1200,1200,1200,1200,1200,1200,1200,1200,1200,1200,1200,1200,1200,1200,1200,1200,1200,1200,1200,1200,1200,1200,1200,1200,1200,1200,1200,1200,1200,1200,1200,1200,1200]
[null,null,null,null,null,null,null,null,null,null,null,null,null,315,315,315,315,315,315,315,350,350,350,350,350,350,350,350,350,350,350,350,350,350,350,350,365,380,380,380,380,380,380,380,380,380,380,380,380,380,380,380,380,395,395,395,395,395,395,395,395,395,395,395,395,395,395,395,395,395,450,450,450,450,450,450,450,450,450,450,450,450,450,450,450,450]
[null,null,null,null,null,null,null,null,null,null,null,null,null,315,315,324,325,325,325,325,325,325,325,325,325,325,325,325,325,333,335,337.8,340,345,350,350,350,350,350,350,350,350,350,359,359.52,359.52,360,365,375,375,375,375,375,375,375,375,375,375,380,388,390,395,400,400,400,400,400,405,415,425,425,425,425,425,425,430,446.43,450,450,468.15,475,475,485,500,500,545]
[null,null,null,null,null,null,null,null,null,null,null,null,null,550,550,550,550,550,550,550,550,560,560,570,575,575,575,575,575,575,575,575,580,585,595,595,595,595,595,595,600,600,600,600,600,615,625,625,625,625,625,625,630,645,650,650,650,650,650,650,655,675,675,675,675,680,685,695,695,700,705,725,725,735,750,750,760,770,775,800,810,850,875,900,1000,1100]
[null,null,null,null,null,null,null,null,null,null,null,null,null,675,680,695,695,695,695,700,700,700,710,720,725,725,725,735,750,750,750,750,750,750,750,760,775,775,775,785,795,795,795,800,800,800,810,825,825,825,850,850,850,850,850,870,875,875,890,895,895,900,900,915,925,945,950,950,950,980,995,1000,1050,1100,1100,1150,1155,1200,1200,1250,1260,1300,1365,1400,1500,1600]
[null,null,null,null,null,null,null,null,null,null,null,null,null,850,850,850,875,895,895,895,900,900,900,915,925,945,950,950,950,975,975,980,995,995,995,1000,1000,1000,1020,1050,1050,1080,1095,1100,1100,1100,1100,1130,1150,1150,1185,1200,1200,1200,1200,1200,1225,1250,1250,1250,1260,1300,1300,1300,1335,1350,1350,1395,1400,1410,1450,1495,1500,1500,1550,1575,1595,1600,1625,1680,1705,1750,1850,1950,2000,2200]
[null,null,null,null,null,null,null,null,null,null,null,null,null,1225,1250,1250,1280,1295,1300,1300,1300,1300,1350,1350,1350,1365,1400,1400,1400,1425,1450,1450,1450,1460,1495,1496,1500,1500,1500,1500,1500,1500,1500,1515,1520,1540,1595,1596,1600,1600,1600,1600,1600,1600,1640,1680,1695,1700,1700,1700,1700,1730,1750,1785,1795,1800,1800,1800,1820,1850,1890,1890,1900,1995,2000,2000,2000,2200,2200,2250,2250,2250,2300,2500,2500,2520]
[null,null,null,null,null,null,null,null,null,null,null,null,null,1550,1550,1650,1650,1650,1675,1690,1750,1750,1750,1750,1750,1750,1750,1750,1750,1785,1785,1800,1800,1800,1800,1875,1875,1890,1900,1900,1950,1995,1995,1995,1995,2000,2000,2000,2000,2000,2100,2100,2100,2100,2100,2100,2100,2200,2250,2250,2250,2250,2250,2300,2360,2360,2395,2450,2500,2500,2500,2500,2500,2500,2500,2500,2600,2600,2600,2650,2800,2950,2950,3100,3250,3750]
[null,null,null,null,null,null,null,null,null,null,null,null,null,465,465,465,465,465,475,475,490,490,495,495,495,495,497.5,500,500,500,500,500,500,500,500,525,525,525,525,525,525,525,525,525,525,525,525,525,525,550,550,550,550,550,550,550,550,550,550,550,550,550,570,570,575,575,575,575,575,575,575,605,605,625,625,650,650,650,650,650,700,700,705,705,800,800]
[null,null,null,null,null,null,null,null,null,null,null,null,null,260.70999999999998,260.70999999999998,270,275,275,275,275,275,275,275,275,275,275,275,275,275,275,300,300,300,300,300,300,300,300,300,300,300,300,300,300,300,300,300,304.17,304.17,310,310,316.07,320,320,325,325.89,325.89,325.89,330,330,330,338.81,347.62,350,350,350,359.52,359.52,359.52,359.52,359.52,359.52,375,375,375,375,385.98,390,390,400,402.98,402.98,425,576.79,576.79,794.05]
[null,null,null,null,null,null,null,null,null,null,null,null,null,350,350,350,350,350,350,350,350,355,365,370,370,375,375,375,375,375,375,375,375,375,375,375,375,375,375,375,375,377.5,380,390,390,395,395,395,395,395,395,395,395,395,395,395,400,400,400,400,400,400,400,400,415,425,425,425,425,425,430,445,450,450,450,450,450,450,450,450,470,475,475,500,500,550]
[null,null,null,null,null,null,null,null,null,null,null,null,null,425,425,425,435,440,450,450,450,450,450,450,450,450,450,450,450,450,450,450,450,450,450,450,450,460,460,475,475,475,475,475,475,475,475,475,485,495,495,495,495,495,495,495,500,500,500,500,500,525,525,525,525,525,525,525,540,550,550,550,550,550,550,550,550,575,580,585,595,595,600,650,650,695]
[null,null,null,null,null,null,null,null,null,null,null,null,null,495,495,495,500,500,500,500,500,510,525,525,525,525,525,525,525,545,550,550,550,550,550,550,550,550,550,550,550,550,560,575,575,575,575,575,575,590,595,595,595,600,600,600,600,625,625,625,636,650,650,650,650,650,650,650,650,675,675,695,695,695,695,700,725,750,750,750,750,795,795,800,850,895]
[null,null,null,null,null,null,null,null,null,null,null,null,null,750,750,750,750,775,775,795,795,795,795,795,800,800,800,800,835,835,845,845,850,850,850,850,850,850,850,850,850,850,850,850,850,850,875,875,875,895,895,895,895,900,900,900,950,950,950,950,950,950,975,975,995,995,995,995,995,1095,1100,1100,1150,1150,1150,1150,1150,1200,1200,1200,1300,1300,1699,1800,1800,1800]
[null,null,null,null,null,null,null,null,null,null,null,null,null,850,850,850,862.5,875,875,875,875,875,875,875,875,875,912.5,950,950,950,950,950,950,950,950,950,1025,1100,1100,1100,1100,1100,1100,1100,1100,1100,1100,1100,1100,1100,1100,1100,1100,1100,1100,1100,1175,1250,1250,1250,1250,1250,1250,1250,1250,1250,1325,1400,1400,1400,1400,1400,1400,1400,1400,1400,1700,2000,2000,2000,2000,2000,2000,2000,2000,2000]
[null,null,null,null,null,null,null,null,null,null,null,null,null,250,250,250,250,250,250,250,250,250,250,250,250,250,250,250,250,250,250,250,250,250,250,250,250,250,250,250,250,250,250,250,250,250,250,250,250,250,250,250,250,250,250,250,250,250,250,250,250,250,250,250,250,250,250,250,250,250,250,250,250,250,250,250,250,250,250,250,250,250,250,250,250,250]
[null,null,null,null,null,null,null,null,null,null,null,null,null,254.17,254.17,260,260,269.35000000000002,269.35000000000002,270,270,275,275,275,275,280,280,280,280,280,280,291.07,291.07,291.07,291.07,291.07,291.07,291.07,297.62,297.62,297.62,297.62,297.62,297.62,300,300,300,300,300,300,300,300,300,300,300,300,325,325,325,325,330,330,330,330,330,330,334.52,334.52,334.52,334.52,350,350,350,350,350,350,350,350,370,370,399.7,399.7,399.7,399.7,421.43,421.43]
[null,null,null,null,null,null,null,null,null,null,null,null,null,375,375,380,380,380,380,380,380,380,385,385,390,390,390,395,395,395,395,400,400,400,400,400,400,400,400,400,400,400,400,400,400,400,400,400,420,420,420,420,420,420,420,420,425,425,425,425,425,425,430,435,435,435,435,440,450,450,450,450,450,450,460,475,475,475,475,475,475,490,495,500,520,530]
[null,null,null,null,null,null,null,null,null,null,null,null,null,480,480,480,495,495,495,495,495,495,500,500,500,500,500,500,500,500,500,500,500,520,525,525,525,525,525,525,525,525,530,545,550,550,550,550,550,550,550,550,550,550,550,550,550,550,550,575,575,575,575,575,585,595,595,595,595,595,600,600,600,600,625,625,625,625,650,650,650,650,650,675,700,750]
[null,null,null,null,null,null,null,null,null,null,null,null,null,600,600,600,600,600,600,600,600,620,625,625,625,625,650,650,650,650,650,650,650,650,650,650,650,650,675,675,675,675,675,675,695,695,695,695,695,695,695,695,700,700,700,700,700,725,725,750,750,750,750,750,750,775,775,775,795,795,795,795,800,800,825,825,850,875,895,895,900,900,950,995,995,1000]
[null,null,null,null,null,null,null,null,null,null,null,null,null,875,875,875,875,880,880,890,890,895,895,895,895,895,895,900,900,950,950,950,950,950,950,950,972.5,995,995,995,995,995,995,995,995,995,1000,1000,1000,1000,1000,1000,1050,1050,1050,1050,1050,1050,1095,1095,1100,1100,1100,1100,1100,1100,1100,1200,1200,1200,1200,1200,1200,1200,1200,1250,1250,1295,1295,1300,1300,1300,1300,1500,1500,1600]
[null,null,null,null,null,null,null,null,null,null,null,null,null,850,850,895,895,895,895,895,895,895,895,895,895,895,895,895,895,950,950,950,950,950,950,950,950,950,950,950,950,950,950,950,1150,1150,1150,1150,1150,1150,1150,1150,1150,1150,1150,1150,1150,1150,1295,1295,1295,1295,1295,1295,1295,1295,1295,1295,1295,1295,1295,1295,2000,2000,2000,2000,2000,2000,2000,2000,2000,2000,2000,2000,2000,2000]
[null,null,null,null,null,null,null,null,null,null,null,null,null,295,295,325,325,325,325,325,325,325,325,325,325,325,325,325,325,350,350,350,350,350,350,350,350,350,350,350,350,350,350,350,350,350,350,350,350,350,350,350,350,350,350,350,350,350,350,350,350,350,350,350,350,350,350,350,350,350,350,350,430,430,430,430,430,430,430,430,430,430,430,430,430,430]
[null,null,null,null,null,null,null,null,null,null,null,null,null,250.89,260.70999999999998,265,272.62,272.62,272.62,272.62,275,275,275,275,275,275,275,275,275,275,275,275.89,282.44,290,290,294.33999999999997,294.35000000000002,295,295,295,300,300,300,300,300,300,300,300,300,300,300,304.17,304.17,305,305,305,310,315,315,320,320,320,320,320,325,325,325,325.89,330,340,350,350,350,359.52,359.52,359.52,359.52,359.52,359.52,359.52,375,377.97,377.97,400,425,434.52]
[null,null,null,null,null,null,null,null,null,null,null,null,null,350,350,350,350,350,350,350,350,350,350,350,350,350,350,350,350,350,350,350,350,350,350,350,350,360,365,375,375,375,375,375,375,375,375,375,375,375,380,380,385,388,395,395,395,395,395,399,400,400,400,400,400,410,425,425,425,425,425,425,445,450,450,450,450,465,475,475,475,485,495,520,550,575]
[null,null,null,null,null,null,null,null,null,null,null,null,null,425,425,425,440,445,450,450,450,450,450,450,450,450,450,450,450,450,450,450,450,450,460,465,475,475,475,475,475,475,475,475,480,495,495,495,495,499,500,500,500,500,525,525,525,525,525,525,545,550,550,550,550,550,550,550,565,575,575,595,595,595,600,600,600,625,625,650,650,650,675,695,750,750]
[null,null,null,null,null,null,null,null,null,null,null,null,null,500,525,525,550,550,550,550,550,550,550,550,550,560,575,575,580,595,595,595,595,595,600,625,625,625,650,650,650,650,650,650,650,650,675,675,675,680,695,695,695,695,695,695,700,700,700,700,725,725,750,750,750,750,775,775,795,795,799,800,825,850,850,850,850,850,895,900,950,995,995,1100,1200,1600]
[null,null,null,null,null,null,null,null,null,null,null,null,null,800,800,800,850,850,850,850,850,850,850,850,850,850,850,850,850,850,860,875,895,895,895,895,895,900,900,900,925,945,950,950,950,950,950,950,975,975,975,975,995,995,995,995,995,995,1000,1050,1050,1100,1100,1100,1100,1100,1125,1150,1200,1200,1200,1200,1200,1250,1295,1295,1300,1350,1400,1400,1400,1500,1500,1650,1750,2995]
[null,null,null,null,null,null,null,null,null,null,null,null,null,1000,1000,1100,1100,1100,1100,1100,1195,1195,1195,1195,1195,1200,1200,1200,1200,1250,1250,1250,1250,1250,1300,1300,1300,1300,1300,1400,1400,1400,1400,1400,1400,1400,1400,1400,1400,1400,1400,1400,1400,1495,1495,1495,1495,1495,1500,1500,1500,1500,1500,1575,1575,1575,1575,1950,1950,1950,1950,1950,2000,2000,2000,2000,2000,2500,2500,2500,2500,2500,2750,2750,2750,2750]
[null,null,null,null,null,null,null,null,null,null,null,null,null,250,250,250,250,250,250,250,275,275,275,275,275,275,275,275,280,280,280,280,280,280,280,280,302.5,325,325,325,325,325,325,325,325,350,350,350,350,350,350,350,350,350,350,350,350,350,350,350,350,350,350,350,350,350,350,350,350,350,350,350,350,350,350,350,350,350,375,375,375,375,375,375,375,375]
[null,null,null,null,null,null,null,null,null,null,null,null,null,250,250,250,250,250,250,250,250,250,250,250,250,250,250,250,250,250,250.89,250.89,250.89,250.89,250.89,250.89,250.89,250.89,254.17,254.17,254.17,258.89,258.89,260.89,260.89,260.89,275,275,275,282.62,282.62,291.07,291.07,291.07,291.07,291.07,291.07,291.07,291.07,300,300,300,311.73,311.73,311.73,315,315,315,316.07,316.07,316.07,316.07,316.07,325,325,325,325,325,355,355,355,356.25,356.25,356.25,434.52,434.52]
[null,null,null,null,null,null,null,null,null,null,null,null,null,300,300,310,315,315,320,325,325,325,325,325,325,325,325,325,330,330,330,330,335,340,340,340,345,350,350,350,350,350,350,350,350,350,350,350,350,350,350,350,350,350,350,350,350,350,350,360,360,360,360,360,360,365,365,370,375,375,375,375,380,390,395,395,395,395,395,400,425,425,450,495,500,550]
[null,null,null,null,null,null,null,null,null,null,null,null,null,400,400,400,400,400,400,400,410,420,420,425,425,425,425,425,425,425,425,425,425,425,430,430,435,440,440,450,450,450,450,450,450,450,450,450,450,450,460,460,460,475,475,475,475,475,475,475,485,490,495,495,495,495,500,500,500,500,500,520,525,525,525,550,550,550,550,550,550,575,580,600,650,650]
[null,null,null,null,null,null,null,null,null,null,null,null,null,460,465,470,475,475,475,480,485,490,495,495,495,495,495,495,499.7,500,500,500,515,525,525,525,525,525,535,550,550,550,550,550,550,550,550,550,550,550,560,575,575,575,575,575,575,575,580,590,595,595,595,600,600,615,620,625,625,625,650,650,650,650,650,655,660,675,695,700,700,700,720,750,750,850]
[null,null,null,null,null,null,null,null,null,null,null,null,null,695,695,695,695,695,725,725,725,725,725,735,735,750,750,750,750,750,750,750,750,750,750,750,755,760,780,780,780,787.5,795,795,795,795,797.5,800,800,800,800,800,800,800,800,800,812.5,825,825,825,830,830,830,850,850,850,850,850,850,850,850,850,850,850,850,885,887.5,890,895,895,950,975,1000,1000,1000,1050]
[null,null,null,null,null,null,null,null,null,null,null,null,null,800,800,800,800,860,860,860,860,895,895,895,895,925,925,925,925,975,975,975,975,1000,1000,1000,1000,1000,1000,1000,1100,1100,1100,1100,1200,1200,1200,1200,1225,1225,1225,1225,1225,1225,1225,1225,1300,1300,1300,1300,1300,1300,1300,1350,1350,1350,1350,1350,1350,1350,1350,1475,1475,1475,1475,1500,1500,1500,1500,1750,1750,1750,1750,2000,2000,2000]
[null,null,null,null,null,null,null,null,null,null,null,null,null,230,230,230,230,230,230,230,230,230,230,230,230,230,230,230,230,230,230,230,230,230,230,230,240,250,250,250,250,250,250,250,250,250,250,250,250,250,250,250,250,250,250,250,250,250,250,250,250,287.5,325,325,325,325,325,325,325,325,325,325,325,325,325,325,325,325,325,325,325,325,325,325,325,325]
[null,null,null,null,null,null,null,null,null,null,null,null,null,290,290,294.35000000000002,297.62,297.62,300,300,300,300,300,300,300,300,300,300,300,300,300,305,305,316.07,316.07,316.07,325,325,325,325,325,325,325,325,325,325,325.89,325.89,340,341.07,341.07,345,350,350,350,350,350,350,350,350,359.52,359.52,359.52,369.52,384.52,384.52,400,400,400,400,400,400,400,400,400,400,400,400,400,434.52,434.52,445,445,445,450,450]
[null,null,null,null,null,null,null,null,null,null,null,null,null,360,360,360,365,370,370,375,375,375,375,375,375,375,375,375,375,375,375,375,375,375,375,380,380,380,390,395,395,395,395,395,395,395,395,395,395,395,395,395,395,395,395,395,400,400,400,400,400,400,400,400,400,420,425,425,425,425,425,425,425,425,430,450,450,450,450,450,450,450,450,450,500,515]
[null,null,null,null,null,null,null,null,null,null,null,null,null,450,450,450,450,450,450,450,450,450,450,450,450,450,450,450,450,470,475,475,475,475,475,475,475,485,495,495,495,495,495,495,500,500,500,500,500,520,525,525,525,525,525,525,525,525,550,550,550,550,550,550,550,550,550,550,550,550,575,575,575,575,595,595,595,600,600,625,625,650,650,695,795,850]
[null,null,null,null,null,null,null,null,null,null,null,null,null,550,550,550,560,575,575,575,575,575,575,575,595,595,595,595,595,595,595,595,600,600,600,600,600,600,600,600,600,610,620,625,625,625,625,625,650,650,650,650,650,650,650,650,650,675,675,675,675,695,695,695,700,725,725,725,750,750,750,750,750,750,775,795,795,795,795,795,850,850,895,900,995,1300]
[null,null,null,null,null,null,null,null,null,null,null,null,null,850,850,850,862.5,875,895,895,895,895,895,895,895,895,897.5,900,925,925,950,950,950,950,950,950,970,990,995,995,995,995,995,995,995,995,1022.5,1050,1050,1050,1050,1075,1100,1100,1100,1100,1100,1100,1200,1200,1200,1200,1200,1200,1200,1200,1225,1250,1300,1300,1300,1325,1350,1395,1395,1450,1475,1500,1500,1500,1595,1697.5,1800,1995,1995,2500]
[null,null,null,null,null,null,null,null,null,null,null,null,null,800,800,800,800,800,800,800,1195,1195,1195,1195,1195,1195,1247.5,1300,1300,1300,1300,1300,1300,1395,1395,1395,1395,1395,1395,1395,1500,1500,1500,1500,1500,1500,1625,1750,1750,1750,1750,1750,1750,1950,1950,1950,1950,1950,1950,1950,2000,2000,2000,2000,2000,2000,2250,2500,2500,2500,2500,2500,2500,2500,2500,2500,2500,2500,2500,2500,2800,2800,2800,2800,2800,2800]
[null,null,null,null,null,null,null,null,null,null,null,null,null,200,200,265,265,265,265,265,265,265,265,265,265,265,265,265,265,275,275,275,275,275,275,275,275,275,275,275,275,275,275,275,280,280,280,280,280,280,280,280,280,280,280,280,280,280,285,285,285,285,285,285,285,285,285,285,285,285,285,285,322,322,322,322,322,322,322,322,322,322,322,322,322,322]
[null,null,null,null,null,null,null,null,null,null,null,null,null,272.62,275,280,280,285,285,285,285,285,285,295,300,300,300,300,300,300,300,300,300,300,300,300,305,315,315,320,325,325,325.89,325.89,325.89,325.89,334.52,334.52,334.52,334.52,345,345,347.61,350,350,350,359.52,359.52,359.52,359.52,359.52,359.52,359.52,375,375,375,375,375,375,375,375,375,375,383,383,400,400,400,400,400,400,425,425,425,495,543.15]
[null,null,null,null,null,null,null,null,null,null,null,null,null,365,370,375,375,375,375,375,375,375,375,375,375,375,375,375,375,375,375,375,380,380,385,395,395,395,395,395,395,395,395,395,395,395,395,395,395,400,400,400,400,400,400,400,400,400,400,400,410,417.5,425,425,425,425,425,425,425,425,425,425,425,425,435,450,450,450,450,450,450,460,475,475,475,500]
[null,null,null,null,null,null,null,null,null,null,null,null,null,425,430,440,450,450,450,450,450,450,450,450,450,450,450,450,450,450,450,450,450,450,450,450,460,460,475,475,475,475,475,475,475,475,475,490,495,495,495,495,495,495,495,495,500,500,500,500,500,525,525,550,550,550,550,550,550,550,550,550,550,550,575,575,575,575,575,595,595,595,595,595,650,750]
[null,null,null,null,null,null,null,null,null,null,null,null,null,495,495,500,500,500,500,500,500,500,500,500,525,525,525,525,525,550,550,550,550,550,550,550,550,550,550,550,550,550,550,550,550,575,575,575,575,575,575,575,595,595,595,595,595,595,600,620,625,625,650,650,650,650,650,650,650,650,695,695,695,695,700,700,745,750,795,795,795,795,850,850,945,995]
[null,null,null,null,null,null,null,null,null,null,null,null,null,795,795,795,795,795,795,795,795,795,795,795,795,800,800,800,800,800,800,800,800,800,800,800,800,800,800,800,850,850,850,850,850,850,850,850,860,860,860,860,860,860,860,860,875,875,875,875,875,875,875,895,895,895,895,895,895,895,895,1100,1100,1100,1100,1100,1100,1100,1100,1200,1200,1200,1200,1200,1200,1200]
[null,null,null,null,null,null,null,null,null,null,null,null,null,995,995,995,995,995,995,995,995,995,995,995,995,995,995,995,995,995,995,995,995,995,995,995,1097.5,1200,1200,1200,1200,1200,1200,1200,1200,1200,1200,1200,1200,1200,1200,1200,1200,1200,1200,1200,1200,1200,1200,1200,1200,1200,1200,1200,1200,1200,1200,1200,1200,1200,1200,1200,1200,1200,1200,1200,1200,1200,1200,1200,1200,1200,1200,1200,1200,1200]
[null,null,null,null,null,null,null,null,null,null,null,null,null,270,270,270,270,270,270,270,295,295,295,295,295,295,295,295,295,295,295,295,295,295,295,295,295,295,295,295,295,295,295,295,295,295,295,295,295,295,295,295,295,300,300,300,300,300,300,300,300,300,300,300,300,300,300,300,300,300,300,300,300,300,300,300,300,300,300,300,300,300,300,300,300,300]
[null,null,null,null,null,null,null,null,null,null,null,null,null,255,260,270,271.31,272.62,272.62,272.62,272.62,272.62,275,275,275,275,275,275,275,280,280,291.07,291.07,291.07,294.35000000000002,300,300,300,300,305,305,305,316.07,316.07,316.07,325,325,325,325,325,325,325,325,325,325,325,325,325,345,347.62,347.62,355,359.52,359.52,359.52,359.52,359.52,359.52,359.52,359.52,359.52,359.52,375,375,375,375,378.13,381.25,385.98,399.7,399.7,400,400,400,400,415]
[null,null,null,null,null,null,null,null,null,null,null,null,null,425,425,425,425,425,425,425,430,435,435,445,450,450,450,450,450,450,450,450,450,450,450,450,450,450,450,450,450,450,450,450,450,450,450,450,450,450,450,450,450,450,455,465,470,475,475,475,475,475,475,475,475,475,475,475,475,475,475,475,480,485,485,495,495,495,495,495,495,495,495,500,500,520]
[null,null,null,null,null,null,null,null,null,null,null,null,null,525,525,525,525,525,530,540,545,550,550,550,550,550,550,550,550,550,550,550,550,550,550,550,550,550,550,550,550,550,560,565,570,575,575,575,575,575,575,575,575,575,575,575,580,585,595,595,595,595,595,599,600,600,600,600,600,600,600,617.5,625,625,625,625,642.5,650,650,650,650,660,675,695,700,725]
[null,null,null,null,null,null,null,null,null,null,null,null,null,600,600,600,600,600,625,625,625,625,625,625,625,645,650,650,650,650,650,650,650,650,650,650,650,650,650,650,660,670,675,675,675,675,675,675,675,685,695,695,695,695,695,695,700,710,710,725,725,725,750,750,750,750,750,750,750,760,775,785,795,795,795,795,800,800,825,825,850,900,950,950,975,995]
[null,null,null,null,null,null,null,null,null,null,null,null,null,850,850,850,850,850,850,850,850,862.5,875,895,895,895,895,895,900,900,900,900,900,925,925,925,935,945,945,945,950,950,950,950,950,950,950,950,975,975,975,975,975,985,985,995,997.5,1000,1000,1000,1000,1000,1000,1000,1000,1000,1000,1000,1100,1100,1100,1100,1100,1100,1100,1195,1197.5,1200,1200,1200,1300,1335,1370,1450,1450,1470]
[null,null,null,null,null,null,null,null,null,null,null,null,null,975,975,975,987.5,1000,1000,1000,1000,1025,1050,1050,1050,1050,1075,1100,1100,1100,1100,1150,1200,1200,1200,1200,1200,1200,1200,1200,1200,1225,1250,1250,1250,1250,1250,1250,1250,1250,1250,1275,1300,1300,1300,1300,1300,1300,1300,1300,1300,1325,1350,1350,1350,1350,1375,1400,1400,1400,1400,1500,1600,1600,1600,1600,1775,1950,1950,1950,1950,2225,2500,2500,2500,2500]
[null,null,null,null,null,null,null,null,null,null,null,null,null,350,350,360,360,360,360,360,360,360,360,360,360,360,360,360,360,375,375,375,375,375,375,375,375,375,375,375,375,375,375,375,375,375,375,375,375,375,375,375,375,375,375,375,375,375,395,395,395,395,395,395,395,395,395,395,395,395,395,395,395,395,395,395,395,395,395,395,395,395,395,395,395,395]

{"sheet":"Table 13","index":39,"n_rows":1222,"n_cols":453,"rows_kept":1222,"cut":false,"hidden":false,"merged":[[66,0,66,11],[68,0,68,11]]}
["Back to contents"]
["TABLE 13 - Private Rents (£ Monthly), by Broad Rental Market Area, 2016 (year to end Sept)"]
[null,"1 Bedroom Properties",null,null,null,null,null,"2 Bedroom Properties"]
[null,"Number of records","Lower Quartile","Median","Mean","Upper Quartile",null,"Number of records","Lower Quartile","Median","Mean","Upper Quartile"]
["Scotland",6299,375,450,481.58,575,null,12578,475,575,615.64,700]
["Aberdeen and Shire",738,510,550,565.87,600,null,1271,675,750,754.39,800]
["Argyll and Bute",124,350.5,400,412.33,450,null,173,460,500,524.75,575]
["Ayrshires",288,327.5,350,366.26,400,null,716,425,450,463.38,500]
["Dumfries and Galloway",109,369.35,380,384.25,400,null,341,420,450,446.89,475]
["Dundee and Angus",382,350,375,383.14,400,null,950,465,530,545.96,600]
["East Dunbartonshire",98,425,450,478.92,525,null,144,550,625,635.52,695]
["Fife",322,360,395,402.75,425,null,680,450,495,510.77,550]
["Forth Valley",350,355,395,407.52,450,null,709,450,510,529.72,595]
["Greater Glasgow",1289,425,495,520.03,595,null,2199,550,650,695.92,795]
["Highland and Islands",269,400,470,460.5,500,null,733,500,550,560.95000000000005,625]
["Lothian",944,575,625,652.91999999999996,700,null,1776,700,800,830.97,925]
["North Lanarkshire",181,350,375,381.35,425,null,505,425,475,475.8,525]
["Perth and Kinross",240,380,400,408.15,430,null,424,495,525,539.95000000000005,595]
["Renfrewshire / Inverclyde",352,350,375,391.6,400,null,583,425,475,493.93,550]
["Scottish Borders",179,310,325,337.92,360,null,303,400,450,452.23,495]
["South Lanarkshire",223,350,375,381,400,null,489,450,475,500.05,550]
["West Dunbartonshire",118,360,395,400.42,425,null,197,450,475,498.22,550]
["West Lothian",93,450,475,469.89,495,null,385,550,575,577.79999999999995,600]
[null,"3 Bedroom Properties",null,null,null,null,null,"4 Bedroom Properties"]
[null,"Number of records","Lower Quartile","Median","Mean","Upper Quartile",null,"Number of records","Lower Quartile","Median","Mean","Upper Quartile"]
["Scotland",4907,550,675,752.8,855,null,1607,800,995,1089.48,1300]
["Aberdeen and Shire",412,800,900,930.15,1050,null,275,1000,1200,1291.33,1500]
["Argyll and Bute",85,550,650,665.89,750,null,44,795,900,988.57,1200]
["Ayrshires",341,495,550,578.84,650,null,101,695,800,907.52,975]
["Dumfries and Galloway",206,450,500,513.91,550,null,62,550,650,645.80999999999995,750]
["Dundee and Angus",335,600,700,701.64,795,null,85,800,995,972.76,1200]
["East Dunbartonshire",105,695,795,859.19,985,null,40,962.5,1100,1276.8800000000001,1500]
["Fife",434,520,575,617,695,null,151,775,875,900.74,975]
["Forth Valley",286,545,650,677.94,750,null,100,800,950,1051.92,1200]
["Greater Glasgow",566,600,800,915.07,1170,null,123,925,1250,1299.47,1600]
["Highland and Islands",361,575,650,671.75,765,null,108,695,812.5,822.47,950]
["Lothian",613,860,1100,1111.6400000000001,1300,null,194,1225,1500,1512.32,1800]
["North Lanarkshire",215,495,550,564.39,600,null,47,695,795,823.4,925]
["Perth and Kinross",138,600,675,699.52,795,null,47,850,950,1018.04,1100]
["Renfrewshire / Inverclyde",237,525,650,643.1,750,null,71,800,950,1014.72,1200]
["Scottish Borders",175,475,525,545.97,600,null,41,600,695,739.76,850]
["South Lanarkshire",199,550,625,636.58000000000004,695,null,60,812.5,900,1022.17,1192.5]
["West Dunbartonshire",68,475,562.5,575.4,650,null,12,771.5,872.5,906.5,997.5]
["West Lothian",131,600,675,690.52,775,null,46,825,895,920.33,1000]
[null,"1 Bedroom Shared Properties"]
[null,"Number of records","Lower Quartile","Median","Mean","Upper Quartile"]
["Scotland",1931,282.44,325,339.52,377]
["Aberdeen and Shire",104,350,400,404.11,450]
["Argyll and Bute",46,275,316.07,301.85000000000002,325]
["Ayrshires",115,275,325.89,335.13,359.52]
["Dumfries and Galloway",82,260,282.5,284.72000000000003,305]
["Dundee and Angus",93,250,300,295.72000000000003,320]
["East Dunbartonshire",22,275,325,324.77999999999997,375]
["Fife",162,290,351.92,367.97,409.66]
["Forth Valley",105,294.35000000000002,333,350.9,375]
["Greater Glasgow",189,308,350,372.15,425]
["Highland and Islands",178,275.89,306.39999999999998,319.81,350]
["Lothian",379,325,375,367.86,425]
["North Lanarkshire",69,260.70999999999998,325,319.95999999999998,359.52]
["Perth and Kinross",64,250,291.07,288.35000000000002,300]
["Renfrewshire / Inverclyde",105,270,300,304.02999999999997,330]
["Scottish Borders",37,245,250,270.22000000000003,294.35000000000002]
["South Lanarkshire",66,275,309.68,315.10000000000002,350]
["West Dunbartonshire",45,260.70999999999998,305,322.08999999999997,359.52]
["West Lothian",70,275,325,318.32,359.52]
["Notes:"]
["Total figures exclude any studio properties, properties with 5 or more bedrooms, or room rents associated with bed and breakfast lodgings"]
["Figures for rooms in shared properties represent \"rent only\", i.e. exclude any payments for shared services"]
["Note that some caution is needed when interpreting Scotland level findings. This is because whilst the underlying data aims to be representative of rents within each broad rental market area, no attempt has been made to apply any formal weighting techniques to account for any specific area-level sample sizes or structures when aggregating up to a single Scotland level figure "]
[]
[]
[]
[]
[]
[]
[]
[]
[]
[]
[]
[]
[]
[]
[]
[]
[]
[]
[]
[]
[]
[]
[]
[]
[]
[]
[]
[]
[]
[]
[]
[]
[]
[]
[]
[]
[]
[]
[]
[]
[]
[]
[]
[]
[]
[]
[]
[]
[]
[]
[]
[]
[]
[]
[]
[]
[]
[]
[]
[]
[]
[]
[]
[]
[]
[]
[]
[]
[]
[]
[]
[]
[]
[]
[]
[]
[]
[]
[]
[]
[]
[]
[]
[]
[]
[]
[]
[]
[]
[]
[]
[]
[]
[]
[]
[]
[]
[]
[]
[]
[]
[]
[]
[]
[]
[]
[]
[]
[]
[]
[]
[]
[]
[]
[]
[]
[]
[]
[]
[]
[]
[]
[]
[]
[]
[]
[]
[]
[]
[]
[]
[]
[]
[]
[]
[]
[]
[]
[]
[]
[]
[]
[]
[]
[]
[]
[]
[]
[]
[]
[]
[]
[]
[]
[]
[]
[]
[]
[]
[]
[]
[]
[]
[]
[]
[]
[]
[]
[]
[]
[]
[]
[]
[]
[]
[]
[]
[]
[]
[]
[]
[]
[]
[]
[]
[]
[]
[]
[]
[]
[]
[]
[]
[]
[]
[]
[]
[]
[]
[]
[]
[]
[]
[]
[]
[]
[]
[]
[]
[]
[]
[]
[]
[]
[]
[]
[]
[]
[]
[]
[]
[]
[]
[]
[]
[]
[]
[]
[]
[]
[]
[]
[]
[]
[]
[]
[]
[]
[]
[]
[]
[]
[]
[]
[]
[]
[]
[]
[]
[]
[]
[]
[]
[]
[]
[]
[]
[]
[]
[]
[]
[]
[]
[]
[]
[]
[]
[]
[]
[]
[]
[]
[]
[]
[]
[]
[]
[]
[]
[]
[]
[]
[]
[]
[]
[]
[]
[]
[]
[]
[]
[]
[]
[]
[]
[]
[]
[]
[]
[]
[]
[]
[]
[]
[]
[]
[]
[]
[]
[]
[]
[]
[]
[]
[]
[]
[]
[]
[]
[]
[]
[]
[]
[]
[]
[]
[]
[]
[]
[]
[]
[]
[]
[]
[]
[]
[]
[]
[]
[]
[]
[]
[]
[]
[]
[]
[]
[]
[]
[]
[]
[]
[]
[]
[]
[]
[]
[]
[]
[]
[]
[]
[]
[]
[]
[]
[]
[]
[]
[]
[]
[]
[]
[]
[]
[]
[]
[]
[]
[]
[]
[]
[]
[]
[]
[]
[]
[]
[]
[]
[]
[]
[]
[]
[]
[]
[]
[]
[]
[]
[]
[]
[]
[]
[]
[]
[]
[]
[]
[]
[]
[]
[]
[]
[]
[]
[]
[]
[]
[]
[]
[]
[]
[]
[]
[]
[]
[]
[]
[]
[]
[]
[]
[]
[]
[]
[]
[]
[]
[]
[]
[]
[]
[]
[]
[]
[]
[]
[]
[]
[]
[]
[]
[]
[]
[]
[]
[]
[]
[]
[]
[]
[]
[]
[]
[]
[]
[]
[]
[]
[]
[]
[]
[]
[]
[]
[]
[]
[]
[]
[]
[]
[]
[]
[]
[]
[]
[]
[]
[]
[]
[]
[]
[]
[]
[]
[]
[]
[]
[]
[]
[]
[]
[]
[]
[]
[]
[]
[]
[]
[]
[]
[]
[]
[]
[]
[]
[]
[]
[]
[]
[]
[]
[]
[]
[]
[]
[]
[]
[]
[]
[]
[]
[]
[]
[]
[]
[]
[]
[]
[]
[]
[]
[]
[]
[]
[]
[]
[]
[]
[]
[]
[]
[]
[]
[]
[]
[]
[]
[]
[]
[]
[]
[]
[]
[]
[]
[]
[]
[]
[]
[]
[]
[]
[]
[]
[]
[]
[]
[]
[]
[]
[]
[]
[]
[]
[]
[]
[]
[]
[]
[]
[]
[]
[]
[]
[]
[]
[]
[]
[]
[]
[]
[]
[]
[]
[]
[]
[]
[]
[]
[]
[]
[]
[]
[]
[]
[]
[]
[]
[]
[]
[]
[]
[]
[]
[]
[]
[]
[]
[]
[]
[]
[]
[]
[]
[]
[]
[]
[]
[]
[]
[]
[]
[]
[]
[]
[]
[]
[]
[]
[]
[]
[]
[]
[]
[]
[]
[]
[]
[]
[]
[]
[]
[]
[]
[]
[]
[]
[]
[]
[]
[]
[]
[]
[]
[]
[]
[]
[]
[]
[]
[]
[]
[]
[]
[]
[]
[]
[]
[]
[]
[]
[]
[]
[]
[]
[]
[]
[]
[]
[]
[]
[]
[]
[]
[]
[]
[]
[]
[]
[]
[]
[]
[]
[]
[]
[]
[]
[]
[]
[]
[]
[]
[]
[]
[]
[]
[]
[]
[]
[]
[]
[]
[]
[]
[]
[]
[]
[]
[]
[]
[]
[]
[]
[]
[]
[]
[]
[]
[]
[]
[]
[]
[]
[]
[]
[]
[]
[]
[]
[]
[]
[]
[]
[]
[]
[]
[]
[]
[]
[]
[]
[]
[]
[]
[]
[]
[]
[]
[]
[]
[]
[]
[]
[]
[]
[]
[]
[]
[]
[]
[]
[]
[]
[]
[]
[]
[]
[]
[]
[]
[]
[]
[]
[]
[]
[]
[]
[]
[]
[]
[]
[]
[]
[]
[]
[]
[]
[]
[]
[]
[]
[]
[]
[]
[]
[]
[]
[]
[]
[]
[]
[]
[]
[]
[]
[]
[]
[]
[]
[]
[]
[]
[]
[]
[]
[]
[]
[]
[]
[]
[]
[]
[]
[]
[]
[]
[]
[]
[]
[]
[]
[]
[]
[]
[]
[]
[]
[]
[]
[]
[]
[]
[]
[]
[]
[]
[]
[]
[]
[]
[]
[]
[]
[]
[]
[]
[]
[]
[]
[]
[]
[]
[]
[]
[]
[]
[]
[]
[]
[]
[]
[]
[]
[]
[]
[]
[]
[]
[]
[]
[]
[]
[]
[]
[]
[]
[]
[]
[]
[]
[]
[]
[]
[]
[]
[]
[]
[]
[]
[]
[]
[]
[]
[]
[]
[]
[]
[]
[]
[]
[]
[]
[]
[]
[]
[]
[]
[]
[]
[]
[]
[]
[]
[]
[]
[]
[]
[]
[]
[]
[]
[]
[]
[]
[]
[]
[]
[]
[]
[]
[]
[]
[]
[]
[]
[]
[]
[]
[]
[]
[]
[]
[]
[]
[]
[]
[]
[]
[]
[]
[]
[]
[]
[]
[]
[]
[]
[]
[]
[]
[]
[null,null,null,null,null,null,null,null,null,null,null,null,null,null,null,null,null,null,null,null,null,250,251,252,253,254,255,259,260,261,262,263,265,269,270,271,273,275,276,278,280,281,282,283,285,287,288,289,290,291,293,294,295,298,299,300,303,304,305,308,309,310,312,313,315,316,317,319,320,322,323,324,325,326,328,329,330,331,333,335,336,337,338,340,341,342,345,346,347,348,349,350,353,354,355,356,359,360,361,362,363,364,365,368,369,370,373,375,378,380,381,383,385,386,388,389,390,391,395,396,399,400,403,404,405,406,410,411,412,413,414,415,420,421,424,425,426,427,429,430,433,435,437,438,440,441,443,445,446,449,450,455,456,460,465,468,470,472,473,475,477,478,479,480,485,486,489,490,492,494,495,498,499,500,502,505,508,510,515,517,520,525,526,529,530,533,535,540,542,543,545,548,550,552,555,560,564,565,570,575,577,578,580,585,588,590,595,599,600,605,609,610,615,620,625,626,630,635,636,640,645,650,655,660,665,670,672,675,680,682,685,690,693,694,695,696,699,700,705,710,715,720,725,730,735,739,740,745,748,749,750,755,760,765,770,775,780,782,785,790,794,795,799,800,810,815,820,825,830,835,840,845,849,850,855,860,865,870,875,878,880,885,890,895,897,900,910,915,920,925,930,935,940,945,950,960,965,968,970,975,980,985,990,995,999,1000,1020,1025,1030,1040,1045,1050,1055,1070,1075,1080,1090,1095,1099,1100,1120,1125,1130,1134,1140,1150,1155,1170,1175,1180,1185,1190,1195,1200,1205,1215,1225,1230,1240,1245,1250,1260,1265,1275,1280,1285,1295,1300,1304,1310,1320,1325,1335,1340,1345,1350,1365,1370,1375,1380,1385,1390,1395,1400,1410,1415,1420,1425,1440,1444,1445,1450,1460,1470,1475,1480,1495,1496,1500,1515,1520,1525,1540,1545,1550,1560,1570,1575,1580,1595,1596,1599,1600,1625,1640,1645,1650,1660,1675,1680,1690,1695,1699,1700,1705,1730,1750,1785,1795,1800,1820,1835,1840,1850,1875,1890,1895,1900,1940,1950,1975,1995,2000,2050,2095,2100,2125,2150,2195,2200,2250,2275,2300,2340,2350,2360,2395,2400,2450,2500,2520,2600,2650,2750,2775,2800,2950,2995,3000,3100,3250,3500,3750]
[null,null,null,null,null,null,null,null,null,null,null,null,null,null,null,null,null,null,null,null,null,"N","N","N","N","N","N","N","N","N","N","N","N","N","N","N","N","N","N","N","N","N","N","N","N","N","N","N","N","N","N","N","N","N","N","N","N","N","N","N","N","N","N","N","N","N","N","N","N","N","N","N","N","N","N","N","N","N","N","N","N","N","N","N","N","N","N","N","N","N","N","N","N","N","N","N","N","N","N","N","N","N","N","N","N","N","N","N","N","N","N","N","N","N","N","N","N","N","N","N","N","N","N","N","N","N","N","N","N","N","N","N","N","N","N","N","N","N","N","N","N","N","N","N","N","N","N","N","N","N","N","N","N","N","N","N","N","N","N","N","N","N","N","N","N","N","N","N","N","N","N","N","N","N","N","N","N","N","N","N","N","N","N","N","N","N","N","N","N","N","N","N","N","N","N","N","N","N","N","N","N","N","N","N","N","N","N","N","N","N","N","N","N","N","N","N","N","N","N","N","N","N","N","N","N","N","N","N","N","N","N","N","N","N","N","N","N","N","N","N","N","N","N","N","N","N","N","N","N","N","N","N","N","N","N","N","N","N","N","N","N","N","N","N","N","N","N","N","N","N","N","N","N","N","N","N","N","N","N","N","N","N","N","N","N","N","N","N","N","N","N","N","N","N","N","N","N","N","N","N","N","N","N","N","N","N","N","N","N","N","N","N","N","N","N","N","N","N","N","N","N","N","N","N","N","N","N","N","N","N","N","N","N","N","N","N","N","N","N","N","N","N","N","N","N","N","N","N","N","N","N","N","N","N","N","N","N","N","N","N","N","N","N","N","N","N","N","N","N","N","N","N","N","N","N","N","N","N","N","N","N","N","N","N","N","N","N","N","N","N","N","N","N","N","N","N","N","N","N","N","N","N","N","N","N","N","N","N","N","N","N","N","N","N","N","N","N","N","N","N","N","N","N","N","N","N","N","N","N","N","N","N","N","N","N","N","N","N","N","N","N","N","N","N","N","N","N","N","N","N","N","N","N"]
[null,null,null,null,null,null,null,null,null,null,null,null,null,null,null,null,null,null,null,null,null,101,19,1,1,9,10,1,29,13,2,1,20,13,28,2,46,189,6,1,37,5,3,8,37,3,1,1,32,14,1,25,75,8,6,305,1,12,53,1,1,26,3,7,32,57,2,3,72,1,1,3,317,18,1,1,71,2,9,56,1,1,12,73,1,1,35,2,2,13,2,739,4,1,11,1,1,222,1,1,1,1,45,10,6,63,1,593,8,123,4,3,64,2,2,1,81,6,475,1,13,781,7,1,11,1,44,5,2,6,1,44,156,12,1,928,1,1,1,89,9,77,1,1,85,1,1,38,11,4,1629,10,1,112,58,11,71,1,1,855,1,2,1,116,101,2,1,62,1,1,775,2,5,892,2,1,1,42,27,1,89,924,2,1,64,4,40,53,1,2,55,1,1512,7,3,72,1,43,44,688,5,2,65,48,1,47,625,5,709,2,1,27,25,67,552,2,56,12,1,28,39,1068,11,29,8,25,1,407,59,1,20,18,2,1,457,1,4,414,12,14,18,27,309,19,15,1,11,28,1,4,740,3,30,4,10,165,27,1,28,6,1,349,1,352,20,2,7,216,11,5,21,11,2,520,11,7,7,13,184,1,13,3,34,221,1,314,3,12,7,101,7,2,4,20,325,5,2,1,7,105,9,4,10,208,2,207,7,3,1,1,3,93,1,1,6,6,1,21,1,264,1,15,1,1,7,84,13,2,11,2,4,1,20,333,1,1,6,3,2,4,130,16,1,14,1,1,27,132,1,2,2,1,1,1,3,82,6,1,7,1,1,1,13,102,2,2,2,7,1,1,1,35,1,6,1,2,10,1,143,1,8,1,3,1,24,3,1,8,1,17,1,1,76,5,2,1,21,2,2,7,1,10,1,35,1,2,33,5,9,48,1,1,1,12,3,6,2,15,2,17,1,15,48,1,1,10,1,1,1,16,17,1,10,1,2,2,1,3,2,20,2,4,1,6,1,2,2,2,2,1,1,1,1]
[null,null,null,null,null,null,null,null,null,null,null,null,null,null,null,null,null,null,null,null,null,".",".",".",".",".",".",".",".",".",".",".",".",".",".",".",".",".",1,".",1,".",".",".",".",".",".",".",1,".",".",".",".",".",".",7,".",".",".",".",".",".",".",".",".",".",".",".",4,".",".",".",".",".",".",".",".",".",".",5,".",".",".",".",".",".",".",".",".",".",".",15,".",".",".",".",".",".",".",".",".",".",".",".",".",".",".",10,".",".",".",".",1,".",".",".",1,".",2,".",".",31,".",".",1,".",1,".",".",".",".",".",1,".",".",9,".",".",".",1,".",1,".",1,2,".",".",".",".",".",20,".",".",".",".",".",".",".",".",5,".",".",".",4,3,".",".",1,".",".",6,".",".",26,".",".",1,".",".",".",1,19,".",".",".",".",".",1,".",".",".",".",58,2,".",".",".",".",".",27,".",".",1,".",".",3,19,".",85,".",".",".",".",".",60,".",2,".",".",2,1,140,".",1,".",3,".",66,".",".",2,1,1,".",40,".",".",106,".",".",1,1,56,2,".",".",".",2,".",1,138,".",".",".",".",27,2,".",".",".",".",35,".",113,".",".",".",48,1,".",1,2,".",129,".",".",".",1,54,".",1,".",2,38,".",106,".",".",".",25,2,".",".",".",98,".",".",".",2,33,1,".",3,43,".",101,".",".",".",".",".",24,".",".",1,1,".",1,".",98,".",1,".",1,1,19,".",".",2,".",".",".",".",116,".",".",".",".",".",".",37,".",1,6,".",".",3,44,".",".",".",1,".",".",".",31,".",".",2,".",".",".",".",40,".",".",".",".",".",1,".",8,".",".",".",".",".",".",46,".",".",".",".",".",7,".",".",".",".",1,".",".",29,".",1,".",7,".",".",".",".",1,".",14,".",".",7,".",".",19,".",".",".",3,".",".",".",7,".",2,1,3,16,".",".",1,".",".",".",5,1,".",6,".",1,".",".",3,".",1,".",".",".",".",".",".",1,".",".",".",".",".","."]
[]
[null,null,null,null,null,null,null,null,null,null,null,null,null,null,null,null,null,null,null,null,null,1,".",".",".",".",".",".",2,".",".",".",1,".",".",2,".",10,".",".",1,".",".",".",1,".",".",".",".",".",".",1,1,".",".",10,".",2,4,".",".",".",".",".",1,3,".",".",1,".",".",".",10,2,".",".",3,".",".",1,".",".",4,1,".",".",4,".",".",3,".",21,".",".",".",".",".",9,".",".",".",1,".",".",1,1,".",15,".",2,1,".",1,".",".",".",2,".",10,".",".",21,".",".",".",".",1,".",".",".",".",".",4,5,".",18,".",".",".",4,".",1,".",".",3,".",".",".",".",".",44,".",".",4,2,".",2,".",".",15,".",".",".",2,1,".",".",2,".",".",19,".",".",24,".",".",".",1,".",1,3,12,1,".",2,".",".",".",".",".",".",".",37,1,".",1,".",".",".",7,".",".",".",2,".",".",5,1,12,".",".",".",".",1,9,".",".",".",".",".",".",20,".",".",".",".",".",4,".",".",".",".",".",".",6,".",".",4,".",".",".",".",2,".",".",".",".",".",".",".",5,".",".",".",".",".",1,".",".",".",".",5,".",1,".",".",".",".",".",".",".",".",".",12,".",".",".",".",3,".",".",".",".",5,".",8,".",".",".",2,".",".",".",".",5,".",".",".",".",".",".",".",".",7,".",1,".",".",".",".",".",".",".",".",".",".",".",".",".",4,".",".",".",".",".",1,".",".",".",".",".",".",".",".",".",".",".",".",".",".",5,".",".",".",".",".",1,".",".",".",".",".",".",".",".",2,".",".",".",".",".",".",".",1,".",".",".",".",".",".",".",".",".",".",".",".",".",".",1,".",".",".",".",".",".",".",1,".",".",".",".",".",".",".",".",".",".",".",".",".",".",".",".",".",".",".",".",".",".",".",".",".",".",".",".",".",".",".",".",".",".",".",".",".",".",".",".",".",".",".",".",".",".",".",".",".",".",".",".",".",".",".",".",".",".",".",".",".",1,".",".",".","."]
[null,null,null,null,null,null,null,null,null,null,null,null,null,null,null,null,null,null,null,null,null,5,4,".",".",1,3,".",".",2,".",".",1,".",2,".",6,21,".",".",5,".",1,2,3,".",".",".",2,".",".",10,5,".",2,31,1,3,4,".",".",".",".",".",1,7,".",".",3,".",".",".",42,3,".",".",4,".",2,1,".",".",1,5,".",".",".",".",".",".",1,96,".",".",".",".",".",24,".",".",".",".",5,3,".",5,".",74,".",12,".",".",5,".",".",".",7,1,51,".",1,76,2,".",".",".",".",".",1,".",".",3,7,".",".",131,".",".",".",4,3,8,".",".",3,".",".",4,".",1,158,".",".",9,1,3,5,".",".",80,".",1,".",7,5,".",".",3,".",".",36,".",".",84,".",".",".",2,".",".",3,67,".",".",3,".",".",1,".",".",3,".",68,2,1,2,".",3,2,26,".",1,3,1,".",2,23,".",14,".",".",1,".",".",24,".",1,1,".",".",1,43,".",".",".",1,".",12,2,".",".",1,".",".",16,".",1,17,".",1,".",1,9,".",".",".",2,".",".",".",26,".",".",".",".",3,".",".",".",".",".",10,".",8,1,".",".",2,".",".",".",".",".",20,".",".",".",".",2,".",".",".",".",5,".",5,".",".",".",2,".",".",".",".",7,".",".",".",".",1,".",".",".",7,".",2,".",".",".",".",".",3,".",".",".",".",".",".",".",4,".",".",".",".",".",".",".",".",3,".",".",".",".",11,".",".",".",".",".",".",3,".",".",1,".",".",4,".",1,".",".",".",".",".",".",1,".",".",".",".",".",".",1,1,".",".",".",".",".",".",".",1,".",".",".",".",".",".",1,".",".",".",".",".",".",".",".",".",".",".",".",".",".",".",".",".",".",".",".",".",".",".",".",".",".",".",1,".",".",2,".",".",".",".",".",".",".",".",".",".",".",".",".",".",".",".",".",".",".",".",".",".",".",".",".",".",".",".",".",".",".",".",".",".",".",".",".",".",".",".",".",".","."]
[null,null,null,null,null,null,null,null,null,null,null,null,null,null,null,null,null,null,null,null,null,2,".",".",".",".",2,".",3,1,".",".",2,".",1,".",1,13,".",".",1,1,".",1,7,".",".",".",".",".",".",1,8,".",".",5,".",".",14,".",".",".",".",".",3,2,".",".",3,".",".",".",14,1,".",".",".",".",".",3,".",".",".",4,".",".",".",".",1,1,".",25,".",".",".",".",".",4,".",".",".",".",1,3,3,8,".",25,".",6,1,".",1,".",".",1,8,3,7,".",".",52,1,".",".",".",4,".",".",5,1,6,24,".",".",56,".",".",".",8,1,11,1,".",13,".",".",1,".",".",113,2,".",8,2,".",2,".",".",59,1,".",".",15,9,1,".",3,".",".",11,".",".",78,".",".",".",".",1,".",6,20,".",".",1,".",".",1,1,".",1,".",34,".",1,4,".",2,2,12,".",".",3,".",".",2,6,".",15,".",".",1,".",".",6,1,1,".",".",".",".",21,".",".",".",".",".",4,1,".",".",1,".",".",".",".",".",6,".",".",".",".",".",".",".",".",".",".",".",".",12,".",".",".",".",".",".",".",".",".",".",1,".",4,".",".",".",3,".",".",".",".",".",4,".",".",".",".",".",".",".",".",".",".",".",2,".",".",".",".",".",".",".",".",1,".",".",".",".",1,".",".",".",".",".",1,".",".",".",".",".",".",".",".",".",".",".",".",".",".",".",".",".",".",".",".",".",".",".",".",".",".",".",".",".",".",".",".",".",".",1,1,".",".",".",".",".",".",".",".",".",".",".",".",".",".",".",".",".",".",".",".",".",".",".",".",".",".",".",".",".",".",".",".",".",".",".",".",".",".",".",".",".",".",".",".",".",".",".",".",".",".",".",".",".",".",".",".",".",".",".",".",".",".",".",".",".",".",".",".",".",".",".",".",".",".",".",".",".",".",".",".",".",".",".",".",".",".",".",".",".",".",".",".",".",".",".",".",".",".",".",".",".",".",".",".",".",".",".",".",".",".","."]
[null,null,null,null,null,null,null,null,null,null,null,null,null,null,null,null,null,null,null,null,null,12,".",".",".",".",".",".",5,".",".",".",".",3,2,".",".",6,".",".",6,".",".",".",5,".",".",1,5,1,".",".",4,".",".",36,".",".",".",".",".",6,1,".",1,".",1,".",16,".",".",".",18,".",".",".",14,".",".",6,".",".",".",27,".",".",6,".",".",2,".",84,".",".",1,".",".",28,".",".",".",".",9,".",".",11,".",34,".",24,".",".",9,".",".",".",16,".",20,".",".",74,".",".",".",".",8,".",".",".",".",5,14,".",".",55,".",".",".",8,".",8,".",".",8,".",".",5,".",".",131,1,".",10,5,".",7,".",".",52,".",".",".",14,7,".",".",13,".",".",36,".",".",90,".",".",".",3,2,".",8,39,".",".",11,".",2,10,".",".",6,".",86,".",".",10,".",3,5,34,".",".",8,2,".",13,21,".",86,".",".",4,1,11,15,".",7,2,".",5,2,55,".",6,".",4,".",18,6,".",2,5,".",".",12,".",".",31,".",".",1,10,12,4,".",".",".",3,".",".",45,1,2,".",".",9,4,".",".",".",".",9,".",15,2,".",".",15,1,".",5,".",".",16,7,1,".",2,3,".",2,2,".",2,".",19,".",".",1,1,1,".",1,1,9,2,".",".",".",3,".",".",1,3,".",8,".",".",".",".",".",1,".",".",".",".",".",".",".",7,1,1,".",".",6,".",".",".",1,1,".",".",2,10,".",".",".",".",".",".",2,1,".",".",".",".",".",6,".",".",1,".",".",".",".",".",".",".",".",".",".",".",".",".",".",".",".",3,".",".",".",".",".",".",".",".",".",".",3,".",".",".",".",".",".",".",".",".",".",".",".",".",".",1,".",".",".",".",".",".",".",".",".",".",".",".",".",".",".",".",".",".",".",".",".",".",".",".",".",".",".",".",".",".",".",".",".",".",".",".",".",".",".",".",".",".",".",".",".",".",".",".",".",".",".",".",".",".",".",".",".",".","."]
[null,null,null,null,null,null,null,null,null,null,null,null,null,null,null,null,null,null,null,null,null,2,".",".",".",".",".",".",".",".",".",".",".",".",".",".",1,1,".",".",".",".",".",".",1,".",".",".",".",".",".",".",".",".",".",3,".",".",1,".",".",".",".",".",".",2,".",1,3,".",".",".",6,".",".",".",".",".",".",".",".",".",".",".",".",".",1,".",".",".",".",2,".",".",".",".",".",".",".",".",".",".",".",".",".",".",".",7,".",".",".",".",".",".",".",".",2,".",7,".",".",9,".",".",".",".",1,".",".",".",".",".",2,".",".",29,".",".",".",1,".",2,".",".",1,".",".",1,2,".",25,1,".",".",".",".",1,".",".",13,".",".",".",1,1,".",".",".",".",".",14,1,".",15,".",".",".",".",3,".",".",25,".",".",".",".",".",".",".",".",2,".",30,".",".",".",".",1,".",9,".",".",".",".",".",2,17,".",5,".",".",1,1,1,12,".",".",".",".",1,".",19,".",2,".",".",".",3,".",".",3,".",".",".",11,".",".",11,".",".",".",".",6,".",".",".",".",1,".",".",10,".",".",".",2,2,".",".",".",".",".",14,".",11,".",".",1,4,".",".",".",".",".",6,".",".",".",".",4,".",".",".",1,7,".",9,".",".",".",1,".",".",".",".",10,".",".",".",".",1,".",".",".",6,".",1,".",".",".",".",".",2,".",".",".",".",".",1,".",7,".",".",".",".",".",3,".",".",".",".",".",".",1,7,".",".",".",".",".",".",3,".",".",".",".",".",".",2,".",".",".",".",".",".",".",1,".",".",1,".",".",".",".",2,".",".",".",".",".",".",".",".",".",".",".",".",2,".",7,".",".",".",".",".",1,".",".",".",".",".",".",".",3,".",".",".",1,".",".",".",".",".",".",1,".",".",".",".",1,1,".",".",".",".",".",".",".",".",".",3,".",".",".",".",".",".",".",".",".",1,1,".",".",".",".",".",".",".",".",".",".",".",".",".",".",".",".",".",".",".",".",".","."]
[null,null,null,null,null,null,null,null,null,null,null,null,null,null,null,null,null,null,null,null,null,5,".",".",".",".",".",".",".",2,".",".",2,".",1,".",14,25,".",".",".",3,1,1,6,".",".",".",1,".",1,2,2,1,1,17,".",1,14,".",".",2,".",".",1,26,".",1,5,".",".",1,26,2,".",".",4,".",1,5,".",".",2,4,".",".",5,1,".",2,".",57,".",".",2,".",".",38,1,1,".",".",7,3,".",9,".",27,".",15,".",1,8,".",".",".",6,".",43,".",3,79,".",".",3,".",5,4,".",".",".",".",24,".",".",80,".",".",".",14,".",4,".",".",15,".",".",7,1,3,139,1,".",16,10,2,13,".",".",78,".",1,".",17,18,".",1,5,".",1,87,".",".",74,1,1,".",3,1,".",4,96,".",".",4,2,5,10,".",".",2,".",112,".",".",5,1,4,6,49,".",".",10,4,1,3,40,".",28,".",".",".",".",4,28,".",".",".",".",2,".",44,".",3,".",3,".",25,2,".",1,".",".",1,26,".",1,19,".",1,1,2,13,3,1,".",".",1,1,".",44,1,3,1,".",4,4,".",3,".",".",13,".",12,".",".",1,13,1,".",".",2,".",17,".",".",".",1,15,".",".",".",1,14,".",16,1,1,".",4,".",".",".",".",18,".",".",".",".",5,".",".",".",7,".",7,".",1,".",".",".",2,".",".",".",".",".",".",".",10,".",".",".",".",".",2,".",".",".",".",".",".",".",10,".",".",".",1,".",".",4,".",".",".",".",".",".",5,".",".",".",".",".",".",".",1,".",".",".",1,".",".",".",".",".",".",".",".",".",".",".",".",".",".",".",".",".",".",5,".",".",".",".",".",1,".",".",".",".",".",".",".",2,".",".",".",".",".",".",".",".",".",".",".",".",".",".",".",".",1,".",".",".",1,".",".",".",1,".",1,".",".",1,".",".",".",".",1,".",".",".",".",1,".",".",".",".",".",1,".",".",".",".",".",".",".",".",".",".",".",".",".","."]
[null,null,null,null,null,null,null,null,null,null,null,null,null,null,null,null,null,null,null,null,null,1,1,".",".",".",".",".",4,".",".",".",3,".",2,".",6,13,".",".",".",".",".",".",3,".",".",".",5,".",".",4,4,".",".",18,".",".",1,".",".",1,".",1,4,4,".",".",3,".",".",1,23,".",".",".",4,".",2,6,".",".",".",3,".",".",3,".",".",".",".",56,".",".",2,".",".",32,".",".",".",".",6,".",".",5,".",69,".",6,".",".",3,".",".",".",4,".",49,".",1,52,1,".",".",".",8,1,".",".",".",5,12,".",".",92,1,1,".",5,".",2,".",".",4,".",1,5,5,".",149,1,".",9,2,".",1,".",".",69,".",".",".",3,6,".",".",5,".",".",61,".",".",47,".",".",".",1,".",".",2,55,".",".",1,".",3,3,".",".",3,".",101,".",".",1,".",4,2,39,1,".",3,2,".",1,54,".",38,".",".",1,3,1,18,".",1,1,".",".",6,38,".",".",".",".",".",11,".",".",".",".",".",".",24,".",".",8,".",".",1,".",10,".",".",".",".",".",".",".",21,".",".",".",".",2,".",".",".",".",".",13,".",7,".",1,".",6,".",".",1,".",".",20,".",1,".",".",5,".",".",".",".",5,".",7,".",".",".",".",2,".",".",".",12,1,".",".",".",".",".",".",".",6,".",7,".",".",".",".",".",".",".",".",".",".",".",1,".",6,".",".",".",".",".",1,".",".",".",".",".",".",".",14,".",".",".",".",1,".",4,".",".",".",".",".",1,2,".",".",".",".",".",".",".",2,".",".",".",".",".",".",".",2,".",".",".",".",".",".",".",".",".",".",".",".",".",".",3,".",".",".",".",".",".",".",".",".",".",".",".",".",".",".",".",".",".",1,".",".",".",2,".",4,".",".",".",".",".",".",".",".",".",".",".",".",".",".",".",1,".",".",1,".",".",".",".",".",".",1,".",".",".",".",".",".",".",".",".",".",".",".",".",".",".",".",".",".",".",".",".",".","."]
[null,null,null,null,null,null,null,null,null,null,null,null,null,null,null,null,null,null,null,null,null,11,".",".",".",".",3,".",3,".",2,1,3,".",4,".",6,16,".",".",4,".",".",1,1,".",".",".",1,".",".",2,6,".",".",28,".",1,".",1,1,4,".",".",4,4,".",1,5,".",1,".",26,".",".",".",9,".",1,3,".",".",2,7,".",".",4,".",1,".",".",53,1,1,".",".",".",10,".",".",".",".",4,1,2,5,1,69,".",5,1,1,14,".",".",".",5,".",74,".",1,54,1,".",4,".",4,".",".",".",".",9,12,".",1,104,".",".",".",5,".",9,".",".",6,".",".",2,2,".",173,1,1,9,7,3,10,".",".",136,".",".",".",4,16,1,".",9,".",".",185,".",".",91,1,".",".",6,9,".",12,202,1,1,7,2,6,6,".",".",13,1,269,".",".",8,".",5,4,144,2,".",3,7,".",3,160,".",102,".",".",2,6,15,118,1,5,1,".",4,7,210,".",2,2,1,1,67,2,1,2,3,".",".",103,1,".",57,".",2,3,2,56,3,".",".",1,4,".",1,126,".",3,1,2,28,2,".",1,1,".",82,".",44,1,".",".",30,1,1,3,".",".",98,3,".",1,3,19,".",1,".",2,56,".",45,".",".",".",20,".",1,".",".",49,".",".",".",".",16,3,".",1,40,".",22,1,".",1,".",".",14,".",".",2,1,".",3,".",23,".",4,".",".",".",12,1,2,1,".",2,".",4,44,".",1,".",".",".",".",14,1,".",5,".",".",7,10,".",".",".",".",".",".",".",7,".",".",".",".",1,".",4,12,".",".",".",1,".",".",".",4,".",".",".",".",1,".",25,".",".",".",1,".",3,3,".",".",1,6,".",".",5,".",".",".",3,1,".",".",".",3,".",1,".",".",5,".",5,7,".",".",".",2,1,".",1,2,".",3,".",4,5,".",".",1,1,".",".",1,2,".",".",1,1,".",".",".",".",2,".",1,".",5,".",".",".",1,1,".",".",1,"."]
[null,null,null,null,null,null,null,null,null,null,null,null,null,null,null,null,null,null,null,null,null,16,".",".",".",4,".",".",3,".",".",".",".",9,8,".",".",2,4,1,6,1,".",".",1,2,1,".",9,4,".",".",1,3,".",30,".",2,".",".",".",2,".",6,2,".",1,".",3,".",".",".",10,3,".",".",5,".",".",16,".",".",".",2,".",".",".",".",".",1,".",28,".",".",1,".",".",3,".",".",".",".",2,".",".",".",".",12,4,12,".",".",1,".",".",".",3,1,10,".",".",47,".",".",".",1,2,".",1,1,".",1,5,6,".",30,".",".",".",10,5,2,".",".",4,".",".",2,".",".",113,".",".",10,8,".",8,".",".",59,".",".",".",19,8,".",".",3,".",".",61,".",".",109,".",".",".",7,1,".",10,65,".",".",15,".",4,10,".",1,3,".",118,1,".",16,".",1,8,51,".",".",12,9,".",2,33,".",78,".",".",7,1,7,35,".",5,2,".",3,".",77,".",6,".",4,".",27,9,".",1,3,".",".",35,".",".",18,".",".",".",1,22,".",2,1,".",".",".",".",50,".",".",1,".",11,3,".",".",1,".",15,".",19,".",".",1,13,1,".",1,".",".",11,".",".",".",1,13,1,".",".",".",5,".",9,".",".",2,8,".",".",".",".",8,".",".",".",".",3,".",".",".",3,".",2,".",".",".",".",".",1,".",".",".",".",".",".",".",6,".",".",".",".",".",1,".",".",".",".",".",".",".",5,".",".",".",".",".",".",".",".",".",".",".",".",".",1,".",".",".",".",".",".",".",".",".",".",".",".",".",".",".",2,".",".",".",".",".",".",".",".",".",".",".",".",".",".",".",".",".",".",".",".",".",".",".",".",".",".",".",".",1,".",".",".",".",".",".",".",".",".",".",".",".",".",".",".",".",".",".",".",".",".",".",".",".",".",".",".",".",".",".",".",".",".",".",".",".",".",".",".",".",".",".",".",".",".",".",".",".",".",".",".",".",".",".",".",".",".",".",".","."]
[null,null,null,null,null,null,null,null,null,null,null,null,null,null,null,null,null,null,null,null,null,6,3,".",".",".",1,".",1,".",".",".",4,".",".",".",1,15,".",".",2,".",".",1,3,1,".",".",".",1,".",".",3,".",".",13,".",".",7,".",".",4,1,".",4,1,".",".",2,".",".",1,44,".",1,".",".",".",3,3,".",".",3,3,".",1,4,".",".",".",".",30,".",".",3,".",1,11,".",".",1,".",1,".",".",1,".",34,1,5,".",".",1,".",1,".",3,1,3,".",1,17,1,".",3,".",1,".",".",".",".",3,2,".",".",25,".",".",".",2,".",2,".",".",1,".",".",".",1,".",20,".",".",3,8,3,3,1,".",23,".",".",".",".",7,".",".",4,1,".",38,".",".",33,".",".",".",7,5,".",20,86,".",".",11,".",10,4,".",".",7,".",131,1,1,14,".",8,10,104,1,".",9,8,".",8,94,1,102,2,1,7,11,15,124,".",32,1,".",11,18,201,9,6,4,5,".",112,33,".",8,4,".",".",96,".",".",85,12,7,11,9,92,5,11,".",8,13,".",".",172,1,19,1,5,63,9,".",17,3,".",91,".",73,16,1,4,65,4,3,10,5,2,117,1,2,6,5,51,".",8,".",26,53,1,70,2,11,4,31,2,1,3,14,76,2,2,1,5,30,5,3,4,52,2,36,6,2,".",1,3,36,1,1,3,4,1,13,1,71,".",9,1,".",".",38,12,".",4,1,2,1,10,88,1,".",4,2,1,4,49,13,".",2,1,1,7,48,".",2,1,".",1,1,3,31,6,".",3,".",".",".",6,34,2,2,2,3,1,".",1,19,1,5,".",2,6,1,44,1,8,1,2,1,12,".",".",7,".",9,1,1,32,4,1,1,9,".",2,7,1,4,".",15,1,2,17,5,3,14,1,1,1,6,2,6,1,5,2,4,".",7,19,1,1,8,".",".",1,8,13,1,3,".",".",2,1,".",1,12,2,3,1,".",1,1,1,".",".",1,1,".",1]
[null,null,null,null,null,null,null,null,null,null,null,null,null,null,null,null,null,null,null,null,null,6,1,".",".",1,".",".",1,5,".",".",1,".",1,".",".",10,".",".",".",".",".",".",".",".",".",".",".",".",".",".",11,".",".",15,".",1,".",".",".",1,".",".",2,1,".",".",4,".",".",".",12,2,".",".",6,".",".",".",".",".",".",1,".",".",".",".",".",1,".",45,".",".",".",".",".",5,".",".",".",".",1,".",".",3,".",42,".",4,".",".",1,1,".",".",5,".",33,".",".",44,1,".",".",".",1,".",".",".",".",2,7,".",".",67,".",".",".",4,".",3,".",".",5,".",".",2,".",".",111,".",".",7,2,".",3,".",".",57,".",".",1,".",4,".",".",".",".",".",42,".",".",34,".",".",".",2,1,".",1,47,".",".",1,".",1,1,".",".",1,".",68,".",".",2,".",2,".",19,1,".",1,6,".",1,18,".",14,".",".",".",".",".",9,".",1,".",1,".",".",27,".",".",".",".",".",6,".",".",".",".",".",".",17,".",".",5,".",".",".",".",1,2,".",".",".",".",".",".",17,".",".",".",".",1,".",".",".",".",1,9,".",5,".",".",".",".",".",1,".",1,".",14,".",".",".",".",3,".",".",".",".",3,".",2,".",".",".",".",".",".",".",".",6,".",".",".",".",1,".",".",".",4,".",".",".",".",".",".",".",".",".",".",".",".",".",1,".",3,".",".",".",".",".",3,".",".",".",".",".",".",".",3,".",".",".",".",".",".",1,".",".",".",".",".",".",1,".",".",".",".",".",".",".",".",".",".",".",".",".",".",".",1,".",".",".",".",".",".",".",".",".",".",".",".",".",".",".",".",".",".",".",".",".",".",".",".",".",".",".",".",".",".",".",".",".",".",".",".",".",".",1,".",".",".",".",".",".",3,".",".",".",".",".",".",".",".",".",".",".",".",1,".",".",".",".",".",".",".",".",".",".",".",".",".",".",".",".",".",".",".",".",".",".",".",".",".",".",".",".",".","."]
[null,null,null,null,null,null,null,null,null,null,null,null,null,null,null,null,null,null,null,null,null,4,".",".",".",2,".",".",1,".",".",".",".",1,1,".",".",4,".",".",3,".",".",".",".",".",".",".",".",3,".",".",1,3,".",10,".",".",".",".",".",2,".",".",".",".",".",".",1,".",".",".",10,".",".",".",5,".",".",2,".",".",".",2,".",".",".",".",".",".",".",23,".",".",".",".",".",3,".",".",".",".",".",".",".",3,".",21,".",13,".",".",4,".",".",".",6,".",16,".",".",43,".",".",".",".",".",".",".",".",".",".",17,1,".",25,".",".",".",6,".",10,".",".",4,".",".",".",".",".",52,".",".",4,".",".",1,".",1,43,".",".",".",17,1,".",".",2,".",".",31,".",".",51,".",".",".",".",".",".",8,36,".",".",4,".",1,2,".",".",1,".",82,".",".",".",".",1,".",29,".",1,1,2,".",1,26,".",33,".",".",".",".",2,22,".",".",1,".",".",".",37,1,".",".",".",".",11,".",".",".",".",".",".",11,".",".",13,".",".",".",".",6,".",".",".",".",".",".",".",11,".",".",".",".",3,".",".",".",".",".",9,".",7,".",".",".",3,".",".",".",1,".",6,".",".",".",".",5,".",1,".",1,7,".",3,".",".",".",".",".",".",".",".",7,".",".",".",".",".",".",".",".",7,".",4,".",".",".",".",".",3,".",".",".",".",".",1,".",5,".",".",".",".",".",1,".",".",".",".",".",".",".",4,".",".",".",".",".",".",1,".",".",".",".",".",2,2,".",".",".",".",".",".",".",".",".",".",".",".",".",".",".",".",".",".",".",".",".",".",".",".",".",".",".",".",".",".",1,".",".",".",".",".",".",".",".",".",".",".",".",".",1,".",".",".",".",".",".",".",".",".",".",".",".",".",".",".",".",".",".",".",".",".",".",".",".",".",".",".",".",".",1,".",".",".",".",".",".",".",".",".",".",".",".",".",".",".",".",".",".",".",".",".",".",".",".",".",".",".",".",".","."]
[null,null,null,null,null,null,null,null,null,null,null,null,null,null,null,null,null,null,null,null,null,9,3,".",".",".",".",".",".",1,".",".",2,".",".",".",4,26,1,".",1,".",1,1,".",".",".",".",3,".",".",3,13,".",2,33,".",2,4,".",".",2,".",".",4,1,".",".",8,".",".",".",27,1,".",".",3,".",".",".",1,".",".",3,".",".",2,1,".",".",1,86,3,".",".",".",".",13,".",".",".",".",2,".",".",2,".",53,3,6,".",".",7,".",1,".",2,".",35,1,5,50,".",".",".",".",1,".",".",".",".",3,5,".",".",61,".",".",1,2,".",3,".",".",4,1,".",5,".",".",103,1,".",6,5,".",1,".",".",56,".",".",".",3,5,".",".",2,".",".",28,1,4,31,".",".",".",".",".",".",1,32,".",".",1,".",1,".",".",".",7,".",61,".",".",1,".",2,".",19,".",".",1,1,".",1,22,".",18,".",".",1,".",1,17,".",1,".",".",".",1,33,".",".",".",1,".",12,2,".",".",".",1,".",20,".",2,15,".",".",".",".",8,".",".",".",".",1,".",2,18,".",1,".",".",5,".",".",2,".",".",9,1,8,".",".",".",3,".",".",".",".",".",25,".",1,".",".",2,".",".",".",".",8,".",5,".",".",".",1,".",".",".",1,6,".",".",".",".",4,".",".",".",11,".",3,".",".",".",".",".",2,".",".",".",".",".",".",".",8,".",".",".",".",".",1,".",".",".",".",".",".",1,8,".",".",".",".",".",".",2,".",".",".",".",".",2,2,".",".",".",".",".",".",".",1,".",".",1,".",".",".",".",6,".",".",".",".",".",".",".",1,".",".",".",".",1,".",3,".",".",".",".",".",".",".",".",1,".",".",".",".",2,".",".",".",1,".",".",".",".",".",".",".",".",".",1,".",".",".",".",".",".",".",".",".",".",".",".",1,".",".",2,".",".",".",".",".",".",".",".",".",".",".",".",".",".",".",".",1,".",".",".",1,".",".",".",1,".",".",".",".","."]
[null,null,null,null,null,null,null,null,null,null,null,null,null,null,null,null,null,null,null,null,null,13,3,".",".",1,".",1,4,1,".",".",".",".",2,".",".",6,".",".",4,".",".",1,1,".",".",".",4,3,".",".",11,".",".",21,".",".",".",".",".",2,1,".",3,2,".",".",4,".",".",".",23,".",".",".",10,".",".",1,".",".",".",6,".",".",1,".",".",".",".",48,".",".",1,1,".",13,".",".",".",".",3,".",".",4,".",21,".",2,".",".",2,".",".",".",4,".",26,".",".",46,".",1,".",".",3,".",".",".",".",1,8,".",".",46,".",".",".",7,".",5,".",".",8,".",".",1,".",".",58,".",".",10,4,".",3,".",".",27,".",".",".",4,4,".",".",7,".",".",28,".",".",27,".",".",".",".",1,".",1,20,".",".",1,".",3,".",".",".",".",".",43,".",".",2,".",1,1,21,".",".",4,1,".",1,8,".",11,".",".",".",1,2,8,".",".",".",".",".",".",20,1,2,1,".",".",5,".",".",".",".",".",".",8,".",".",9,".",".",".",1,3,".",1,".",".",".",".",".",13,".",1,".",1,".",2,".",".",1,".",3,".",9,".",".",".",3,2,".",".",".",".",9,".",1,".",".",".",".",".",1,1,2,".",1,".",".",".",1,".",".",".",".",1,".",".",".",".",1,".",".",".",".",".",4,".",".",".",".",".",1,".",".",".",".",".",".",".",1,".",".",".",".",".",".",".",".",".",".",".",".",".",1,".",".",2,".",".",".",".",".",".",".",".",".",".",2,".",".",".",".",".",".",".",2,".",".",".",".",".",".",".",".",".",".",".",".",".",".",".",".",".",".",1,".",".",".",1,".",".",".",".",".",".",".",".",".",".",".",".",".",".",".",".",".",".",".",".",".",".",".",".",".",".",".",1,".",".",".",".",".",".",".",".",".",".",".",".",".",".",".",1,".",".",".",".",".",".",".",".",".",".",".",".",".",".",".",".",".",".",".",".",".",".",".",".",".",".",".",".",".","."]
[null,null,null,null,null,null,null,null,null,null,null,null,null,null,null,null,null,null,null,null,null,4,".",1,".",".",".",".",".",1,".",".",1,".",1,".",".",14,".",".",1,".",".",".",1,".",".",".",1,".",".",1,2,1,1,15,".",".",1,".",".",".",".",".",1,2,".",".",3,1,".",".",13,1,".",".",2,".",".",1,".",".",".",4,1,".",2,".",".",1,".",42,".",".",".",".",".",12,".",".",".",".",1,".",".",5,".",43,".",8,".",".",2,".",".",".",6,".",49,".",1,48,".",".",".",".",2,".",".",".",".",1,9,".",".",44,".",".",".",4,".",2,".",".",2,".",".",2,".",".",116,".",".",1,1,".",6,".",".",37,".",".",".",3,2,".",".",1,".",".",34,".",1,29,".",".",".",1,1,".",5,50,".",".",".",".",1,2,".",".",1,".",80,".",".",3,".",".",1,30,".",".",".",".",".",3,33,".",26,".",".",1,".",4,16,".",".",".",".",".",1,28,".",".",".",".",".",8,1,".",".",".",".",".",10,".",".",2,".",".",".",".",6,".",".",".",".",".",".",".",13,".",".",".",".",3,".",".",1,".",".",14,".",9,".",".",".",3,".",".",".",".",".",6,".",".",".",".",2,".",".",".",".",7,".",3,".",".",".",1,".",".",".",".",4,".",".",".",".",".",".",".",1,7,".",".",".",".",".",".",".",3,".",".",".",".",".",".",".",4,".",".",".",".",".",2,".",".",".",".",".",".",1,6,".",".",".",".",".",".",2,".",".",".",".",".",".",4,".",".",".",".",".",".",".",1,".",".",".",".",".",1,2,".",".",".",".",".",".",".",".",1,".",".",".",".",".",".",3,".",".",".",".",".",".",".",".",".",".",1,".",".",".",".",".",".",".",".",".",".",".",".",".",".",".",".",1,".",".",1,".",".",".",".",".",".",".",".",".",1,".",1,1,".",".",".",".",".",".",".",".",".",".",".",".",".",".",".",".",3,".",".",".",".",".",1,".",".",".",".",".",".","."]
[null,null,null,null,null,null,null,null,null,null,null,null,null,null,null,null,null,null,null,null,null,3,3,".",1,".",".",".",1,".",".",".",".",".",2,".",3,2,".",".",1,".",".",".",4,".",".",".",".",".",".",".",3,".",".",10,".",".",1,".",".",".",".",".",1,".",".",".",4,".",".",".",4,3,".",1,2,2,".",3,".",1,".",1,".",".",2,".",".",1,".",24,".",".",".",".",".",9,".",".",".",".",3,".",".",1,".",28,".",3,".",1,2,".",".",".",1,".",31,".",".",31,".",".",".",".",1,".",".",".",".",4,3,".",".",35,".",".",".",3,".",2,".",".",1,".",".",".",".",".",60,".",".",6,".",".",1,".",".",25,".",".",".",".",1,".",".",2,".",".",32,".",".",21,".",".",".",1,".",".",".",12,".",".",".",".",".",".",".",1,".",".",41,".",".",".",".",1,".",18,".",".",1,".",".",".",18,".",1,".",".",".",".",1,4,".",".",".",".",".",".",9,".",".",".",".",".",".",".",".",".",".",".",".",4,".",".",3,".",".",".",".",".",".",".",".",".",2,".",".",3,".",".",".",".",".",".",1,".",".",".",8,".",2,".",".",".",".",".",".",".",".",".",3,".",1,".",".",1,".",".",".",".",1,".",".",".",".",".",".",".",".",".",1,".",".",".",".",".",".",".",".",".",2,".",".",".",".",".",".",".",".",".",".",".",".",".",".",".",1,".",".",".",".",".",".",".",".",".",".",".",".",".",2,".",".",".",".",".",".",".",".",".",".",".",".",".",".",".",".",".",".",".",".",".",1,".",".",".",".",".",".",".",".",".",".",".",".",".",".",".",".",".",".",".",".",".",".",".",".",".",".",".",".",".",".",".",".",".",".",".",".",".",".",".",".",".",".",".",".",".",".",".",".",".",".",".",".",".",".",".",".",".",".",".",".",".",".",".",".",".",".",".",".",".",".",".",".",".",".",".",".",".",".",".",".",".",".",".",".",".",".",".",".",".",".",".",".",".",".",".",".","."]
[null,null,null,null,null,null,null,null,null,null,null,null,null,null,null,null,null,null,null,null,null,1,1,".",".",".",1,".",1,".",".",".",".",".",1,".",4,5,".",".",1,".",".",".",".",".",".",".",".",2,".",1,".",".",".",3,".",".",2,".",".",".",".",".",".",2,".",".",".",".",".",".",9,".",".",".",".",".",".",".",".",".",".",".",".",".",1,".",".",1,".",4,".",".",1,".",".",8,".",".",".",".",".",".",".",".",".",9,".",".",1,".",2,1,".",".",".",".",9,".",".",7,".",".",".",".",1,".",".",".",".",1,".",".",".",21,".",".",".",1,".",2,".",".",1,".",".",1,".",".",44,2,".",".",1,".",4,".",".",21,".",".",".",3,3,".",".",".",".",".",26,".",".",28,".",".",".",8,2,".",4,41,".",".",2,".",3,2,".",".",5,".",93,".",".",3,".",5,3,50,".",".",5,3,".",1,28,3,41,".",".",1,1,2,27,".",".",3,".",".",2,46,".",1,1,3,".",16,1,".",1,".",".",".",18,".",".",5,".",3,".",".",7,".",".",".",".",1,".",".",16,".",1,".",".",4,".",".",4,".",".",9,".",5,".",".",".",5,".",".",".",".",".",7,".",".",".",".",2,".",".",".",".",3,".",4,".",".",".",4,".",".",".",3,8,".",".",".",".",6,".",1,".",3,".",8,".",".",".",".",".",1,".",".",".",".",".",".",".",6,".",".",".",".",".",".",".",".",".",".",".",".",1,4,".",".",".",".",".",".",2,".",".",".",".",".",".",3,".",".",".",".",".",".",".",1,".",1,".",".",".",".",".",1,".",".",".",".",".",".",".",1,".",1,".",".",".",".",".",".",".",".",".",".",".",".",".",".",".",".",".",".",1,".",".",".",".",".",".",".",".",".",".",".",".",".",".",".",".",".",".",".",".",".",".",".",".",".",".",1,".",".",".",".",".",".",".",".",".",".",".",".",".",".",".",".",".",".",".",1,".",".",".",".",".",".",".",".",".",".",".",".","."]
[]
[null,null,null,null,null,null,null,null,null,null,null,null,null,null,null,null,null,null,null,null,null,"P_35","P_36","P_37","P_38","P_39","P_40","P_41","P_42","P_43","P_44","P_45","P_46","P_47","P_48","P_49","P_50","P_51","P_52","P_53","P_54","P_55","P_56","P_57","P_58","P_59","P_60","P_61","P_62","P_63","P_64","P_65","P_66","P_67","P_68","P_69","P_70","P_71","P_72","P_73","P_74","P_75","P_76","P_77","P_78","P_79","P_80","P_81","P_82","P_83","P_84","P_85","P_86","P_87","P_88","P_89","P_90","P_91","P_92","P_93","P_94","P_95","P_96","P_97","P_98","P_99"]
[null,null,null,null,null,null,null,null,null,null,null,null,null,null,null,null,null,null,null,null,null,400,400,400,400,400,400,400,400,400,400,400,400,400,400,400,407.5,420,425,425,425,425,435,437.5,440,450,450,450,450,450,450,450,450,450,450,480,480,480,485,485,500,500,500,500,500,500,508.33,540,550,550,550,550,550,550,550,550,550,550,550,551.79,575,600,600,600,600,600]
[null,null,null,null,null,null,null,null,null,null,null,null,null,null,null,null,null,null,null,null,null,650,650,650,650,650,650,650,650,650,650,650,650,650,670,675,675,675,675,675,675,675,675,675,675,695,695,695,695,695,700,700,700,700,700,700,700,700,700,700,700,700,700,720,725,725,725,725,725,730,750,750,750,750,750,750,750,750,750,750,750,775,800,800,825,870]
[null,null,null,null,null,null,null,null,null,null,null,null,null,null,null,null,null,null,null,null,null,825,825,825,825,850,850,850,850,850,850,850,850,850,850,850,875,875,875,875,875,895,895,895,900,900,900,900,900,900,900,900,900,925,925,950,950,950,950,950,950,950,975,975,975,995,995,995,1000,1000,1000,1000,1000,1000,1050,1100,1100,1100,1100,1100,1200,1200,1200,1200,1250,1300]
[null,null,null,null,null,null,null,null,null,null,null,null,null,null,null,null,null,null,null,null,null,975,975,995,995,995,1000,1000,1000,1000,1000,1000,1000,1050,1080,1100,1100,1100,1100,1100,1100,1100,1100,1100,1100,1134,1150,1150,1175,1200,1200,1200,1200,1200,1200,1200,1200,1200,1200,1200,1200,1250,1250,1250,1250,1275,1300,1300,1300,1300,1350,1350,1350,1350,1400,1400,1400,1400,1450,1500,1500,1500,1600,1600,1700,1750]
[null,null,null,null,null,null,null,null,null,null,null,null,null,null,null,null,null,null,null,null,null,1300,1350,1350,1350,1350,1350,1400,1400,1400,1400,1400,1400,1400,1400,1450,1450,1500,1500,1500,1500,1500,1500,1500,1500,1500,1500,1500,1550,1600,1600,1600,1600,1600,1600,1600,1600,1650,1650,1700,1700,1700,1750,1750,1800,1800,1800,1800,1800,1800,1850,1900,1900,1900,1995,2000,2000,2000,2000,2000,2100,2200,2250,2300,2300,2400]
[null,null,null,null,null,null,null,null,null,null,null,null,null,null,null,null,null,null,null,null,null,1350,1350,1350,1350,1350,1350,1350,1500,1500,1500,1500,1500,1500,1500,1500,1500,1500,1500,1500,1500,1500,1500,1500,1500,1550,1550,1550,1550,1550,1550,1550,1550,1700,1700,1700,1700,1700,1700,1700,1700,1825,1950,1950,1950,1950,1950,1950,1950,1950,2200,2200,2200,2200,2200,2200,2200,2200,2350,2350,2350,2350,2350,2350,2350,2350]
[null,null,null,null,null,null,null,null,null,null,null,null,null,null,null,null,null,null,null,null,null,550,550,550,550,550,550,550,550,550,550,550,550,550,550,575,575,575,575,575,575,575,575,575,575,575,575,575,590,590,590,595,595,595,600,600,600,600,600,600,600,600,600,600,600,600,600,625,625,625,625,625,625,625,625,625,625,625,625,625,650,650,650,670,670,670]
[null,null,null,null,null,null,null,null,null,null,null,null,null,null,null,null,null,null,null,null,null,300,300,300,300,304.17,304.17,305,305,305,305,305,316.07,316.07,316.07,316.07,325,325,325,325,325,325,325,325,325,325,325,325,325.89,337.62,337.62,337.8,337.8,337.8,345,345,345,345,345,347.62,347.62,347.62,347.62,359.52,359.52,359.52,359.52,359.52,359.52,369.35,375,375,375,381.07,421.43,421.43,421.43,421.43,421.43,421.43,424.52,424.52,424.52,424.52,434.52,551.79]
[null,null,null,null,null,null,null,null,null,null,null,null,null,null,null,null,null,null,null,null,null,375,375,375,375,375,380,390,390,395,395,395,395,395,395,400,400,400,400,400,400,400,400,400,400,400,400,400,400,400,400,410,420,420,420,425,425,425,425,425,425,450,450,450,450,450,450,450,450,450,450,450,450,450,460,465,470,475,485,495,495,495,500,500,517.08000000000004,550]
[null,null,null,null,null,null,null,null,null,null,null,null,null,null,null,null,null,null,null,null,null,475,475,475,475,475,475,475,490,495,495,495,495,495,495,495,495,500,500,500,500,500,500,500,500,500,500,525,525,525,525,525,525,530,550,550,550,550,550,550,550,550,550,550,550,550,575,575,575,585,595,599,600,600,600,600,625,625,625,650,650,675,675,695,750,895]
[null,null,null,null,null,null,null,null,null,null,null,null,null,null,null,null,null,null,null,null,null,550,550,550,550,550,550,550,550,550,550,550,575,575,595,595,595,595,600,600,600,620,625,625,625,650,650,650,650,650,650,650,650,650,650,650,650,650,650,650,675,675,695,695,695,700,725,725,750,750,750,750,795,795,795,795,800,850,850,895,895,900,900,950,950,1295]
[null,null,null,null,null,null,null,null,null,null,null,null,null,null,null,null,null,null,null,null,null,850,850,850,875,875,875,875,875,875,875,885,895,895,900,900,900,900,900,900,900,900,900,900,900,900,912.5,925,925,950,950,950,950,950,950,950,972.5,995,995,995,995,995,995,995,995,995,1047.5,1100,1100,1100,1100,1175,1250,1250,1250,1250,1300,1350,1350,1400,1400,1450,1500,1500,1570,1570]
[null,null,null,null,null,null,null,null,null,null,null,null,null,null,null,null,null,null,null,null,null,995,995,995,995,995,995,995,995,995,1000,1000,1000,1000,1000,1000,1050,1100,1100,1100,1100,1100,1100,1100,1100,1100,1100,1100,1100,1150,1150,1150,1150,1150,1150,1250,1250,1250,1250,1250,1250,1250,1250,1250,1250,1250,1250,1250,1250,1250,1250,1250,1250,1250,1350,1350,1350,1350,1350,1350,3000,3000,3000,3000,3000,3000]
[null,null,null,null,null,null,null,null,null,null,null,null,null,null,null,null,null,null,null,null,null,300,300,300,300,300,300,300,300,300,300,300,300,300,300,300,300,300,300,300,300,300,300,300,300,300,300,300,300,300,300,300,300,330,330,330,330,330,330,330,330,330,330,330,330,330,330,330,330,330,330,330,330,330,330,330,330,330,330,330,330,330,330,330,330,330]
[null,null,null,null,null,null,null,null,null,null,null,null,null,null,null,null,null,null,null,null,null,275,280,280,282.44,283,285,290,294.33999999999997,294.33999999999997,294.33999999999997,294.33999999999997,294.33999999999997,294.35000000000002,294.35000000000002,295,300,300,300,300,300,300,300,304.16000000000003,304.16000000000003,305,305,305,315,316.07,316.07,316.07,316.07,316.07,325,325,325,325,325,325.89,325.89,333,333,337.79,350,350,359.52,359.52,359.52,359.52,359.52,359.52,359.52,359.52,359.52,359.52,359.52,359.52,365,367.52,375,402.97,402.97,434.52,468.15,468.15]
[null,null,null,null,null,null,null,null,null,null,null,null,null,null,null,null,null,null,null,null,null,350,350,350,350,350,350,350,350,350,350,350,350,350,350,350,350,360,360,360,365,375,375,375,375,375,375,375,375,375,375,375,375,375,375,380,380,380,380,385,390,395,395,395,395,395,395,395,400,400,400,400,400,400,412,425,425,425,425,430,440,450,450,450,475,550]
[null,null,null,null,null,null,null,null,null,null,null,null,null,null,null,null,null,null,null,null,null,425,425,425,425,425,425,430,435,450,450,450,450,450,450,450,450,450,450,450,450,450,450,450,450,450,450,460,470,475,475,475,475,475,475,475,480,490,495,495,500,500,500,500,500,500,525,525,525,525,525,540,550,550,550,550,550,565,575,575,595,595,625,650,670,695]
[null,null,null,null,null,null,null,null,null,null,null,null,null,null,null,null,null,null,null,null,null,500,500,500,500,500,500,500,520,525,525,525,525,525,525,525,525,530,550,550,550,550,550,550,550,555,575,575,575,580,595,595,595,600,600,600,617.5,625,625,625,625,642.5,650,650,650,650,650,650,675,680,695,695,700,700,700,725,745,750,750,750,750,795,800,850,895,1100]
[null,null,null,null,null,null,null,null,null,null,null,null,null,null,null,null,null,null,null,null,null,750,750,750,750,750,775,795,795,795,795,800,800,800,810,825,850,850,850,850,850,850,850,850,850,850,850,850,875,875,895,895,900,950,950,950,950,950,950,975,995,995,995,995,995,1000,1000,1050,1050,1100,1100,1175,1200,1200,1200,1200,1200,1250,1250,1275,1295,1295,1395,1450,1750,1800]
[null,null,null,null,null,null,null,null,null,null,null,null,null,null,null,null,null,null,null,null,null,850,895,895,895,895,895,895,900,900,900,900,900,900,900,925,925,925,950,950,950,995,995,995,995,1050,1050,1050,1175,1175,1175,1200,1200,1200,1200,1200,1200,1200,1200,1200,1200,1200,1200,1200,1200,1200,1200,1250,1250,1250,1295,1295,1295,1295,1303.57,1303.57,1303.57,1350,1350,1350,1400,1400,1400,1500,1500,1500]
[null,null,null,null,null,null,null,null,null,null,null,null,null,null,null,null,null,null,null,null,null,325,325,325,325,325,325,325,325,325,325,325,325,325,325,325,347.5,370,370,370,370,370,370,370,370,370,370,370,370,370,370,370,370,370,370,370,370,370,370,370,370,370,370,370,370,370,370,370,370,370,370,370,370,370,370,370,370,370,370,370,370,370,370,370,370,370]
[null,null,null,null,null,null,null,null,null,null,null,null,null,null,null,null,null,null,null,null,null,275,275,275,275,275,275,275,275,275,275,275,275,275,275,280.62,281.81,283,285,285,285,285,285,285,285,285,289.68,294.35000000000002,295,295,295,295,295,295,295,295,295,295,305,305,305,305,305,305,305,305,305,305,305,305,305,305,305,305,305,315,315,315,315,316.07,316.07,320.54000000000002,325,335,335,359.52]
[null,null,null,null,null,null,null,null,null,null,null,null,null,null,null,null,null,null,null,null,null,360,368.33,368.33,368.33,369.35,370,370,375,375,375,375,375,375,375,375,375,375,375,375,380,380,380,389,390,390,390,390,390,395,395,395,395,395,395,400,400,400,400,400,400,400,400,400,400,400,400,400,400,400,400,400,403,410,414,415,420,420,420,425,425,425,425,425,440,450]
[null,null,null,null,null,null,null,null,null,null,null,null,null,null,null,null,null,null,null,null,null,425,425,425,425,430,430,435,435,437,440,440,440,450,450,450,450,450,450,450,450,450,450,450,450,450,450,450,450,450,450,450,450,460,465,470,475,475,475,475,475,475,475,475,480,480,485,485,495,500,500,500,500,500,500,500,500,500,500,520,525,525,525,550,550,550]
[null,null,null,null,null,null,null,null,null,null,null,null,null,null,null,null,null,null,null,null,null,475,475,475,475,480,480,480,485,485,486,495,495,495,500,500,500,500,500,500,500,500,500,500,500,500,500,500,500,500,500,520,525,525,525,540,550,550,550,550,550,550,550,550,550,560,565,575,575,575,575,580,595,595,595,600,600,600,600,625,625,625,650,650,650,650]
[null,null,null,null,null,null,null,null,null,null,null,null,null,null,null,null,null,null,null,null,null,575,575,575,590,600,600,600,600,600,600,600,630,650,650,650,650,650,650,650,650,650,650,650,650,650,675,675,675,690,690,700,700,700,700,700,700,700,700,750,750,750,750,750,750,750,750,750,750,750,750,750,800,800,800,825,825,825,850,850,850,850,850,975,975,1250]
[null,null,null,null,null,null,null,null,null,null,null,null,null,null,null,null,null,null,null,null,null,675,675,675,675,680,680,680,680,750,750,750,750,750,750,750,750,750,750,795,795,795,795,795,800,800,800,800,800,800,800,800,800,825,825,825,825,825,850,850,850,850,850,900,900,900,900,900,900,900,900,900,950,950,950,950,950,1000,1000,1000,1000,1000,1260,1260,1260,1260]
[null,null,null,null,null,null,null,null,null,null,null,null,null,null,null,null,null,null,null,null,null,300,300,300,300,300,300,300,300,300,300,300,300,300,300,300,300,300,300,300,300,300,300,300,300,300,300,300,300,300,300,300,300,325,325,325,325,325,325,325,325,325,325,325,325,325,325,325,325,325,325,325,325,325,325,325,325,325,325,325,325,325,325,325,325,325]
[null,null,null,null,null,null,null,null,null,null,null,null,null,null,null,null,null,null,null,null,null,275,275,275,275,280,280,280,280,280,280,285,285,285,289,290,290,291.07,300,300,300,300,300,300,300,300,300,300,300,300,300,300,300,300,300,300,310,310,312,317,320,320,320,320,325,325,325,325,325,325,330,330,334.52,340,347.62,347.62,350,350,350,350,350,370,380,400,400,400]
[null,null,null,null,null,null,null,null,null,null,null,null,null,null,null,null,null,null,null,null,null,350,350,350,350,360,360,360,360,360,360,365,365,370,370,375,375,375,375,375,375,375,380,380,380,380,380,385,385,390,390,395,395,400,400,400,400,400,400,400,400,400,400,400,400,410,415,420,425,425,425,425,434.52,445,450,450,450,450,450,465,475,485,500,500,525,600]
[null,null,null,null,null,null,null,null,null,null,null,null,null,null,null,null,null,null,null,null,null,480,480,490,495,495,495,495,500,500,500,500,500,500,500,500,517.5,525,525,525,525,530,540,545,550,550,550,550,550,550,550,555,560,575,575,575,580,590,590,595,600,600,600,600,600,600,600,600,600,620,625,630,640,650,650,650,660,675,675,685,700,720,725,750,750,775]
[null,null,null,null,null,null,null,null,null,null,null,null,null,null,null,null,null,null,null,null,null,600,620,620,625,630,650,650,650,650,650,650,660,675,675,690,690,695,695,700,700,700,700,700,700,720,725,725,750,750,750,750,750,750,750,750,775,775,780,780,795,795,800,800,800,810,825,825,825,825,840,850,850,855,855,855,870,875,900,900,900,900,900,950,975,1100]
[null,null,null,null,null,null,null,null,null,null,null,null,null,null,null,null,null,null,null,null,null,850,875,880,880,895,897.5,900,900,900,900,900,900,920,925,940,950,950,950,950,960,960,975,990,995,995,1000,1000,1000,1000,1000,1000,1050,1100,1100,1100,1100,1120,1140,1140,1140,1140,1140,1140,1180,1195,1197.5,1200,1200,1200,1200,1200,1200,1200,1200,1200,1250,1250,1260,1300,1300,1300,1300,1300,1300,1320]
[null,null,null,null,null,null,null,null,null,null,null,null,null,null,null,null,null,null,null,null,null,800,950,950,950,950,950,950,950,1100,1100,1100,1100,1100,1100,1100,1112.5,1125,1125,1125,1125,1125,1125,1125,1425,1425,1425,1425,1425,1425,1425,1425,1425,1425,1425,1425,1425,1425,1425,1425,1425,1425,1425,1425,1425,1500,1500,1500,1500,1500,1500,1500,1500,1500,1500,1500,1500,1500,1500,1625,1625,1625,1625,1625,1625,1625]
[null,null,null,null,null,null,null,null,null,null,null,null,null,null,null,null,null,null,null,null,null,300,300,300,300,300,300,300,300,300,300,300,300,300,300,300,300,300,300,300,300,300,300,300,300,300,320,320,320,325,325,325,325,325,325,325,325,325,340,340,340,340,340,340,340,340,340,340,340,340,340,340,340,340,350,350,350,350,350,350,375,375,375,434.52,434.52,434.52]
[null,null,null,null,null,null,null,null,null,null,null,null,null,null,null,null,null,null,null,null,null,300,300,300,305,305,305,316.07,316.07,316.07,316.07,316.07,316.07,319.07,319.07,319.07,319.54000000000002,320,320,320,320,320,320,320,320,320,325,325,325,325,325,325,325,325,325,325,325,325,325,325,325,325,325,325,325,345,345,345,375,375,375,400,400,400,400,400,400,425,425,425,446.42,446.42,446.42,446.42,446.42,446.42]
[null,null,null,null,null,null,null,null,null,null,null,null,null,null,null,null,null,null,null,null,null,425,425,425,425,425,425,425,425,425,425,425,435,435,445,450,450,450,450,450,450,450,450,450,450,450,450,450,450,450,450,450,450,450,455,475,475,475,475,475,480,495,495,495,495,500,500,500,500,500,525,525,525,525,550,550,550,550,550,575,595,595,625,650,700,820]
[null,null,null,null,null,null,null,null,null,null,null,null,null,null,null,null,null,null,null,null,null,550,550,550,550,550,550,550,550,550,550,550,575,575,575,575,575,590,595,595,595,595,595,595,595,600,610,615,625,625,625,625,625,640,650,650,650,650,650,650,660,675,685,695,695,695,695,700,700,700,725,725,750,750,750,770,795,795,795,800,850,895,895,900,995,1100]
[null,null,null,null,null,null,null,null,null,null,null,null,null,null,null,null,null,null,null,null,null,725,750,750,750,750,770,775,775,795,795,795,795,795,795,795,797.5,800,800,800,800,800,800,800,825,850,850,850,850,875,875,875,890,895,895,895,900,900,900,900,900,900,900,925,950,950,950,950,950,950,975,995,995,995,1050,1050,1100,1100,1100,1150,1150,1150,1200,1250,1495,1500]
[null,null,null,null,null,null,null,null,null,null,null,null,null,null,null,null,null,null,null,null,null,1100,1100,1100,1100,1100,1195,1195,1200,1200,1200,1200,1200,1200,1200,1200,1200,1200,1200,1250,1250,1250,1250,1300,1300,1300,1300,1350,1350,1350,1400,1400,1400,1400,1495,1495,1500,1500,1500,1500,1500,1500,1500,1500,1500,1500,1500,1500,1500,1550,1550,1600,1600,1650,1650,1650,1700,1700,1800,1800,1950,1950,2200,2200,2250,2250]
[null,null,null,null,null,null,null,null,null,null,null,null,null,null,null,null,null,null,null,null,null,1600,1600,1600,1600,1600,1600,1600,1600,1600,1600,1600,1600,1600,1600,1600,1697.5,1795,1795,1795,1795,1795,1795,1795,1795,1795,1795,1795,1795,1795,1795,1795,1795,1950,1950,1950,1950,1950,1950,1950,1950,1950,1950,1950,1950,1950,1950,1950,1950,1950,1950,1950,1950,1950,1950,1950,1950,1950,1950,1950,1950,1950,1950,1950,1950,1950]
[null,null,null,null,null,null,null,null,null,null,null,null,null,null,null,null,null,null,null,null,null,425,425,425,425,425,425,425,425,425,425,425,425,425,425,425,512.5,600,600,600,600,600,600,600,600,600,600,600,600,600,600,600,600,600,600,600,600,600,600,600,600,600,600,600,600,600,600,600,600,600,600,600,600,600,600,600,600,600,600,600,600,600,600,600,600,600]
[null,null,null,null,null,null,null,null,null,null,null,null,null,null,null,null,null,null,null,null,null,294.33999999999997,297.61,300,300,300,305,305,305,305,305,305,305,315,316.07,316.07,316.07,316.07,316.07,316.07,316.07,316.07,316.07,316.07,316.07,316.07,319.33999999999997,325,325,325,325,325,325,325.89,333,334.52,337.79,345,350,350,350,355,359.52,359.52,359.52,359.52,359.52,359.52,359.52,359.52,359.52,367.52,367.52,375,379.52,405,410.98,410.98,425,425,425,468.15,475,475,490,533.33000000000004]
[null,null,null,null,null,null,null,null,null,null,null,null,null,null,null,null,null,null,null,null,null,360,361.74,365,370,370,370,375,375,375,375,380,380,385,385,390,395,395,395,395,395,395,395,395,395,400,400,400,400,400,400,400,400,400,400,410,420,420,420,425,425,425,425,425,425,425,425,425,430,430,445,450,450,450,450,450,450,450,460,475,495,525,550,550,650,750]
[null,null,null,null,null,null,null,null,null,null,null,null,null,null,null,null,null,null,null,null,null,450,450,450,450,450,460,465,470,470,475,475,475,475,475,475,475,480,480,485,485,495,495,495,495,495,495,495,500,500,500,500,500,520,525,525,525,525,525,530,540,550,550,550,550,550,550,550,550,570,575,575,575,585,595,595,600,600,625,650,650,670,695,730,765,875]
[null,null,null,null,null,null,null,null,null,null,null,null,null,null,null,null,null,null,null,null,null,525,525,540,545,550,550,550,550,550,550,550,550,550,565,575,575,575,575,575,580,588.41,595,595,595,600,600,600,620,625,625,625,625,650,650,650,650,660,675,675,675,680,695,695,695,695,700,700,725,725,725,750,750,750,750,750,760,775,785,795,800,825,850,875,900,995]
[null,null,null,null,null,null,null,null,null,null,null,null,null,null,null,null,null,null,null,null,null,800,800,800,825,825,825,825,830,845,850,850,850,850,850,850,850,875,875,875,875,875,890,895,895,895,895,900,900,900,900,900,900,900,925,950,950,950,950,950,950,950,950,950,975,995,995,1000,1000,1000,1000,1025,1050,1100,1100,1100,1100,1200,1200,1200,1250,1250,1300,1300,1500,2000]
[null,null,null,null,null,null,null,null,null,null,null,null,null,null,null,null,null,null,null,null,null,915,915,950,950,950,950,950,950,950,975,975,975,995,995,995,995,995,1000,1000,1100,1100,1100,1100,1100,1150,1150,1200,1200,1200,1200,1200,1200,1200,1200,1300,1300,1300,1300,1300,1380,1380,1500,1500,1500,1500,1500,1500,1500,1550,1550,1550,1600,1600,1850,1850,1850,1900,1900,1950,1950,1950,2300,2300,2450,2450]
[null,null,null,null,null,null,null,null,null,null,null,null,null,null,null,null,null,null,null,null,null,320,320,320,320,320,320,320,320,320,320,325,325,325,325,325,325,325,325,325,325,325,350,350,350,350,350,350,350,350,350,350,350,350,350,350,350,350,350,350,350,350,350,350,350,350,350,350,350,350,350,350,350,350,350,550,550,550,550,550,550,550,550,550,550,550]
[null,null,null,null,null,null,null,null,null,null,null,null,null,null,null,null,null,null,null,null,null,275,275,275,285,290,290,290,290,294.35000000000002,294.35000000000002,294.35000000000002,300,300,300,300,300,300,300,300,300,313,315,315,315,316.07,316.07,316.07,320,324.07,325,325,325,325,325,325,325,325,333,333,334.52,350,359.52,359.52,359.52,359.52,359.52,359.52,359.52,359.52,359.52,359.52,359.52,359.52,359.52,375,375,390,402.98,410.98,443.15,446.43,446.43,446.43,489.88,489.88]
[null,null,null,null,null,null,null,null,null,null,null,null,null,null,null,null,null,null,null,null,null,375,375,375,375,375,375,375,375,375,375,375,375,375,375,375,380,385,395,395,395,395,395,395,399.5,400,400,400,400,400,400,412.5,415,420,420,422.5,425,425,425,425,425,425,425,425,425,425,425.42,435,445,450,450,450,450,450,450,450,462.5,475,475,490,495,495,500,525,550,597.5]
[null,null,null,null,null,null,null,null,null,null,null,null,null,null,null,null,null,null,null,null,null,450,450,450,450,465,475,475,475,475,475,475,475,485,495,495,495,495,495,495,500,500,500,500,500,525,525,525,525,525,525,540,550,550,550,550,550,550,550,550,550,550,565,575,575,575,575,580,595,595,595,595,595,600,600,600,615,625,625,650,650,695,700,750,800,895]
[null,null,null,null,null,null,null,null,null,null,null,null,null,null,null,null,null,null,null,null,null,550,550,550,550,575,575,575,580,595,595,595,595,595,595,595,600,600,600,600,625,625,645,650,650,650,650,650,650,650,650,675,675,675,675,695,695,695,695,695,695,695,700,700,725,725,725,750,750,750,750,795,795,800,800,850,850,850,860,900,900,950,995,1000,1200,1200]
[null,null,null,null,null,null,null,null,null,null,null,null,null,null,null,null,null,null,null,null,null,825,825,825,850,850,850,850,850,850,850,850,850,850,850,850,850,875,875,875,875,875,895,895,895,895,900,950,950,950,950,950,950,950,950,950,960,960,995,995,995,1000,1000,1000,1095,1100,1100,1100,1100,1100,1100,1150,1200,1200,1200,1200,1240,1250,1250,1295,1300,1300,1300,1350,1695,1700]
[null,null,null,null,null,null,null,null,null,null,null,null,null,null,null,null,null,null,null,null,null,1200,1200,1200,1200,1200,1200,1200,1350,1350,1350,1350,1400,1400,1400,1400,1400,1400,1400,1400,1400,1500,1500,1500,1500,1500,1500,1500,1500,1500,1500,1500,1500,1660,1660,1660,1660,1695,1695,1695,1695,1697.5,1700,1700,1700,1700,1700,1700,1700,1700,1700,1700,1700,1700,1950,1950,1950,1950,2000,2000,2000,2000,2200,2200,2200,2200]
[null,null,null,null,null,null,null,null,null,null,null,null,null,null,null,null,null,null,null,null,null,350,350,350,375,375,375,375,375,375,375,375,375,375,375,375,385,395,395,395,395,395,395,395,395,395,395,395,395,395,395,395,395,395,395,395,395,395,395,395,395,397.5,400,400,400,400,400,400,400,400,400,400,400,400,450,450,450,450,450,450,450,450,450,450,450,450]
[null,null,null,null,null,null,null,null,null,null,null,null,null,null,null,null,null,null,null,null,null,310,310,316.07,316.07,320,320,325,325,325,325,325,325,325,330,330,335,340,340,345,350,350,350,359.52,360,360,369.35,370,375,375,375,375,375,375,375,380,385,390,400,400,400,400,400,405,405,420,422,425,425,425,430,435,446.43,450,450,460,468.15,475,475,485.54,495,502,525,528.99,533.33000000000004,576.79]
[null,null,null,null,null,null,null,null,null,null,null,null,null,null,null,null,null,null,null,null,null,450,450,450,450,450,450,450,450,450,470,475,475,475,475,475,480,490,495,495,495,495,495,495,500,500,500,520,525,525,525,525,535,550,550,550,550,550,550,550,575,575,575,575,595,595,595,595,600,600,620,625,625,650,650,650,650,675,690,695,700,715,750,750,750,850]
[null,null,null,null,null,null,null,null,null,null,null,null,null,null,null,null,null,null,null,null,null,565,575,575,575,575,595,595,595,595,595,600,600,600,600,620,625,625,625,625,645,650,650,650,650,650,650,650,675,675,685,695,695,695,700,700,725,725,750,750,750,750,775,795,795,795,800,800,825,825,850,850,850,875,895,895,895,900,925,950,975,995,1000,1150,1200,1385]
[null,null,null,null,null,null,null,null,null,null,null,null,null,null,null,null,null,null,null,null,null,650,650,650,650,650,650,675,675,695,695,695,695,710,725,725,750,750,750,750,750,750,775,795,795,800,825,850,850,850,850,850,850,875,895,900,900,900,925,950,950,975,995,995,1000,1000,1050,1075,1100,1125,1150,1170,1200,1200,1200,1200,1250,1275,1300,1400,1450,1500,1595,1795,1895,2100]
[null,null,null,null,null,null,null,null,null,null,null,null,null,null,null,null,null,null,null,null,null,975,975,995,995,995,995,995,995,995,995,1000,1050,1050,1100,1100,1100,1100,1150,1150,1200,1200,1200,1200,1200,1200,1250,1250,1295,1300,1300,1300,1350,1395,1400,1400,1400,1400,1400,1450,1450,1500,1500,1500,1500,1500,1500,1540,1560,1560,1580,1595,1595,1600,1600,1660,1695,1750,1750,1850,1900,1900,1950,1995,2000,2750]
[null,null,null,null,null,null,null,null,null,null,null,null,null,null,null,null,null,null,null,null,null,1595,1595,1595,1650,1650,1700,1750,1750,1750,1750,1750,1750,1750,1750,1800,1800,1800,1800,1800,1800,1800,1800,1800,1875,1875,1935,1995,1995,2000,2000,2000,2000,2000,2000,2000,2000,2000,2125,2125,2125,2200,2200,2200,2340,2340,2345,2350,2350,2500,2500,2500,2750,2750,2750,2750,2750,2750,2750,2750,2750,2995,2995,2995,3500,3500]
[null,null,null,null,null,null,null,null,null,null,null,null,null,null,null,null,null,null,null,null,null,390,392.5,395,395,395,395,395,395,395,397.5,400,400,400,400,400,400,400,412.5,425,425,425,425,425,425,425,437.5,450,450,450,450,450,450,450,450,450,450,450,462.5,475,475,475,475,475,475,475,485,495,495,495,527.5,560,560,560,577.5,595,595,595,617.5,640,640,640,682.5,725,725,725]
[null,null,null,null,null,null,null,null,null,null,null,null,null,null,null,null,null,null,null,null,null,285,286.73,290,290,290,290,290,291.07,291.07,297.62,297.62,300,300,300,300,300,300,300,300,300,300,300,300,300,310,312.8,312.8,312.8,315,320,325,325,325,325.83,325.89,330,330.18,334.52,334.52,334.52,334.52,334.52,334.52,334.52,334.52,340,350,350,350,350,350,350,355,377.97,377.98,391.07,400,400,421.43,421.43,421.43,464.88,495,660.42,660.42]
[null,null,null,null,null,null,null,null,null,null,null,null,null,null,null,null,null,null,null,null,null,425,425,430,430,433,433,435,445,450,450,450,450,450,450,450,450,450,450,450,450,450,450,450,460,460,460,465,470,475,475,475,475,475,475,480,480,480,480,485,490,495,495,495,495,495,495,495,495,500,500,500,500,500,510,520,525,525,525,525,540,550,550,550,560,650]
[null,null,null,null,null,null,null,null,null,null,null,null,null,null,null,null,null,null,null,null,null,500,500,500,500,510,520,525,525,525,525,525,525,530,530,540,550,550,550,550,550,550,550,550,550,550,550,560,565,570,575,575,575,575,575,580,585,595,595,595,595,600,600,600,600,600,600,610,620,625,625,625,630,650,650,650,650,650,670,675,675,690,695,695,725,750]
[null,null,null,null,null,null,null,null,null,null,null,null,null,null,null,null,null,null,null,null,null,595,595,600,600,600,600,600,600,600,625,625,625,650,650,650,650,650,650,650,650,650,675,675,675,675,680,695,695,695,695,700,700,700,720,725,725,725,750,750,750,750,750,750,750,750,750,775,775,775,795,795,795,800,800,800,825,825,850,850,875,895,900,900,950,975]
[null,null,null,null,null,null,null,null,null,null,null,null,null,null,null,null,null,null,null,null,null,738.69,750,750,750,750,750,750,750,750,750,775,780,780,795,795,795,800,800,800,800,800,825,825,825,825,825,825,840,850,850,850,875,875,875,875,875,875,875,895,900,900,920,925,925,925,925,925,950,950,950,950,975,995,995,995,1000,1050,1100,1100,1150,1200,1200,1200,1400,1400]
[null,null,null,null,null,null,null,null,null,null,null,null,null,null,null,null,null,null,null,null,null,875,875,875,875,875,875,875,875,875,875,875,875,875,875,875,875,875,875,875,875,875,875,875,875,875,875,875,875,875,875,875,875,1200,1200,1200,1200,1200,1200,1200,1200,1200,1200,1200,1200,1200,1200,1200,1200,1200,1200,1200,1200,1200,1200,1200,1200,1200,1200,1200,1200,1200,1200,1200,1200,1200]
[null,null,null,null,null,null,null,null,null,null,null,null,null,null,null,null,null,null,null,null,null,350,350,350,350,350,350,350,350,350,350,350,350,350,350,350,365,380,380,380,380,380,380,380,380,380,380,380,380,380,380,380,380,395,395,395,395,395,395,395,395,395,395,395,395,395,395,395,395,395,450,450,450,450,450,450,450,450,450,450,450,450,450,450,450,450]
[null,null,null,null,null,null,null,null,null,null,null,null,null,null,null,null,null,null,null,null,null,325,325,325,325,325,325,325,325,333,335,337.8,340,345,350,350,350,350,350,350,350,350,350,359,359.52,359.52,360,365,375,375,375,375,375,375,375,375,375,375,380,388,390,395,400,400,400,400,400,405,415,425,425,425,425,425,425,430,446.43,450,450,468.15,475,475,485,500,500,545]
[null,null,null,null,null,null,null,null,null,null,null,null,null,null,null,null,null,null,null,null,null,560,560,570,575,575,575,575,575,575,575,575,580,585,595,595,595,595,595,595,600,600,600,600,600,615,625,625,625,625,625,625,630,645,650,650,650,650,650,650,655,675,675,675,675,680,685,695,695,700,705,725,725,735,750,750,760,770,775,800,810,850,875,900,1000,1100]
[null,null,null,null,null,null,null,null,null,null,null,null,null,null,null,null,null,null,null,null,null,700,710,720,725,725,725,735,750,750,750,750,750,750,750,760,775,775,775,785,795,795,795,800,800,800,810,825,825,825,850,850,850,850,850,870,875,875,890,895,895,900,900,915,925,945,950,950,950,980,995,1000,1050,1100,1100,1150,1155,1200,1200,1250,1260,1300,1365,1400,1500,1600]
[null,null,null,null,null,null,null,null,null,null,null,null,null,null,null,null,null,null,null,null,null,900,900,915,925,945,950,950,950,975,975,980,995,995,995,1000,1000,1000,1020,1050,1050,1080,1095,1100,1100,1100,1100,1130,1150,1150,1185,1200,1200,1200,1200,1200,1225,1250,1250,1250,1260,1300,1300,1300,1335,1350,1350,1395,1400,1410,1450,1495,1500,1500,1550,1575,1595,1600,1625,1680,1705,1750,1850,1950,2000,2200]
[null,null,null,null,null,null,null,null,null,null,null,null,null,null,null,null,null,null,null,null,null,1300,1350,1350,1350,1365,1400,1400,1400,1425,1450,1450,1450,1460,1495,1496,1500,1500,1500,1500,1500,1500,1500,1515,1520,1540,1595,1596,1600,1600,1600,1600,1600,1600,1640,1680,1695,1700,1700,1700,1700,1730,1750,1785,1795,1800,1800,1800,1820,1850,1890,1890,1900,1995,2000,2000,2000,2200,2200,2250,2250,2250,2300,2500,2500,2520]
[null,null,null,null,null,null,null,null,null,null,null,null,null,null,null,null,null,null,null,null,null,1750,1750,1750,1750,1750,1750,1750,1750,1785,1785,1800,1800,1800,1800,1875,1875,1890,1900,1900,1950,1995,1995,1995,1995,2000,2000,2000,2000,2000,2100,2100,2100,2100,2100,2100,2100,2200,2250,2250,2250,2250,2250,2300,2360,2360,2395,2450,2500,2500,2500,2500,2500,2500,2500,2500,2600,2600,2600,2650,2800,2950,2950,3100,3250,3750]
[null,null,null,null,null,null,null,null,null,null,null,null,null,null,null,null,null,null,null,null,null,490,495,495,495,495,497.5,500,500,500,500,500,500,500,500,525,525,525,525,525,525,525,525,525,525,525,525,525,525,550,550,550,550,550,550,550,550,550,550,550,550,550,570,570,575,575,575,575,575,575,575,605,605,625,625,650,650,650,650,650,700,700,705,705,800,800]
[null,null,null,null,null,null,null,null,null,null,null,null,null,null,null,null,null,null,null,null,null,275,275,275,275,275,275,275,275,275,300,300,300,300,300,300,300,300,300,300,300,300,300,300,300,300,300,304.17,304.17,310,310,316.07,320,320,325,325.89,325.89,325.89,330,330,330,338.81,347.62,350,350,350,359.52,359.52,359.52,359.52,359.52,359.52,375,375,375,375,385.98,390,390,400,402.98,402.98,425,576.79,576.79,794.05]
[null,null,null,null,null,null,null,null,null,null,null,null,null,null,null,null,null,null,null,null,null,355,365,370,370,375,375,375,375,375,375,375,375,375,375,375,375,375,375,375,375,377.5,380,390,390,395,395,395,395,395,395,395,395,395,395,395,400,400,400,400,400,400,400,400,415,425,425,425,425,425,430,445,450,450,450,450,450,450,450,450,470,475,475,500,500,550]
[null,null,null,null,null,null,null,null,null,null,null,null,null,null,null,null,null,null,null,null,null,450,450,450,450,450,450,450,450,450,450,450,450,450,450,450,450,460,460,475,475,475,475,475,475,475,475,475,485,495,495,495,495,495,495,495,500,500,500,500,500,525,525,525,525,525,525,525,540,550,550,550,550,550,550,550,550,575,580,585,595,595,600,650,650,695]
[null,null,null,null,null,null,null,null,null,null,null,null,null,null,null,null,null,null,null,null,null,510,525,525,525,525,525,525,525,545,550,550,550,550,550,550,550,550,550,550,550,550,560,575,575,575,575,575,575,590,595,595,595,600,600,600,600,625,625,625,636,650,650,650,650,650,650,650,650,675,675,695,695,695,695,700,725,750,750,750,750,795,795,800,850,895]
[null,null,null,null,null,null,null,null,null,null,null,null,null,null,null,null,null,null,null,null,null,795,795,795,800,800,800,800,835,835,845,845,850,850,850,850,850,850,850,850,850,850,850,850,850,850,875,875,875,895,895,895,895,900,900,900,950,950,950,950,950,950,975,975,995,995,995,995,995,1095,1100,1100,1150,1150,1150,1150,1150,1200,1200,1200,1300,1300,1699,1800,1800,1800]
[null,null,null,null,null,null,null,null,null,null,null,null,null,null,null,null,null,null,null,null,null,875,875,875,875,875,912.5,950,950,950,950,950,950,950,950,950,1025,1100,1100,1100,1100,1100,1100,1100,1100,1100,1100,1100,1100,1100,1100,1100,1100,1100,1100,1100,1175,1250,1250,1250,1250,1250,1250,1250,1250,1250,1325,1400,1400,1400,1400,1400,1400,1400,1400,1400,1700,2000,2000,2000,2000,2000,2000,2000,2000,2000]
[null,null,null,null,null,null,null,null,null,null,null,null,null,null,null,null,null,null,null,null,null,250,250,250,250,250,250,250,250,250,250,250,250,250,250,250,250,250,250,250,250,250,250,250,250,250,250,250,250,250,250,250,250,250,250,250,250,250,250,250,250,250,250,250,250,250,250,250,250,250,250,250,250,250,250,250,250,250,250,250,250,250,250,250,250,250]
[null,null,null,null,null,null,null,null,null,null,null,null,null,null,null,null,null,null,null,null,null,275,275,275,275,280,280,280,280,280,280,291.07,291.07,291.07,291.07,291.07,291.07,291.07,297.62,297.62,297.62,297.62,297.62,297.62,300,300,300,300,300,300,300,300,300,300,300,300,325,325,325,325,330,330,330,330,330,330,334.52,334.52,334.52,334.52,350,350,350,350,350,350,350,350,370,370,399.7,399.7,399.7,399.7,421.43,421.43]
[null,null,null,null,null,null,null,null,null,null,null,null,null,null,null,null,null,null,null,null,null,380,385,385,390,390,390,395,395,395,395,400,400,400,400,400,400,400,400,400,400,400,400,400,400,400,400,400,420,420,420,420,420,420,420,420,425,425,425,425,425,425,430,435,435,435,435,440,450,450,450,450,450,450,460,475,475,475,475,475,475,490,495,500,520,530]
[null,null,null,null,null,null,null,null,null,null,null,null,null,null,null,null,null,null,null,null,null,495,500,500,500,500,500,500,500,500,500,500,500,520,525,525,525,525,525,525,525,525,530,545,550,550,550,550,550,550,550,550,550,550,550,550,550,550,550,575,575,575,575,575,585,595,595,595,595,595,600,600,600,600,625,625,625,625,650,650,650,650,650,675,700,750]
[null,null,null,null,null,null,null,null,null,null,null,null,null,null,null,null,null,null,null,null,null,620,625,625,625,625,650,650,650,650,650,650,650,650,650,650,650,650,675,675,675,675,675,675,695,695,695,695,695,695,695,695,700,700,700,700,700,725,725,750,750,750,750,750,750,775,775,775,795,795,795,795,800,800,825,825,850,875,895,895,900,900,950,995,995,1000]
[null,null,null,null,null,null,null,null,null,null,null,null,null,null,null,null,null,null,null,null,null,895,895,895,895,895,895,900,900,950,950,950,950,950,950,950,972.5,995,995,995,995,995,995,995,995,995,1000,1000,1000,1000,1000,1000,1050,1050,1050,1050,1050,1050,1095,1095,1100,1100,1100,1100,1100,1100,1100,1200,1200,1200,1200,1200,1200,1200,1200,1250,1250,1295,1295,1300,1300,1300,1300,1500,1500,1600]
[null,null,null,null,null,null,null,null,null,null,null,null,null,null,null,null,null,null,null,null,null,895,895,895,895,895,895,895,895,950,950,950,950,950,950,950,950,950,950,950,950,950,950,950,1150,1150,1150,1150,1150,1150,1150,1150,1150,1150,1150,1150,1150,1150,1295,1295,1295,1295,1295,1295,1295,1295,1295,1295,1295,1295,1295,1295,2000,2000,2000,2000,2000,2000,2000,2000,2000,2000,2000,2000,2000,2000]
[null,null,null,null,null,null,null,null,null,null,null,null,null,null,null,null,null,null,null,null,null,325,325,325,325,325,325,325,325,350,350,350,350,350,350,350,350,350,350,350,350,350,350,350,350,350,350,350,350,350,350,350,350,350,350,350,350,350,350,350,350,350,350,350,350,350,350,350,350,350,350,350,430,430,430,430,430,430,430,430,430,430,430,430,430,430]
[null,null,null,null,null,null,null,null,null,null,null,null,null,null,null,null,null,null,null,null,null,275,275,275,275,275,275,275,275,275,275,275.89,282.44,290,290,294.33999999999997,294.35000000000002,295,295,295,300,300,300,300,300,300,300,300,300,300,300,304.17,304.17,305,305,305,310,315,315,320,320,320,320,320,325,325,325,325.89,330,340,350,350,350,359.52,359.52,359.52,359.52,359.52,359.52,359.52,375,377.97,377.97,400,425,434.52]
[null,null,null,null,null,null,null,null,null,null,null,null,null,null,null,null,null,null,null,null,null,350,350,350,350,350,350,350,350,350,350,350,350,350,350,350,350,360,365,375,375,375,375,375,375,375,375,375,375,375,380,380,385,388,395,395,395,395,395,399,400,400,400,400,400,410,425,425,425,425,425,425,445,450,450,450,450,465,475,475,475,485,495,520,550,575]
[null,null,null,null,null,null,null,null,null,null,null,null,null,null,null,null,null,null,null,null,null,450,450,450,450,450,450,450,450,450,450,450,450,450,460,465,475,475,475,475,475,475,475,475,480,495,495,495,495,499,500,500,500,500,525,525,525,525,525,525,545,550,550,550,550,550,550,550,565,575,575,595,595,595,600,600,600,625,625,650,650,650,675,695,750,750]
[null,null,null,null,null,null,null,null,null,null,null,null,null,null,null,null,null,null,null,null,null,550,550,550,550,560,575,575,580,595,595,595,595,595,600,625,625,625,650,650,650,650,650,650,650,650,675,675,675,680,695,695,695,695,695,695,700,700,700,700,725,725,750,750,750,750,775,775,795,795,799,800,825,850,850,850,850,850,895,900,950,995,995,1100,1200,1600]
[null,null,null,null,null,null,null,null,null,null,null,null,null,null,null,null,null,null,null,null,null,850,850,850,850,850,850,850,850,850,860,875,895,895,895,895,895,900,900,900,925,945,950,950,950,950,950,950,975,975,975,975,995,995,995,995,995,995,1000,1050,1050,1100,1100,1100,1100,1100,1125,1150,1200,1200,1200,1200,1200,1250,1295,1295,1300,1350,1400,1400,1400,1500,1500,1650,1750,2995]
[null,null,null,null,null,null,null,null,null,null,null,null,null,null,null,null,null,null,null,null,null,1195,1195,1195,1195,1200,1200,1200,1200,1250,1250,1250,1250,1250,1300,1300,1300,1300,1300,1400,1400,1400,1400,1400,1400,1400,1400,1400,1400,1400,1400,1400,1400,1495,1495,1495,1495,1495,1500,1500,1500,1500,1500,1575,1575,1575,1575,1950,1950,1950,1950,1950,2000,2000,2000,2000,2000,2500,2500,2500,2500,2500,2750,2750,2750,2750]
[null,null,null,null,null,null,null,null,null,null,null,null,null,null,null,null,null,null,null,null,null,275,275,275,275,275,275,275,280,280,280,280,280,280,280,280,302.5,325,325,325,325,325,325,325,325,350,350,350,350,350,350,350,350,350,350,350,350,350,350,350,350,350,350,350,350,350,350,350,350,350,350,350,350,350,350,350,350,350,375,375,375,375,375,375,375,375]
[null,null,null,null,null,null,null,null,null,null,null,null,null,null,null,null,null,null,null,null,null,250,250,250,250,250,250,250,250,250,250.89,250.89,250.89,250.89,250.89,250.89,250.89,250.89,254.17,254.17,254.17,258.89,258.89,260.89,260.89,260.89,275,275,275,282.62,282.62,291.07,291.07,291.07,291.07,291.07,291.07,291.07,291.07,300,300,300,311.73,311.73,311.73,315,315,315,316.07,316.07,316.07,316.07,316.07,325,325,325,325,325,355,355,355,356.25,356.25,356.25,434.52,434.52]
[null,null,null,null,null,null,null,null,null,null,null,null,null,null,null,null,null,null,null,null,null,325,325,325,325,325,325,325,330,330,330,330,335,340,340,340,345,350,350,350,350,350,350,350,350,350,350,350,350,350,350,350,350,350,350,350,350,350,350,360,360,360,360,360,360,365,365,370,375,375,375,375,380,390,395,395,395,395,395,400,425,425,450,495,500,550]
[null,null,null,null,null,null,null,null,null,null,null,null,null,null,null,null,null,null,null,null,null,420,420,425,425,425,425,425,425,425,425,425,425,425,430,430,435,440,440,450,450,450,450,450,450,450,450,450,450,450,460,460,460,475,475,475,475,475,475,475,485,490,495,495,495,495,500,500,500,500,500,520,525,525,525,550,550,550,550,550,550,575,580,600,650,650]
[null,null,null,null,null,null,null,null,null,null,null,null,null,null,null,null,null,null,null,null,null,490,495,495,495,495,495,495,499.7,500,500,500,515,525,525,525,525,525,535,550,550,550,550,550,550,550,550,550,550,550,560,575,575,575,575,575,575,575,580,590,595,595,595,600,600,615,620,625,625,625,650,650,650,650,650,655,660,675,695,700,700,700,720,750,750,850]
[null,null,null,null,null,null,null,null,null,null,null,null,null,null,null,null,null,null,null,null,null,725,725,735,735,750,750,750,750,750,750,750,750,750,750,750,755,760,780,780,780,787.5,795,795,795,795,797.5,800,800,800,800,800,800,800,800,800,812.5,825,825,825,830,830,830,850,850,850,850,850,850,850,850,850,850,850,850,885,887.5,890,895,895,950,975,1000,1000,1000,1050]
[null,null,null,null,null,null,null,null,null,null,null,null,null,null,null,null,null,null,null,null,null,895,895,895,895,925,925,925,925,975,975,975,975,1000,1000,1000,1000,1000,1000,1000,1100,1100,1100,1100,1200,1200,1200,1200,1225,1225,1225,1225,1225,1225,1225,1225,1300,1300,1300,1300,1300,1300,1300,1350,1350,1350,1350,1350,1350,1350,1350,1475,1475,1475,1475,1500,1500,1500,1500,1750,1750,1750,1750,2000,2000,2000]
[null,null,null,null,null,null,null,null,null,null,null,null,null,null,null,null,null,null,null,null,null,230,230,230,230,230,230,230,230,230,230,230,230,230,230,230,240,250,250,250,250,250,250,250,250,250,250,250,250,250,250,250,250,250,250,250,250,250,250,250,250,287.5,325,325,325,325,325,325,325,325,325,325,325,325,325,325,325,325,325,325,325,325,325,325,325,325]
[null,null,null,null,null,null,null,null,null,null,null,null,null,null,null,null,null,null,null,null,null,300,300,300,300,300,300,300,300,300,300,305,305,316.07,316.07,316.07,325,325,325,325,325,325,325,325,325,325,325.89,325.89,340,341.07,341.07,345,350,350,350,350,350,350,350,350,359.52,359.52,359.52,369.52,384.52,384.52,400,400,400,400,400,400,400,400,400,400,400,400,400,434.52,434.52,445,445,445,450,450]
[null,null,null,null,null,null,null,null,null,null,null,null,null,null,null,null,null,null,null,null,null,375,375,375,375,375,375,375,375,375,375,375,375,375,375,380,380,380,390,395,395,395,395,395,395,395,395,395,395,395,395,395,395,395,395,395,400,400,400,400,400,400,400,400,400,420,425,425,425,425,425,425,425,425,430,450,450,450,450,450,450,450,450,450,500,515]
[null,null,null,null,null,null,null,null,null,null,null,null,null,null,null,null,null,null,null,null,null,450,450,450,450,450,450,450,450,470,475,475,475,475,475,475,475,485,495,495,495,495,495,495,500,500,500,500,500,520,525,525,525,525,525,525,525,525,550,550,550,550,550,550,550,550,550,550,550,550,575,575,575,575,595,595,595,600,600,625,625,650,650,695,795,850]
[null,null,null,null,null,null,null,null,null,null,null,null,null,null,null,null,null,null,null,null,null,575,575,575,595,595,595,595,595,595,595,595,600,600,600,600,600,600,600,600,600,610,620,625,625,625,625,625,650,650,650,650,650,650,650,650,650,675,675,675,675,695,695,695,700,725,725,725,750,750,750,750,750,750,775,795,795,795,795,795,850,850,895,900,995,1300]
[null,null,null,null,null,null,null,null,null,null,null,null,null,null,null,null,null,null,null,null,null,895,895,895,895,895,897.5,900,925,925,950,950,950,950,950,950,970,990,995,995,995,995,995,995,995,995,1022.5,1050,1050,1050,1050,1075,1100,1100,1100,1100,1100,1100,1200,1200,1200,1200,1200,1200,1200,1200,1225,1250,1300,1300,1300,1325,1350,1395,1395,1450,1475,1500,1500,1500,1595,1697.5,1800,1995,1995,2500]
[null,null,null,null,null,null,null,null,null,null,null,null,null,null,null,null,null,null,null,null,null,1195,1195,1195,1195,1195,1247.5,1300,1300,1300,1300,1300,1300,1395,1395,1395,1395,1395,1395,1395,1500,1500,1500,1500,1500,1500,1625,1750,1750,1750,1750,1750,1750,1950,1950,1950,1950,1950,1950,1950,2000,2000,2000,2000,2000,2000,2250,2500,2500,2500,2500,2500,2500,2500,2500,2500,2500,2500,2500,2500,2800,2800,2800,2800,2800,2800]
[null,null,null,null,null,null,null,null,null,null,null,null,null,null,null,null,null,null,null,null,null,265,265,265,265,265,265,265,265,275,275,275,275,275,275,275,275,275,275,275,275,275,275,275,280,280,280,280,280,280,280,280,280,280,280,280,280,280,285,285,285,285,285,285,285,285,285,285,285,285,285,285,322,322,322,322,322,322,322,322,322,322,322,322,322,322]
[null,null,null,null,null,null,null,null,null,null,null,null,null,null,null,null,null,null,null,null,null,285,285,295,300,300,300,300,300,300,300,300,300,300,300,300,305,315,315,320,325,325,325.89,325.89,325.89,325.89,334.52,334.52,334.52,334.52,345,345,347.61,350,350,350,359.52,359.52,359.52,359.52,359.52,359.52,359.52,375,375,375,375,375,375,375,375,375,375,383,383,400,400,400,400,400,400,425,425,425,495,543.15]
[null,null,null,null,null,null,null,null,null,null,null,null,null,null,null,null,null,null,null,null,null,375,375,375,375,375,375,375,375,375,375,375,380,380,385,395,395,395,395,395,395,395,395,395,395,395,395,395,395,400,400,400,400,400,400,400,400,400,400,400,410,417.5,425,425,425,425,425,425,425,425,425,425,425,425,435,450,450,450,450,450,450,460,475,475,475,500]
[null,null,null,null,null,null,null,null,null,null,null,null,null,null,null,null,null,null,null,null,null,450,450,450,450,450,450,450,450,450,450,450,450,450,450,450,460,460,475,475,475,475,475,475,475,475,475,490,495,495,495,495,495,495,495,495,500,500,500,500,500,525,525,550,550,550,550,550,550,550,550,550,550,550,575,575,575,575,575,595,595,595,595,595,650,750]
[null,null,null,null,null,null,null,null,null,null,null,null,null,null,null,null,null,null,null,null,null,500,500,500,525,525,525,525,525,550,550,550,550,550,550,550,550,550,550,550,550,550,550,550,550,575,575,575,575,575,575,575,595,595,595,595,595,595,600,620,625,625,650,650,650,650,650,650,650,650,695,695,695,695,700,700,745,750,795,795,795,795,850,850,945,995]
[null,null,null,null,null,null,null,null,null,null,null,null,null,null,null,null,null,null,null,null,null,795,795,795,795,800,800,800,800,800,800,800,800,800,800,800,800,800,800,800,850,850,850,850,850,850,850,850,860,860,860,860,860,860,860,860,875,875,875,875,875,875,875,895,895,895,895,895,895,895,895,1100,1100,1100,1100,1100,1100,1100,1100,1200,1200,1200,1200,1200,1200,1200]
[null,null,null,null,null,null,null,null,null,null,null,null,null,null,null,null,null,null,null,null,null,995,995,995,995,995,995,995,995,995,995,995,995,995,995,995,1097.5,1200,1200,1200,1200,1200,1200,1200,1200,1200,1200,1200,1200,1200,1200,1200,1200,1200,1200,1200,1200,1200,1200,1200,1200,1200,1200,1200,1200,1200,1200,1200,1200,1200,1200,1200,1200,1200,1200,1200,1200,1200,1200,1200,1200,1200,1200,1200,1200,1200]
[null,null,null,null,null,null,null,null,null,null,null,null,null,null,null,null,null,null,null,null,null,295,295,295,295,295,295,295,295,295,295,295,295,295,295,295,295,295,295,295,295,295,295,295,295,295,295,295,295,295,295,295,295,300,300,300,300,300,300,300,300,300,300,300,300,300,300,300,300,300,300,300,300,300,300,300,300,300,300,300,300,300,300,300,300,300]
[null,null,null,null,null,null,null,null,null,null,null,null,null,null,null,null,null,null,null,null,null,272.62,275,275,275,275,275,275,275,280,280,291.07,291.07,291.07,294.35000000000002,300,300,300,300,305,305,305,316.07,316.07,316.07,325,325,325,325,325,325,325,325,325,325,325,325,325,345,347.62,347.62,355,359.52,359.52,359.52,359.52,359.52,359.52,359.52,359.52,359.52,359.52,375,375,375,375,378.13,381.25,385.98,399.7,399.7,400,400,400,400,415]
[null,null,null,null,null,null,null,null,null,null,null,null,null,null,null,null,null,null,null,null,null,435,435,445,450,450,450,450,450,450,450,450,450,450,450,450,450,450,450,450,450,450,450,450,450,450,450,450,450,450,450,450,450,450,455,465,470,475,475,475,475,475,475,475,475,475,475,475,475,475,475,475,480,485,485,495,495,495,495,495,495,495,495,500,500,520]
[null,null,null,null,null,null,null,null,null,null,null,null,null,null,null,null,null,null,null,null,null,550,550,550,550,550,550,550,550,550,550,550,550,550,550,550,550,550,550,550,550,550,560,565,570,575,575,575,575,575,575,575,575,575,575,575,580,585,595,595,595,595,595,599,600,600,600,600,600,600,600,617.5,625,625,625,625,642.5,650,650,650,650,660,675,695,700,725]
[null,null,null,null,null,null,null,null,null,null,null,null,null,null,null,null,null,null,null,null,null,625,625,625,625,645,650,650,650,650,650,650,650,650,650,650,650,650,650,650,660,670,675,675,675,675,675,675,675,685,695,695,695,695,695,695,700,710,710,725,725,725,750,750,750,750,750,750,750,760,775,785,795,795,795,795,800,800,825,825,850,900,950,950,975,995]
[null,null,null,null,null,null,null,null,null,null,null,null,null,null,null,null,null,null,null,null,null,862.5,875,895,895,895,895,895,900,900,900,900,900,925,925,925,935,945,945,945,950,950,950,950,950,950,950,950,975,975,975,975,975,985,985,995,997.5,1000,1000,1000,1000,1000,1000,1000,1000,1000,1000,1000,1100,1100,1100,1100,1100,1100,1100,1195,1197.5,1200,1200,1200,1300,1335,1370,1450,1450,1470]
[null,null,null,null,null,null,null,null,null,null,null,null,null,null,null,null,null,null,null,null,null,1025,1050,1050,1050,1050,1075,1100,1100,1100,1100,1150,1200,1200,1200,1200,1200,1200,1200,1200,1200,1225,1250,1250,1250,1250,1250,1250,1250,1250,1250,1275,1300,1300,1300,1300,1300,1300,1300,1300,1300,1325,1350,1350,1350,1350,1375,1400,1400,1400,1400,1500,1600,1600,1600,1600,1775,1950,1950,1950,1950,2225,2500,2500,2500,2500]
[null,null,null,null,null,null,null,null,null,null,null,null,null,null,null,null,null,null,null,null,null,360,360,360,360,360,360,360,360,375,375,375,375,375,375,375,375,375,375,375,375,375,375,375,375,375,375,375,375,375,375,375,375,375,375,375,375,375,395,395,395,395,395,395,395,395,395,395,395,395,395,395,395,395,395,395,395,395,395,395,395,395,395,395,395,395]

{"sheet":"Table 14","index":40,"n_rows":1222,"n_cols":453,"rows_kept":1222,"cut":false,"hidden":false,"merged":[[66,0,66,11],[68,0,68,11]]}
["Back to contents"]
["TABLE 14 - Private Rents (£ Monthly), by Broad Rental Market Area, 2017 (year to end Sept)"]
[null,"1 Bedroom Properties",null,null,null,null,null,"2 Bedroom Properties"]
[null,"Number of records","Lower Quartile","Median","Mean","Upper Quartile",null,"Number of records","Lower Quartile","Median","Mean","Upper Quartile"]
["Scotland",6868,395,450,500.97,595,null,12817,495,595,642.79999999999995,750]
["Aberdeen and Shire",756,450,500,500.65,550,null,1448,600,650,681.97,750]
["Argyll and Bute",107,375,400,417.15,450,null,180,450,500,515.92999999999995,550]
["Ayrshires",351,350,365,369.97,400,null,786,425,450,466.59,500]
["Dumfries and Galloway",110,350,390,383.46,400,null,330,425,450,453.39,475]
["Dundee and Angus",369,350,385,393.68,425,null,728,475,540,554.96,622.5]
["East Dunbartonshire",71,425,450,487.82,550,null,169,550,600,653.4,750]
["Fife",325,365,400,411.45,450,null,611,450,500,533.29,575]
["Forth Valley",321,350,395,414.77,450,null,491,475,550,562.54999999999995,625]
["Greater Glasgow",1343,450,525,549.04999999999995,625,null,2443,575,695,744.8,850]
["Highland and Islands",243,400,475,470.38,520,null,738,500,550,575.09,650]
["Lothian",1338,625,675,704.27,750,null,2025,750,850,888.18,975]
["North Lanarkshire",233,350,395,389.89,425,null,513,425,475,480.25,525]
["Perth and Kinross",241,395,400,416.14,435,null,422,495,550,549.21,595]
["Renfrewshire / Inverclyde",373,350,385,386.61,425,null,551,450,495,507.56,550]
["Scottish Borders",194,325,335,344.95,375,null,318,400,450,458.64,500]
["South Lanarkshire",295,365,395,391.49,420,null,458,450,495,520.08000000000004,575]
["West Dunbartonshire",95,365,400,398.63,425,null,210,450,487.5,495.63,550]
["West Lothian",103,450,480,477.15,500,null,396,560,595,598.79,642.5]
[null,"3 Bedroom Properties",null,null,null,null,null,"4 Bedroom Properties"]
[null,"Number of records","Lower Quartile","Median","Mean","Upper Quartile",null,"Number of records","Lower Quartile","Median","Mean","Upper Quartile"]
["Scotland",4942,575,700,787.18,895,null,1561,850,1000,1142.55,1350]
["Aberdeen and Shire",446,750,850,865.75,950,null,213,950,1100,1168.92,1300]
["Argyll and Bute",76,525,597.5,651.62,750,null,19,700,925,980.26,1250]
["Ayrshires",317,495,550,589.54999999999995,640,null,97,700,895,906.8,1050]
["Dumfries and Galloway",190,460,500,526.20000000000005,575,null,54,550,650,702.46,750]
["Dundee and Angus",275,590,700,717.22,800,null,115,850,1000,1047.22,1240]
["East Dunbartonshire",106,775,892.5,923.82,1000,null,42,1200,1500,1551.67,1650]
["Fife",348,550,612.5,656.95,750,null,125,790,895,917.22,995]
["Forth Valley",244,595,695,752.01,850,null,75,875,995,1094.93,1295]
["Greater Glasgow",745,650,850,964.74,1200,null,196,1150,1500,1523.85,1800]
["Highland and Islands",370,595,695,692.34,795,null,100,692.5,825,827.9,912.5]
["Lothian",642,895,1100,1143.78,1350,null,177,1275,1600,1592.26,1850]
["North Lanarkshire",253,475,550,555.36,600,null,60,662.5,850,889.42,1000]
["Perth and Kinross",118,650,747.5,754.41,850,null,38,900,970,1018.42,1150]
["Renfrewshire / Inverclyde",203,525,645,651.5,750,null,59,850,995,1095.42,1200]
["Scottish Borders",169,475,550,565.77,650,null,37,600,700,750.14,825]
["South Lanarkshire",247,550,650,661.52,725,null,91,895,1100,1096.76,1300]
["West Dunbartonshire",60,525,595,603.98,650,null,15,795,850,886,995]
["West Lothian",133,625,695,708.53,775,null,48,862.5,950,975.1,1100]
[null,"1 Bedroom Shared Properties"]
[null,"Number of records","Lower Quartile","Median","Mean","Upper Quartile"]
["Scotland",2381,285,337.79,349.63,400]
["Aberdeen and Shire",98,320,350,358.31,400]
["Argyll and Bute",45,255,294.35000000000002,300.83,345]
["Ayrshires",146,275,337.79,338.11,359.52]
["Dumfries and Galloway",98,255,287.5,291.95,334.52]
["Dundee and Angus",200,260,290,309.20999999999998,340]
["East Dunbartonshire",30,325,375,385.4,425]
["Fife",162,275,348.04,347.5,379.52]
["Forth Valley",137,300,340,357.06,385]
["Greater Glasgow",346,325,375,385.58,434.52]
["Highland and Islands",157,280,300,327.29000000000002,375]
["Lothian",397,325,385,390.14,446.43]
["North Lanarkshire",104,275,334,346.7,367.26]
["Perth and Kinross",82,272.62,300,307.91000000000003,325]
["Renfrewshire / Inverclyde",102,265,300,304.20999999999998,337.79]
["Scottish Borders",44,242.5,275,312.18,359.52]
["South Lanarkshire",107,275,325,371.17,405]
["West Dunbartonshire",51,275,325,331.01,375]
["West Lothian",75,275,325,331.66,359.52]
["Notes:"]
["Total figures exclude any studio properties, properties with 5 or more bedrooms, or room rents associated with bed and breakfast lodgings"]
["Figures for rooms in shared properties represent \"rent only\", i.e. exclude any payments for shared services"]
["Note that some caution is needed when interpreting Scotland level findings. This is because whilst the underlying data aims to be representative of rents within each broad rental market area, no attempt has been made to apply any formal weighting techniques to account for any specific area-level sample sizes or structures when aggregating up to a single Scotland level figure "]
[]
[]
[]
[]
[]
[]
[]
[]
[]
[]
[]
[]
[]
[]
[]
[]
[]
[]
[]
[]
[]
[]
[]
[]
[]
[]
[]
[]
[]
[]
[]
[]
[]
[]
[]
[]
[]
[]
[]
[]
[]
[]
[]
[]
[]
[]
[]
[]
[]
[]
[]
[]
[]
[]
[]
[]
[]
[]
[]
[]
[]
[]
[]
[]
[]
[]
[]
[]
[]
[]
[]
[]
[]
[]
[]
[]
[]
[]
[]
[]
[]
[]
[]
[]
[]
[]
[]
[]
[]
[]
[]
[]
[]
[]
[]
[]
[]
[]
[]
[]
[]
[]
[]
[]
[]
[]
[]
[]
[]
[]
[]
[]
[]
[]
[]
[]
[]
[]
[]
[]
[]
[]
[]
[]
[]
[]
[]
[]
[]
[]
[]
[]
[]
[]
[]
[]
[]
[]
[]
[]
[]
[]
[]
[]
[]
[]
[]
[]
[]
[]
[]
[]
[]
[]
[]
[]
[]
[]
[]
[]
[]
[]
[]
[]
[]
[]
[]
[]
[]
[]
[]
[]
[]
[]
[]
[]
[]
[]
[]
[]
[]
[]
[]
[]
[]
[]
[]
[]
[]
[]
[]
[]
[]
[]
[]
[]
[]
[]
[]
[]
[]
[]
[]
[]
[]
[]
[]
[]
[]
[]
[]
[]
[]
[]
[]
[]
[]
[]
[]
[]
[]
[]
[]
[]
[]
[]
[]
[]
[]
[]
[]
[]
[]
[]
[]
[]
[]
[]
[]
[]
[]
[]
[]
[]
[]
[]
[]
[]
[]
[]
[]
[]
[]
[]
[]
[]
[]
[]
[]
[]
[]
[]
[]
[]
[]
[]
[]
[]
[]
[]
[]
[]
[]
[]
[]
[]
[]
[]
[]
[]
[]
[]
[]
[]
[]
[]
[]
[]
[]
[]
[]
[]
[]
[]
[]
[]
[]
[]
[]
[]
[]
[]
[]
[]
[]
[]
[]
[]
[]
[]
[]
[]
[]
[]
[]
[]
[]
[]
[]
[]
[]
[]
[]
[]
[]
[]
[]
[]
[]
[]
[]
[]
[]
[]
[]
[]
[]
[]
[]
[]
[]
[]
[]
[]
[]
[]
[]
[]
[]
[]
[]
[]
[]
[]
[]
[]
[]
[]
[]
[]
[]
[]
[]
[]
[]
[]
[]
[]
[]
[]
[]
[]
[]
[]
[]
[]
[]
[]
[]
[]
[]
[]
[]
[]
[]
[]
[]
[]
[]
[]
[]
[]
[]
[]
[]
[]
[]
[]
[]
[]
[]
[]
[]
[]
[]
[]
[]
[]
[]
[]
[]
[]
[]
[]
[]
[]
[]
[]
[]
[]
[]
[]
[]
[]
[]
[]
[]
[]
[]
[]
[]
[]
[]
[]
[]
[]
[]
[]
[]
[]
[]
[]
[]
[]
[]
[]
[]
[]
[]
[]
[]
[]
[]
[]
[]
[]
[]
[]
[]
[]
[]
[]
[]
[]
[]
[]
[]
[]
[]
[]
[]
[]
[]
[]
[]
[]
[]
[]
[]
[]
[]
[]
[]
[]
[]
[]
[]
[]
[]
[]
[]
[]
[]
[]
[]
[]
[]
[]
[]
[]
[]
[]
[]
[]
[]
[]
[]
[]
[]
[]
[]
[]
[]
[]
[]
[]
[]
[]
[]
[]
[]
[]
[]
[]
[]
[]
[]
[]
[]
[]
[]
[]
[]
[]
[]
[]
[]
[]
[]
[]
[]
[]
[]
[]
[]
[]
[]
[]
[]
[]
[]
[]
[]
[]
[]
[]
[]
[]
[]
[]
[]
[]
[]
[]
[]
[]
[]
[]
[]
[]
[]
[]
[]
[]
[]
[]
[]
[]
[]
[]
[]
[]
[]
[]
[]
[]
[]
[]
[]
[]
[]
[]
[]
[]
[]
[]
[]
[]
[]
[]
[]
[]
[]
[]
[]
[]
[]
[]
[]
[]
[]
[]
[]
[]
[]
[]
[]
[]
[]
[]
[]
[]
[]
[]
[]
[]
[]
[]
[]
[]
[]
[]
[]
[]
[]
[]
[]
[]
[]
[]
[]
[]
[]
[]
[]
[]
[]
[]
[]
[]
[]
[]
[]
[]
[]
[]
[]
[]
[]
[]
[]
[]
[]
[]
[]
[]
[]
[]
[]
[]
[]
[]
[]
[]
[]
[]
[]
[]
[]
[]
[]
[]
[]
[]
[]
[]
[]
[]
[]
[]
[]
[]
[]
[]
[]
[]
[]
[]
[]
[]
[]
[]
[]
[]
[]
[]
[]
[]
[]
[]
[]
[]
[]
[]
[]
[]
[]
[]
[]
[]
[]
[]
[]
[]
[]
[]
[]
[]
[]
[]
[]
[]
[]
[]
[]
[]
[]
[]
[]
[]
[]
[]
[]
[]
[]
[]
[]
[]
[]
[]
[]
[]
[]
[]
[]
[]
[]
[]
[]
[]
[]
[]
[]
[]
[]
[]
[]
[]
[]
[]
[]
[]
[]
[]
[]
[]
[]
[]
[]
[]
[]
[]
[]
[]
[]
[]
[]
[]
[]
[]
[]
[]
[]
[]
[]
[]
[]
[]
[]
[]
[]
[]
[]
[]
[]
[]
[]
[]
[]
[]
[]
[]
[]
[]
[]
[]
[]
[]
[]
[]
[]
[]
[]
[]
[]
[]
[]
[]
[]
[]
[]
[]
[]
[]
[]
[]
[]
[]
[]
[]
[]
[]
[]
[]
[]
[]
[]
[]
[]
[]
[]
[]
[]
[]
[]
[]
[]
[]
[]
[]
[]
[]
[]
[]
[]
[]
[]
[]
[]
[]
[]
[]
[]
[]
[]
[]
[]
[]
[]
[]
[]
[]
[]
[]
[]
[]
[]
[]
[]
[]
[]
[]
[]
[]
[]
[]
[]
[]
[]
[]
[]
[]
[]
[]
[]
[]
[]
[]
[]
[]
[]
[]
[]
[]
[]
[]
[]
[]
[]
[]
[]
[]
[]
[]
[]
[]
[]
[]
[]
[]
[]
[]
[]
[]
[]
[]
[]
[]
[]
[]
[]
[]
[]
[]
[]
[]
[]
[]
[]
[]
[]
[]
[]
[]
[]
[]
[]
[]
[]
[]
[]
[]
[]
[]
[]
[]
[]
[]
[]
[]
[]
[]
[]
[]
[]
[]
[]
[]
[]
[]
[]
[]
[]
[]
[]
[]
[]
[]
[]
[]
[]
[]
[]
[]
[]
[]
[]
[]
[]
[]
[]
[]
[]
[null,null,null,null,null,null,null,null,null,null,null,null,null,null,null,null,null,null,null,null,null,250,251,252,253,254,255,259,260,261,262,263,265,269,270,271,273,275,276,278,280,281,282,283,285,287,288,289,290,291,293,294,295,298,299,300,303,304,305,308,309,310,312,313,315,316,317,319,320,322,323,324,325,326,328,329,330,331,333,335,336,337,338,340,341,342,345,346,347,348,349,350,353,354,355,356,359,360,361,362,363,364,365,368,369,370,373,375,378,380,381,383,385,386,388,389,390,391,395,396,399,400,403,404,405,406,410,411,412,413,414,415,420,421,424,425,426,427,429,430,433,435,437,438,440,441,443,445,446,449,450,455,456,460,465,468,470,472,473,475,477,478,479,480,485,486,489,490,492,494,495,498,499,500,502,505,508,510,515,517,520,525,526,529,530,533,535,540,542,543,545,548,550,552,555,560,564,565,570,575,577,578,580,585,588,590,595,599,600,605,609,610,615,620,625,626,630,635,636,640,645,650,655,660,665,670,672,675,680,682,685,690,693,694,695,696,699,700,705,710,715,720,725,730,735,739,740,745,748,749,750,755,760,765,770,775,780,782,785,790,794,795,799,800,810,815,820,825,830,835,840,845,849,850,855,860,865,870,875,878,880,885,890,895,897,900,910,915,920,925,930,935,940,945,950,960,965,968,970,975,980,985,990,995,999,1000,1020,1025,1030,1040,1045,1050,1055,1070,1075,1080,1090,1095,1099,1100,1120,1125,1130,1134,1140,1150,1155,1170,1175,1180,1185,1190,1195,1200,1205,1215,1225,1230,1240,1245,1250,1260,1265,1275,1280,1285,1295,1300,1304,1310,1320,1325,1335,1340,1345,1350,1365,1370,1375,1380,1385,1390,1395,1400,1410,1415,1420,1425,1440,1444,1445,1450,1460,1470,1475,1480,1495,1496,1500,1515,1520,1525,1540,1545,1550,1560,1570,1575,1580,1595,1596,1599,1600,1625,1640,1645,1650,1660,1675,1680,1690,1695,1699,1700,1705,1730,1750,1785,1795,1800,1820,1835,1840,1850,1875,1890,1895,1900,1940,1950,1975,1995,2000,2050,2095,2100,2125,2150,2195,2200,2250,2275,2300,2340,2350,2360,2395,2400,2450,2500,2520,2600,2650,2750,2775,2800,2950,2995,3000,3100,3250,3500,3750]
[null,null,null,null,null,null,null,null,null,null,null,null,null,null,null,null,null,null,null,null,null,"N","N","N","N","N","N","N","N","N","N","N","N","N","N","N","N","N","N","N","N","N","N","N","N","N","N","N","N","N","N","N","N","N","N","N","N","N","N","N","N","N","N","N","N","N","N","N","N","N","N","N","N","N","N","N","N","N","N","N","N","N","N","N","N","N","N","N","N","N","N","N","N","N","N","N","N","N","N","N","N","N","N","N","N","N","N","N","N","N","N","N","N","N","N","N","N","N","N","N","N","N","N","N","N","N","N","N","N","N","N","N","N","N","N","N","N","N","N","N","N","N","N","N","N","N","N","N","N","N","N","N","N","N","N","N","N","N","N","N","N","N","N","N","N","N","N","N","N","N","N","N","N","N","N","N","N","N","N","N","N","N","N","N","N","N","N","N","N","N","N","N","N","N","N","N","N","N","N","N","N","N","N","N","N","N","N","N","N","N","N","N","N","N","N","N","N","N","N","N","N","N","N","N","N","N","N","N","N","N","N","N","N","N","N","N","N","N","N","N","N","N","N","N","N","N","N","N","N","N","N","N","N","N","N","N","N","N","N","N","N","N","N","N","N","N","N","N","N","N","N","N","N","N","N","N","N","N","N","N","N","N","N","N","N","N","N","N","N","N","N","N","N","N","N","N","N","N","N","N","N","N","N","N","N","N","N","N","N","N","N","N","N","N","N","N","N","N","N","N","N","N","N","N","N","N","N","N","N","N","N","N","N","N","N","N","N","N","N","N","N","N","N","N","N","N","N","N","N","N","N","N","N","N","N","N","N","N","N","N","N","N","N","N","N","N","N","N","N","N","N","N","N","N","N","N","N","N","N","N","N","N","N","N","N","N","N","N","N","N","N","N","N","N","N","N","N","N","N","N","N","N","N","N","N","N","N","N","N","N","N","N","N","N","N","N","N","N","N","N","N","N","N","N","N","N","N","N","N","N","N","N","N","N","N","N","N","N","N","N","N","N","N","N","N","N","N","N","N","N","N","N","N"]
[null,null,null,null,null,null,null,null,null,null,null,null,null,null,null,null,null,null,null,null,null,101,19,1,1,9,10,1,29,13,2,1,20,13,28,2,46,189,6,1,37,5,3,8,37,3,1,1,32,14,1,25,75,8,6,305,1,12,53,1,1,26,3,7,32,57,2,3,72,1,1,3,317,18,1,1,71,2,9,56,1,1,12,73,1,1,35,2,2,13,2,739,4,1,11,1,1,222,1,1,1,1,45,10,6,63,1,593,8,123,4,3,64,2,2,1,81,6,475,1,13,781,7,1,11,1,44,5,2,6,1,44,156,12,1,928,1,1,1,89,9,77,1,1,85,1,1,38,11,4,1629,10,1,112,58,11,71,1,1,855,1,2,1,116,101,2,1,62,1,1,775,2,5,892,2,1,1,42,27,1,89,924,2,1,64,4,40,53,1,2,55,1,1512,7,3,72,1,43,44,688,5,2,65,48,1,47,625,5,709,2,1,27,25,67,552,2,56,12,1,28,39,1068,11,29,8,25,1,407,59,1,20,18,2,1,457,1,4,414,12,14,18,27,309,19,15,1,11,28,1,4,740,3,30,4,10,165,27,1,28,6,1,349,1,352,20,2,7,216,11,5,21,11,2,520,11,7,7,13,184,1,13,3,34,221,1,314,3,12,7,101,7,2,4,20,325,5,2,1,7,105,9,4,10,208,2,207,7,3,1,1,3,93,1,1,6,6,1,21,1,264,1,15,1,1,7,84,13,2,11,2,4,1,20,333,1,1,6,3,2,4,130,16,1,14,1,1,27,132,1,2,2,1,1,1,3,82,6,1,7,1,1,1,13,102,2,2,2,7,1,1,1,35,1,6,1,2,10,1,143,1,8,1,3,1,24,3,1,8,1,17,1,1,76,5,2,1,21,2,2,7,1,10,1,35,1,2,33,5,9,48,1,1,1,12,3,6,2,15,2,17,1,15,48,1,1,10,1,1,1,16,17,1,10,1,2,2,1,3,2,20,2,4,1,6,1,2,2,2,2,1,1,1,1]
[null,null,null,null,null,null,null,null,null,null,null,null,null,null,null,null,null,null,null,null,null,".",".",".",".",".",".",".",".",".",".",".",".",".",".",".",".",".",1,".",1,".",".",".",".",".",".",".",1,".",".",".",".",".",".",7,".",".",".",".",".",".",".",".",".",".",".",".",4,".",".",".",".",".",".",".",".",".",".",5,".",".",".",".",".",".",".",".",".",".",".",15,".",".",".",".",".",".",".",".",".",".",".",".",".",".",".",10,".",".",".",".",1,".",".",".",1,".",2,".",".",31,".",".",1,".",1,".",".",".",".",".",1,".",".",9,".",".",".",1,".",1,".",1,2,".",".",".",".",".",20,".",".",".",".",".",".",".",".",5,".",".",".",4,3,".",".",1,".",".",6,".",".",26,".",".",1,".",".",".",1,19,".",".",".",".",".",1,".",".",".",".",58,2,".",".",".",".",".",27,".",".",1,".",".",3,19,".",85,".",".",".",".",".",60,".",2,".",".",2,1,140,".",1,".",3,".",66,".",".",2,1,1,".",40,".",".",106,".",".",1,1,56,2,".",".",".",2,".",1,138,".",".",".",".",27,2,".",".",".",".",35,".",113,".",".",".",48,1,".",1,2,".",129,".",".",".",1,54,".",1,".",2,38,".",106,".",".",".",25,2,".",".",".",98,".",".",".",2,33,1,".",3,43,".",101,".",".",".",".",".",24,".",".",1,1,".",1,".",98,".",1,".",1,1,19,".",".",2,".",".",".",".",116,".",".",".",".",".",".",37,".",1,6,".",".",3,44,".",".",".",1,".",".",".",31,".",".",2,".",".",".",".",40,".",".",".",".",".",1,".",8,".",".",".",".",".",".",46,".",".",".",".",".",7,".",".",".",".",1,".",".",29,".",1,".",7,".",".",".",".",1,".",14,".",".",7,".",".",19,".",".",".",3,".",".",".",7,".",2,1,3,16,".",".",1,".",".",".",5,1,".",6,".",1,".",".",3,".",1,".",".",".",".",".",".",1,".",".",".",".",".","."]
[]
[null,null,null,null,null,null,null,null,null,null,null,null,null,null,null,null,null,null,null,null,null,1,".",".",".",".",".",".",2,".",".",".",1,".",".",2,".",10,".",".",1,".",".",".",1,".",".",".",".",".",".",1,1,".",".",10,".",2,4,".",".",".",".",".",1,3,".",".",1,".",".",".",10,2,".",".",3,".",".",1,".",".",4,1,".",".",4,".",".",3,".",21,".",".",".",".",".",9,".",".",".",1,".",".",1,1,".",15,".",2,1,".",1,".",".",".",2,".",10,".",".",21,".",".",".",".",1,".",".",".",".",".",4,5,".",18,".",".",".",4,".",1,".",".",3,".",".",".",".",".",44,".",".",4,2,".",2,".",".",15,".",".",".",2,1,".",".",2,".",".",19,".",".",24,".",".",".",1,".",1,3,12,1,".",2,".",".",".",".",".",".",".",37,1,".",1,".",".",".",7,".",".",".",2,".",".",5,1,12,".",".",".",".",1,9,".",".",".",".",".",".",20,".",".",".",".",".",4,".",".",".",".",".",".",6,".",".",4,".",".",".",".",2,".",".",".",".",".",".",".",5,".",".",".",".",".",1,".",".",".",".",5,".",1,".",".",".",".",".",".",".",".",".",12,".",".",".",".",3,".",".",".",".",5,".",8,".",".",".",2,".",".",".",".",5,".",".",".",".",".",".",".",".",7,".",1,".",".",".",".",".",".",".",".",".",".",".",".",".",4,".",".",".",".",".",1,".",".",".",".",".",".",".",".",".",".",".",".",".",".",5,".",".",".",".",".",1,".",".",".",".",".",".",".",".",2,".",".",".",".",".",".",".",1,".",".",".",".",".",".",".",".",".",".",".",".",".",".",1,".",".",".",".",".",".",".",1,".",".",".",".",".",".",".",".",".",".",".",".",".",".",".",".",".",".",".",".",".",".",".",".",".",".",".",".",".",".",".",".",".",".",".",".",".",".",".",".",".",".",".",".",".",".",".",".",".",".",".",".",".",".",".",".",".",".",".",".",".",1,".",".",".","."]
[null,null,null,null,null,null,null,null,null,null,null,null,null,null,null,null,null,null,null,null,null,5,4,".",".",1,3,".",".",2,".",".",1,".",2,".",6,21,".",".",5,".",1,2,3,".",".",".",2,".",".",10,5,".",2,31,1,3,4,".",".",".",".",".",1,7,".",".",3,".",".",".",42,3,".",".",4,".",2,1,".",".",1,5,".",".",".",".",".",".",1,96,".",".",".",".",".",24,".",".",".",".",5,3,".",5,".",74,".",12,".",".",5,".",".",".",7,1,51,".",1,76,2,".",".",".",".",".",1,".",".",3,7,".",".",131,".",".",".",4,3,8,".",".",3,".",".",4,".",1,158,".",".",9,1,3,5,".",".",80,".",1,".",7,5,".",".",3,".",".",36,".",".",84,".",".",".",2,".",".",3,67,".",".",3,".",".",1,".",".",3,".",68,2,1,2,".",3,2,26,".",1,3,1,".",2,23,".",14,".",".",1,".",".",24,".",1,1,".",".",1,43,".",".",".",1,".",12,2,".",".",1,".",".",16,".",1,17,".",1,".",1,9,".",".",".",2,".",".",".",26,".",".",".",".",3,".",".",".",".",".",10,".",8,1,".",".",2,".",".",".",".",".",20,".",".",".",".",2,".",".",".",".",5,".",5,".",".",".",2,".",".",".",".",7,".",".",".",".",1,".",".",".",7,".",2,".",".",".",".",".",3,".",".",".",".",".",".",".",4,".",".",".",".",".",".",".",".",3,".",".",".",".",11,".",".",".",".",".",".",3,".",".",1,".",".",4,".",1,".",".",".",".",".",".",1,".",".",".",".",".",".",1,1,".",".",".",".",".",".",".",1,".",".",".",".",".",".",1,".",".",".",".",".",".",".",".",".",".",".",".",".",".",".",".",".",".",".",".",".",".",".",".",".",".",".",1,".",".",2,".",".",".",".",".",".",".",".",".",".",".",".",".",".",".",".",".",".",".",".",".",".",".",".",".",".",".",".",".",".",".",".",".",".",".",".",".",".",".",".",".",".","."]
[null,null,null,null,null,null,null,null,null,null,null,null,null,null,null,null,null,null,null,null,null,2,".",".",".",".",2,".",3,1,".",".",2,".",1,".",1,13,".",".",1,1,".",1,7,".",".",".",".",".",".",1,8,".",".",5,".",".",14,".",".",".",".",".",3,2,".",".",3,".",".",".",14,1,".",".",".",".",".",3,".",".",".",4,".",".",".",".",1,1,".",25,".",".",".",".",".",4,".",".",".",".",1,3,3,8,".",25,".",6,1,".",1,".",".",1,8,3,7,".",".",52,1,".",".",".",4,".",".",5,1,6,24,".",".",56,".",".",".",8,1,11,1,".",13,".",".",1,".",".",113,2,".",8,2,".",2,".",".",59,1,".",".",15,9,1,".",3,".",".",11,".",".",78,".",".",".",".",1,".",6,20,".",".",1,".",".",1,1,".",1,".",34,".",1,4,".",2,2,12,".",".",3,".",".",2,6,".",15,".",".",1,".",".",6,1,1,".",".",".",".",21,".",".",".",".",".",4,1,".",".",1,".",".",".",".",".",6,".",".",".",".",".",".",".",".",".",".",".",".",12,".",".",".",".",".",".",".",".",".",".",1,".",4,".",".",".",3,".",".",".",".",".",4,".",".",".",".",".",".",".",".",".",".",".",2,".",".",".",".",".",".",".",".",1,".",".",".",".",1,".",".",".",".",".",1,".",".",".",".",".",".",".",".",".",".",".",".",".",".",".",".",".",".",".",".",".",".",".",".",".",".",".",".",".",".",".",".",".",".",1,1,".",".",".",".",".",".",".",".",".",".",".",".",".",".",".",".",".",".",".",".",".",".",".",".",".",".",".",".",".",".",".",".",".",".",".",".",".",".",".",".",".",".",".",".",".",".",".",".",".",".",".",".",".",".",".",".",".",".",".",".",".",".",".",".",".",".",".",".",".",".",".",".",".",".",".",".",".",".",".",".",".",".",".",".",".",".",".",".",".",".",".",".",".",".",".",".",".",".",".",".",".",".",".",".",".",".",".",".",".",".","."]
[null,null,null,null,null,null,null,null,null,null,null,null,null,null,null,null,null,null,null,null,null,12,".",".",".",".",".",".",5,".",".",".",".",3,2,".",".",6,".",".",6,".",".",".",5,".",".",1,5,1,".",".",4,".",".",36,".",".",".",".",".",6,1,".",1,".",1,".",16,".",".",".",18,".",".",".",14,".",".",6,".",".",".",27,".",".",6,".",".",2,".",84,".",".",1,".",".",28,".",".",".",".",9,".",".",11,".",34,".",24,".",".",9,".",".",".",16,".",20,".",".",74,".",".",".",".",8,".",".",".",".",5,14,".",".",55,".",".",".",8,".",8,".",".",8,".",".",5,".",".",131,1,".",10,5,".",7,".",".",52,".",".",".",14,7,".",".",13,".",".",36,".",".",90,".",".",".",3,2,".",8,39,".",".",11,".",2,10,".",".",6,".",86,".",".",10,".",3,5,34,".",".",8,2,".",13,21,".",86,".",".",4,1,11,15,".",7,2,".",5,2,55,".",6,".",4,".",18,6,".",2,5,".",".",12,".",".",31,".",".",1,10,12,4,".",".",".",3,".",".",45,1,2,".",".",9,4,".",".",".",".",9,".",15,2,".",".",15,1,".",5,".",".",16,7,1,".",2,3,".",2,2,".",2,".",19,".",".",1,1,1,".",1,1,9,2,".",".",".",3,".",".",1,3,".",8,".",".",".",".",".",1,".",".",".",".",".",".",".",7,1,1,".",".",6,".",".",".",1,1,".",".",2,10,".",".",".",".",".",".",2,1,".",".",".",".",".",6,".",".",1,".",".",".",".",".",".",".",".",".",".",".",".",".",".",".",".",3,".",".",".",".",".",".",".",".",".",".",3,".",".",".",".",".",".",".",".",".",".",".",".",".",".",1,".",".",".",".",".",".",".",".",".",".",".",".",".",".",".",".",".",".",".",".",".",".",".",".",".",".",".",".",".",".",".",".",".",".",".",".",".",".",".",".",".",".",".",".",".",".",".",".",".",".",".",".",".",".",".",".",".",".","."]
[null,null,null,null,null,null,null,null,null,null,null,null,null,null,null,null,null,null,null,null,null,2,".",".",".",".",".",".",".",".",".",".",".",".",".",".",1,1,".",".",".",".",".",".",1,".",".",".",".",".",".",".",".",".",".",3,".",".",1,".",".",".",".",".",".",2,".",1,3,".",".",".",6,".",".",".",".",".",".",".",".",".",".",".",".",".",1,".",".",".",".",2,".",".",".",".",".",".",".",".",".",".",".",".",".",".",".",7,".",".",".",".",".",".",".",".",2,".",7,".",".",9,".",".",".",".",1,".",".",".",".",".",2,".",".",29,".",".",".",1,".",2,".",".",1,".",".",1,2,".",25,1,".",".",".",".",1,".",".",13,".",".",".",1,1,".",".",".",".",".",14,1,".",15,".",".",".",".",3,".",".",25,".",".",".",".",".",".",".",".",2,".",30,".",".",".",".",1,".",9,".",".",".",".",".",2,17,".",5,".",".",1,1,1,12,".",".",".",".",1,".",19,".",2,".",".",".",3,".",".",3,".",".",".",11,".",".",11,".",".",".",".",6,".",".",".",".",1,".",".",10,".",".",".",2,2,".",".",".",".",".",14,".",11,".",".",1,4,".",".",".",".",".",6,".",".",".",".",4,".",".",".",1,7,".",9,".",".",".",1,".",".",".",".",10,".",".",".",".",1,".",".",".",6,".",1,".",".",".",".",".",2,".",".",".",".",".",1,".",7,".",".",".",".",".",3,".",".",".",".",".",".",1,7,".",".",".",".",".",".",3,".",".",".",".",".",".",2,".",".",".",".",".",".",".",1,".",".",1,".",".",".",".",2,".",".",".",".",".",".",".",".",".",".",".",".",2,".",7,".",".",".",".",".",1,".",".",".",".",".",".",".",3,".",".",".",1,".",".",".",".",".",".",1,".",".",".",".",1,1,".",".",".",".",".",".",".",".",".",3,".",".",".",".",".",".",".",".",".",1,1,".",".",".",".",".",".",".",".",".",".",".",".",".",".",".",".",".",".",".",".",".","."]
[null,null,null,null,null,null,null,null,null,null,null,null,null,null,null,null,null,null,null,null,null,5,".",".",".",".",".",".",".",2,".",".",2,".",1,".",14,25,".",".",".",3,1,1,6,".",".",".",1,".",1,2,2,1,1,17,".",1,14,".",".",2,".",".",1,26,".",1,5,".",".",1,26,2,".",".",4,".",1,5,".",".",2,4,".",".",5,1,".",2,".",57,".",".",2,".",".",38,1,1,".",".",7,3,".",9,".",27,".",15,".",1,8,".",".",".",6,".",43,".",3,79,".",".",3,".",5,4,".",".",".",".",24,".",".",80,".",".",".",14,".",4,".",".",15,".",".",7,1,3,139,1,".",16,10,2,13,".",".",78,".",1,".",17,18,".",1,5,".",1,87,".",".",74,1,1,".",3,1,".",4,96,".",".",4,2,5,10,".",".",2,".",112,".",".",5,1,4,6,49,".",".",10,4,1,3,40,".",28,".",".",".",".",4,28,".",".",".",".",2,".",44,".",3,".",3,".",25,2,".",1,".",".",1,26,".",1,19,".",1,1,2,13,3,1,".",".",1,1,".",44,1,3,1,".",4,4,".",3,".",".",13,".",12,".",".",1,13,1,".",".",2,".",17,".",".",".",1,15,".",".",".",1,14,".",16,1,1,".",4,".",".",".",".",18,".",".",".",".",5,".",".",".",7,".",7,".",1,".",".",".",2,".",".",".",".",".",".",".",10,".",".",".",".",".",2,".",".",".",".",".",".",".",10,".",".",".",1,".",".",4,".",".",".",".",".",".",5,".",".",".",".",".",".",".",1,".",".",".",1,".",".",".",".",".",".",".",".",".",".",".",".",".",".",".",".",".",".",5,".",".",".",".",".",1,".",".",".",".",".",".",".",2,".",".",".",".",".",".",".",".",".",".",".",".",".",".",".",".",1,".",".",".",1,".",".",".",1,".",1,".",".",1,".",".",".",".",1,".",".",".",".",1,".",".",".",".",".",1,".",".",".",".",".",".",".",".",".",".",".",".",".","."]
[null,null,null,null,null,null,null,null,null,null,null,null,null,null,null,null,null,null,null,null,null,1,1,".",".",".",".",".",4,".",".",".",3,".",2,".",6,13,".",".",".",".",".",".",3,".",".",".",5,".",".",4,4,".",".",18,".",".",1,".",".",1,".",1,4,4,".",".",3,".",".",1,23,".",".",".",4,".",2,6,".",".",".",3,".",".",3,".",".",".",".",56,".",".",2,".",".",32,".",".",".",".",6,".",".",5,".",69,".",6,".",".",3,".",".",".",4,".",49,".",1,52,1,".",".",".",8,1,".",".",".",5,12,".",".",92,1,1,".",5,".",2,".",".",4,".",1,5,5,".",149,1,".",9,2,".",1,".",".",69,".",".",".",3,6,".",".",5,".",".",61,".",".",47,".",".",".",1,".",".",2,55,".",".",1,".",3,3,".",".",3,".",101,".",".",1,".",4,2,39,1,".",3,2,".",1,54,".",38,".",".",1,3,1,18,".",1,1,".",".",6,38,".",".",".",".",".",11,".",".",".",".",".",".",24,".",".",8,".",".",1,".",10,".",".",".",".",".",".",".",21,".",".",".",".",2,".",".",".",".",".",13,".",7,".",1,".",6,".",".",1,".",".",20,".",1,".",".",5,".",".",".",".",5,".",7,".",".",".",".",2,".",".",".",12,1,".",".",".",".",".",".",".",6,".",7,".",".",".",".",".",".",".",".",".",".",".",1,".",6,".",".",".",".",".",1,".",".",".",".",".",".",".",14,".",".",".",".",1,".",4,".",".",".",".",".",1,2,".",".",".",".",".",".",".",2,".",".",".",".",".",".",".",2,".",".",".",".",".",".",".",".",".",".",".",".",".",".",3,".",".",".",".",".",".",".",".",".",".",".",".",".",".",".",".",".",".",1,".",".",".",2,".",4,".",".",".",".",".",".",".",".",".",".",".",".",".",".",".",1,".",".",1,".",".",".",".",".",".",1,".",".",".",".",".",".",".",".",".",".",".",".",".",".",".",".",".",".",".",".",".",".","."]
[null,null,null,null,null,null,null,null,null,null,null,null,null,null,null,null,null,null,null,null,null,11,".",".",".",".",3,".",3,".",2,1,3,".",4,".",6,16,".",".",4,".",".",1,1,".",".",".",1,".",".",2,6,".",".",28,".",1,".",1,1,4,".",".",4,4,".",1,5,".",1,".",26,".",".",".",9,".",1,3,".",".",2,7,".",".",4,".",1,".",".",53,1,1,".",".",".",10,".",".",".",".",4,1,2,5,1,69,".",5,1,1,14,".",".",".",5,".",74,".",1,54,1,".",4,".",4,".",".",".",".",9,12,".",1,104,".",".",".",5,".",9,".",".",6,".",".",2,2,".",173,1,1,9,7,3,10,".",".",136,".",".",".",4,16,1,".",9,".",".",185,".",".",91,1,".",".",6,9,".",12,202,1,1,7,2,6,6,".",".",13,1,269,".",".",8,".",5,4,144,2,".",3,7,".",3,160,".",102,".",".",2,6,15,118,1,5,1,".",4,7,210,".",2,2,1,1,67,2,1,2,3,".",".",103,1,".",57,".",2,3,2,56,3,".",".",1,4,".",1,126,".",3,1,2,28,2,".",1,1,".",82,".",44,1,".",".",30,1,1,3,".",".",98,3,".",1,3,19,".",1,".",2,56,".",45,".",".",".",20,".",1,".",".",49,".",".",".",".",16,3,".",1,40,".",22,1,".",1,".",".",14,".",".",2,1,".",3,".",23,".",4,".",".",".",12,1,2,1,".",2,".",4,44,".",1,".",".",".",".",14,1,".",5,".",".",7,10,".",".",".",".",".",".",".",7,".",".",".",".",1,".",4,12,".",".",".",1,".",".",".",4,".",".",".",".",1,".",25,".",".",".",1,".",3,3,".",".",1,6,".",".",5,".",".",".",3,1,".",".",".",3,".",1,".",".",5,".",5,7,".",".",".",2,1,".",1,2,".",3,".",4,5,".",".",1,1,".",".",1,2,".",".",1,1,".",".",".",".",2,".",1,".",5,".",".",".",1,1,".",".",1,"."]
[null,null,null,null,null,null,null,null,null,null,null,null,null,null,null,null,null,null,null,null,null,16,".",".",".",4,".",".",3,".",".",".",".",9,8,".",".",2,4,1,6,1,".",".",1,2,1,".",9,4,".",".",1,3,".",30,".",2,".",".",".",2,".",6,2,".",1,".",3,".",".",".",10,3,".",".",5,".",".",16,".",".",".",2,".",".",".",".",".",1,".",28,".",".",1,".",".",3,".",".",".",".",2,".",".",".",".",12,4,12,".",".",1,".",".",".",3,1,10,".",".",47,".",".",".",1,2,".",1,1,".",1,5,6,".",30,".",".",".",10,5,2,".",".",4,".",".",2,".",".",113,".",".",10,8,".",8,".",".",59,".",".",".",19,8,".",".",3,".",".",61,".",".",109,".",".",".",7,1,".",10,65,".",".",15,".",4,10,".",1,3,".",118,1,".",16,".",1,8,51,".",".",12,9,".",2,33,".",78,".",".",7,1,7,35,".",5,2,".",3,".",77,".",6,".",4,".",27,9,".",1,3,".",".",35,".",".",18,".",".",".",1,22,".",2,1,".",".",".",".",50,".",".",1,".",11,3,".",".",1,".",15,".",19,".",".",1,13,1,".",1,".",".",11,".",".",".",1,13,1,".",".",".",5,".",9,".",".",2,8,".",".",".",".",8,".",".",".",".",3,".",".",".",3,".",2,".",".",".",".",".",1,".",".",".",".",".",".",".",6,".",".",".",".",".",1,".",".",".",".",".",".",".",5,".",".",".",".",".",".",".",".",".",".",".",".",".",1,".",".",".",".",".",".",".",".",".",".",".",".",".",".",".",2,".",".",".",".",".",".",".",".",".",".",".",".",".",".",".",".",".",".",".",".",".",".",".",".",".",".",".",".",1,".",".",".",".",".",".",".",".",".",".",".",".",".",".",".",".",".",".",".",".",".",".",".",".",".",".",".",".",".",".",".",".",".",".",".",".",".",".",".",".",".",".",".",".",".",".",".",".",".",".",".",".",".",".",".",".",".",".",".","."]
[null,null,null,null,null,null,null,null,null,null,null,null,null,null,null,null,null,null,null,null,null,6,3,".",".",".",1,".",1,".",".",".",4,".",".",".",1,15,".",".",2,".",".",1,3,1,".",".",".",1,".",".",3,".",".",13,".",".",7,".",".",4,1,".",4,1,".",".",2,".",".",1,44,".",1,".",".",".",3,3,".",".",3,3,".",1,4,".",".",".",".",30,".",".",3,".",1,11,".",".",1,".",1,".",".",1,".",34,1,5,".",".",1,".",1,".",3,1,3,".",1,17,1,".",3,".",1,".",".",".",".",3,2,".",".",25,".",".",".",2,".",2,".",".",1,".",".",".",1,".",20,".",".",3,8,3,3,1,".",23,".",".",".",".",7,".",".",4,1,".",38,".",".",33,".",".",".",7,5,".",20,86,".",".",11,".",10,4,".",".",7,".",131,1,1,14,".",8,10,104,1,".",9,8,".",8,94,1,102,2,1,7,11,15,124,".",32,1,".",11,18,201,9,6,4,5,".",112,33,".",8,4,".",".",96,".",".",85,12,7,11,9,92,5,11,".",8,13,".",".",172,1,19,1,5,63,9,".",17,3,".",91,".",73,16,1,4,65,4,3,10,5,2,117,1,2,6,5,51,".",8,".",26,53,1,70,2,11,4,31,2,1,3,14,76,2,2,1,5,30,5,3,4,52,2,36,6,2,".",1,3,36,1,1,3,4,1,13,1,71,".",9,1,".",".",38,12,".",4,1,2,1,10,88,1,".",4,2,1,4,49,13,".",2,1,1,7,48,".",2,1,".",1,1,3,31,6,".",3,".",".",".",6,34,2,2,2,3,1,".",1,19,1,5,".",2,6,1,44,1,8,1,2,1,12,".",".",7,".",9,1,1,32,4,1,1,9,".",2,7,1,4,".",15,1,2,17,5,3,14,1,1,1,6,2,6,1,5,2,4,".",7,19,1,1,8,".",".",1,8,13,1,3,".",".",2,1,".",1,12,2,3,1,".",1,1,1,".",".",1,1,".",1]
[null,null,null,null,null,null,null,null,null,null,null,null,null,null,null,null,null,null,null,null,null,6,1,".",".",1,".",".",1,5,".",".",1,".",1,".",".",10,".",".",".",".",".",".",".",".",".",".",".",".",".",".",11,".",".",15,".",1,".",".",".",1,".",".",2,1,".",".",4,".",".",".",12,2,".",".",6,".",".",".",".",".",".",1,".",".",".",".",".",1,".",45,".",".",".",".",".",5,".",".",".",".",1,".",".",3,".",42,".",4,".",".",1,1,".",".",5,".",33,".",".",44,1,".",".",".",1,".",".",".",".",2,7,".",".",67,".",".",".",4,".",3,".",".",5,".",".",2,".",".",111,".",".",7,2,".",3,".",".",57,".",".",1,".",4,".",".",".",".",".",42,".",".",34,".",".",".",2,1,".",1,47,".",".",1,".",1,1,".",".",1,".",68,".",".",2,".",2,".",19,1,".",1,6,".",1,18,".",14,".",".",".",".",".",9,".",1,".",1,".",".",27,".",".",".",".",".",6,".",".",".",".",".",".",17,".",".",5,".",".",".",".",1,2,".",".",".",".",".",".",17,".",".",".",".",1,".",".",".",".",1,9,".",5,".",".",".",".",".",1,".",1,".",14,".",".",".",".",3,".",".",".",".",3,".",2,".",".",".",".",".",".",".",".",6,".",".",".",".",1,".",".",".",4,".",".",".",".",".",".",".",".",".",".",".",".",".",1,".",3,".",".",".",".",".",3,".",".",".",".",".",".",".",3,".",".",".",".",".",".",1,".",".",".",".",".",".",1,".",".",".",".",".",".",".",".",".",".",".",".",".",".",".",1,".",".",".",".",".",".",".",".",".",".",".",".",".",".",".",".",".",".",".",".",".",".",".",".",".",".",".",".",".",".",".",".",".",".",".",".",".",".",1,".",".",".",".",".",".",3,".",".",".",".",".",".",".",".",".",".",".",".",1,".",".",".",".",".",".",".",".",".",".",".",".",".",".",".",".",".",".",".",".",".",".",".",".",".",".",".",".",".","."]
[null,null,null,null,null,null,null,null,null,null,null,null,null,null,null,null,null,null,null,null,null,4,".",".",".",2,".",".",1,".",".",".",".",1,1,".",".",4,".",".",3,".",".",".",".",".",".",".",".",3,".",".",1,3,".",10,".",".",".",".",".",2,".",".",".",".",".",".",1,".",".",".",10,".",".",".",5,".",".",2,".",".",".",2,".",".",".",".",".",".",".",23,".",".",".",".",".",3,".",".",".",".",".",".",".",3,".",21,".",13,".",".",4,".",".",".",6,".",16,".",".",43,".",".",".",".",".",".",".",".",".",".",17,1,".",25,".",".",".",6,".",10,".",".",4,".",".",".",".",".",52,".",".",4,".",".",1,".",1,43,".",".",".",17,1,".",".",2,".",".",31,".",".",51,".",".",".",".",".",".",8,36,".",".",4,".",1,2,".",".",1,".",82,".",".",".",".",1,".",29,".",1,1,2,".",1,26,".",33,".",".",".",".",2,22,".",".",1,".",".",".",37,1,".",".",".",".",11,".",".",".",".",".",".",11,".",".",13,".",".",".",".",6,".",".",".",".",".",".",".",11,".",".",".",".",3,".",".",".",".",".",9,".",7,".",".",".",3,".",".",".",1,".",6,".",".",".",".",5,".",1,".",1,7,".",3,".",".",".",".",".",".",".",".",7,".",".",".",".",".",".",".",".",7,".",4,".",".",".",".",".",3,".",".",".",".",".",1,".",5,".",".",".",".",".",1,".",".",".",".",".",".",".",4,".",".",".",".",".",".",1,".",".",".",".",".",2,2,".",".",".",".",".",".",".",".",".",".",".",".",".",".",".",".",".",".",".",".",".",".",".",".",".",".",".",".",".",".",1,".",".",".",".",".",".",".",".",".",".",".",".",".",1,".",".",".",".",".",".",".",".",".",".",".",".",".",".",".",".",".",".",".",".",".",".",".",".",".",".",".",".",".",1,".",".",".",".",".",".",".",".",".",".",".",".",".",".",".",".",".",".",".",".",".",".",".",".",".",".",".",".",".","."]
[null,null,null,null,null,null,null,null,null,null,null,null,null,null,null,null,null,null,null,null,null,9,3,".",".",".",".",".",".",1,".",".",2,".",".",".",4,26,1,".",1,".",1,1,".",".",".",".",3,".",".",3,13,".",2,33,".",2,4,".",".",2,".",".",4,1,".",".",8,".",".",".",27,1,".",".",3,".",".",".",1,".",".",3,".",".",2,1,".",".",1,86,3,".",".",".",".",13,".",".",".",".",2,".",".",2,".",53,3,6,".",".",7,".",1,".",2,".",35,1,5,50,".",".",".",".",1,".",".",".",".",3,5,".",".",61,".",".",1,2,".",3,".",".",4,1,".",5,".",".",103,1,".",6,5,".",1,".",".",56,".",".",".",3,5,".",".",2,".",".",28,1,4,31,".",".",".",".",".",".",1,32,".",".",1,".",1,".",".",".",7,".",61,".",".",1,".",2,".",19,".",".",1,1,".",1,22,".",18,".",".",1,".",1,17,".",1,".",".",".",1,33,".",".",".",1,".",12,2,".",".",".",1,".",20,".",2,15,".",".",".",".",8,".",".",".",".",1,".",2,18,".",1,".",".",5,".",".",2,".",".",9,1,8,".",".",".",3,".",".",".",".",".",25,".",1,".",".",2,".",".",".",".",8,".",5,".",".",".",1,".",".",".",1,6,".",".",".",".",4,".",".",".",11,".",3,".",".",".",".",".",2,".",".",".",".",".",".",".",8,".",".",".",".",".",1,".",".",".",".",".",".",1,8,".",".",".",".",".",".",2,".",".",".",".",".",2,2,".",".",".",".",".",".",".",1,".",".",1,".",".",".",".",6,".",".",".",".",".",".",".",1,".",".",".",".",1,".",3,".",".",".",".",".",".",".",".",1,".",".",".",".",2,".",".",".",1,".",".",".",".",".",".",".",".",".",1,".",".",".",".",".",".",".",".",".",".",".",".",1,".",".",2,".",".",".",".",".",".",".",".",".",".",".",".",".",".",".",".",1,".",".",".",1,".",".",".",1,".",".",".",".","."]
[null,null,null,null,null,null,null,null,null,null,null,null,null,null,null,null,null,null,null,null,null,13,3,".",".",1,".",1,4,1,".",".",".",".",2,".",".",6,".",".",4,".",".",1,1,".",".",".",4,3,".",".",11,".",".",21,".",".",".",".",".",2,1,".",3,2,".",".",4,".",".",".",23,".",".",".",10,".",".",1,".",".",".",6,".",".",1,".",".",".",".",48,".",".",1,1,".",13,".",".",".",".",3,".",".",4,".",21,".",2,".",".",2,".",".",".",4,".",26,".",".",46,".",1,".",".",3,".",".",".",".",1,8,".",".",46,".",".",".",7,".",5,".",".",8,".",".",1,".",".",58,".",".",10,4,".",3,".",".",27,".",".",".",4,4,".",".",7,".",".",28,".",".",27,".",".",".",".",1,".",1,20,".",".",1,".",3,".",".",".",".",".",43,".",".",2,".",1,1,21,".",".",4,1,".",1,8,".",11,".",".",".",1,2,8,".",".",".",".",".",".",20,1,2,1,".",".",5,".",".",".",".",".",".",8,".",".",9,".",".",".",1,3,".",1,".",".",".",".",".",13,".",1,".",1,".",2,".",".",1,".",3,".",9,".",".",".",3,2,".",".",".",".",9,".",1,".",".",".",".",".",1,1,2,".",1,".",".",".",1,".",".",".",".",1,".",".",".",".",1,".",".",".",".",".",4,".",".",".",".",".",1,".",".",".",".",".",".",".",1,".",".",".",".",".",".",".",".",".",".",".",".",".",1,".",".",2,".",".",".",".",".",".",".",".",".",".",2,".",".",".",".",".",".",".",2,".",".",".",".",".",".",".",".",".",".",".",".",".",".",".",".",".",".",1,".",".",".",1,".",".",".",".",".",".",".",".",".",".",".",".",".",".",".",".",".",".",".",".",".",".",".",".",".",".",".",1,".",".",".",".",".",".",".",".",".",".",".",".",".",".",".",1,".",".",".",".",".",".",".",".",".",".",".",".",".",".",".",".",".",".",".",".",".",".",".",".",".",".",".",".",".","."]
[null,null,null,null,null,null,null,null,null,null,null,null,null,null,null,null,null,null,null,null,null,4,".",1,".",".",".",".",".",1,".",".",1,".",1,".",".",14,".",".",1,".",".",".",1,".",".",".",1,".",".",1,2,1,1,15,".",".",1,".",".",".",".",".",1,2,".",".",3,1,".",".",13,1,".",".",2,".",".",1,".",".",".",4,1,".",2,".",".",1,".",42,".",".",".",".",".",12,".",".",".",".",1,".",".",5,".",43,".",8,".",".",2,".",".",".",6,".",49,".",1,48,".",".",".",".",2,".",".",".",".",1,9,".",".",44,".",".",".",4,".",2,".",".",2,".",".",2,".",".",116,".",".",1,1,".",6,".",".",37,".",".",".",3,2,".",".",1,".",".",34,".",1,29,".",".",".",1,1,".",5,50,".",".",".",".",1,2,".",".",1,".",80,".",".",3,".",".",1,30,".",".",".",".",".",3,33,".",26,".",".",1,".",4,16,".",".",".",".",".",1,28,".",".",".",".",".",8,1,".",".",".",".",".",10,".",".",2,".",".",".",".",6,".",".",".",".",".",".",".",13,".",".",".",".",3,".",".",1,".",".",14,".",9,".",".",".",3,".",".",".",".",".",6,".",".",".",".",2,".",".",".",".",7,".",3,".",".",".",1,".",".",".",".",4,".",".",".",".",".",".",".",1,7,".",".",".",".",".",".",".",3,".",".",".",".",".",".",".",4,".",".",".",".",".",2,".",".",".",".",".",".",1,6,".",".",".",".",".",".",2,".",".",".",".",".",".",4,".",".",".",".",".",".",".",1,".",".",".",".",".",1,2,".",".",".",".",".",".",".",".",1,".",".",".",".",".",".",3,".",".",".",".",".",".",".",".",".",".",1,".",".",".",".",".",".",".",".",".",".",".",".",".",".",".",".",1,".",".",1,".",".",".",".",".",".",".",".",".",1,".",1,1,".",".",".",".",".",".",".",".",".",".",".",".",".",".",".",".",3,".",".",".",".",".",1,".",".",".",".",".",".","."]
[null,null,null,null,null,null,null,null,null,null,null,null,null,null,null,null,null,null,null,null,null,3,3,".",1,".",".",".",1,".",".",".",".",".",2,".",3,2,".",".",1,".",".",".",4,".",".",".",".",".",".",".",3,".",".",10,".",".",1,".",".",".",".",".",1,".",".",".",4,".",".",".",4,3,".",1,2,2,".",3,".",1,".",1,".",".",2,".",".",1,".",24,".",".",".",".",".",9,".",".",".",".",3,".",".",1,".",28,".",3,".",1,2,".",".",".",1,".",31,".",".",31,".",".",".",".",1,".",".",".",".",4,3,".",".",35,".",".",".",3,".",2,".",".",1,".",".",".",".",".",60,".",".",6,".",".",1,".",".",25,".",".",".",".",1,".",".",2,".",".",32,".",".",21,".",".",".",1,".",".",".",12,".",".",".",".",".",".",".",1,".",".",41,".",".",".",".",1,".",18,".",".",1,".",".",".",18,".",1,".",".",".",".",1,4,".",".",".",".",".",".",9,".",".",".",".",".",".",".",".",".",".",".",".",4,".",".",3,".",".",".",".",".",".",".",".",".",2,".",".",3,".",".",".",".",".",".",1,".",".",".",8,".",2,".",".",".",".",".",".",".",".",".",3,".",1,".",".",1,".",".",".",".",1,".",".",".",".",".",".",".",".",".",1,".",".",".",".",".",".",".",".",".",2,".",".",".",".",".",".",".",".",".",".",".",".",".",".",".",1,".",".",".",".",".",".",".",".",".",".",".",".",".",2,".",".",".",".",".",".",".",".",".",".",".",".",".",".",".",".",".",".",".",".",".",1,".",".",".",".",".",".",".",".",".",".",".",".",".",".",".",".",".",".",".",".",".",".",".",".",".",".",".",".",".",".",".",".",".",".",".",".",".",".",".",".",".",".",".",".",".",".",".",".",".",".",".",".",".",".",".",".",".",".",".",".",".",".",".",".",".",".",".",".",".",".",".",".",".",".",".",".",".",".",".",".",".",".",".",".",".",".",".",".",".",".",".",".",".",".",".",".","."]
[null,null,null,null,null,null,null,null,null,null,null,null,null,null,null,null,null,null,null,null,null,1,1,".",".",".",1,".",1,".",".",".",".",".",1,".",4,5,".",".",1,".",".",".",".",".",".",".",".",2,".",1,".",".",".",3,".",".",2,".",".",".",".",".",".",2,".",".",".",".",".",".",9,".",".",".",".",".",".",".",".",".",".",".",".",".",1,".",".",1,".",4,".",".",1,".",".",8,".",".",".",".",".",".",".",".",".",9,".",".",1,".",2,1,".",".",".",".",9,".",".",7,".",".",".",".",1,".",".",".",".",1,".",".",".",21,".",".",".",1,".",2,".",".",1,".",".",1,".",".",44,2,".",".",1,".",4,".",".",21,".",".",".",3,3,".",".",".",".",".",26,".",".",28,".",".",".",8,2,".",4,41,".",".",2,".",3,2,".",".",5,".",93,".",".",3,".",5,3,50,".",".",5,3,".",1,28,3,41,".",".",1,1,2,27,".",".",3,".",".",2,46,".",1,1,3,".",16,1,".",1,".",".",".",18,".",".",5,".",3,".",".",7,".",".",".",".",1,".",".",16,".",1,".",".",4,".",".",4,".",".",9,".",5,".",".",".",5,".",".",".",".",".",7,".",".",".",".",2,".",".",".",".",3,".",4,".",".",".",4,".",".",".",3,8,".",".",".",".",6,".",1,".",3,".",8,".",".",".",".",".",1,".",".",".",".",".",".",".",6,".",".",".",".",".",".",".",".",".",".",".",".",1,4,".",".",".",".",".",".",2,".",".",".",".",".",".",3,".",".",".",".",".",".",".",1,".",1,".",".",".",".",".",1,".",".",".",".",".",".",".",1,".",1,".",".",".",".",".",".",".",".",".",".",".",".",".",".",".",".",".",".",1,".",".",".",".",".",".",".",".",".",".",".",".",".",".",".",".",".",".",".",".",".",".",".",".",".",".",1,".",".",".",".",".",".",".",".",".",".",".",".",".",".",".",".",".",".",".",1,".",".",".",".",".",".",".",".",".",".",".",".","."]
[]
[null,null,null,null,null,null,null,null,null,null,null,null,null,null,null,null,null,null,null,null,null,"P_35","P_36","P_37","P_38","P_39","P_40","P_41","P_42","P_43","P_44","P_45","P_46","P_47","P_48","P_49","P_50","P_51","P_52","P_53","P_54","P_55","P_56","P_57","P_58","P_59","P_60","P_61","P_62","P_63","P_64","P_65","P_66","P_67","P_68","P_69","P_70","P_71","P_72","P_73","P_74","P_75","P_76","P_77","P_78","P_79","P_80","P_81","P_82","P_83","P_84","P_85","P_86","P_87","P_88","P_89","P_90","P_91","P_92","P_93","P_94","P_95","P_96","P_97","P_98","P_99"]
[null,null,null,null,null,null,null,null,null,null,null,null,null,null,null,null,null,null,null,null,null,400,400,400,400,400,400,400,400,400,400,400,400,400,400,400,407.5,420,425,425,425,425,435,437.5,440,450,450,450,450,450,450,450,450,450,450,480,480,480,485,485,500,500,500,500,500,500,508.33,540,550,550,550,550,550,550,550,550,550,550,550,551.79,575,600,600,600,600,600]
[null,null,null,null,null,null,null,null,null,null,null,null,null,null,null,null,null,null,null,null,null,650,650,650,650,650,650,650,650,650,650,650,650,650,670,675,675,675,675,675,675,675,675,675,675,695,695,695,695,695,700,700,700,700,700,700,700,700,700,700,700,700,700,720,725,725,725,725,725,730,750,750,750,750,750,750,750,750,750,750,750,775,800,800,825,870]
[null,null,null,null,null,null,null,null,null,null,null,null,null,null,null,null,null,null,null,null,null,825,825,825,825,850,850,850,850,850,850,850,850,850,850,850,875,875,875,875,875,895,895,895,900,900,900,900,900,900,900,900,900,925,925,950,950,950,950,950,950,950,975,975,975,995,995,995,1000,1000,1000,1000,1000,1000,1050,1100,1100,1100,1100,1100,1200,1200,1200,1200,1250,1300]
[null,null,null,null,null,null,null,null,null,null,null,null,null,null,null,null,null,null,null,null,null,975,975,995,995,995,1000,1000,1000,1000,1000,1000,1000,1050,1080,1100,1100,1100,1100,1100,1100,1100,1100,1100,1100,1134,1150,1150,1175,1200,1200,1200,1200,1200,1200,1200,1200,1200,1200,1200,1200,1250,1250,1250,1250,1275,1300,1300,1300,1300,1350,1350,1350,1350,1400,1400,1400,1400,1450,1500,1500,1500,1600,1600,1700,1750]
[null,null,null,null,null,null,null,null,null,null,null,null,null,null,null,null,null,null,null,null,null,1300,1350,1350,1350,1350,1350,1400,1400,1400,1400,1400,1400,1400,1400,1450,1450,1500,1500,1500,1500,1500,1500,1500,1500,1500,1500,1500,1550,1600,1600,1600,1600,1600,1600,1600,1600,1650,1650,1700,1700,1700,1750,1750,1800,1800,1800,1800,1800,1800,1850,1900,1900,1900,1995,2000,2000,2000,2000,2000,2100,2200,2250,2300,2300,2400]
[null,null,null,null,null,null,null,null,null,null,null,null,null,null,null,null,null,null,null,null,null,1350,1350,1350,1350,1350,1350,1350,1500,1500,1500,1500,1500,1500,1500,1500,1500,1500,1500,1500,1500,1500,1500,1500,1500,1550,1550,1550,1550,1550,1550,1550,1550,1700,1700,1700,1700,1700,1700,1700,1700,1825,1950,1950,1950,1950,1950,1950,1950,1950,2200,2200,2200,2200,2200,2200,2200,2200,2350,2350,2350,2350,2350,2350,2350,2350]
[null,null,null,null,null,null,null,null,null,null,null,null,null,null,null,null,null,null,null,null,null,550,550,550,550,550,550,550,550,550,550,550,550,550,550,575,575,575,575,575,575,575,575,575,575,575,575,575,590,590,590,595,595,595,600,600,600,600,600,600,600,600,600,600,600,600,600,625,625,625,625,625,625,625,625,625,625,625,625,625,650,650,650,670,670,670]
[null,null,null,null,null,null,null,null,null,null,null,null,null,null,null,null,null,null,null,null,null,300,300,300,300,304.17,304.17,305,305,305,305,305,316.07,316.07,316.07,316.07,325,325,325,325,325,325,325,325,325,325,325,325,325.89,337.62,337.62,337.8,337.8,337.8,345,345,345,345,345,347.62,347.62,347.62,347.62,359.52,359.52,359.52,359.52,359.52,359.52,369.35,375,375,375,381.07,421.43,421.43,421.43,421.43,421.43,421.43,424.52,424.52,424.52,424.52,434.52,551.79]
[null,null,null,null,null,null,null,null,null,null,null,null,null,null,null,null,null,null,null,null,null,375,375,375,375,375,380,390,390,395,395,395,395,395,395,400,400,400,400,400,400,400,400,400,400,400,400,400,400,400,400,410,420,420,420,425,425,425,425,425,425,450,450,450,450,450,450,450,450,450,450,450,450,450,460,465,470,475,485,495,495,495,500,500,517.08000000000004,550]
[null,null,null,null,null,null,null,null,null,null,null,null,null,null,null,null,null,null,null,null,null,475,475,475,475,475,475,475,490,495,495,495,495,495,495,495,495,500,500,500,500,500,500,500,500,500,500,525,525,525,525,525,525,530,550,550,550,550,550,550,550,550,550,550,550,550,575,575,575,585,595,599,600,600,600,600,625,625,625,650,650,675,675,695,750,895]
[null,null,null,null,null,null,null,null,null,null,null,null,null,null,null,null,null,null,null,null,null,550,550,550,550,550,550,550,550,550,550,550,575,575,595,595,595,595,600,600,600,620,625,625,625,650,650,650,650,650,650,650,650,650,650,650,650,650,650,650,675,675,695,695,695,700,725,725,750,750,750,750,795,795,795,795,800,850,850,895,895,900,900,950,950,1295]
[null,null,null,null,null,null,null,null,null,null,null,null,null,null,null,null,null,null,null,null,null,850,850,850,875,875,875,875,875,875,875,885,895,895,900,900,900,900,900,900,900,900,900,900,900,900,912.5,925,925,950,950,950,950,950,950,950,972.5,995,995,995,995,995,995,995,995,995,1047.5,1100,1100,1100,1100,1175,1250,1250,1250,1250,1300,1350,1350,1400,1400,1450,1500,1500,1570,1570]
[null,null,null,null,null,null,null,null,null,null,null,null,null,null,null,null,null,null,null,null,null,995,995,995,995,995,995,995,995,995,1000,1000,1000,1000,1000,1000,1050,1100,1100,1100,1100,1100,1100,1100,1100,1100,1100,1100,1100,1150,1150,1150,1150,1150,1150,1250,1250,1250,1250,1250,1250,1250,1250,1250,1250,1250,1250,1250,1250,1250,1250,1250,1250,1250,1350,1350,1350,1350,1350,1350,3000,3000,3000,3000,3000,3000]
[null,null,null,null,null,null,null,null,null,null,null,null,null,null,null,null,null,null,null,null,null,300,300,300,300,300,300,300,300,300,300,300,300,300,300,300,300,300,300,300,300,300,300,300,300,300,300,300,300,300,300,300,300,330,330,330,330,330,330,330,330,330,330,330,330,330,330,330,330,330,330,330,330,330,330,330,330,330,330,330,330,330,330,330,330,330]
[null,null,null,null,null,null,null,null,null,null,null,null,null,null,null,null,null,null,null,null,null,275,280,280,282.44,283,285,290,294.33999999999997,294.33999999999997,294.33999999999997,294.33999999999997,294.33999999999997,294.35000000000002,294.35000000000002,295,300,300,300,300,300,300,300,304.16000000000003,304.16000000000003,305,305,305,315,316.07,316.07,316.07,316.07,316.07,325,325,325,325,325,325.89,325.89,333,333,337.79,350,350,359.52,359.52,359.52,359.52,359.52,359.52,359.52,359.52,359.52,359.52,359.52,359.52,365,367.52,375,402.97,402.97,434.52,468.15,468.15]
[null,null,null,null,null,null,null,null,null,null,null,null,null,null,null,null,null,null,null,null,null,350,350,350,350,350,350,350,350,350,350,350,350,350,350,350,350,360,360,360,365,375,375,375,375,375,375,375,375,375,375,375,375,375,375,380,380,380,380,385,390,395,395,395,395,395,395,395,400,400,400,400,400,400,412,425,425,425,425,430,440,450,450,450,475,550]
[null,null,null,null,null,null,null,null,null,null,null,null,null,null,null,null,null,null,null,null,null,425,425,425,425,425,425,430,435,450,450,450,450,450,450,450,450,450,450,450,450,450,450,450,450,450,450,460,470,475,475,475,475,475,475,475,480,490,495,495,500,500,500,500,500,500,525,525,525,525,525,540,550,550,550,550,550,565,575,575,595,595,625,650,670,695]
[null,null,null,null,null,null,null,null,null,null,null,null,null,null,null,null,null,null,null,null,null,500,500,500,500,500,500,500,520,525,525,525,525,525,525,525,525,530,550,550,550,550,550,550,550,555,575,575,575,580,595,595,595,600,600,600,617.5,625,625,625,625,642.5,650,650,650,650,650,650,675,680,695,695,700,700,700,725,745,750,750,750,750,795,800,850,895,1100]
[null,null,null,null,null,null,null,null,null,null,null,null,null,null,null,null,null,null,null,null,null,750,750,750,750,750,775,795,795,795,795,800,800,800,810,825,850,850,850,850,850,850,850,850,850,850,850,850,875,875,895,895,900,950,950,950,950,950,950,975,995,995,995,995,995,1000,1000,1050,1050,1100,1100,1175,1200,1200,1200,1200,1200,1250,1250,1275,1295,1295,1395,1450,1750,1800]
[null,null,null,null,null,null,null,null,null,null,null,null,null,null,null,null,null,null,null,null,null,850,895,895,895,895,895,895,900,900,900,900,900,900,900,925,925,925,950,950,950,995,995,995,995,1050,1050,1050,1175,1175,1175,1200,1200,1200,1200,1200,1200,1200,1200,1200,1200,1200,1200,1200,1200,1200,1200,1250,1250,1250,1295,1295,1295,1295,1303.57,1303.57,1303.57,1350,1350,1350,1400,1400,1400,1500,1500,1500]
[null,null,null,null,null,null,null,null,null,null,null,null,null,null,null,null,null,null,null,null,null,325,325,325,325,325,325,325,325,325,325,325,325,325,325,325,347.5,370,370,370,370,370,370,370,370,370,370,370,370,370,370,370,370,370,370,370,370,370,370,370,370,370,370,370,370,370,370,370,370,370,370,370,370,370,370,370,370,370,370,370,370,370,370,370,370,370]
[null,null,null,null,null,null,null,null,null,null,null,null,null,null,null,null,null,null,null,null,null,275,275,275,275,275,275,275,275,275,275,275,275,275,275,280.62,281.81,283,285,285,285,285,285,285,285,285,289.68,294.35000000000002,295,295,295,295,295,295,295,295,295,295,305,305,305,305,305,305,305,305,305,305,305,305,305,305,305,305,305,315,315,315,315,316.07,316.07,320.54000000000002,325,335,335,359.52]
[null,null,null,null,null,null,null,null,null,null,null,null,null,null,null,null,null,null,null,null,null,360,368.33,368.33,368.33,369.35,370,370,375,375,375,375,375,375,375,375,375,375,375,375,380,380,380,389,390,390,390,390,390,395,395,395,395,395,395,400,400,400,400,400,400,400,400,400,400,400,400,400,400,400,400,400,403,410,414,415,420,420,420,425,425,425,425,425,440,450]
[null,null,null,null,null,null,null,null,null,null,null,null,null,null,null,null,null,null,null,null,null,425,425,425,425,430,430,435,435,437,440,440,440,450,450,450,450,450,450,450,450,450,450,450,450,450,450,450,450,450,450,450,450,460,465,470,475,475,475,475,475,475,475,475,480,480,485,485,495,500,500,500,500,500,500,500,500,500,500,520,525,525,525,550,550,550]
[null,null,null,null,null,null,null,null,null,null,null,null,null,null,null,null,null,null,null,null,null,475,475,475,475,480,480,480,485,485,486,495,495,495,500,500,500,500,500,500,500,500,500,500,500,500,500,500,500,500,500,520,525,525,525,540,550,550,550,550,550,550,550,550,550,560,565,575,575,575,575,580,595,595,595,600,600,600,600,625,625,625,650,650,650,650]
[null,null,null,null,null,null,null,null,null,null,null,null,null,null,null,null,null,null,null,null,null,575,575,575,590,600,600,600,600,600,600,600,630,650,650,650,650,650,650,650,650,650,650,650,650,650,675,675,675,690,690,700,700,700,700,700,700,700,700,750,750,750,750,750,750,750,750,750,750,750,750,750,800,800,800,825,825,825,850,850,850,850,850,975,975,1250]
[null,null,null,null,null,null,null,null,null,null,null,null,null,null,null,null,null,null,null,null,null,675,675,675,675,680,680,680,680,750,750,750,750,750,750,750,750,750,750,795,795,795,795,795,800,800,800,800,800,800,800,800,800,825,825,825,825,825,850,850,850,850,850,900,900,900,900,900,900,900,900,900,950,950,950,950,950,1000,1000,1000,1000,1000,1260,1260,1260,1260]
[null,null,null,null,null,null,null,null,null,null,null,null,null,null,null,null,null,null,null,null,null,300,300,300,300,300,300,300,300,300,300,300,300,300,300,300,300,300,300,300,300,300,300,300,300,300,300,300,300,300,300,300,300,325,325,325,325,325,325,325,325,325,325,325,325,325,325,325,325,325,325,325,325,325,325,325,325,325,325,325,325,325,325,325,325,325]
[null,null,null,null,null,null,null,null,null,null,null,null,null,null,null,null,null,null,null,null,null,275,275,275,275,280,280,280,280,280,280,285,285,285,289,290,290,291.07,300,300,300,300,300,300,300,300,300,300,300,300,300,300,300,300,300,300,310,310,312,317,320,320,320,320,325,325,325,325,325,325,330,330,334.52,340,347.62,347.62,350,350,350,350,350,370,380,400,400,400]
[null,null,null,null,null,null,null,null,null,null,null,null,null,null,null,null,null,null,null,null,null,350,350,350,350,360,360,360,360,360,360,365,365,370,370,375,375,375,375,375,375,375,380,380,380,380,380,385,385,390,390,395,395,400,400,400,400,400,400,400,400,400,400,400,400,410,415,420,425,425,425,425,434.52,445,450,450,450,450,450,465,475,485,500,500,525,600]
[null,null,null,null,null,null,null,null,null,null,null,null,null,null,null,null,null,null,null,null,null,480,480,490,495,495,495,495,500,500,500,500,500,500,500,500,517.5,525,525,525,525,530,540,545,550,550,550,550,550,550,550,555,560,575,575,575,580,590,590,595,600,600,600,600,600,600,600,600,600,620,625,630,640,650,650,650,660,675,675,685,700,720,725,750,750,775]
[null,null,null,null,null,null,null,null,null,null,null,null,null,null,null,null,null,null,null,null,null,600,620,620,625,630,650,650,650,650,650,650,660,675,675,690,690,695,695,700,700,700,700,700,700,720,725,725,750,750,750,750,750,750,750,750,775,775,780,780,795,795,800,800,800,810,825,825,825,825,840,850,850,855,855,855,870,875,900,900,900,900,900,950,975,1100]
[null,null,null,null,null,null,null,null,null,null,null,null,null,null,null,null,null,null,null,null,null,850,875,880,880,895,897.5,900,900,900,900,900,900,920,925,940,950,950,950,950,960,960,975,990,995,995,1000,1000,1000,1000,1000,1000,1050,1100,1100,1100,1100,1120,1140,1140,1140,1140,1140,1140,1180,1195,1197.5,1200,1200,1200,1200,1200,1200,1200,1200,1200,1250,1250,1260,1300,1300,1300,1300,1300,1300,1320]
[null,null,null,null,null,null,null,null,null,null,null,null,null,null,null,null,null,null,null,null,null,800,950,950,950,950,950,950,950,1100,1100,1100,1100,1100,1100,1100,1112.5,1125,1125,1125,1125,1125,1125,1125,1425,1425,1425,1425,1425,1425,1425,1425,1425,1425,1425,1425,1425,1425,1425,1425,1425,1425,1425,1425,1425,1500,1500,1500,1500,1500,1500,1500,1500,1500,1500,1500,1500,1500,1500,1625,1625,1625,1625,1625,1625,1625]
[null,null,null,null,null,null,null,null,null,null,null,null,null,null,null,null,null,null,null,null,null,300,300,300,300,300,300,300,300,300,300,300,300,300,300,300,300,300,300,300,300,300,300,300,300,300,320,320,320,325,325,325,325,325,325,325,325,325,340,340,340,340,340,340,340,340,340,340,340,340,340,340,340,340,350,350,350,350,350,350,375,375,375,434.52,434.52,434.52]
[null,null,null,null,null,null,null,null,null,null,null,null,null,null,null,null,null,null,null,null,null,300,300,300,305,305,305,316.07,316.07,316.07,316.07,316.07,316.07,319.07,319.07,319.07,319.54000000000002,320,320,320,320,320,320,320,320,320,325,325,325,325,325,325,325,325,325,325,325,325,325,325,325,325,325,325,325,345,345,345,375,375,375,400,400,400,400,400,400,425,425,425,446.42,446.42,446.42,446.42,446.42,446.42]
[null,null,null,null,null,null,null,null,null,null,null,null,null,null,null,null,null,null,null,null,null,425,425,425,425,425,425,425,425,425,425,425,435,435,445,450,450,450,450,450,450,450,450,450,450,450,450,450,450,450,450,450,450,450,455,475,475,475,475,475,480,495,495,495,495,500,500,500,500,500,525,525,525,525,550,550,550,550,550,575,595,595,625,650,700,820]
[null,null,null,null,null,null,null,null,null,null,null,null,null,null,null,null,null,null,null,null,null,550,550,550,550,550,550,550,550,550,550,550,575,575,575,575,575,590,595,595,595,595,595,595,595,600,610,615,625,625,625,625,625,640,650,650,650,650,650,650,660,675,685,695,695,695,695,700,700,700,725,725,750,750,750,770,795,795,795,800,850,895,895,900,995,1100]
[null,null,null,null,null,null,null,null,null,null,null,null,null,null,null,null,null,null,null,null,null,725,750,750,750,750,770,775,775,795,795,795,795,795,795,795,797.5,800,800,800,800,800,800,800,825,850,850,850,850,875,875,875,890,895,895,895,900,900,900,900,900,900,900,925,950,950,950,950,950,950,975,995,995,995,1050,1050,1100,1100,1100,1150,1150,1150,1200,1250,1495,1500]
[null,null,null,null,null,null,null,null,null,null,null,null,null,null,null,null,null,null,null,null,null,1100,1100,1100,1100,1100,1195,1195,1200,1200,1200,1200,1200,1200,1200,1200,1200,1200,1200,1250,1250,1250,1250,1300,1300,1300,1300,1350,1350,1350,1400,1400,1400,1400,1495,1495,1500,1500,1500,1500,1500,1500,1500,1500,1500,1500,1500,1500,1500,1550,1550,1600,1600,1650,1650,1650,1700,1700,1800,1800,1950,1950,2200,2200,2250,2250]
[null,null,null,null,null,null,null,null,null,null,null,null,null,null,null,null,null,null,null,null,null,1600,1600,1600,1600,1600,1600,1600,1600,1600,1600,1600,1600,1600,1600,1600,1697.5,1795,1795,1795,1795,1795,1795,1795,1795,1795,1795,1795,1795,1795,1795,1795,1795,1950,1950,1950,1950,1950,1950,1950,1950,1950,1950,1950,1950,1950,1950,1950,1950,1950,1950,1950,1950,1950,1950,1950,1950,1950,1950,1950,1950,1950,1950,1950,1950,1950]
[null,null,null,null,null,null,null,null,null,null,null,null,null,null,null,null,null,null,null,null,null,425,425,425,425,425,425,425,425,425,425,425,425,425,425,425,512.5,600,600,600,600,600,600,600,600,600,600,600,600,600,600,600,600,600,600,600,600,600,600,600,600,600,600,600,600,600,600,600,600,600,600,600,600,600,600,600,600,600,600,600,600,600,600,600,600,600]
[null,null,null,null,null,null,null,null,null,null,null,null,null,null,null,null,null,null,null,null,null,294.33999999999997,297.61,300,300,300,305,305,305,305,305,305,305,315,316.07,316.07,316.07,316.07,316.07,316.07,316.07,316.07,316.07,316.07,316.07,316.07,319.33999999999997,325,325,325,325,325,325,325.89,333,334.52,337.79,345,350,350,350,355,359.52,359.52,359.52,359.52,359.52,359.52,359.52,359.52,359.52,367.52,367.52,375,379.52,405,410.98,410.98,425,425,425,468.15,475,475,490,533.33000000000004]
[null,null,null,null,null,null,null,null,null,null,null,null,null,null,null,null,null,null,null,null,null,360,361.74,365,370,370,370,375,375,375,375,380,380,385,385,390,395,395,395,395,395,395,395,395,395,400,400,400,400,400,400,400,400,400,400,410,420,420,420,425,425,425,425,425,425,425,425,425,430,430,445,450,450,450,450,450,450,450,460,475,495,525,550,550,650,750]
[null,null,null,null,null,null,null,null,null,null,null,null,null,null,null,null,null,null,null,null,null,450,450,450,450,450,460,465,470,470,475,475,475,475,475,475,475,480,480,485,485,495,495,495,495,495,495,495,500,500,500,500,500,520,525,525,525,525,525,530,540,550,550,550,550,550,550,550,550,570,575,575,575,585,595,595,600,600,625,650,650,670,695,730,765,875]
[null,null,null,null,null,null,null,null,null,null,null,null,null,null,null,null,null,null,null,null,null,525,525,540,545,550,550,550,550,550,550,550,550,550,565,575,575,575,575,575,580,588.41,595,595,595,600,600,600,620,625,625,625,625,650,650,650,650,660,675,675,675,680,695,695,695,695,700,700,725,725,725,750,750,750,750,750,760,775,785,795,800,825,850,875,900,995]
[null,null,null,null,null,null,null,null,null,null,null,null,null,null,null,null,null,null,null,null,null,800,800,800,825,825,825,825,830,845,850,850,850,850,850,850,850,875,875,875,875,875,890,895,895,895,895,900,900,900,900,900,900,900,925,950,950,950,950,950,950,950,950,950,975,995,995,1000,1000,1000,1000,1025,1050,1100,1100,1100,1100,1200,1200,1200,1250,1250,1300,1300,1500,2000]
[null,null,null,null,null,null,null,null,null,null,null,null,null,null,null,null,null,null,null,null,null,915,915,950,950,950,950,950,950,950,975,975,975,995,995,995,995,995,1000,1000,1100,1100,1100,1100,1100,1150,1150,1200,1200,1200,1200,1200,1200,1200,1200,1300,1300,1300,1300,1300,1380,1380,1500,1500,1500,1500,1500,1500,1500,1550,1550,1550,1600,1600,1850,1850,1850,1900,1900,1950,1950,1950,2300,2300,2450,2450]
[null,null,null,null,null,null,null,null,null,null,null,null,null,null,null,null,null,null,null,null,null,320,320,320,320,320,320,320,320,320,320,325,325,325,325,325,325,325,325,325,325,325,350,350,350,350,350,350,350,350,350,350,350,350,350,350,350,350,350,350,350,350,350,350,350,350,350,350,350,350,350,350,350,350,350,550,550,550,550,550,550,550,550,550,550,550]
[null,null,null,null,null,null,null,null,null,null,null,null,null,null,null,null,null,null,null,null,null,275,275,275,285,290,290,290,290,294.35000000000002,294.35000000000002,294.35000000000002,300,300,300,300,300,300,300,300,300,313,315,315,315,316.07,316.07,316.07,320,324.07,325,325,325,325,325,325,325,325,333,333,334.52,350,359.52,359.52,359.52,359.52,359.52,359.52,359.52,359.52,359.52,359.52,359.52,359.52,359.52,375,375,390,402.98,410.98,443.15,446.43,446.43,446.43,489.88,489.88]
[null,null,null,null,null,null,null,null,null,null,null,null,null,null,null,null,null,null,null,null,null,375,375,375,375,375,375,375,375,375,375,375,375,375,375,375,380,385,395,395,395,395,395,395,399.5,400,400,400,400,400,400,412.5,415,420,420,422.5,425,425,425,425,425,425,425,425,425,425,425.42,435,445,450,450,450,450,450,450,450,462.5,475,475,490,495,495,500,525,550,597.5]
[null,null,null,null,null,null,null,null,null,null,null,null,null,null,null,null,null,null,null,null,null,450,450,450,450,465,475,475,475,475,475,475,475,485,495,495,495,495,495,495,500,500,500,500,500,525,525,525,525,525,525,540,550,550,550,550,550,550,550,550,550,550,565,575,575,575,575,580,595,595,595,595,595,600,600,600,615,625,625,650,650,695,700,750,800,895]
[null,null,null,null,null,null,null,null,null,null,null,null,null,null,null,null,null,null,null,null,null,550,550,550,550,575,575,575,580,595,595,595,595,595,595,595,600,600,600,600,625,625,645,650,650,650,650,650,650,650,650,675,675,675,675,695,695,695,695,695,695,695,700,700,725,725,725,750,750,750,750,795,795,800,800,850,850,850,860,900,900,950,995,1000,1200,1200]
[null,null,null,null,null,null,null,null,null,null,null,null,null,null,null,null,null,null,null,null,null,825,825,825,850,850,850,850,850,850,850,850,850,850,850,850,850,875,875,875,875,875,895,895,895,895,900,950,950,950,950,950,950,950,950,950,960,960,995,995,995,1000,1000,1000,1095,1100,1100,1100,1100,1100,1100,1150,1200,1200,1200,1200,1240,1250,1250,1295,1300,1300,1300,1350,1695,1700]
[null,null,null,null,null,null,null,null,null,null,null,null,null,null,null,null,null,null,null,null,null,1200,1200,1200,1200,1200,1200,1200,1350,1350,1350,1350,1400,1400,1400,1400,1400,1400,1400,1400,1400,1500,1500,1500,1500,1500,1500,1500,1500,1500,1500,1500,1500,1660,1660,1660,1660,1695,1695,1695,1695,1697.5,1700,1700,1700,1700,1700,1700,1700,1700,1700,1700,1700,1700,1950,1950,1950,1950,2000,2000,2000,2000,2200,2200,2200,2200]
[null,null,null,null,null,null,null,null,null,null,null,null,null,null,null,null,null,null,null,null,null,350,350,350,375,375,375,375,375,375,375,375,375,375,375,375,385,395,395,395,395,395,395,395,395,395,395,395,395,395,395,395,395,395,395,395,395,395,395,395,395,397.5,400,400,400,400,400,400,400,400,400,400,400,400,450,450,450,450,450,450,450,450,450,450,450,450]
[null,null,null,null,null,null,null,null,null,null,null,null,null,null,null,null,null,null,null,null,null,310,310,316.07,316.07,320,320,325,325,325,325,325,325,325,330,330,335,340,340,345,350,350,350,359.52,360,360,369.35,370,375,375,375,375,375,375,375,380,385,390,400,400,400,400,400,405,405,420,422,425,425,425,430,435,446.43,450,450,460,468.15,475,475,485.54,495,502,525,528.99,533.33000000000004,576.79]
[null,null,null,null,null,null,null,null,null,null,null,null,null,null,null,null,null,null,null,null,null,450,450,450,450,450,450,450,450,450,470,475,475,475,475,475,480,490,495,495,495,495,495,495,500,500,500,520,525,525,525,525,535,550,550,550,550,550,550,550,575,575,575,575,595,595,595,595,600,600,620,625,625,650,650,650,650,675,690,695,700,715,750,750,750,850]
[null,null,null,null,null,null,null,null,null,null,null,null,null,null,null,null,null,null,null,null,null,565,575,575,575,575,595,595,595,595,595,600,600,600,600,620,625,625,625,625,645,650,650,650,650,650,650,650,675,675,685,695,695,695,700,700,725,725,750,750,750,750,775,795,795,795,800,800,825,825,850,850,850,875,895,895,895,900,925,950,975,995,1000,1150,1200,1385]
[null,null,null,null,null,null,null,null,null,null,null,null,null,null,null,null,null,null,null,null,null,650,650,650,650,650,650,675,675,695,695,695,695,710,725,725,750,750,750,750,750,750,775,795,795,800,825,850,850,850,850,850,850,875,895,900,900,900,925,950,950,975,995,995,1000,1000,1050,1075,1100,1125,1150,1170,1200,1200,1200,1200,1250,1275,1300,1400,1450,1500,1595,1795,1895,2100]
[null,null,null,null,null,null,null,null,null,null,null,null,null,null,null,null,null,null,null,null,null,975,975,995,995,995,995,995,995,995,995,1000,1050,1050,1100,1100,1100,1100,1150,1150,1200,1200,1200,1200,1200,1200,1250,1250,1295,1300,1300,1300,1350,1395,1400,1400,1400,1400,1400,1450,1450,1500,1500,1500,1500,1500,1500,1540,1560,1560,1580,1595,1595,1600,1600,1660,1695,1750,1750,1850,1900,1900,1950,1995,2000,2750]
[null,null,null,null,null,null,null,null,null,null,null,null,null,null,null,null,null,null,null,null,null,1595,1595,1595,1650,1650,1700,1750,1750,1750,1750,1750,1750,1750,1750,1800,1800,1800,1800,1800,1800,1800,1800,1800,1875,1875,1935,1995,1995,2000,2000,2000,2000,2000,2000,2000,2000,2000,2125,2125,2125,2200,2200,2200,2340,2340,2345,2350,2350,2500,2500,2500,2750,2750,2750,2750,2750,2750,2750,2750,2750,2995,2995,2995,3500,3500]
[null,null,null,null,null,null,null,null,null,null,null,null,null,null,null,null,null,null,null,null,null,390,392.5,395,395,395,395,395,395,395,397.5,400,400,400,400,400,400,400,412.5,425,425,425,425,425,425,425,437.5,450,450,450,450,450,450,450,450,450,450,450,462.5,475,475,475,475,475,475,475,485,495,495,495,527.5,560,560,560,577.5,595,595,595,617.5,640,640,640,682.5,725,725,725]
[null,null,null,null,null,null,null,null,null,null,null,null,null,null,null,null,null,null,null,null,null,285,286.73,290,290,290,290,290,291.07,291.07,297.62,297.62,300,300,300,300,300,300,300,300,300,300,300,300,300,310,312.8,312.8,312.8,315,320,325,325,325,325.83,325.89,330,330.18,334.52,334.52,334.52,334.52,334.52,334.52,334.52,334.52,340,350,350,350,350,350,350,355,377.97,377.98,391.07,400,400,421.43,421.43,421.43,464.88,495,660.42,660.42]
[null,null,null,null,null,null,null,null,null,null,null,null,null,null,null,null,null,null,null,null,null,425,425,430,430,433,433,435,445,450,450,450,450,450,450,450,450,450,450,450,450,450,450,450,460,460,460,465,470,475,475,475,475,475,475,480,480,480,480,485,490,495,495,495,495,495,495,495,495,500,500,500,500,500,510,520,525,525,525,525,540,550,550,550,560,650]
[null,null,null,null,null,null,null,null,null,null,null,null,null,null,null,null,null,null,null,null,null,500,500,500,500,510,520,525,525,525,525,525,525,530,530,540,550,550,550,550,550,550,550,550,550,550,550,560,565,570,575,575,575,575,575,580,585,595,595,595,595,600,600,600,600,600,600,610,620,625,625,625,630,650,650,650,650,650,670,675,675,690,695,695,725,750]
[null,null,null,null,null,null,null,null,null,null,null,null,null,null,null,null,null,null,null,null,null,595,595,600,600,600,600,600,600,600,625,625,625,650,650,650,650,650,650,650,650,650,675,675,675,675,680,695,695,695,695,700,700,700,720,725,725,725,750,750,750,750,750,750,750,750,750,775,775,775,795,795,795,800,800,800,825,825,850,850,875,895,900,900,950,975]
[null,null,null,null,null,null,null,null,null,null,null,null,null,null,null,null,null,null,null,null,null,738.69,750,750,750,750,750,750,750,750,750,775,780,780,795,795,795,800,800,800,800,800,825,825,825,825,825,825,840,850,850,850,875,875,875,875,875,875,875,895,900,900,920,925,925,925,925,925,950,950,950,950,975,995,995,995,1000,1050,1100,1100,1150,1200,1200,1200,1400,1400]
[null,null,null,null,null,null,null,null,null,null,null,null,null,null,null,null,null,null,null,null,null,875,875,875,875,875,875,875,875,875,875,875,875,875,875,875,875,875,875,875,875,875,875,875,875,875,875,875,875,875,875,875,875,1200,1200,1200,1200,1200,1200,1200,1200,1200,1200,1200,1200,1200,1200,1200,1200,1200,1200,1200,1200,1200,1200,1200,1200,1200,1200,1200,1200,1200,1200,1200,1200,1200]
[null,null,null,null,null,null,null,null,null,null,null,null,null,null,null,null,null,null,null,null,null,350,350,350,350,350,350,350,350,350,350,350,350,350,350,350,365,380,380,380,380,380,380,380,380,380,380,380,380,380,380,380,380,395,395,395,395,395,395,395,395,395,395,395,395,395,395,395,395,395,450,450,450,450,450,450,450,450,450,450,450,450,450,450,450,450]
[null,null,null,null,null,null,null,null,null,null,null,null,null,null,null,null,null,null,null,null,null,325,325,325,325,325,325,325,325,333,335,337.8,340,345,350,350,350,350,350,350,350,350,350,359,359.52,359.52,360,365,375,375,375,375,375,375,375,375,375,375,380,388,390,395,400,400,400,400,400,405,415,425,425,425,425,425,425,430,446.43,450,450,468.15,475,475,485,500,500,545]
[null,null,null,null,null,null,null,null,null,null,null,null,null,null,null,null,null,null,null,null,null,560,560,570,575,575,575,575,575,575,575,575,580,585,595,595,595,595,595,595,600,600,600,600,600,615,625,625,625,625,625,625,630,645,650,650,650,650,650,650,655,675,675,675,675,680,685,695,695,700,705,725,725,735,750,750,760,770,775,800,810,850,875,900,1000,1100]
[null,null,null,null,null,null,null,null,null,null,null,null,null,null,null,null,null,null,null,null,null,700,710,720,725,725,725,735,750,750,750,750,750,750,750,760,775,775,775,785,795,795,795,800,800,800,810,825,825,825,850,850,850,850,850,870,875,875,890,895,895,900,900,915,925,945,950,950,950,980,995,1000,1050,1100,1100,1150,1155,1200,1200,1250,1260,1300,1365,1400,1500,1600]
[null,null,null,null,null,null,null,null,null,null,null,null,null,null,null,null,null,null,null,null,null,900,900,915,925,945,950,950,950,975,975,980,995,995,995,1000,1000,1000,1020,1050,1050,1080,1095,1100,1100,1100,1100,1130,1150,1150,1185,1200,1200,1200,1200,1200,1225,1250,1250,1250,1260,1300,1300,1300,1335,1350,1350,1395,1400,1410,1450,1495,1500,1500,1550,1575,1595,1600,1625,1680,1705,1750,1850,1950,2000,2200]
[null,null,null,null,null,null,null,null,null,null,null,null,null,null,null,null,null,null,null,null,null,1300,1350,1350,1350,1365,1400,1400,1400,1425,1450,1450,1450,1460,1495,1496,1500,1500,1500,1500,1500,1500,1500,1515,1520,1540,1595,1596,1600,1600,1600,1600,1600,1600,1640,1680,1695,1700,1700,1700,1700,1730,1750,1785,1795,1800,1800,1800,1820,1850,1890,1890,1900,1995,2000,2000,2000,2200,2200,2250,2250,2250,2300,2500,2500,2520]
[null,null,null,null,null,null,null,null,null,null,null,null,null,null,null,null,null,null,null,null,null,1750,1750,1750,1750,1750,1750,1750,1750,1785,1785,1800,1800,1800,1800,1875,1875,1890,1900,1900,1950,1995,1995,1995,1995,2000,2000,2000,2000,2000,2100,2100,2100,2100,2100,2100,2100,2200,2250,2250,2250,2250,2250,2300,2360,2360,2395,2450,2500,2500,2500,2500,2500,2500,2500,2500,2600,2600,2600,2650,2800,2950,2950,3100,3250,3750]
[null,null,null,null,null,null,null,null,null,null,null,null,null,null,null,null,null,null,null,null,null,490,495,495,495,495,497.5,500,500,500,500,500,500,500,500,525,525,525,525,525,525,525,525,525,525,525,525,525,525,550,550,550,550,550,550,550,550,550,550,550,550,550,570,570,575,575,575,575,575,575,575,605,605,625,625,650,650,650,650,650,700,700,705,705,800,800]
[null,null,null,null,null,null,null,null,null,null,null,null,null,null,null,null,null,null,null,null,null,275,275,275,275,275,275,275,275,275,300,300,300,300,300,300,300,300,300,300,300,300,300,300,300,300,300,304.17,304.17,310,310,316.07,320,320,325,325.89,325.89,325.89,330,330,330,338.81,347.62,350,350,350,359.52,359.52,359.52,359.52,359.52,359.52,375,375,375,375,385.98,390,390,400,402.98,402.98,425,576.79,576.79,794.05]
[null,null,null,null,null,null,null,null,null,null,null,null,null,null,null,null,null,null,null,null,null,355,365,370,370,375,375,375,375,375,375,375,375,375,375,375,375,375,375,375,375,377.5,380,390,390,395,395,395,395,395,395,395,395,395,395,395,400,400,400,400,400,400,400,400,415,425,425,425,425,425,430,445,450,450,450,450,450,450,450,450,470,475,475,500,500,550]
[null,null,null,null,null,null,null,null,null,null,null,null,null,null,null,null,null,null,null,null,null,450,450,450,450,450,450,450,450,450,450,450,450,450,450,450,450,460,460,475,475,475,475,475,475,475,475,475,485,495,495,495,495,495,495,495,500,500,500,500,500,525,525,525,525,525,525,525,540,550,550,550,550,550,550,550,550,575,580,585,595,595,600,650,650,695]
[null,null,null,null,null,null,null,null,null,null,null,null,null,null,null,null,null,null,null,null,null,510,525,525,525,525,525,525,525,545,550,550,550,550,550,550,550,550,550,550,550,550,560,575,575,575,575,575,575,590,595,595,595,600,600,600,600,625,625,625,636,650,650,650,650,650,650,650,650,675,675,695,695,695,695,700,725,750,750,750,750,795,795,800,850,895]
[null,null,null,null,null,null,null,null,null,null,null,null,null,null,null,null,null,null,null,null,null,795,795,795,800,800,800,800,835,835,845,845,850,850,850,850,850,850,850,850,850,850,850,850,850,850,875,875,875,895,895,895,895,900,900,900,950,950,950,950,950,950,975,975,995,995,995,995,995,1095,1100,1100,1150,1150,1150,1150,1150,1200,1200,1200,1300,1300,1699,1800,1800,1800]
[null,null,null,null,null,null,null,null,null,null,null,null,null,null,null,null,null,null,null,null,null,875,875,875,875,875,912.5,950,950,950,950,950,950,950,950,950,1025,1100,1100,1100,1100,1100,1100,1100,1100,1100,1100,1100,1100,1100,1100,1100,1100,1100,1100,1100,1175,1250,1250,1250,1250,1250,1250,1250,1250,1250,1325,1400,1400,1400,1400,1400,1400,1400,1400,1400,1700,2000,2000,2000,2000,2000,2000,2000,2000,2000]
[null,null,null,null,null,null,null,null,null,null,null,null,null,null,null,null,null,null,null,null,null,250,250,250,250,250,250,250,250,250,250,250,250,250,250,250,250,250,250,250,250,250,250,250,250,250,250,250,250,250,250,250,250,250,250,250,250,250,250,250,250,250,250,250,250,250,250,250,250,250,250,250,250,250,250,250,250,250,250,250,250,250,250,250,250,250]
[null,null,null,null,null,null,null,null,null,null,null,null,null,null,null,null,null,null,null,null,null,275,275,275,275,280,280,280,280,280,280,291.07,291.07,291.07,291.07,291.07,291.07,291.07,297.62,297.62,297.62,297.62,297.62,297.62,300,300,300,300,300,300,300,300,300,300,300,300,325,325,325,325,330,330,330,330,330,330,334.52,334.52,334.52,334.52,350,350,350,350,350,350,350,350,370,370,399.7,399.7,399.7,399.7,421.43,421.43]
[null,null,null,null,null,null,null,null,null,null,null,null,null,null,null,null,null,null,null,null,null,380,385,385,390,390,390,395,395,395,395,400,400,400,400,400,400,400,400,400,400,400,400,400,400,400,400,400,420,420,420,420,420,420,420,420,425,425,425,425,425,425,430,435,435,435,435,440,450,450,450,450,450,450,460,475,475,475,475,475,475,490,495,500,520,530]
[null,null,null,null,null,null,null,null,null,null,null,null,null,null,null,null,null,null,null,null,null,495,500,500,500,500,500,500,500,500,500,500,500,520,525,525,525,525,525,525,525,525,530,545,550,550,550,550,550,550,550,550,550,550,550,550,550,550,550,575,575,575,575,575,585,595,595,595,595,595,600,600,600,600,625,625,625,625,650,650,650,650,650,675,700,750]
[null,null,null,null,null,null,null,null,null,null,null,null,null,null,null,null,null,null,null,null,null,620,625,625,625,625,650,650,650,650,650,650,650,650,650,650,650,650,675,675,675,675,675,675,695,695,695,695,695,695,695,695,700,700,700,700,700,725,725,750,750,750,750,750,750,775,775,775,795,795,795,795,800,800,825,825,850,875,895,895,900,900,950,995,995,1000]
[null,null,null,null,null,null,null,null,null,null,null,null,null,null,null,null,null,null,null,null,null,895,895,895,895,895,895,900,900,950,950,950,950,950,950,950,972.5,995,995,995,995,995,995,995,995,995,1000,1000,1000,1000,1000,1000,1050,1050,1050,1050,1050,1050,1095,1095,1100,1100,1100,1100,1100,1100,1100,1200,1200,1200,1200,1200,1200,1200,1200,1250,1250,1295,1295,1300,1300,1300,1300,1500,1500,1600]
[null,null,null,null,null,null,null,null,null,null,null,null,null,null,null,null,null,null,null,null,null,895,895,895,895,895,895,895,895,950,950,950,950,950,950,950,950,950,950,950,950,950,950,950,1150,1150,1150,1150,1150,1150,1150,1150,1150,1150,1150,1150,1150,1150,1295,1295,1295,1295,1295,1295,1295,1295,1295,1295,1295,1295,1295,1295,2000,2000,2000,2000,2000,2000,2000,2000,2000,2000,2000,2000,2000,2000]
[null,null,null,null,null,null,null,null,null,null,null,null,null,null,null,null,null,null,null,null,null,325,325,325,325,325,325,325,325,350,350,350,350,350,350,350,350,350,350,350,350,350,350,350,350,350,350,350,350,350,350,350,350,350,350,350,350,350,350,350,350,350,350,350,350,350,350,350,350,350,350,350,430,430,430,430,430,430,430,430,430,430,430,430,430,430]
[null,null,null,null,null,null,null,null,null,null,null,null,null,null,null,null,null,null,null,null,null,275,275,275,275,275,275,275,275,275,275,275.89,282.44,290,290,294.33999999999997,294.35000000000002,295,295,295,300,300,300,300,300,300,300,300,300,300,300,304.17,304.17,305,305,305,310,315,315,320,320,320,320,320,325,325,325,325.89,330,340,350,350,350,359.52,359.52,359.52,359.52,359.52,359.52,359.52,375,377.97,377.97,400,425,434.52]
[null,null,null,null,null,null,null,null,null,null,null,null,null,null,null,null,null,null,null,null,null,350,350,350,350,350,350,350,350,350,350,350,350,350,350,350,350,360,365,375,375,375,375,375,375,375,375,375,375,375,380,380,385,388,395,395,395,395,395,399,400,400,400,400,400,410,425,425,425,425,425,425,445,450,450,450,450,465,475,475,475,485,495,520,550,575]
[null,null,null,null,null,null,null,null,null,null,null,null,null,null,null,null,null,null,null,null,null,450,450,450,450,450,450,450,450,450,450,450,450,450,460,465,475,475,475,475,475,475,475,475,480,495,495,495,495,499,500,500,500,500,525,525,525,525,525,525,545,550,550,550,550,550,550,550,565,575,575,595,595,595,600,600,600,625,625,650,650,650,675,695,750,750]
[null,null,null,null,null,null,null,null,null,null,null,null,null,null,null,null,null,null,null,null,null,550,550,550,550,560,575,575,580,595,595,595,595,595,600,625,625,625,650,650,650,650,650,650,650,650,675,675,675,680,695,695,695,695,695,695,700,700,700,700,725,725,750,750,750,750,775,775,795,795,799,800,825,850,850,850,850,850,895,900,950,995,995,1100,1200,1600]
[null,null,null,null,null,null,null,null,null,null,null,null,null,null,null,null,null,null,null,null,null,850,850,850,850,850,850,850,850,850,860,875,895,895,895,895,895,900,900,900,925,945,950,950,950,950,950,950,975,975,975,975,995,995,995,995,995,995,1000,1050,1050,1100,1100,1100,1100,1100,1125,1150,1200,1200,1200,1200,1200,1250,1295,1295,1300,1350,1400,1400,1400,1500,1500,1650,1750,2995]
[null,null,null,null,null,null,null,null,null,null,null,null,null,null,null,null,null,null,null,null,null,1195,1195,1195,1195,1200,1200,1200,1200,1250,1250,1250,1250,1250,1300,1300,1300,1300,1300,1400,1400,1400,1400,1400,1400,1400,1400,1400,1400,1400,1400,1400,1400,1495,1495,1495,1495,1495,1500,1500,1500,1500,1500,1575,1575,1575,1575,1950,1950,1950,1950,1950,2000,2000,2000,2000,2000,2500,2500,2500,2500,2500,2750,2750,2750,2750]
[null,null,null,null,null,null,null,null,null,null,null,null,null,null,null,null,null,null,null,null,null,275,275,275,275,275,275,275,280,280,280,280,280,280,280,280,302.5,325,325,325,325,325,325,325,325,350,350,350,350,350,350,350,350,350,350,350,350,350,350,350,350,350,350,350,350,350,350,350,350,350,350,350,350,350,350,350,350,350,375,375,375,375,375,375,375,375]
[null,null,null,null,null,null,null,null,null,null,null,null,null,null,null,null,null,null,null,null,null,250,250,250,250,250,250,250,250,250,250.89,250.89,250.89,250.89,250.89,250.89,250.89,250.89,254.17,254.17,254.17,258.89,258.89,260.89,260.89,260.89,275,275,275,282.62,282.62,291.07,291.07,291.07,291.07,291.07,291.07,291.07,291.07,300,300,300,311.73,311.73,311.73,315,315,315,316.07,316.07,316.07,316.07,316.07,325,325,325,325,325,355,355,355,356.25,356.25,356.25,434.52,434.52]
[null,null,null,null,null,null,null,null,null,null,null,null,null,null,null,null,null,null,null,null,null,325,325,325,325,325,325,325,330,330,330,330,335,340,340,340,345,350,350,350,350,350,350,350,350,350,350,350,350,350,350,350,350,350,350,350,350,350,350,360,360,360,360,360,360,365,365,370,375,375,375,375,380,390,395,395,395,395,395,400,425,425,450,495,500,550]
[null,null,null,null,null,null,null,null,null,null,null,null,null,null,null,null,null,null,null,null,null,420,420,425,425,425,425,425,425,425,425,425,425,425,430,430,435,440,440,450,450,450,450,450,450,450,450,450,450,450,460,460,460,475,475,475,475,475,475,475,485,490,495,495,495,495,500,500,500,500,500,520,525,525,525,550,550,550,550,550,550,575,580,600,650,650]
[null,null,null,null,null,null,null,null,null,null,null,null,null,null,null,null,null,null,null,null,null,490,495,495,495,495,495,495,499.7,500,500,500,515,525,525,525,525,525,535,550,550,550,550,550,550,550,550,550,550,550,560,575,575,575,575,575,575,575,580,590,595,595,595,600,600,615,620,625,625,625,650,650,650,650,650,655,660,675,695,700,700,700,720,750,750,850]
[null,null,null,null,null,null,null,null,null,null,null,null,null,null,null,null,null,null,null,null,null,725,725,735,735,750,750,750,750,750,750,750,750,750,750,750,755,760,780,780,780,787.5,795,795,795,795,797.5,800,800,800,800,800,800,800,800,800,812.5,825,825,825,830,830,830,850,850,850,850,850,850,850,850,850,850,850,850,885,887.5,890,895,895,950,975,1000,1000,1000,1050]
[null,null,null,null,null,null,null,null,null,null,null,null,null,null,null,null,null,null,null,null,null,895,895,895,895,925,925,925,925,975,975,975,975,1000,1000,1000,1000,1000,1000,1000,1100,1100,1100,1100,1200,1200,1200,1200,1225,1225,1225,1225,1225,1225,1225,1225,1300,1300,1300,1300,1300,1300,1300,1350,1350,1350,1350,1350,1350,1350,1350,1475,1475,1475,1475,1500,1500,1500,1500,1750,1750,1750,1750,2000,2000,2000]
[null,null,null,null,null,null,null,null,null,null,null,null,null,null,null,null,null,null,null,null,null,230,230,230,230,230,230,230,230,230,230,230,230,230,230,230,240,250,250,250,250,250,250,250,250,250,250,250,250,250,250,250,250,250,250,250,250,250,250,250,250,287.5,325,325,325,325,325,325,325,325,325,325,325,325,325,325,325,325,325,325,325,325,325,325,325,325]
[null,null,null,null,null,null,null,null,null,null,null,null,null,null,null,null,null,null,null,null,null,300,300,300,300,300,300,300,300,300,300,305,305,316.07,316.07,316.07,325,325,325,325,325,325,325,325,325,325,325.89,325.89,340,341.07,341.07,345,350,350,350,350,350,350,350,350,359.52,359.52,359.52,369.52,384.52,384.52,400,400,400,400,400,400,400,400,400,400,400,400,400,434.52,434.52,445,445,445,450,450]
[null,null,null,null,null,null,null,null,null,null,null,null,null,null,null,null,null,null,null,null,null,375,375,375,375,375,375,375,375,375,375,375,375,375,375,380,380,380,390,395,395,395,395,395,395,395,395,395,395,395,395,395,395,395,395,395,400,400,400,400,400,400,400,400,400,420,425,425,425,425,425,425,425,425,430,450,450,450,450,450,450,450,450,450,500,515]
[null,null,null,null,null,null,null,null,null,null,null,null,null,null,null,null,null,null,null,null,null,450,450,450,450,450,450,450,450,470,475,475,475,475,475,475,475,485,495,495,495,495,495,495,500,500,500,500,500,520,525,525,525,525,525,525,525,525,550,550,550,550,550,550,550,550,550,550,550,550,575,575,575,575,595,595,595,600,600,625,625,650,650,695,795,850]
[null,null,null,null,null,null,null,null,null,null,null,null,null,null,null,null,null,null,null,null,null,575,575,575,595,595,595,595,595,595,595,595,600,600,600,600,600,600,600,600,600,610,620,625,625,625,625,625,650,650,650,650,650,650,650,650,650,675,675,675,675,695,695,695,700,725,725,725,750,750,750,750,750,750,775,795,795,795,795,795,850,850,895,900,995,1300]
[null,null,null,null,null,null,null,null,null,null,null,null,null,null,null,null,null,null,null,null,null,895,895,895,895,895,897.5,900,925,925,950,950,950,950,950,950,970,990,995,995,995,995,995,995,995,995,1022.5,1050,1050,1050,1050,1075,1100,1100,1100,1100,1100,1100,1200,1200,1200,1200,1200,1200,1200,1200,1225,1250,1300,1300,1300,1325,1350,1395,1395,1450,1475,1500,1500,1500,1595,1697.5,1800,1995,1995,2500]
[null,null,null,null,null,null,null,null,null,null,null,null,null,null,null,null,null,null,null,null,null,1195,1195,1195,1195,1195,1247.5,1300,1300,1300,1300,1300,1300,1395,1395,1395,1395,1395,1395,1395,1500,1500,1500,1500,1500,1500,1625,1750,1750,1750,1750,1750,1750,1950,1950,1950,1950,1950,1950,1950,2000,2000,2000,2000,2000,2000,2250,2500,2500,2500,2500,2500,2500,2500,2500,2500,2500,2500,2500,2500,2800,2800,2800,2800,2800,2800]
[null,null,null,null,null,null,null,null,null,null,null,null,null,null,null,null,null,null,null,null,null,265,265,265,265,265,265,265,265,275,275,275,275,275,275,275,275,275,275,275,275,275,275,275,280,280,280,280,280,280,280,280,280,280,280,280,280,280,285,285,285,285,285,285,285,285,285,285,285,285,285,285,322,322,322,322,322,322,322,322,322,322,322,322,322,322]
[null,null,null,null,null,null,null,null,null,null,null,null,null,null,null,null,null,null,null,null,null,285,285,295,300,300,300,300,300,300,300,300,300,300,300,300,305,315,315,320,325,325,325.89,325.89,325.89,325.89,334.52,334.52,334.52,334.52,345,345,347.61,350,350,350,359.52,359.52,359.52,359.52,359.52,359.52,359.52,375,375,375,375,375,375,375,375,375,375,383,383,400,400,400,400,400,400,425,425,425,495,543.15]
[null,null,null,null,null,null,null,null,null,null,null,null,null,null,null,null,null,null,null,null,null,375,375,375,375,375,375,375,375,375,375,375,380,380,385,395,395,395,395,395,395,395,395,395,395,395,395,395,395,400,400,400,400,400,400,400,400,400,400,400,410,417.5,425,425,425,425,425,425,425,425,425,425,425,425,435,450,450,450,450,450,450,460,475,475,475,500]
[null,null,null,null,null,null,null,null,null,null,null,null,null,null,null,null,null,null,null,null,null,450,450,450,450,450,450,450,450,450,450,450,450,450,450,450,460,460,475,475,475,475,475,475,475,475,475,490,495,495,495,495,495,495,495,495,500,500,500,500,500,525,525,550,550,550,550,550,550,550,550,550,550,550,575,575,575,575,575,595,595,595,595,595,650,750]
[null,null,null,null,null,null,null,null,null,null,null,null,null,null,null,null,null,null,null,null,null,500,500,500,525,525,525,525,525,550,550,550,550,550,550,550,550,550,550,550,550,550,550,550,550,575,575,575,575,575,575,575,595,595,595,595,595,595,600,620,625,625,650,650,650,650,650,650,650,650,695,695,695,695,700,700,745,750,795,795,795,795,850,850,945,995]
[null,null,null,null,null,null,null,null,null,null,null,null,null,null,null,null,null,null,null,null,null,795,795,795,795,800,800,800,800,800,800,800,800,800,800,800,800,800,800,800,850,850,850,850,850,850,850,850,860,860,860,860,860,860,860,860,875,875,875,875,875,875,875,895,895,895,895,895,895,895,895,1100,1100,1100,1100,1100,1100,1100,1100,1200,1200,1200,1200,1200,1200,1200]
[null,null,null,null,null,null,null,null,null,null,null,null,null,null,null,null,null,null,null,null,null,995,995,995,995,995,995,995,995,995,995,995,995,995,995,995,1097.5,1200,1200,1200,1200,1200,1200,1200,1200,1200,1200,1200,1200,1200,1200,1200,1200,1200,1200,1200,1200,1200,1200,1200,1200,1200,1200,1200,1200,1200,1200,1200,1200,1200,1200,1200,1200,1200,1200,1200,1200,1200,1200,1200,1200,1200,1200,1200,1200,1200]
[null,null,null,null,null,null,null,null,null,null,null,null,null,null,null,null,null,null,null,null,null,295,295,295,295,295,295,295,295,295,295,295,295,295,295,295,295,295,295,295,295,295,295,295,295,295,295,295,295,295,295,295,295,300,300,300,300,300,300,300,300,300,300,300,300,300,300,300,300,300,300,300,300,300,300,300,300,300,300,300,300,300,300,300,300,300]
[null,null,null,null,null,null,null,null,null,null,null,null,null,null,null,null,null,null,null,null,null,272.62,275,275,275,275,275,275,275,280,280,291.07,291.07,291.07,294.35000000000002,300,300,300,300,305,305,305,316.07,316.07,316.07,325,325,325,325,325,325,325,325,325,325,325,325,325,345,347.62,347.62,355,359.52,359.52,359.52,359.52,359.52,359.52,359.52,359.52,359.52,359.52,375,375,375,375,378.13,381.25,385.98,399.7,399.7,400,400,400,400,415]
[null,null,null,null,null,null,null,null,null,null,null,null,null,null,null,null,null,null,null,null,null,435,435,445,450,450,450,450,450,450,450,450,450,450,450,450,450,450,450,450,450,450,450,450,450,450,450,450,450,450,450,450,450,450,455,465,470,475,475,475,475,475,475,475,475,475,475,475,475,475,475,475,480,485,485,495,495,495,495,495,495,495,495,500,500,520]
[null,null,null,null,null,null,null,null,null,null,null,null,null,null,null,null,null,null,null,null,null,550,550,550,550,550,550,550,550,550,550,550,550,550,550,550,550,550,550,550,550,550,560,565,570,575,575,575,575,575,575,575,575,575,575,575,580,585,595,595,595,595,595,599,600,600,600,600,600,600,600,617.5,625,625,625,625,642.5,650,650,650,650,660,675,695,700,725]
[null,null,null,null,null,null,null,null,null,null,null,null,null,null,null,null,null,null,null,null,null,625,625,625,625,645,650,650,650,650,650,650,650,650,650,650,650,650,650,650,660,670,675,675,675,675,675,675,675,685,695,695,695,695,695,695,700,710,710,725,725,725,750,750,750,750,750,750,750,760,775,785,795,795,795,795,800,800,825,825,850,900,950,950,975,995]
[null,null,null,null,null,null,null,null,null,null,null,null,null,null,null,null,null,null,null,null,null,862.5,875,895,895,895,895,895,900,900,900,900,900,925,925,925,935,945,945,945,950,950,950,950,950,950,950,950,975,975,975,975,975,985,985,995,997.5,1000,1000,1000,1000,1000,1000,1000,1000,1000,1000,1000,1100,1100,1100,1100,1100,1100,1100,1195,1197.5,1200,1200,1200,1300,1335,1370,1450,1450,1470]
[null,null,null,null,null,null,null,null,null,null,null,null,null,null,null,null,null,null,null,null,null,1025,1050,1050,1050,1050,1075,1100,1100,1100,1100,1150,1200,1200,1200,1200,1200,1200,1200,1200,1200,1225,1250,1250,1250,1250,1250,1250,1250,1250,1250,1275,1300,1300,1300,1300,1300,1300,1300,1300,1300,1325,1350,1350,1350,1350,1375,1400,1400,1400,1400,1500,1600,1600,1600,1600,1775,1950,1950,1950,1950,2225,2500,2500,2500,2500]
[null,null,null,null,null,null,null,null,null,null,null,null,null,null,null,null,null,null,null,null,null,360,360,360,360,360,360,360,360,375,375,375,375,375,375,375,375,375,375,375,375,375,375,375,375,375,375,375,375,375,375,375,375,375,375,375,375,375,395,395,395,395,395,395,395,395,395,395,395,395,395,395,395,395,395,395,395,395,395,395,395,395,395,395,395,395]

{"sheet":"Chart A1","index":41,"n_rows":63,"n_cols":8,"rows_kept":63,"cut":false,"hidden":false,"merged":[[22,5,22,7],[22,3,23,3],[22,4,23,4],[22,2,23,2]]}
["Back to contents"]
[]
[]
[]
[]
[]
[]
[]
[]
[]
[]
[]
[]
[]
[]
[]
[]
[]
[]
[]
[]
[null,"Estimated stock of dwellings by tenure: 1961 to 2016"]
[null,null,"Total number of dwellings (000s)","Owner occupation","Vacant private dwellings and second homes","Rented"]
[null,null,null,null,null,"Private rent or living rent free","Housing association rent","Local authority rent"]
[null,"Dec 1981",1970,718,null,191,36,1027]
[null,"Dec 1982",1983,747,null,182,38,1016]
[null,"Dec 1983",1998,781,null,174,41,1001]
[null,"Dec 1984",2015,816,null,167,45,987]
[null,"Dec 1985",2032,850,null,161,47,974]
[null,"Dec 1986",2050,884,null,154,50,962]
[null,"Dec 1987",2067,922,null,147,54,943]
[null,"Dec 1988",2084,972,null,139,59,914]
[null,"Dec 1989",2104,1033,null,133,62,877]
[null,"Dec 1990",2124,1088,null,126,65,845]
[null,"Dec 1991",2160,1132,null,154,57,816]
[null,"Dec 1992",2175,1176,null,154,62,783]
[null," Dec 1993",2193,1217,null,154,67,755]
[null," Dec 1994",2210,1258,null,155,77,721]
[null," Dec 1995",2230,1293,null,155,91,692]
[null," Dec 1996",2248,1327,null,154,99,668]
[null," Dec 1997",2266,1366,null,154,115,630]
[null," Dec 1998",2283,1400,null,154,121,608]
[null," Dec 1999",2303,1435,null,155,131,583]
[null," Dec 2000",2322,1472,null,155,137,557]
[null," Mar 2001",2311.8678541066161,1370.2383358885188,77.527185851062526,172.57833236703493,138.709,552.81500000000005]
[null," Mar 2002",2329.4830000000002,1405.5522124727793,79.602000000000004,170.50978752722079,143.18799999999999,530.63099999999997]
[null," Mar 2003",2347.25,1433.8719019848129,79.456000000000003,179.19209801518693,238.47200000000001,416.25799999999998]
[null," Mar 2004",2366.5455000000002,1447.2395559482688,75.466499999999996,203.44744405173125,251.07400000000001,389.31799999999998]
[null," Mar 2005",2386.8485000000001,1468.4224434962575,77.706000000000003,215.21205650374256,251.47499999999999,374.03300000000002]
[null," Mar 2006",2406.4265,1492.9426887552588,76.227500000000006,224.28031124474111,251.1,361.87599999999998]
[null," Mar 2007",2428.3335000000002,1494.1866603122016,79.581000000000003,247.37483968779841,261.447,345.74400000000003]
[null," Mar 2008",2450.7395000000001,1522.4606574777665,81.338499999999996,248.01834252223358,269.39800000000002,329.524]
[null," Mar 2009",2468.52,1516.6268311915053,85.953500000000005,271.95966880849477,268.42700000000002,325.553]
[null," Mar 2010",2482.3265000000001,1505.6506801285468,93.101500000000001,288.03531987145305,272.40100000000001,323.13799999999998]
[null," Mar 2011",2494.6725000000001,1499.8499376499999,96.444000000000003,303.50456235000001,274.99599999999998,319.87799999999999]
[null," Mar 2012",2507.9454999999998,1464.7765276850801,98.964500000000001,347.33647231492006,277.48399999999998,319.38400000000001]
[null," Mar 2013",2520.9560000000001,1457.68906177246,99.220500000000001,368.49243822753988,277.39400000000001,318.16000000000003]
[null," Mar 2014",2533.7154999999998,1468.3052657157948,95.578500000000005,374.86573428420502,277.39400000000001,317.572]
[null," Mar 2015",2549.0715,1476.3054406890253,95.785499999999999,381.92855931097483,278.04700000000003,317.005]
[null," Mar 2016",2566.6244999999999,1481.1127310389609,96.858000000000004,394.02176896103896,278.07900000000001,316.553]
[null,"Note:  Estimates from 1991 to 2000 are based on the 1991 Census. Estimates from 2001 onwards are based on the 2001 Census, GROS dwelling counts and Scottish Household Survey (SHS) tenure splits and are not strictly comparable (see notes page). 2007 figures are provisional."]
[null,"1.  Includes accommodation tied to employment and others living rent free."]
[null,"2.  Stock transfers took place in Dumfries & Galloway, Glasgow and Scottish Borders in 2003, and in Argyll & Bute and Eilean Siar in 2006. Estimates for 2003 onwards will reflect this change of tenure."]

{"sheet":"Table C1, Chart C1","index":42,"n_rows":26,"n_cols":6,"rows_kept":26,"cut":false,"hidden":false,"merged":[[24,0,24,6],[25,0,25,6],[2,0,2,7]]}
["Back to contents"]
[]
["TABLE C1 - Sample Sizes by Broad Rental Market Area and size of property, 2017 (year to end Sept)"]
[null,"1 bedroom shared","1 bedroom  ","2 bedrooms","3 bedrooms","4 bedrooms"]
["Scotland",{"$f":"SUM(B6:B23)","v":2381},{"$f":"SUM(C6:C23)","v":6868},12817,4942,1561]
["Aberdeen and Shire",{"$f":"'Table 14'!B48","v":98},{"$f":"'Table 14'!B6","v":756},{"$f":"'Table 14'!H6","v":1448},{"$f":"'Table 14'!B27","v":446},{"$f":"'Table 14'!H27","v":213}]
["Argyll and Bute",{"$f":"'Table 14'!B49","v":45},{"$f":"'Table 14'!B7","v":107},{"$f":"'Table 14'!H7","v":180},{"$f":"'Table 14'!B28","v":76},{"$f":"'Table 14'!H28","v":19}]
["Ayrshires",{"$f":"'Table 14'!B50","v":146},{"$f":"'Table 14'!B8","v":351},{"$f":"'Table 14'!H8","v":786},{"$f":"'Table 14'!B29","v":317},{"$f":"'Table 14'!H29","v":97}]
["Dumfries and Galloway",{"$f":"'Table 14'!B51","v":98},{"$f":"'Table 14'!B9","v":110},{"$f":"'Table 14'!H9","v":330},{"$f":"'Table 14'!B30","v":190},{"$f":"'Table 14'!H30","v":54}]
["Dundee and Angus",{"$f":"'Table 14'!B52","v":200},{"$f":"'Table 14'!B10","v":369},{"$f":"'Table 14'!H10","v":728},{"$f":"'Table 14'!B31","v":275},{"$f":"'Table 14'!H31","v":115}]
["East Dunbartonshire",{"$f":"'Table 14'!B53","v":30},{"$f":"'Table 14'!B11","v":71},{"$f":"'Table 14'!H11","v":169},{"$f":"'Table 14'!B32","v":106},{"$f":"'Table 14'!H32","v":42}]
["Fife",{"$f":"'Table 14'!B54","v":162},{"$f":"'Table 14'!B12","v":325},{"$f":"'Table 14'!H12","v":611},{"$f":"'Table 14'!B33","v":348},{"$f":"'Table 14'!H33","v":125}]
["Forth Valley",{"$f":"'Table 14'!B55","v":137},{"$f":"'Table 14'!B13","v":321},{"$f":"'Table 14'!H13","v":491},{"$f":"'Table 14'!B34","v":244},{"$f":"'Table 14'!H34","v":75}]
["Greater Glasgow",{"$f":"'Table 14'!B56","v":346},{"$f":"'Table 14'!B14","v":1343},{"$f":"'Table 14'!H14","v":2443},{"$f":"'Table 14'!B35","v":745},{"$f":"'Table 14'!H35","v":196}]
["Highland and Islands",{"$f":"'Table 14'!B57","v":157},{"$f":"'Table 14'!B15","v":243},{"$f":"'Table 14'!H15","v":738},{"$f":"'Table 14'!B36","v":370},{"$f":"'Table 14'!H36","v":100}]
["Lothian",{"$f":"'Table 14'!B58","v":397},{"$f":"'Table 14'!B16","v":1338},{"$f":"'Table 14'!H16","v":2025},{"$f":"'Table 14'!B37","v":642},{"$f":"'Table 14'!H37","v":177}]
["North Lanarkshire",{"$f":"'Table 14'!B59","v":104},{"$f":"'Table 14'!B17","v":233},{"$f":"'Table 14'!H17","v":513},{"$f":"'Table 14'!B38","v":253},{"$f":"'Table 14'!H38","v":60}]
["Perth and Kinross",{"$f":"'Table 14'!B60","v":82},{"$f":"'Table 14'!B18","v":241},{"$f":"'Table 14'!H18","v":422},{"$f":"'Table 14'!B39","v":118},{"$f":"'Table 14'!H39","v":38}]
["Renfrewshire / Inverclyde",{"$f":"'Table 14'!B61","v":102},{"$f":"'Table 14'!B19","v":373},{"$f":"'Table 14'!H19","v":551},{"$f":"'Table 14'!B40","v":203},{"$f":"'Table 14'!H40","v":59}]
["Scottish Borders",{"$f":"'Table 14'!B62","v":44},{"$f":"'Table 14'!B20","v":194},{"$f":"'Table 14'!H20","v":318},{"$f":"'Table 14'!B41","v":169},{"$f":"'Table 14'!H41","v":37}]
["South Lanarkshire",{"$f":"'Table 14'!B63","v":107},{"$f":"'Table 14'!B21","v":295},{"$f":"'Table 14'!H21","v":458},{"$f":"'Table 14'!B42","v":247},{"$f":"'Table 14'!H42","v":91}]
["West Dunbartonshire",{"$f":"'Table 14'!B64","v":51},{"$f":"'Table 14'!B22","v":95},{"$f":"'Table 14'!H22","v":210},{"$f":"'Table 14'!B43","v":60},{"$f":"'Table 14'!H43","v":15}]
["West Lothian",{"$f":"'Table 14'!B65","v":75},{"$f":"'Table 14'!B23","v":103},{"$f":"'Table 14'!H23","v":396},{"$f":"'Table 14'!B44","v":133},{"$f":"'Table 14'!H44","v":48}]
["Notes:"]
["Total figures exclude any studio properties, properties with 5 or more bedrooms, or room rents associated with bed and breakfast lodgings"]
["If there is more than one piece of market evidence for a particular address in a given year, then only the most recent piece of evidence is counted"]

{"sheet":"Chart C2","index":43,"n_rows":9,"n_cols":20,"rows_kept":9,"cut":false,"hidden":false,"merged":[]}
["Back to contents"]
["CHART C2 - An Example of Sample Data Profiles that can Change Over Time - Argyll and Bute broad rental market area"]
["Sample Sizes:",null,null,null,null,null,null,null,null,null,null,"Sample Proportions:"]
[null,2010,2011,2012,2013,2014,2015,2016,2017,null,null,null,2010,2011,2012,2013,2014,2015,2016,2017]
["1 Bedroom ",80,89,95,65,91,102,124,{"$f":"'Table C1, Chart C1'!C7","v":107},null,null,"1 Bedroom ",0.24024024024024024,0.23298429319371727,0.20742358078602621,0.15151515151515152,0.21822541966426859,0.20440881763527055,{"$f":"H5/SUM($H$5:$H$9)","v":0.26271186440677968},{"$f":"I5/SUM($I$5:$I$9)","v":0.25058548009367682}]
["2 Bedrooms",142,143,172,151,140,178,173,{"$f":"'Table C1, Chart C1'!D7","v":180},null,null,"2 Bedrooms",0.42642642642642642,0.37434554973821987,0.37554585152838427,0.351981351981352,0.33573141486810554,0.35671342685370744,{"$f":"H6/SUM($H$5:$H$9)","v":0.36652542372881358},{"$f":"I6/SUM($I$5:$I$9)","v":0.42154566744730682}]
["3 Bedrooms",69,87,102,83,82,98,85,{"$f":"'Table C1, Chart C1'!E7","v":76},null,null,"3 Bedrooms",0.2072072072072072,0.22774869109947643,0.22270742358078602,0.19347319347319347,0.19664268585131894,0.19639278557114229,0.18008474576271186,0.17798594847775176]
["4 Bedrooms",32,46,51,60,36,40,44,{"$f":"'Table C1, Chart C1'!F7","v":19},null,null,"4 Bedrooms",9.6096096096096095E-2,0.12041884816753927,0.11135371179039301,0.13986013986013987,8.6330935251798566E-2,8.0160320641282562E-2,9.3220338983050849E-2,4.449648711943794E-2]
["1 Bedroom Shared",10,17,38,70,68,81,46,{"$f":"'Table C1, Chart C1'!B7","v":45},null,null,"1 Bedroom Shared",3.003003003003003E-2,4.4502617801047119E-2,8.296943231441048E-2,0.16317016317016317,0.16306954436450841,0.16232464929859719,9.7457627118644072E-2,0.1053864168618267]

{"sheet":"Chart C3","index":44,"n_rows":106,"n_cols":9,"rows_kept":106,"cut":false,"hidden":false,"merged":[[86,0,86,5],[65,0,65,5],[44,0,44,5],[2,0,2,5]]}
["Back to contents"]
["CHART C3 - Sample Numbers in Broad Rental Market Areas, as proportions of the Scotland total"]
["1 bedroom properties"]
[null,2010,2011,2012,2013,2014,2015,2016,2017]
["Aberdeen and Shire",9.9981519127702825E-2,0.12630232133065253,0.11802942182689018,0.10446009389671361,0.10794689243794497,{"$f":"'Table 12'!B6/'Table 12'!$B$5","v":0.10489264343541006},{"$f":"'Table 13'!B6/'Table 13'!$B$5","v":0.11716145419907922},{"$f":"'Table 14'!B6/'Table 14'!$B$5","v":0.11007571345369831}]
["Argyll and Bute",1.4784697837737941E-2,1.6267592761835131E-2,1.6250427642832705E-2,1.2715179968701095E-2,1.7510101981912642E-2,{"$f":"'Table 12'!B7/'Table 12'!$B$5","v":1.7951425554382259E-2},{"$f":"'Table 13'!B7/'Table 13'!$B$5","v":1.9685664391173203E-2},{"$f":"'Table 14'!B7/'Table 14'!$B$5","v":1.5579499126383227E-2}]
["Ayrshires",6.6346331546849005E-2,6.4704807165052086E-2,4.8580225795415669E-2,3.9319248826291078E-2,3.9638252838175868E-2,{"$f":"'Table 12'!B8/'Table 12'!$B$5","v":5.0334389299542412E-2},{"$f":"'Table 13'!B8/'Table 13'!$B$5","v":4.5721543102079695E-2},{"$f":"'Table 14'!B8/'Table 14'!$B$5","v":5.1106581246359931E-2}]
["Dumfries and Galloway",1.0718905932360008E-2,1.4988119173825625E-2,1.6592541908997605E-2,1.9953051643192488E-2,2.1935732153165289E-2,{"$f":"'Table 12'!B9/'Table 12'!$B$5","v":1.9359380499824004E-2},{"$f":"'Table 13'!B9/'Table 13'!$B$5","v":1.7304334021273217E-2},{"$f":"'Table 14'!B9/'Table 14'!$B$5","v":1.6016307513104251E-2}]
["Dundee and Angus",5.8953982627980038E-2,8.3714129044050442E-2,8.2620595278823122E-2,8.5485133020344287E-2,7.792957475466615E-2,{"$f":"'Table 12'!B10/'Table 12'!$B$5","v":7.1453713481168607E-2},{"$f":"'Table 13'!B10/'Table 13'!$B$5","v":6.0644546753452926E-2},{"$f":"'Table 14'!B10/'Table 14'!$B$5","v":5.3727431566686079E-2}]
["East Dunbartonshire",1.3860654222879319E-2,1.5353683056114056E-2,1.1973999315771467E-2,1.0172143974960876E-2,1.1160284779680585E-2,{"$f":"'Table 12'!B11/'Table 12'!$B$5","v":1.9535374868004225E-2},{"$f":"'Table 13'!B11/'Table 13'!$B$5","v":1.5558025083346564E-2},{"$f":"'Table 14'!B11/'Table 14'!$B$5","v":1.0337798485730926E-2}]
["Fife",3.73313620402883E-2,3.3997441052823978E-2,3.8829969209716042E-2,4.9491392801251956E-2,3.4635366557629402E-2,{"$f":"'Table 12'!B12/'Table 12'!$B$5","v":4.9102428722280884E-2},{"$f":"'Table 13'!B12/'Table 13'!$B$5","v":5.1119225273852993E-2},{"$f":"'Table 14'!B12/'Table 14'!$B$5","v":4.7320908561444379E-2}]
["Forth Valley",4.805026797264831E-2,3.8018643757996712E-2,3.7119397878891548E-2,4.2840375586854461E-2,4.1947277275351164E-2,{"$f":"'Table 12'!B13/'Table 12'!$B$5","v":5.2798310454065467E-2},{"$f":"'Table 13'!B13/'Table 13'!$B$5","v":5.5564375297666294E-2},{"$f":"'Table 14'!B13/'Table 14'!$B$5","v":4.6738497379149681E-2}]
["Greater Glasgow",0.16041397153945666,0.13653811003472857,0.17071501881628465,0.18485915492957747,0.21473927265730228,{"$f":"'Table 12'!B14/'Table 12'!$B$5","v":0.19306582189369939},{"$f":"'Table 13'!B14/'Table 13'!$B$5","v":0.20463565645340531},{"$f":"'Table 14'!B14/'Table 14'!$B$5","v":0.19554455445544555}]
["Highland and Islands",3.2341526520051747E-2,4.459879363918845E-2,4.396168320218953E-2,3.5015649452269169E-2,4.5410813931114104E-2,{"$f":"'Table 12'!B15/'Table 12'!$B$5","v":4.5406546990496302E-2},{"$f":"'Table 13'!B15/'Table 13'!$B$5","v":4.2705191300206384E-2},{"$f":"'Table 14'!B15/'Table 14'!$B$5","v":3.5381479324403026E-2}]
["Lothian",0.22565145074847534,0.18040577590934015,0.2182689018132056,0.20520344287949921,0.18279776794304406,{"$f":"'Table 12'!B16/'Table 12'!$B$5","v":0.16525871172122492},{"$f":"'Table 13'!B16/'Table 13'!$B$5","v":0.14986505794570568},{"$f":"'Table 14'!B16/'Table 14'!$B$5","v":0.19481654047757718}]
["North Lanarkshire",2.8275734614673812E-2,3.3814659111679767E-2,2.7711255559356825E-2,2.4843505477308295E-2,3.1556667308062343E-2,{"$f":"'Table 12'!B17/'Table 12'!$B$5","v":2.8159098908834918E-2},{"$f":"'Table 13'!B17/'Table 13'!$B$5","v":2.8734719796793141E-2},{"$f":"'Table 14'!B17/'Table 14'!$B$5","v":3.392545136866628E-2}]
["Perth and Kinross",3.2526335243023473E-2,3.874977152257357E-2,3.5921997947314405E-2,3.227699530516432E-2,3.8483740619588223E-2,{"$f":"'Table 12'!B18/'Table 12'!$B$5","v":3.5374868004223868E-2},{"$f":"'Table 13'!B18/'Table 13'!$B$5","v":3.8101285918399744E-2},{"$f":"'Table 14'!B18/'Table 14'!$B$5","v":3.5090273733255677E-2}]
["Renfrewshire / Inverclyde",6.3943818148216591E-2,6.580149881191738E-2,4.396168320218953E-2,4.7730829420970268E-2,4.4641139118722341E-2,{"$f":"'Table 12'!B19/'Table 12'!$B$5","v":4.8750439985920449E-2},{"$f":"'Table 13'!B19/'Table 13'!$B$5","v":5.5881886013652959E-2},{"$f":"'Table 14'!B19/'Table 14'!$B$5","v":5.4309842748980777E-2}]
["Scottish Borders",1.7556828682313806E-2,2.1568269055017363E-2,2.3605884365378037E-2,2.7582159624413145E-2,2.4244756590340581E-2,{"$f":"'Table 12'!B20/'Table 12'!$B$5","v":2.7631115804294261E-2},{"$f":"'Table 13'!B20/'Table 13'!$B$5","v":2.8417209080806478E-2},{"$f":"'Table 14'!B20/'Table 14'!$B$5","v":2.8246942341292953E-2}]
["South Lanarkshire",5.5812234337460728E-2,4.9716687991226464E-2,4.2080054738282587E-2,4.7926447574334896E-2,3.6174716182412928E-2,{"$f":"'Table 12'!B21/'Table 12'!$B$5","v":3.3790918690601898E-2},{"$f":"'Table 13'!B21/'Table 13'!$B$5","v":3.5402444832513098E-2},{"$f":"'Table 14'!B21/'Table 14'!$B$5","v":4.2952824694234129E-2}]
["West Dunbartonshire",1.3675845499907595E-2,1.6450374702979345E-2,1.2316113581936367E-2,9.7809076682316125E-3,1.0775447373484702E-2,{"$f":"'Table 12'!B22/'Table 12'!$B$5","v":1.9007391763463569E-2},{"$f":"'Table 13'!B22/'Table 13'!$B$5","v":1.873313224321321E-2},{"$f":"'Table 14'!B22/'Table 14'!$B$5","v":1.3832265579499126E-2}]
["West Lothian",1.9774533357974498E-2,1.9009321878998356E-2,1.1460827916524119E-2,2.0344287949921751E-2,1.8472195497402349E-2,{"$f":"'Table 12'!B23/'Table 12'!$B$5","v":1.8127419922562477E-2},{"$f":"'Table 13'!B23/'Table 13'!$B$5","v":1.4764248293379901E-2},{"$f":"'Table 14'!B23/'Table 14'!$B$5","v":1.4997087944088527E-2}]
[]
["2 bedroom properties"]
[null,2010,2011,2012,2013,2014,2015,2016,2017]
["Aberdeen and Shire",5.2472915685350917E-2,8.0250899363527348E-2,9.3998937865108864E-2,8.7869150386188102E-2,9.1468855970016069E-2,{"$f":"'Table 12'!H6/'Table 12'!$H$5","v":8.3790068095000836E-2},{"$f":"'Table 13'!H6/'Table 13'!$H$5","v":0.10104945142311973},{"$f":"'Table 14'!H6/'Table 14'!$H$5","v":0.11297495513770774}]
["Argyll and Bute",1.3377296278850682E-2,1.3190665067798174E-2,1.5223933439546823E-2,1.3721035892776011E-2,1.2493307156880244E-2,{"$f":"'Table 12'!H7/'Table 12'!$H$5","v":1.4781597741238996E-2},{"$f":"'Table 13'!H7/'Table 13'!$H$5","v":1.3754173954523772E-2},{"$f":"'Table 14'!H7/'Table 14'!$H$5","v":1.4043848014355934E-2}]
["Ayrshires",7.1502590673575131E-2,6.7982658426344433E-2,5.372632324305187E-2,5.379373012267151E-2,5.3899696591111906E-2,{"$f":"'Table 12'!H8/'Table 12'!$H$5","v":5.6552067762830095E-2},{"$f":"'Table 13'!H8/'Table 13'!$H$5","v":5.692478931467642E-2},{"$f":"'Table 14'!H8/'Table 14'!$H$5","v":6.1324802996020909E-2}]
["Dumfries and Galloway",1.6957136128120585E-2,2.5827875657227193E-2,2.8500619578686492E-2,3.0804179918218991E-2,3.2393360699625201E-2,{"$f":"'Table 12'!H9/'Table 12'!$H$5","v":3.0808835741571169E-2},{"$f":"'Table 13'!H9/'Table 13'!$H$5","v":2.7110828430593099E-2},{"$f":"'Table 14'!H9/'Table 14'!$H$5","v":2.5747054692985879E-2}]
["Dundee and Angus",5.7748469147432875E-2,7.5454293884328019E-2,8.1253319171534791E-2,7.1785552021808266E-2,7.6387649473496341E-2,{"$f":"'Table 12'!H10/'Table 12'!$H$5","v":7.1416708188008632E-2},{"$f":"'Table 13'!H10/'Table 13'!$H$5","v":7.5528700906344406E-2},{"$f":"'Table 14'!H10/'Table 14'!$H$5","v":5.6799563080283999E-2}]
["East Dunbartonshire",1.6203485633537448E-2,1.2637210589429019E-2,1.009028146574615E-2,1.117673784643344E-2,1.3385686239514546E-2,{"$f":"'Table 12'!H11/'Table 12'!$H$5","v":1.4698555057299452E-2},{"$f":"'Table 13'!H11/'Table 13'!$H$5","v":1.1448560979487994E-2},{"$f":"'Table 14'!H11/'Table 14'!$H$5","v":1.318561285792307E-2}]
["Fife",5.7089024964672636E-2,4.6397933769947421E-2,6.2931492299522038E-2,6.7060427078600632E-2,5.5862930572907372E-2,{"$f":"'Table 12'!H12/'Table 12'!$H$5","v":6.7430659358910475E-2},{"$f":"'Table 13'!H12/'Table 13'!$H$5","v":5.4062649069804423E-2},{"$f":"'Table 14'!H12/'Table 14'!$H$5","v":4.7671061870952644E-2}]
["Forth Valley",6.2176165803108807E-2,5.3131629923438797E-2,5.1425030978934326E-2,5.2885052248977736E-2,4.8188470462252365E-2,{"$f":"'Table 12'!H13/'Table 12'!$H$5","v":6.1368543431323704E-2},{"$f":"'Table 13'!H13/'Table 13'!$H$5","v":5.6368262044840196E-2},{"$f":"'Table 14'!H13/'Table 14'!$H$5","v":3.8308496528048686E-2}]
["Greater Glasgow",0.1399905793688177,0.1267410755465363,0.13896264825632856,0.14747841890049979,0.16419775120471175,{"$f":"'Table 12'!H14/'Table 12'!$H$5","v":0.15412722139179538},{"$f":"'Table 13'!H14/'Table 13'!$H$5","v":0.17482906662426459},{"$f":"'Table 14'!H14/'Table 14'!$H$5","v":0.19060622610595304}]
["Highland and Islands",5.5110692416391896E-2,7.2225809427174617E-2,6.9481324128164282E-2,5.14311676510677E-2,6.612529002320186E-2,{"$f":"'Table 12'!H15/'Table 12'!$H$5","v":6.0953330011625978E-2},{"$f":"'Table 13'!H15/'Table 13'!$H$5","v":5.8276355541421528E-2},{"$f":"'Table 14'!H15/'Table 14'!$H$5","v":5.757977685885933E-2}]
["Lothian",0.17983984926990107,0.13790240752698091,0.14639759249424678,0.1627442071785552,0.14295912903801536,{"$f":"'Table 12'!H16/'Table 12'!$H$5","v":0.15097159940209268},{"$f":"'Table 13'!H16/'Table 13'!$H$5","v":0.14119891874701859},{"$f":"'Table 14'!H16/'Table 14'!$H$5","v":0.15799329016150426}]
["North Lanarkshire",4.408855393311352E-2,5.0548842357716076E-2,3.8059833598867054E-2,3.9164016356201724E-2,4.1763341067285381E-2,{"$f":"'Table 12'!H17/'Table 12'!$H$5","v":3.6289652881581133E-2},{"$f":"'Table 13'!H17/'Table 13'!$H$5","v":4.0149467323898874E-2},{"$f":"'Table 14'!H17/'Table 14'!$H$5","v":4.002496684091441E-2}]
["Perth and Kinross",3.5704192180876115E-2,4.3538418965040127E-2,4.5671800318640467E-2,3.8073602907769198E-2,4.1227913617704802E-2,{"$f":"'Table 12'!H18/'Table 12'!$H$5","v":3.6704866301278859E-2},{"$f":"'Table 13'!H18/'Table 13'!$H$5","v":3.3709651772936874E-2},{"$f":"'Table 14'!H18/'Table 14'!$H$5","v":3.292502145587891E-2}]
["Renfrewshire / Inverclyde",5.7748469147432875E-2,6.0234295729176275E-2,4.6733935209771642E-2,4.3434802362562475E-2,4.5779046939139749E-2,{"$f":"'Table 12'!H19/'Table 12'!$H$5","v":4.094004318219565E-2},{"$f":"'Table 13'!H19/'Table 13'!$H$5","v":4.6350771187788201E-2},{"$f":"'Table 14'!H19/'Table 14'!$H$5","v":4.2989779199500665E-2}]
["Scottish Borders",2.2986340084785679E-2,2.5089936352734987E-2,2.6641883519206939E-2,2.8805088596092685E-2,2.9002320185614848E-2,{"$f":"'Table 12'!H20/'Table 12'!$H$5","v":2.5660189337319381E-2},{"$f":"'Table 13'!H20/'Table 13'!$H$5","v":2.4089680394339324E-2},{"$f":"'Table 14'!H20/'Table 14'!$H$5","v":2.4810798158695482E-2}]
["South Lanarkshire",6.2647197362223267E-2,6.0603265381422376E-2,5.2841210833775888E-2,5.134029986369832E-2,4.1763341067285381E-2,{"$f":"'Table 12'!H21/'Table 12'!$H$5","v":4.1770470021591101E-2},{"$f":"'Table 13'!H21/'Table 13'!$H$5","v":3.8877404992844651E-2},{"$f":"'Table 14'!H21/'Table 14'!$H$5","v":3.5733791058750096E-2}]
["West Dunbartonshire",1.5073009891662742E-2,1.4851028502905636E-2,1.4604354753053638E-2,1.5901862789641071E-2,1.2939496698197394E-2,{"$f":"'Table 12'!H22/'Table 12'!$H$5","v":2.0179372197309416E-2},{"$f":"'Table 13'!H22/'Table 13'!$H$5","v":1.5662267451105105E-2},{"$f":"'Table 14'!H22/'Table 14'!$H$5","v":1.6384489350081924E-2}]
["West Lothian",3.9284032030146021E-2,3.3391753528272297E-2,2.3455478845813418E-2,3.2530667878237163E-2,3.0162412993039442E-2,{"$f":"'Table 12'!H23/'Table 12'!$H$5","v":3.1556219897027074E-2},{"$f":"'Table 13'!H23/'Table 13'!$H$5","v":3.0608999840992208E-2},{"$f":"'Table 14'!H23/'Table 14'!$H$5","v":3.0896465631583055E-2}]
[]
["3 bedroom properties"]
[null,2010,2011,2012,2013,2014,2015,2016,2017]
["Aberdeen and Shire",4.7300125575554623E-2,6.9096431283219434E-2,9.1062394603709948E-2,9.2124203166769489E-2,8.4282005192730172E-2,{"$f":"'Table 12'!B27/'Table 12'!$B$26","v":8.4268556802520184E-2},{"$f":"'Table 13'!B27/'Table 13'!$B$26","v":8.3961687385367842E-2},{"$f":"'Table 14'!B27/'Table 13'!$B$26","v":9.0890564499694321E-2}]
["Argyll and Bute",1.444118878191712E-2,1.6514806378132119E-2,1.9111860595840361E-2,1.7067653711700596E-2,1.6377072099061314E-2,{"$f":"'Table 12'!B28/'Table 12'!$B$26","v":1.929513683796023E-2},{"$f":"'Table 13'!B28/'Table 13'!$B$26","v":1.732219278581618E-2},{"$f":"'Table 14'!B28/'Table 13'!$B$26","v":1.5488078255553291E-2}]
["Ayrshires",8.1624110506488073E-2,7.9157175398633262E-2,6.1457747798388605E-2,7.1355130577832618E-2,6.9103255442380662E-2,{"$f":"'Table 12'!B29/'Table 12'!$B$26","v":7.4817877534947827E-2},{"$f":"'Table 13'!B29/'Table 13'!$B$26","v":6.9492561646627274E-2},{"$f":"'Table 14'!B29/'Table 13'!$B$26","v":6.4601589565926223E-2}]
["Dumfries and Galloway",3.0347425701130179E-2,3.7965072133637055E-2,4.7967022671913058E-2,5.3259304955788608E-2,5.6720591172358698E-2,{"$f":"'Table 12'!B30/'Table 12'!$B$26","v":4.6072061429415237E-2},{"$f":"'Table 13'!B30/'Table 13'!$B$26","v":4.1980843692683921E-2},{"$f":"'Table 14'!B30/'Table 13'!$B$26","v":3.872019563888323E-2}]
["Dundee and Angus",4.1439933026370869E-2,4.2520880789673497E-2,5.302604459434139E-2,5.0380423606827061E-2,6.0515278609946078E-2,{"$f":"'Table 12'!B31/'Table 12'!$B$26","v":5.5719629848395354E-2},{"$f":"'Table 13'!B31/'Table 13'!$B$26","v":6.8269818626452011E-2},{"$f":"'Table 14'!B31/'Table 13'!$B$26","v":5.6042388424699406E-2}]
["East Dunbartonshire",2.3022185014650483E-2,2.1829916476841307E-2,1.4802323402660671E-2,1.9535266296524779E-2,2.2768124625524265E-2,{"$f":"'Table 12'!B32/'Table 12'!$B$26","v":1.929513683796023E-2},{"$f":"'Table 13'!B32/'Table 13'!$B$26","v":2.1398002853067047E-2},{"$f":"'Table 14'!B32/'Table 13'!$B$26","v":2.1601793356429592E-2}]
["Fife",5.6927584763499371E-2,5.3530751708428248E-2,4.2533258384860412E-2,7.8346699568167796E-2,8.2883962452566406E-2,{"$f":"'Table 12'!B33/'Table 12'!$B$26","v":8.9584563890529628E-2},{"$f":"'Table 13'!B33/'Table 13'!$B$26","v":8.8445078459343796E-2},{"$f":"'Table 14'!B33/'Table 13'!$B$26","v":7.0919095170165064E-2}]
["Forth Valley",6.2997069903725403E-2,4.5747911921032648E-2,3.6350009368559116E-2,4.0921242031667693E-2,3.5150788895546237E-2,{"$f":"'Table 12'!B34/'Table 12'!$B$26","v":4.6465839732230757E-2},{"$f":"'Table 13'!B34/'Table 13'!$B$26","v":5.8284083961687383E-2},{"$f":"'Table 14'!B34/'Table 13'!$B$26","v":4.9724882820460566E-2}]
["Greater Glasgow",9.920468815403935E-2,9.0356871678056186E-2,8.8813940415964021E-2,0.10343409418054698,0.10225684042340723,{"$f":"'Table 12'!B35/'Table 12'!$B$26","v":0.1073045875172278},{"$f":"'Table 13'!B35/'Table 13'!$B$26","v":0.11534542490319952},{"$f":"'Table 14'!B35/'Table 13'!$B$26","v":0.15182392500509476}]
["Highland and Islands",7.5763917957304305E-2,8.864844343204252E-2,9.1999250515270747E-2,7.3000205634382073E-2,8.7078090673057718E-2,{"$f":"'Table 12'!B36/'Table 12'!$B$26","v":6.8320535538491822E-2},{"$f":"'Table 13'!B36/'Table 13'!$B$26","v":7.3568371713878131E-2},{"$f":"'Table 14'!B36/'Table 13'!$B$26","v":7.5402486244141018E-2}]
["Lothian",0.19317706153202177,0.13990129081245253,0.15008431703204048,0.13695249845774213,0.12222887956860395,{"$f":"'Table 12'!B37/'Table 12'!$B$26","v":0.13742862768261468},{"$f":"'Table 13'!B37/'Table 13'!$B$26","v":0.12492357856123905},{"$f":"'Table 14'!B37/'Table 13'!$B$26","v":0.13083350315875281}]
["North Lanarkshire",3.7672666387609875E-2,4.3470007593014427E-2,4.2908000749484726E-2,4.0921242031667693E-2,3.9944078290393446E-2,{"$f":"'Table 12'!B38/'Table 12'!$B$26","v":4.666272888363851E-2},{"$f":"'Table 13'!B38/'Table 13'!$B$26","v":4.3814958222946808E-2},{"$f":"'Table 14'!B38/'Table 13'!$B$26","v":5.1558997350723459E-2}]
["Perth and Kinross",3.3696107157806611E-2,4.1381928625664387E-2,3.9910061832490164E-2,3.1462060456508331E-2,3.5749950069902135E-2,{"$f":"'Table 12'!B39/'Table 12'!$B$26","v":2.6186257137231737E-2},{"$f":"'Table 13'!B39/'Table 13'!$B$26","v":2.8123089464030977E-2},{"$f":"'Table 14'!B39/'Table 13'!$B$26","v":2.404727939678011E-2}]
["Renfrewshire / Inverclyde",4.7718710757639178E-2,5.106302201974184E-2,3.7286865280119916E-2,4.0098704503392965E-2,5.5122828040742963E-2,{"$f":"'Table 12'!B40/'Table 12'!$B$26","v":4.4693837369560938E-2},{"$f":"'Table 13'!B40/'Table 13'!$B$26","v":4.8298349296922762E-2},{"$f":"'Table 14'!B40/'Table 13'!$B$26","v":4.136947218259629E-2}]
["Scottish Borders",3.809125156969443E-2,4.4608959757023538E-2,4.6842795578040095E-2,4.5650832819247381E-2,4.3539045336528859E-2,{"$f":"'Table 12'!B41/'Table 12'!$B$26","v":4.3906280763929904E-2},{"$f":"'Table 13'!B41/'Table 13'!$B$26","v":3.566333808844508E-2},{"$f":"'Table 14'!B41/'Table 13'!$B$26","v":3.4440595068269818E-2}]
["South Lanarkshire",5.8392632900795313E-2,7.0994684889901294E-2,5.6023983511335959E-2,5.1614229899239153E-2,4.0343519073297383E-2,{"$f":"'Table 12'!B42/'Table 12'!$B$26","v":3.5636936404804094E-2},{"$f":"'Table 13'!B42/'Table 13'!$B$26","v":4.0554310169146117E-2},{"$f":"'Table 14'!B42/'Table 13'!$B$26","v":5.0336254330548197E-2}]
["West Dunbartonshire",1.4022603599832565E-2,1.7463933181473046E-2,1.3678096308787708E-2,1.6245116183425869E-2,1.737567405632115E-2,{"$f":"'Table 12'!B43/'Table 12'!$B$26","v":2.0279582594999016E-2},{"$f":"'Table 13'!B43/'Table 13'!$B$26","v":1.3857754228652945E-2},{"$f":"'Table 14'!B43/'Table 13'!$B$26","v":1.2227430201752598E-2}]
["West Lothian",4.4160736709920469E-2,4.1571753986332574E-2,3.2415214540003748E-2,3.7631091918568782E-2,2.8560015977631317E-2,{"$f":"'Table 12'!B44/'Table 12'!$B$26","v":3.4061823193542035E-2},{"$f":"'Table 13'!B44/'Table 13'!$B$26","v":2.6696555940493173E-2},{"$f":"'Table 14'!B44/'Table 13'!$B$26","v":2.710413694721826E-2}]
[]
["4 bedroom properties"]
[null,2010,2011,2012,2013,2014,2015,2016,2017]
["Aberdeen and Shire",6.0029282576866766E-2,7.7574676772180121E-2,0.10140008485362749,0.16606868272680678,0.16286826014452474,{"$f":"'Table 12'!H27/'Table 12'!$H$26","v":0.15813168261114238},{"$f":"'Table 13'!H27/'Table 13'!$H$26","v":0.17112632233976355},{"$f":"'Table 14'!H27/'Table 14'!$H$26","v":0.1364509929532351}]
["Argyll and Bute",1.5617374328940947E-2,2.050824788230049E-2,2.1637675010606705E-2,3.0753459764223477E-2,2.0011117287381877E-2,{"$f":"'Table 12'!H28/'Table 12'!$H$26","v":2.2509848058525603E-2},{"$f":"'Table 13'!H28/'Table 13'!$H$26","v":2.7380211574362167E-2},{"$f":"'Table 14'!H28/'Table 14'!$H$26","v":1.2171684817424727E-2}]
["Ayrshires",5.8077110785749148E-2,6.0633080695497103E-2,4.5820958845990668E-2,6.9707842132239878E-2,6.3924402445803219E-2,{"$f":"'Table 12'!H29/'Table 12'!$H$26","v":5.9651097355092851E-2},{"$f":"'Table 13'!H29/'Table 13'!$H$26","v":6.2850031113876784E-2},{"$f":"'Table 14'!H29/'Table 14'!$H$26","v":6.2139654067905191E-2}]
["Dumfries and Galloway",3.1722791605661299E-2,3.5666518056174767E-2,3.3941450997030123E-2,4.1004613018964631E-2,3.6131183991106167E-2,{"$f":"'Table 12'!H30/'Table 12'!$H$26","v":3.4890264490714688E-2},{"$f":"'Table 13'!H30/'Table 13'!$H$26","v":3.8581207218419414E-2},{"$f":"'Table 14'!H30/'Table 14'!$H$26","v":3.459320948110186E-2}]
["Dundee and Angus",3.4651049292337727E-2,4.7703967900133752E-2,5.1336444633008065E-2,4.7667862634546386E-2,5.9477487493051692E-2,{"$f":"'Table 12'!H31/'Table 12'!$H$26","v":5.908835115362971E-2},{"$f":"'Table 13'!H31/'Table 13'!$H$26","v":5.2893590541381458E-2},{"$f":"'Table 14'!H31/'Table 14'!$H$26","v":7.3670723894939144E-2}]
["East Dunbartonshire",2.0985846754514398E-2,2.2737405260811413E-2,1.5697921086126432E-2,2.4602767811378781E-2,2.2234574763757644E-2,{"$f":"'Table 12'!H32/'Table 12'!$H$26","v":2.5886325267304444E-2},{"$f":"'Table 13'!H32/'Table 13'!$H$26","v":2.4891101431238332E-2},{"$f":"'Table 14'!H32/'Table 14'!$H$26","v":2.6905829596412557E-2}]
["Fife",5.1732552464616888E-2,5.3499777084262151E-2,7.8489605430632159E-2,7.0732957457713991E-2,9.3385214007782102E-2,{"$f":"'Table 12'!H33/'Table 12'!$H$26","v":9.3978615644344399E-2},{"$f":"'Table 13'!H33/'Table 13'!$H$26","v":9.3963907902924707E-2},{"$f":"'Table 14'!H33/'Table 14'!$H$26","v":8.0076873798846898E-2}]
["Forth Valley",6.3445583211322598E-2,6.4199732501114576E-2,4.8366567670767927E-2,3.6391594054331115E-2,4.05780989438577E-2,{"$f":"'Table 12'!H34/'Table 12'!$H$26","v":4.6707934721440629E-2},{"$f":"'Table 13'!H34/'Table 13'!$H$26","v":6.2227753578095832E-2},{"$f":"'Table 14'!H34/'Table 14'!$H$26","v":4.8046124279308135E-2}]
["Greater Glasgow",0.10688140556368961,0.103878733838609,9.6308867204072973E-2,7.0732957457713991E-2,7.2262367982212333E-2,{"$f":"'Table 12'!H35/'Table 12'!$H$26","v":7.1468767585818799E-2},{"$f":"'Table 13'!H35/'Table 13'!$H$26","v":7.6540136901057876E-2},{"$f":"'Table 14'!H35/'Table 14'!$H$26","v":0.12556053811659193}]
["Highland and Islands",5.7101024890190338E-2,7.5791350869371374E-2,7.8065337293169279E-2,6.5607380830343412E-2,6.837131739855476E-2,{"$f":"'Table 12'!H36/'Table 12'!$H$26","v":7.259425998874508E-2},{"$f":"'Table 13'!H36/'Table 13'!$H$26","v":6.7205973864343502E-2},{"$f":"'Table 14'!H36/'Table 14'!$H$26","v":6.4061499039077513E-2}]
["Lothian",0.23084431429965838,0.18100757913508694,0.18752651675859142,0.1353152229625833,0.13451917732073373,{"$f":"'Table 12'!H37/'Table 12'!$H$26","v":0.12886888013505909},{"$f":"'Table 13'!H37/'Table 13'!$H$26","v":0.12072184194150591},{"$f":"'Table 14'!H37/'Table 14'!$H$26","v":0.1133888532991672}]
["North Lanarkshire",4.9780380673499269E-2,4.279982166740972E-2,4.0729741196436145E-2,3.3828805740645826E-2,3.0572540300166758E-2,{"$f":"'Table 12'!H38/'Table 12'!$H$26","v":3.4890264490714688E-2},{"$f":"'Table 13'!H38/'Table 13'!$H$26","v":2.924704418170504E-2},{"$f":"'Table 14'!H38/'Table 14'!$H$26","v":3.8436899423446511E-2}]
["Perth and Kinross",3.0258662762323085E-2,3.4774855104770394E-2,3.2668646584641491E-2,3.8954382368016405E-2,3.6687048360200113E-2,{"$f":"'Table 12'!H39/'Table 12'!$H$26","v":2.9262802476083285E-2},{"$f":"'Table 13'!H39/'Table 13'!$H$26","v":2.924704418170504E-2},{"$f":"'Table 14'!H39/'Table 14'!$H$26","v":2.4343369634849454E-2}]
["Renfrewshire / Inverclyde",3.0258662762323085E-2,4.4583147570218459E-2,2.8001697072549851E-2,4.1517170681701694E-2,4.1133963312951639E-2,{"$f":"'Table 12'!H40/'Table 12'!$H$26","v":5.346088913899831E-2},{"$f":"'Table 13'!H40/'Table 13'!$H$26","v":4.4181705040448042E-2},{"$f":"'Table 14'!H40/'Table 14'!$H$26","v":3.7796284433055737E-2}]
["Scottish Borders",4.0019521717911177E-2,3.6112349531876947E-2,3.9881204921510392E-2,4.1517170681701694E-2,4.05780989438577E-2,{"$f":"'Table 12'!H41/'Table 12'!$H$26","v":3.3764772087788407E-2},{"$f":"'Table 13'!H41/'Table 13'!$H$26","v":2.5513378967019291E-2},{"$f":"'Table 14'!H41/'Table 14'!$H$26","v":2.370275464445868E-2}]
["South Lanarkshire",7.0278184480234263E-2,5.3945608559964331E-2,6.7034365719134487E-2,4.715530497180933E-2,3.8910505836575876E-2,{"$f":"'Table 12'!H42/'Table 12'!$H$26","v":3.3764772087788407E-2},{"$f":"'Table 13'!H42/'Table 13'!$H$26","v":3.7336652146857496E-2},{"$f":"'Table 14'!H42/'Table 14'!$H$26","v":5.829596412556054E-2}]
["West Dunbartonshire",9.2728160078086874E-3,1.1145786892554615E-2,6.7882901994060245E-3,6.1506919528446953E-3,8.337965536409116E-3,{"$f":"'Table 12'!H43/'Table 12'!$H$26","v":7.3157006190208212E-3},{"$f":"'Table 13'!H43/'Table 13'!$H$26","v":7.4673304293714996E-3},{"$f":"'Table 14'!H43/'Table 14'!$H$26","v":9.6092248558616276E-3}]
["West Lothian",3.9043435822352368E-2,3.2991529201961661E-2,2.6304624522698345E-2,3.2291132752434649E-2,3.0016675931072819E-2,{"$f":"'Table 12'!H44/'Table 12'!$H$26","v":3.3764772087788407E-2},{"$f":"'Table 13'!H44/'Table 13'!$H$26","v":2.8624766645924081E-2},{"$f":"'Table 14'!H44/'Table 14'!$H$26","v":3.0749519538757208E-2}]
[]
["1 bedroom shared properties"]
[null,2010,2011,2012,2013,2014,2015,2016,2017]
["Aberdeen and Shire",0.10850202429149798,0.11636363636363636,0.12045690550363447,7.0123456790123453E-2,7.6367389060887511E-2,{"$f":"'Table 12'!B48/'Table 12'!$B$47","v":6.3360881542699726E-2},{"$f":"'Table 13'!B48/'Table 13'!$B$47","v":5.3858104609010873E-2},{"$f":"'Table 14'!B48/'Table 13'!$B$47","v":5.0750906266183324E-2}]
["Argyll and Bute",8.0971659919028341E-3,1.0303030303030303E-2,1.9730010384215992E-2,3.4567901234567898E-2,3.5087719298245612E-2,{"$f":"'Table 12'!B49/'Table 12'!$B$47","v":3.71900826446281E-2},{"$f":"'Table 13'!B49/'Table 13'!$B$47","v":2.3821853961677887E-2},{"$f":"'Table 14'!B49/'Table 13'!$B$47","v":2.3303987571206629E-2}]
["Ayrshires",3.0769230769230771E-2,4.0606060606060604E-2,5.0363447559709243E-2,5.9259259259259262E-2,5.5211558307533541E-2,{"$f":"'Table 12'!B50/'Table 12'!$B$47","v":6.3820018365472908E-2},{"$f":"'Table 13'!B50/'Table 13'!$B$47","v":5.9554634904194721E-2},{"$f":"'Table 14'!B50/'Table 13'!$B$47","v":7.5608493008803734E-2}]
["Dumfries and Galloway",4.048582995951417E-2,3.5757575757575759E-2,2.8556593977154723E-2,3.2098765432098768E-2,3.8183694530443756E-2,{"$f":"'Table 12'!B51/'Table 12'!$B$47","v":3.6730945821854911E-2},{"$f":"'Table 13'!B51/'Table 13'!$B$47","v":4.2465044018643192E-2},{"$f":"'Table 14'!B51/'Table 13'!$B$47","v":5.0750906266183324E-2}]
["Dundee and Angus",7.6113360323886645E-2,8.3636363636363634E-2,7.4247144340602284E-2,5.3333333333333337E-2,5.3663570691434466E-2,{"$f":"'Table 12'!B52/'Table 12'!$B$47","v":4.3617998163452708E-2},{"$f":"'Table 13'!B52/'Table 13'!$B$47","v":4.8161574313827032E-2},{"$f":"'Table 14'!B52/'Table 13'!$B$47","v":0.10357327809425168}]
["East Dunbartonshire",1.7813765182186234E-2,1.8787878787878787E-2,1.3499480789200415E-2,1.8765432098765432E-2,1.4447884416924664E-2,{"$f":"'Table 12'!B53/'Table 12'!$B$47","v":1.4692378328741965E-2},{"$f":"'Table 13'!B53/'Table 13'!$B$47","v":1.1393060590367685E-2},{"$f":"'Table 14'!B53/'Table 13'!$B$47","v":1.5535991714137753E-2}]
["Fife",3.9676113360323888E-2,4.1818181818181817E-2,5.659397715472482E-2,7.5061728395061728E-2,7.533539731682147E-2,{"$f":"'Table 12'!B54/'Table 12'!$B$47","v":9.5959595959595953E-2},{"$f":"'Table 13'!B54/'Table 13'!$B$47","v":8.3894355256343867E-2},{"$f":"'Table 14'!B54/'Table 13'!$B$47","v":8.3894355256343867E-2}]
["Forth Valley",2.9959514170040485E-2,3.3939393939393943E-2,3.47871235721703E-2,4.1975308641975309E-2,5.5727554179566562E-2,{"$f":"'Table 12'!B55/'Table 12'!$B$47","v":6.1983471074380167E-2},{"$f":"'Table 13'!B55/'Table 13'!$B$47","v":5.4375970999482132E-2},{"$f":"'Table 14'!B55/'Table 13'!$B$47","v":7.0947695494562396E-2}]
["Greater Glasgow",0.15384615384615385,0.18303030303030304,0.19314641744548286,0.18716049382716049,0.14086687306501547,{"$f":"'Table 12'!B56/'Table 12'!$B$47","v":0.11707988980716254},{"$f":"'Table 13'!B56/'Table 13'!$B$47","v":9.787674779906784E-2},{"$f":"'Table 14'!B56/'Table 13'!$B$47","v":0.17918177110305541}]
["Highland and Islands",8.1781376518218624E-2,8.0606060606060612E-2,7.4247144340602284E-2,6.222222222222222E-2,6.9143446852425183E-2,{"$f":"'Table 12'!B57/'Table 12'!$B$47","v":9.2286501377410471E-2},{"$f":"'Table 13'!B57/'Table 13'!$B$47","v":9.2180217503883999E-2},{"$f":"'Table 14'!B57/'Table 13'!$B$47","v":8.1305023303987575E-2}]
["Lothian",0.20323886639676114,0.14727272727272728,0.15939771547248183,0.16246913580246913,0.17182662538699692,{"$f":"'Table 12'!B58/'Table 12'!$B$47","v":0.15564738292011018},{"$f":"'Table 13'!B58/'Table 13'!$B$47","v":0.19627136198860695},{"$f":"'Table 14'!B58/'Table 13'!$B$47","v":0.2055929570170896}]
["North Lanarkshire",3.5627530364372467E-2,3.090909090909091E-2,3.3229491173416406E-2,2.9135802469135802E-2,2.6315789473684209E-2,{"$f":"'Table 12'!B59/'Table 12'!$B$47","v":2.938475665748393E-2},{"$f":"'Table 13'!B59/'Table 13'!$B$47","v":3.5732780942516834E-2},{"$f":"'Table 14'!B59/'Table 13'!$B$47","v":5.3858104609010873E-2}]
["Perth and Kinross",3.9676113360323888E-2,3.272727272727273E-2,3.5825545171339561E-2,3.4074074074074076E-2,2.7863777089783281E-2,{"$f":"'Table 12'!B60/'Table 12'!$B$47","v":2.2497704315886134E-2},{"$f":"'Table 13'!B60/'Table 13'!$B$47","v":3.3143448990160536E-2},{"$f":"'Table 14'!B60/'Table 13'!$B$47","v":4.2465044018643192E-2}]
["Renfrewshire / Inverclyde",3.724696356275304E-2,3.8787878787878788E-2,3.374870197300104E-2,4.3456790123456789E-2,4.7471620227038186E-2,{"$f":"'Table 12'!B61/'Table 12'!$B$47","v":5.4178145087235993E-2},{"$f":"'Table 13'!B61/'Table 13'!$B$47","v":5.4375970999482132E-2},{"$f":"'Table 14'!B61/'Table 13'!$B$47","v":5.2822371828068357E-2}]
["Scottish Borders",1.3765182186234818E-2,1.3333333333333334E-2,8.3073727933541015E-3,1.580246913580247E-2,1.5479876160990712E-2,{"$f":"'Table 12'!B62/'Table 12'!$B$47","v":1.6988062442607896E-2},{"$f":"'Table 13'!B62/'Table 13'!$B$47","v":1.9161056447436563E-2},{"$f":"'Table 14'!B62/'Table 13'!$B$47","v":2.2786121180735371E-2}]
["South Lanarkshire",3.8056680161943322E-2,4.1212121212121214E-2,3.4267912772585667E-2,3.3580246913580247E-2,3.8183694530443756E-2,{"$f":"'Table 12'!B63/'Table 12'!$B$47","v":3.0762167125803489E-2},{"$f":"'Table 13'!B63/'Table 13'!$B$47","v":3.4179181771103052E-2},{"$f":"'Table 14'!B63/'Table 13'!$B$47","v":5.5411703780424648E-2}]
["West Dunbartonshire",1.2145748987854251E-2,1.2121212121212121E-2,9.3457943925233638E-3,1.4814814814814815E-2,2.5283797729618165E-2,{"$f":"'Table 12'!B64/'Table 12'!$B$47","v":3.1680440771349863E-2},{"$f":"'Table 13'!B64/'Table 13'!$B$47","v":2.3303987571206629E-2},{"$f":"'Table 14'!B64/'Table 13'!$B$47","v":2.6411185914034178E-2}]
["West Lothian",3.3198380566801619E-2,3.8787878787878788E-2,2.0249221183800622E-2,3.2098765432098768E-2,3.3539731682146544E-2,{"$f":"'Table 12'!B65/'Table 12'!$B$47","v":3.2139577594123052E-2},{"$f":"'Table 13'!B65/'Table 13'!$B$47","v":3.6250647332988092E-2},{"$f":"'Table 14'!B65/'Table 13'!$B$47","v":3.8839979285344384E-2}]

{"sheet":"BRMA Profile Master","index":45,"n_rows":149,"n_cols":19,"rows_kept":149,"cut":false,"hidden":true,"merged":[[1,0,1,2]]}
["BRMA Rent Profile for:"]
["South Lanarkshire",null,null,null,null,null,null,null,null,null,{"$f":"ROUND(MIN(L6:R9,Q6:Q9,L29:R32,R29:R32,L52:R55,R52:R55,L75:R78,R75:R78,L98:P101,R98:R101,R98:R101)-0.01,2)","v":-0.17},{"$f":"ROUND(MAX(L6:R9,Q6:Q9,L29:R32,R29:R32,L52:R55,R52:R55,L75:R78,R75:R78,L98:P101,R98:R101,R98:R101)+0.01,2)","v":0.23}]
[]
["1 Bedroom Properties - Quartile Measures:",null,null,null,null,null,null,null,null,null,"1 Bedroom Properties - Annual changes and 6-yr cumulative change:"]
[" ",2010,2011,2012,2013,2014,2015,2016,2017,null," ","2010 to 2011","2011 to 2012","2012 to 2013","2013 to 2014","2014 to 2015","2015 to 2016","2016 to 2017","2010 to 2017"]
["Lower Quartile",{"$f":"VLOOKUP($A$2,'Table 7'!$A$5:$L$23,3,FALSE)","v":350},{"$f":"VLOOKUP($A$2,'Table 8'!$A$5:$L$23,3,FALSE)","v":350},{"$f":"VLOOKUP($A$2,'Table 9'!$A$5:$L$23,3,FALSE)","v":350},{"$f":"VLOOKUP($A$2,'Table 10'!$A$5:$L$23,3,FALSE)","v":350},{"$f":"VLOOKUP($A$2,'Table 11'!$A$5:$L$23,3,FALSE)","v":350},{"$f":"VLOOKUP($A$2,'Table 12'!$A$5:$L$23,3,FALSE)","v":350},{"$f":"VLOOKUP($A$2,'Table 13'!$A$5:$L$23,3,FALSE)","v":350},{"$f":"VLOOKUP($A$2,'Table 14'!$A$5:$L$23,3,FALSE)","v":365},null,"Lower Quartile",{"$f":"C6/B6-1","v":0},0,0,0,0,0,{"$f":"I6/H6-1","v":4.2857142857142927E-2},{"$f":"I6/B6-1","v":4.2857142857142927E-2}]
["Median",{"$f":"VLOOKUP($A$2,'Table 7'!$A$5:$L$23,4,FALSE)","v":375},{"$f":"VLOOKUP($A$2,'Table 8'!$A$5:$L$23,4,FALSE)","v":375},{"$f":"VLOOKUP($A$2,'Table 9'!$A$5:$L$23,4,FALSE)","v":375},{"$f":"VLOOKUP($A$2,'Table 10'!$A$5:$L$23,4,FALSE)","v":375},{"$f":"VLOOKUP($A$2,'Table 11'!$A$5:$L$23,4,FALSE)","v":375},{"$f":"VLOOKUP($A$2,'Table 12'!$A$5:$L$23,4,FALSE)","v":380},{"$f":"VLOOKUP($A$2,'Table 13'!$A$5:$L$23,4,FALSE)","v":375},{"$f":"VLOOKUP($A$2,'Table 14'!$A$5:$L$23,4,FALSE)","v":395},null,"Median",0,0,0,0,1.3333333333333419E-2,-1.3157894736842146E-2,{"$f":"I7/H7-1","v":5.3333333333333233E-2},{"$f":"I7/B7-1","v":5.3333333333333233E-2}]
["Mean",{"$f":"VLOOKUP($A$2,'Table 7'!$A$5:$L$23,5,FALSE)","v":382.47},{"$f":"VLOOKUP($A$2,'Table 8'!$A$5:$L$23,5,FALSE)","v":384.89},{"$f":"VLOOKUP($A$2,'Table 9'!$A$5:$L$23,5,FALSE)","v":379},{"$f":"VLOOKUP($A$2,'Table 10'!$A$5:$L$23,5,FALSE)","v":375.26},{"$f":"VLOOKUP($A$2,'Table 11'!$A$5:$L$23,5,FALSE)","v":379.54},{"$f":"VLOOKUP($A$2,'Table 12'!$A$5:$L$23,5,FALSE)","v":384.36},{"$f":"VLOOKUP($A$2,'Table 13'!$A$5:$L$23,5,FALSE)","v":381},{"$f":"VLOOKUP($A$2,'Table 14'!$A$5:$L$23,5,FALSE)","v":391.49},null,"Mean",6.3272936439457972E-3,-1.5303073605445694E-2,-9.8680738786279809E-3,1.1405425571603844E-2,1.2699583706592188E-2,-8.7418045582267068E-3,2.7532808398950115E-2,2.3583549036525708E-2]
["Upper Quartile",{"$f":"VLOOKUP($A$2,'Table 7'!$A$5:$L$23,6,FALSE)","v":395},{"$f":"VLOOKUP($A$2,'Table 8'!$A$5:$L$23,6,FALSE)","v":395},{"$f":"VLOOKUP($A$2,'Table 9'!$A$5:$L$23,6,FALSE)","v":395},{"$f":"VLOOKUP($A$2,'Table 10'!$A$5:$L$23,6,FALSE)","v":395},{"$f":"VLOOKUP($A$2,'Table 11'!$A$5:$L$23,6,FALSE)","v":400},{"$f":"VLOOKUP($A$2,'Table 12'!$A$5:$L$23,6,FALSE)","v":400},{"$f":"VLOOKUP($A$2,'Table 13'!$A$5:$L$23,6,FALSE)","v":400},{"$f":"VLOOKUP($A$2,'Table 14'!$A$5:$L$23,6,FALSE)","v":420},null,"Upper Quartile",0,0,0,1.2658227848101333E-2,0,0,5.0000000000000044E-2,6.3291139240506222E-2]
[]
[]
[]
[]
[]
[]
[]
[]
[]
[]
[]
[]
[]
[]
[]
[]
[]
["2 Bedroom Properties:",null,null,null,null,null,null,null,null,null,"2 Bedroom Properties - Annual changes and 6-yr cumulative change:"]
[null,2010,2011,2012,2013,2014,2015,2016,2017,null," ","2010 to 2011","2011 to 2012","2012 to 2013","2013 to 2014","2014 to 2015","2015 to 2016","2016 to 2017","2010 to 2017"]
["Lower Quartile",{"$f":"VLOOKUP($A$2,'Table 7'!$A$5:$L$23,9,FALSE)","v":425},{"$f":"VLOOKUP($A$2,'Table 8'!$A$5:$L$23,9,FALSE)","v":435},{"$f":"VLOOKUP($A$2,'Table 9'!$A$5:$L$23,9,FALSE)","v":425},{"$f":"VLOOKUP($A$2,'Table 10'!$A$5:$L$23,9,FALSE)","v":435},{"$f":"VLOOKUP($A$2,'Table 11'!$A$5:$L$23,9,FALSE)","v":447.5},{"$f":"VLOOKUP($A$2,'Table 12'!$A$5:$L$23,9,FALSE)","v":450},{"$f":"VLOOKUP($A$2,'Table 13'!$A$5:$L$23,9,FALSE)","v":450},{"$f":"VLOOKUP($A$2,'Table 14'!$A$5:$L$23,9,FALSE)","v":450},null,"Lower Quartile",{"$f":"C29/B29-1","v":2.3529411764705799E-2},-2.2988505747126409E-2,2.3529411764705799E-2,2.8735632183908066E-2,5.5865921787709993E-3,0,{"$f":"I29/H29-1","v":0},{"$f":"I29/B29-1","v":5.8823529411764719E-2}]
["Median",{"$f":"VLOOKUP($A$2,'Table 7'!$A$5:$L$23,10,FALSE)","v":460},{"$f":"VLOOKUP($A$2,'Table 8'!$A$5:$L$23,10,FALSE)","v":475},{"$f":"VLOOKUP($A$2,'Table 9'!$A$5:$L$23,10,FALSE)","v":475},{"$f":"VLOOKUP($A$2,'Table 10'!$A$5:$L$23,10,FALSE)","v":475},{"$f":"VLOOKUP($A$2,'Table 11'!$A$5:$L$23,10,FALSE)","v":475},{"$f":"VLOOKUP($A$2,'Table 12'!$A$5:$L$23,10,FALSE)","v":475},{"$f":"VLOOKUP($A$2,'Table 13'!$A$5:$L$23,10,FALSE)","v":475},{"$f":"VLOOKUP($A$2,'Table 14'!$A$5:$L$23,10,FALSE)","v":495},null,"Median",3.2608695652173836E-2,0,0,0,0,0,{"$f":"I30/H30-1","v":4.2105263157894646E-2},{"$f":"I30/B30-1","v":7.6086956521739024E-2}]
["Mean",{"$f":"VLOOKUP($A$2,'Table 7'!$A$5:$L$23,11,FALSE)","v":480.55},{"$f":"VLOOKUP($A$2,'Table 8'!$A$5:$L$23,11,FALSE)","v":492.1},{"$f":"VLOOKUP($A$2,'Table 9'!$A$5:$L$23,11,FALSE)","v":485.26},{"$f":"VLOOKUP($A$2,'Table 10'!$A$5:$L$23,11,FALSE)","v":490.7},{"$f":"VLOOKUP($A$2,'Table 11'!$A$5:$L$23,11,FALSE)","v":494.06},{"$f":"VLOOKUP($A$2,'Table 12'!$A$5:$L$23,11,FALSE)","v":497.05},{"$f":"VLOOKUP($A$2,'Table 13'!$A$5:$L$23,11,FALSE)","v":500.05},{"$f":"VLOOKUP($A$2,'Table 14'!$A$5:$L$23,11,FALSE)","v":520.08000000000004},null,"Mean",2.4034959941733547E-2,-1.3899613899613916E-2,1.1210485100770606E-2,6.8473609129815483E-3,6.0518965307858608E-3,6.0356100995875295E-3,4.0055994400560069E-2,8.2259910519196788E-2]
["Upper Quartile",{"$f":"VLOOKUP($A$2,'Table 7'!$A$5:$L$23,12,FALSE)","v":525},{"$f":"VLOOKUP($A$2,'Table 8'!$A$5:$L$23,12,FALSE)","v":550},{"$f":"VLOOKUP($A$2,'Table 9'!$A$5:$L$23,12,FALSE)","v":550},{"$f":"VLOOKUP($A$2,'Table 10'!$A$5:$L$23,12,FALSE)","v":545},{"$f":"VLOOKUP($A$2,'Table 11'!$A$5:$L$23,12,FALSE)","v":550},{"$f":"VLOOKUP($A$2,'Table 12'!$A$5:$L$23,12,FALSE)","v":550},{"$f":"VLOOKUP($A$2,'Table 13'!$A$5:$L$23,12,FALSE)","v":550},{"$f":"VLOOKUP($A$2,'Table 14'!$A$5:$L$23,12,FALSE)","v":575},null,"Upper Quartile",4.7619047619047672E-2,0,-9.0909090909090384E-3,9.1743119266054496E-3,0,0,4.5454545454545414E-2,9.5238095238095344E-2]
[]
[]
[]
[]
[]
[]
[]
[]
[]
[]
[]
[]
[]
[]
[]
[]
[]
["3 Bedroom Properties:",null,null,null,null,null,null,null,null,null,"3 Bedroom Properties - Annual changes and 6-yr cumulative change:"]
[null,2010,2011,2012,2013,2014,2015,2016,2017,null," ","2010 to 2011","2011 to 2012","2012 to 2013","2013 to 2014","2014 to 2015","2015 to 2016","2016 to 2017","2010 to 2017"]
["Lower Quartile",{"$f":"VLOOKUP($A$2,'Table 7'!$A$26:$L$44,3,FALSE)","v":550},{"$f":"VLOOKUP($A$2,'Table 8'!$A$26:$L$44,3,FALSE)","v":550},{"$f":"VLOOKUP($A$2,'Table 9'!$A$26:$L$44,3,FALSE)","v":550},{"$f":"VLOOKUP($A$2,'Table 10'!$A$26:$L$44,3,FALSE)","v":525},{"$f":"VLOOKUP($A$2,'Table 11'!$A$26:$L$44,3,FALSE)","v":550},{"$f":"VLOOKUP($A$2,'Table 12'!$A$26:$L$44,3,FALSE)","v":550},{"$f":"VLOOKUP($A$2,'Table 13'!$A$26:$L$44,3,FALSE)","v":550},{"$f":"VLOOKUP($A$2,'Table 14'!$A$26:$L$44,3,FALSE)","v":550},null,"Lower Quartile",{"$f":"C52/B52-1","v":0},0,-4.5454545454545414E-2,4.7619047619047672E-2,0,0,{"$f":"I52/H52-1","v":0},{"$f":"I52/B52-1","v":0}]
["Median",{"$f":"VLOOKUP($A$2,'Table 7'!$A$26:$L$44,4,FALSE)","v":595},{"$f":"VLOOKUP($A$2,'Table 8'!$A$26:$L$44,4,FALSE)","v":595},{"$f":"VLOOKUP($A$2,'Table 9'!$A$26:$L$44,4,FALSE)","v":595},{"$f":"VLOOKUP($A$2,'Table 10'!$A$26:$L$44,4,FALSE)","v":595},{"$f":"VLOOKUP($A$2,'Table 11'!$A$26:$L$44,4,FALSE)","v":600},{"$f":"VLOOKUP($A$2,'Table 12'!$A$26:$L$44,4,FALSE)","v":600},{"$f":"VLOOKUP($A$2,'Table 13'!$A$26:$L$44,4,FALSE)","v":625},{"$f":"VLOOKUP($A$2,'Table 14'!$A$26:$L$44,4,FALSE)","v":650},null,"Median",0,0,0,8.4033613445377853E-3,0,4.1666666666666741E-2,{"$f":"I53/H53-1","v":4.0000000000000036E-2},{"$f":"I53/B53-1","v":9.243697478991586E-2}]
["Mean",{"$f":"VLOOKUP($A$2,'Table 7'!$A$26:$L$44,5,FALSE)","v":626.88},{"$f":"VLOOKUP($A$2,'Table 8'!$A$26:$L$44,5,FALSE)","v":618.54},{"$f":"VLOOKUP($A$2,'Table 9'!$A$26:$L$44,5,FALSE)","v":625.94000000000005},{"$f":"VLOOKUP($A$2,'Table 10'!$A$26:$L$44,5,FALSE)","v":615.73},{"$f":"VLOOKUP($A$2,'Table 11'!$A$26:$L$44,5,FALSE)","v":617.05999999999995},{"$f":"VLOOKUP($A$2,'Table 12'!$A$26:$L$44,5,FALSE)","v":634.01},{"$f":"VLOOKUP($A$2,'Table 13'!$A$26:$L$44,5,FALSE)","v":636.58000000000004},{"$f":"VLOOKUP($A$2,'Table 14'!$A$26:$L$44,5,FALSE)","v":661.52},null,"Mean",-1.3303981623277283E-2,1.1963656352055096E-2,-1.6311467552800663E-2,2.1600376788526443E-3,2.7468965740770734E-2,4.05356382391453E-3,3.9178108014703561E-2,5.5257784583971459E-2]
["Upper Quartile",{"$f":"VLOOKUP($A$2,'Table 7'!$A$26:$L$44,6,FALSE)","v":675},{"$f":"VLOOKUP($A$2,'Table 8'!$A$26:$L$44,6,FALSE)","v":675},{"$f":"VLOOKUP($A$2,'Table 9'!$A$26:$L$44,6,FALSE)","v":695},{"$f":"VLOOKUP($A$2,'Table 10'!$A$26:$L$44,6,FALSE)","v":695},{"$f":"VLOOKUP($A$2,'Table 11'!$A$26:$L$44,6,FALSE)","v":670},{"$f":"VLOOKUP($A$2,'Table 12'!$A$26:$L$44,6,FALSE)","v":695},{"$f":"VLOOKUP($A$2,'Table 13'!$A$26:$L$44,6,FALSE)","v":695},{"$f":"VLOOKUP($A$2,'Table 14'!$A$26:$L$44,6,FALSE)","v":725},null,"Upper Quartile",0,2.9629629629629672E-2,0,-3.5971223021582732E-2,3.7313432835820892E-2,0,4.3165467625899234E-2,7.4074074074074181E-2]
[]
[]
[]
[]
[]
[]
[]
[]
[]
[]
[]
[]
[]
[]
[]
[]
[]
["4 Bedroom Properties:",null,null,null,null,null,null,null,null,null,"4 Bedroom Properties - Annual changes and 6-yr cumulative change:"]
[null,2010,2011,2012,2013,2014,2015,2016,2017,null," ","2010 to 2011","2011 to 2012","2012 to 2013","2013 to 2014","2014 to 2015","2015 to 2016","2016 to 2017","2010 to 2017"]
["Lower Quartile",{"$f":"VLOOKUP($A$2,'Table 7'!$A$26:$L$44,9,FALSE)","v":750},{"$f":"VLOOKUP($A$2,'Table 8'!$A$26:$L$44,9,FALSE)","v":750},{"$f":"VLOOKUP($A$2,'Table 9'!$A$26:$L$44,9,FALSE)","v":795},{"$f":"VLOOKUP($A$2,'Table 10'!$A$26:$L$44,9,FALSE)","v":750},{"$f":"VLOOKUP($A$2,'Table 11'!$A$26:$L$44,9,FALSE)","v":800},{"$f":"VLOOKUP($A$2,'Table 12'!$A$26:$L$44,9,FALSE)","v":825},{"$f":"VLOOKUP($A$2,'Table 13'!$A$26:$L$44,9,FALSE)","v":812.5},{"$f":"VLOOKUP($A$2,'Table 14'!$A$26:$L$44,9,FALSE)","v":895},null,"Lower Quartile",{"$f":"C75/B75-1","v":0},6.0000000000000053E-2,-5.6603773584905648E-2,6.6666666666666652E-2,3.125E-2,{"$f":"H75/G75-1","v":-1.5151515151515138E-2},{"$f":"I75/H75-1","v":0.10153846153846158},{"$f":"I75/B75-1","v":0.19333333333333336}]
["Median",{"$f":"VLOOKUP($A$2,'Table 7'!$A$26:$L$44,10,FALSE)","v":849.5},{"$f":"VLOOKUP($A$2,'Table 8'!$A$26:$L$44,10,FALSE)","v":850},{"$f":"VLOOKUP($A$2,'Table 9'!$A$26:$L$44,10,FALSE)","v":885},{"$f":"VLOOKUP($A$2,'Table 10'!$A$26:$L$44,10,FALSE)","v":847.5},{"$f":"VLOOKUP($A$2,'Table 11'!$A$26:$L$44,10,FALSE)","v":925},{"$f":"VLOOKUP($A$2,'Table 12'!$A$26:$L$44,10,FALSE)","v":970},{"$f":"VLOOKUP($A$2,'Table 13'!$A$26:$L$44,10,FALSE)","v":900},{"$f":"VLOOKUP($A$2,'Table 14'!$A$26:$L$44,10,FALSE)","v":1100},null,"Median",5.8858151854024321E-4,4.117647058823537E-2,-4.2372881355932202E-2,9.1445427728613637E-2,4.8648648648648596E-2,-7.2164948453608213E-2,{"$f":"I76/H76-1","v":0.22222222222222232},{"$f":"I76/B76-1","v":0.29487934078869915}]
["Mean",{"$f":"VLOOKUP($A$2,'Table 7'!$A$26:$L$44,11,FALSE)","v":924.21},{"$f":"VLOOKUP($A$2,'Table 8'!$A$26:$L$44,11,FALSE)","v":925.78},{"$f":"VLOOKUP($A$2,'Table 9'!$A$26:$L$44,11,FALSE)","v":956.99},{"$f":"VLOOKUP($A$2,'Table 10'!$A$26:$L$44,11,FALSE)","v":893.4},{"$f":"VLOOKUP($A$2,'Table 11'!$A$26:$L$44,11,FALSE)","v":976.84},{"$f":"VLOOKUP($A$2,'Table 12'!$A$26:$L$44,11,FALSE)","v":1042.67},{"$f":"VLOOKUP($A$2,'Table 13'!$A$26:$L$44,11,FALSE)","v":1022.17},{"$f":"VLOOKUP($A$2,'Table 14'!$A$26:$L$44,11,FALSE)","v":1096.76},null,"Mean",1.6987481200159138E-3,3.3712113029013446E-2,-6.6447925265676777E-2,9.3396015222744655E-2,6.7390770238729081E-2,-1.9661062464634171E-2,7.2972206188794519E-2,0.1866999924259638]
["Upper Quartile",{"$f":"VLOOKUP($A$2,'Table 7'!$A$26:$L$44,12,FALSE)","v":900},{"$f":"VLOOKUP($A$2,'Table 8'!$A$26:$L$44,12,FALSE)","v":995},{"$f":"VLOOKUP($A$2,'Table 9'!$A$26:$L$44,12,FALSE)","v":995},{"$f":"VLOOKUP($A$2,'Table 10'!$A$26:$L$44,12,FALSE)","v":995},{"$f":"VLOOKUP($A$2,'Table 11'!$A$26:$L$44,12,FALSE)","v":1100},{"$f":"VLOOKUP($A$2,'Table 12'!$A$26:$L$44,12,FALSE)","v":1200},{"$f":"VLOOKUP($A$2,'Table 13'!$A$26:$L$44,12,FALSE)","v":1192.5},{"$f":"VLOOKUP($A$2,'Table 14'!$A$26:$L$44,12,FALSE)","v":1300},null,"Upper Quartile",0.10555555555555562,0,0,0.10552763819095468,9.0909090909090828E-2,-6.2499999999999778E-3,9.0146750524108921E-2,0.44444444444444442]
[]
[]
[]
[]
[]
[]
[]
[]
[]
[]
[]
[]
[]
[]
[]
[]
[]
["1 Bedroom Shared Properties:",null,null,null,null,null,null,null,null,null,"1 Bedroom Shared Properties - Annual changes and 6-yr cumulative change:"]
[null,2010,2011,2012,2013,2014,2015,2016,2017,null," ","2010 to 2011","2011 to 2012","2012 to 2013","2013 to 2014","2014 to 2015","2015 to 2016","2016 to 2017","2010 to 2017"]
["Lower Quartile",{"$f":"VLOOKUP($A$2,'Table 7'!$A$47:$F$65,3,FALSE)","v":299},{"$f":"VLOOKUP($A$2,'Table 8'!$A$47:$F$65,3,FALSE)","v":252.5},{"$f":"VLOOKUP($A$2,'Table 9'!$A$47:$F$65,3,FALSE)","v":260},{"$f":"VLOOKUP($A$2,'Table 10'!$A$47:$F$65,3,FALSE)","v":260},{"$f":"VLOOKUP($A$2,'Table 11'!$A$47:$F$65,3,FALSE)","v":271.66000000000003},{"$f":"VLOOKUP($A$2,'Table 12'!$A$47:$F$65,3,FALSE)","v":275},{"$f":"VLOOKUP($A$2,'Table 13'!$A$47:$F$65,3,FALSE)","v":275},{"$f":"VLOOKUP($A$2,'Table 14'!$A$47:$F$65,3,FALSE)","v":275},null,"Lower Quartile",{"$f":"C98/B98-1","v":-0.15551839464882944},2.9702970297029729E-2,0,4.484615384615398E-2,1.2294780240005743E-2,{"$f":"H98/G98-1","v":0},{"$f":"I98/H98-1","v":0},{"$f":"I98/B98-1","v":-8.026755852842804E-2}]
["Median",{"$f":"VLOOKUP($A$2,'Table 7'!$A$47:$F$65,4,FALSE)","v":300},{"$f":"VLOOKUP($A$2,'Table 8'!$A$47:$F$65,4,FALSE)","v":285},{"$f":"VLOOKUP($A$2,'Table 9'!$A$47:$F$65,4,FALSE)","v":300},{"$f":"VLOOKUP($A$2,'Table 10'!$A$47:$F$65,4,FALSE)","v":300},{"$f":"VLOOKUP($A$2,'Table 11'!$A$47:$F$65,4,FALSE)","v":300},{"$f":"VLOOKUP($A$2,'Table 12'!$A$47:$F$65,4,FALSE)","v":325},{"$f":"VLOOKUP($A$2,'Table 13'!$A$47:$F$65,4,FALSE)","v":309.68},{"$f":"VLOOKUP($A$2,'Table 14'!$A$47:$F$65,4,FALSE)","v":325},null,"Median",-5.0000000000000044E-2,5.2631578947368363E-2,0,0,8.3333333333333259E-2,-4.7138461538461462E-2,{"$f":"I99/H99-1","v":4.9470421079824245E-2},{"$f":"I99/B99-1","v":8.3333333333333259E-2}]
["Mean",{"$f":"VLOOKUP($A$2,'Table 7'!$A$47:$F$65,5,FALSE)","v":309.07},{"$f":"VLOOKUP($A$2,'Table 8'!$A$47:$F$65,5,FALSE)","v":290.62},{"$f":"VLOOKUP($A$2,'Table 9'!$A$47:$F$65,5,FALSE)","v":304},{"$f":"VLOOKUP($A$2,'Table 10'!$A$47:$F$65,5,FALSE)","v":292.51},{"$f":"VLOOKUP($A$2,'Table 11'!$A$47:$F$65,5,FALSE)","v":302.57},{"$f":"VLOOKUP($A$2,'Table 12'!$A$47:$F$65,5,FALSE)","v":325.39},{"$f":"VLOOKUP($A$2,'Table 13'!$A$47:$F$65,5,FALSE)","v":315.10000000000002},{"$f":"VLOOKUP($A$2,'Table 14'!$A$47:$F$65,5,FALSE)","v":371.17},null,"Mean",-5.9695214676286912E-2,4.6039501754868928E-2,-3.7796052631578925E-2,3.4391986598748758E-2,7.5420563836467558E-2,-3.1623590153354364E-2,0.17794350999682629,0.20092535671530731]
["Upper Quartile",{"$f":"VLOOKUP($A$2,'Table 7'!$A$47:$F$65,6,FALSE)","v":320.67},{"$f":"VLOOKUP($A$2,'Table 8'!$A$47:$F$65,6,FALSE)","v":303},{"$f":"VLOOKUP($A$2,'Table 9'!$A$47:$F$65,6,FALSE)","v":320},{"$f":"VLOOKUP($A$2,'Table 10'!$A$47:$F$65,6,FALSE)","v":317.5},{"$f":"VLOOKUP($A$2,'Table 11'!$A$47:$F$65,6,FALSE)","v":325},{"$f":"VLOOKUP($A$2,'Table 12'!$A$47:$F$65,6,FALSE)","v":359.52},{"$f":"VLOOKUP($A$2,'Table 13'!$A$47:$F$65,6,FALSE)","v":350},{"$f":"VLOOKUP($A$2,'Table 14'!$A$47:$F$65,6,FALSE)","v":405},null,"Upper Quartile",-5.510337730377024E-2,5.6105610561056007E-2,-7.8125E-3,2.3622047244094446E-2,0.1062153846153846,-2.6479750778816147E-2,0.15714285714285725,0.26298063429694074]
[]
[]
[]
[]
[]
[]
[]
[]
[]
[]
[]
[]
[]
[]
[]
[]
[]
["Mean Rents by Property Size:",null,null,null,null,null,null,null,null,null,"Median Rents by Property Size:"]
[null,2010,2011,2012,2013,2014,2015,2016,2017,null,null,2010,2011,2012,2013,2014,2015,2016,2017]
["1 Bedroom Shared",{"$f":"B100","v":309.07},290.62,304,292.51,302.57,325.39,315.10000000000002,371.17,null,"1 Bedroom Shared",{"$f":"B99","v":300},285,300,300,300,325,309.68,325]
["1 Bedroom ",{"$f":"B8","v":382.47},384.89,379,375.26,379.54,384.36,381,391.49,null,"1 Bedroom ",{"$f":"B7","v":375},375,375,375,375,380,375,395]
["2 Bedrooms",{"$f":"B31","v":480.55},492.1,485.26,490.7,494.06,497.05,500.05,520.08000000000004,null,"2 Bedrooms",{"$f":"B30","v":460},475,475,475,475,475,475,495]
["3 Bedrooms",{"$f":"B54","v":626.88},618.54,625.94000000000005,615.73,617.05999999999995,634.01,636.58000000000004,661.52,null,"3 Bedrooms",{"$f":"B53","v":595},595,595,595,600,600,625,650]
["4 Bedrooms",{"$f":"B77","v":924.21},925.78,956.99,893.4,976.84,1042.67,1022.17,1096.76,null,"4 Bedrooms",{"$f":"B76","v":849.5},850,885,847.5,925,970,900,1100]
[]
[]
[]
[]
[]
[]
[]
[]
[]
[]
[]
[]
[]
[]
[]
[]
[]
["Sample Sizes:",null,null,null,null,null,null,null,null,null,"Sample Proportions:"]
[null,2010,2011,2012,2013,2014,2015,2016,2017,null,null,2010,2011,2012,2013,2014,2015,2016,2017]
["1 Bedroom ",{"$f":"VLOOKUP($A$2,'Table 7'!$A$5:$L$23,2,FALSE)","v":302},{"$f":"VLOOKUP($A$2,'Table 8'!$A$5:$L$23,2,FALSE)","v":272},{"$f":"VLOOKUP($A$2,'Table 9'!$A$5:$L$23,2,FALSE)","v":246},{"$f":"VLOOKUP($A$2,'Table 10'!$A$5:$L$23,2,FALSE)","v":245},{"$f":"VLOOKUP($A$2,'Table 11'!$A$5:$L$23,2,FALSE)","v":188},{"$f":"VLOOKUP($A$2,'Table 12'!$A$5:$L$23,2,FALSE)","v":192},{"$f":"VLOOKUP($A$2,'Table 13'!$A$5:$L$23,2,FALSE)","v":223},{"$f":"VLOOKUP($A$2,'Table 14'!$A$5:$L$23,2,FALSE)","v":295},null,"1 Bedroom ",{"$f":"B145/SUM(B$145:B$149)","v":0.21016005567153792},{"$f":"C145/SUM(C$145:C$149)","v":0.18230563002680966},0.1800878477306003,0.20065520065520065,0.18762475049900199,0.1914257228315055,0.21504339440694312,0.24624373956594323]
["2 Bedrooms",{"$f":"VLOOKUP($A$2,'Table 7'!$A$5:$L$23,8,FALSE)","v":665},{"$f":"VLOOKUP($A$2,'Table 8'!$A$5:$L$23,8,FALSE)","v":657},{"$f":"VLOOKUP($A$2,'Table 9'!$A$5:$L$23,8,FALSE)","v":597},{"$f":"VLOOKUP($A$2,'Table 10'!$A$5:$L$23,8,FALSE)","v":565},{"$f":"VLOOKUP($A$2,'Table 11'!$A$5:$L$23,8,FALSE)","v":468},{"$f":"VLOOKUP($A$2,'Table 12'!$A$5:$L$23,8,FALSE)","v":503},{"$f":"VLOOKUP($A$2,'Table 13'!$A$5:$L$23,8,FALSE)","v":489},{"$f":"VLOOKUP($A$2,'Table 14'!$A$5:$L$23,8,FALSE)","v":458},null,"2 Bedrooms",{"$f":"B146/SUM(B$145:B$149)","v":0.4627696590118302},0.44034852546916892,0.43704245973645683,0.46273546273546273,0.46706586826347307,0.50149551345962118,0.47155255544840885,0.38230383973288817]
["3 Bedrooms",{"$f":"VLOOKUP($A$2,'Table 7'!$A$26:$L$44,2,FALSE)","v":279},{"$f":"VLOOKUP($A$2,'Table 8'!$A$26:$L$44,2,FALSE)","v":374},{"$f":"VLOOKUP($A$2,'Table 9'!$A$26:$L$44,2,FALSE)","v":299},{"$f":"VLOOKUP($A$2,'Table 10'!$A$26:$L$44,2,FALSE)","v":251},{"$f":"VLOOKUP($A$2,'Table 11'!$A$26:$L$44,2,FALSE)","v":202},{"$f":"VLOOKUP($A$2,'Table 12'!$A$26:$L$44,2,FALSE)","v":181},{"$f":"VLOOKUP($A$2,'Table 13'!$A$26:$L$44,2,FALSE)","v":199},{"$f":"VLOOKUP($A$2,'Table 14'!$A$26:$L$44,2,FALSE)","v":247},null,"3 Bedrooms",{"$f":"B147/SUM(B$145:B$149)","v":0.19415448851774531},0.25067024128686327,0.21888726207906295,0.20556920556920558,0.20159680638722555,0.18045862412761715,0.1918997107039537,0.20617696160267113]
["4 Bedrooms",{"$f":"VLOOKUP($A$2,'Table 7'!$A$26:$L$44,8,FALSE)","v":144},{"$f":"VLOOKUP($A$2,'Table 8'!$A$26:$L$44,8,FALSE)","v":121},{"$f":"VLOOKUP($A$2,'Table 9'!$A$26:$L$44,8,FALSE)","v":158},{"$f":"VLOOKUP($A$2,'Table 10'!$A$26:$L$44,8,FALSE)","v":92},{"$f":"VLOOKUP($A$2,'Table 11'!$A$26:$L$44,8,FALSE)","v":70},{"$f":"VLOOKUP($A$2,'Table 12'!$A$26:$L$44,8,FALSE)","v":60},{"$f":"VLOOKUP($A$2,'Table 13'!$A$26:$L$44,8,FALSE)","v":60},{"$f":"VLOOKUP($A$2,'Table 14'!$A$26:$L$44,8,FALSE)","v":91},null,"4 Bedrooms",{"$f":"B148/SUM(B$145:B$149)","v":0.10020876826722339},8.1099195710455763E-2,0.11566617862371889,7.5348075348075347E-2,6.9860279441117765E-2,5.9820538384845461E-2,5.7859209257473482E-2,7.595993322203673E-2]
["1 Bedroom Shared",{"$f":"VLOOKUP($A$2,'Table 7'!$A$47:$L$65,2,FALSE)","v":47},{"$f":"VLOOKUP($A$2,'Table 8'!$A$47:$L$65,2,FALSE)","v":68},{"$f":"VLOOKUP($A$2,'Table 9'!$A$47:$L$65,2,FALSE)","v":66},{"$f":"VLOOKUP($A$2,'Table 10'!$A$47:$L$65,2,FALSE)","v":68},{"$f":"VLOOKUP($A$2,'Table 11'!$A$47:$L$65,2,FALSE)","v":74},{"$f":"VLOOKUP($A$2,'Table 12'!$A$47:$L$65,2,FALSE)","v":67},{"$f":"VLOOKUP($A$2,'Table 13'!$A$47:$L$65,2,FALSE)","v":66},{"$f":"VLOOKUP($A$2,'Table 14'!$A$47:$L$65,2,FALSE)","v":107},null,"1 Bedroom Shared",{"$f":"B149/SUM(B$145:B$149)","v":3.2707028531663185E-2},4.5576407506702415E-2,4.8316251830161056E-2,5.5692055692055695E-2,7.3852295409181631E-2,6.6799601196410763E-2,6.3645130183220835E-2,8.9315525876460772E-2]

{"sheet":"NEW BRMA PROFILE MASTER","index":46,"n_rows":74,"n_cols":34,"rows_kept":74,"cut":false,"hidden":true,"merged":[[53,13,53,15],[1,1,1,3],[49,13,49,15],[50,13,50,15],[51,13,51,15],[52,13,52,15]]}
[null,"BRMA:"]
[null,"West Lothian"]
[]
[null,"1 Bedroom Properties - Quartile Measures, years to end Sept, (£ monthly):",null,null,null,null,null,null,null,null,null,null,null,"2 Bedroom Properties - Quartile Measures, years to end Sept, (£ monthly):"]
[null,null,2010,2011,2012,2013,2014,2015,2016,2017,"2016 to 2017","2010 to 2017",null,null,2010,2011,2012,2013,2014,2015,2016,2017,"2016 to 2017","2010 to 2017"]
[null,"Lower Quartile",{"$f":"VLOOKUP($B$2,'Table 7'!$A$5:$L$23,3,FALSE)","v":400},{"$f":"VLOOKUP($B$2,'Table 8'!$A$5:$L$23,3,FALSE)","v":425},{"$f":"VLOOKUP($B$2,'Table 9'!$A$5:$L$23,3,FALSE)","v":425},{"$f":"VLOOKUP($B$2,'Table 10'!$A$5:$L$23,3,FALSE)","v":400},{"$f":"VLOOKUP($B$2,'Table 11'!$A$5:$L$23,3,FALSE)","v":425},{"$f":"VLOOKUP($B$2,'Table 12'!$A$5:$L$23,3,FALSE)","v":425},{"$f":"VLOOKUP($B$2,'Table 13'!$A$5:$L$23,3,FALSE)","v":450},{"$f":"VLOOKUP($B$2,'Table 14'!$A$5:$L$23,3,FALSE)","v":450},{"$f":"J6/I6-1","v":0},{"$f":"J6/C6-1","v":0.125},null,"Lower Quartile",{"$f":"VLOOKUP($B$2,'Table 7'!$A$5:$L$23,9,FALSE)","v":500},{"$f":"VLOOKUP($B$2,'Table 8'!$A$5:$L$23,9,FALSE)","v":495},{"$f":"VLOOKUP($B$2,'Table 9'!$A$5:$L$23,9,FALSE)","v":495},{"$f":"VLOOKUP($B$2,'Table 10'!$A$5:$L$23,9,FALSE)","v":500},{"$f":"VLOOKUP($B$2,'Table 11'!$A$5:$L$23,9,FALSE)","v":500},{"$f":"VLOOKUP($B$2,'Table 12'!$A$5:$L$23,9,FALSE)","v":525},{"$f":"VLOOKUP($B$2,'Table 13'!$A$5:$L$23,9,FALSE)","v":550},{"$f":"VLOOKUP($B$2,'Table 14'!$A$5:$L$23,9,FALSE)","v":560},{"$f":"V6/U6-1","v":1.8181818181818077E-2},{"$f":"V6/O6-1","v":0.12000000000000011}]
[null,"Median",{"$f":"VLOOKUP($B$2,'Table 7'!$A$5:$L$23,4,FALSE)","v":425},{"$f":"VLOOKUP($B$2,'Table 8'!$A$5:$L$23,4,FALSE)","v":435},{"$f":"VLOOKUP($B$2,'Table 9'!$A$5:$L$23,4,FALSE)","v":435},{"$f":"VLOOKUP($B$2,'Table 10'!$A$5:$L$23,4,FALSE)","v":435},{"$f":"VLOOKUP($B$2,'Table 11'!$A$5:$L$23,4,FALSE)","v":450},{"$f":"VLOOKUP($B$2,'Table 12'!$A$5:$L$23,4,FALSE)","v":450},{"$f":"VLOOKUP($B$2,'Table 13'!$A$5:$L$23,4,FALSE)","v":475},{"$f":"VLOOKUP($B$2,'Table 14'!$A$5:$L$23,4,FALSE)","v":480},{"$f":"J7/I7-1","v":1.0526315789473717E-2},{"$f":"J7/C7-1","v":0.12941176470588234},null,"Median",{"$f":"VLOOKUP($B$2,'Table 7'!$A$5:$L$23,10,FALSE)","v":525},{"$f":"VLOOKUP($B$2,'Table 8'!$A$5:$L$23,10,FALSE)","v":525},{"$f":"VLOOKUP($B$2,'Table 9'!$A$5:$L$23,10,FALSE)","v":525},{"$f":"VLOOKUP($B$2,'Table 10'!$A$5:$L$23,10,FALSE)","v":529},{"$f":"VLOOKUP($B$2,'Table 11'!$A$5:$L$23,10,FALSE)","v":542.5},{"$f":"VLOOKUP($B$2,'Table 12'!$A$5:$L$23,10,FALSE)","v":550},{"$f":"VLOOKUP($B$2,'Table 13'!$A$5:$L$23,10,FALSE)","v":575},{"$f":"VLOOKUP($B$2,'Table 14'!$A$5:$L$23,10,FALSE)","v":595},{"$f":"V7/U7-1","v":3.4782608695652195E-2},{"$f":"V7/O7-1","v":0.1333333333333333}]
[null,"Mean",{"$f":"VLOOKUP($B$2,'Table 7'!$A$5:$L$23,5,FALSE)","v":428.18},{"$f":"VLOOKUP($B$2,'Table 8'!$A$5:$L$23,5,FALSE)","v":435.58},{"$f":"VLOOKUP($B$2,'Table 9'!$A$5:$L$23,5,FALSE)","v":435.6},{"$f":"VLOOKUP($B$2,'Table 10'!$A$5:$L$23,5,FALSE)","v":433.11},{"$f":"VLOOKUP($B$2,'Table 11'!$A$5:$L$23,5,FALSE)","v":448.15},{"$f":"VLOOKUP($B$2,'Table 12'!$A$5:$L$23,5,FALSE)","v":445.29},{"$f":"VLOOKUP($B$2,'Table 13'!$A$5:$L$23,5,FALSE)","v":469.89},{"$f":"VLOOKUP($B$2,'Table 14'!$A$5:$L$23,5,FALSE)","v":477.15},1.5450424567452048E-2,0.11436778924751256,null,"Mean",{"$f":"VLOOKUP($B$2,'Table 7'!$A$5:$L$23,11,FALSE)","v":527.37},{"$f":"VLOOKUP($B$2,'Table 8'!$A$5:$L$23,11,FALSE)","v":525.86},{"$f":"VLOOKUP($B$2,'Table 9'!$A$5:$L$23,11,FALSE)","v":527.74},{"$f":"VLOOKUP($B$2,'Table 10'!$A$5:$L$23,11,FALSE)","v":536.71},{"$f":"VLOOKUP($B$2,'Table 11'!$A$5:$L$23,11,FALSE)","v":542.6},{"$f":"VLOOKUP($B$2,'Table 12'!$A$5:$L$23,11,FALSE)","v":559.54},{"$f":"VLOOKUP($B$2,'Table 13'!$A$5:$L$23,11,FALSE)","v":577.79999999999995},{"$f":"VLOOKUP($B$2,'Table 14'!$A$5:$L$23,11,FALSE)","v":598.79},3.6327448944271312E-2,0.13542674023930057]
[null,"Upper Quartile",{"$f":"VLOOKUP($B$2,'Table 7'!$A$5:$L$23,6,FALSE)","v":450},{"$f":"VLOOKUP($B$2,'Table 8'!$A$5:$L$23,6,FALSE)","v":450},{"$f":"VLOOKUP($B$2,'Table 9'!$A$5:$L$23,6,FALSE)","v":450},{"$f":"VLOOKUP($B$2,'Table 10'!$A$5:$L$23,6,FALSE)","v":450},{"$f":"VLOOKUP($B$2,'Table 11'!$A$5:$L$23,6,FALSE)","v":475},{"$f":"VLOOKUP($B$2,'Table 12'!$A$5:$L$23,6,FALSE)","v":475},{"$f":"VLOOKUP($B$2,'Table 13'!$A$5:$L$23,6,FALSE)","v":495},{"$f":"VLOOKUP($B$2,'Table 14'!$A$5:$L$23,6,FALSE)","v":500},1.0101010101010166E-2,0.11111111111111116,null,"Upper Quartile",{"$f":"VLOOKUP($B$2,'Table 7'!$A$5:$L$23,12,FALSE)","v":550},{"$f":"VLOOKUP($B$2,'Table 8'!$A$5:$L$23,12,FALSE)","v":550},{"$f":"VLOOKUP($B$2,'Table 9'!$A$5:$L$23,12,FALSE)","v":550},{"$f":"VLOOKUP($B$2,'Table 10'!$A$5:$L$23,12,FALSE)","v":558},{"$f":"VLOOKUP($B$2,'Table 11'!$A$5:$L$23,12,FALSE)","v":575},{"$f":"VLOOKUP($B$2,'Table 12'!$A$5:$L$23,12,FALSE)","v":595},{"$f":"VLOOKUP($B$2,'Table 13'!$A$5:$L$23,12,FALSE)","v":600},{"$f":"VLOOKUP($B$2,'Table 14'!$A$5:$L$23,12,FALSE)","v":642.5},7.0833333333333304E-2,0.16818181818181821]
[]
[]
[]
[]
[]
[]
[]
[]
[]
[]
[]
[]
[]
[]
[]
[]
[null,"3 Bedroom Properties - Quartile Measures, years to end Sept, (£ monthly):",null,null,null,null,null,null,null,null,null,null,null,"4 Bedroom Properties - Quartile Measures, years to end Sept, (£ monthly):"]
[null,null,2010,2011,2012,2013,2014,2015,2016,2017,"2016 to 2017","2010 to 2017",null,null,2010,2011,2012,2013,2014,2015,2016,2017,"2016 to 2017","2010 to 2017"]
[null,"Lower Quartile",{"$f":"VLOOKUP($B$2,'Table 7'!$A$26:$L$44,3,FALSE)","v":550},{"$f":"VLOOKUP($B$2,'Table 8'!$A$26:$L$44,3,FALSE)","v":575},{"$f":"VLOOKUP($B$2,'Table 9'!$A$26:$L$44,3,FALSE)","v":560},{"$f":"VLOOKUP($B$2,'Table 10'!$A$26:$L$44,3,FALSE)","v":558},{"$f":"VLOOKUP($B$2,'Table 11'!$A$26:$L$44,3,FALSE)","v":575},{"$f":"VLOOKUP($B$2,'Table 12'!$A$26:$L$44,3,FALSE)","v":600},{"$f":"VLOOKUP($B$2,'Table 13'!$A$26:$L$44,3,FALSE)","v":600},{"$f":"VLOOKUP($B$2,'Table 14'!$A$26:$L$44,3,FALSE)","v":625},{"$f":"J28/I28-1","v":4.1666666666666741E-2},{"$f":"J28/C28-1","v":0.13636363636363646},null,"Lower Quartile",{"$f":"VLOOKUP($B$2,'Table 7'!$A$26:$L$44,9,FALSE)","v":750},{"$f":"VLOOKUP($B$2,'Table 8'!$A$26:$L$44,9,FALSE)","v":745},{"$f":"VLOOKUP($B$2,'Table 9'!$A$26:$L$44,9,FALSE)","v":750},{"$f":"VLOOKUP($B$2,'Table 10'!$A$26:$L$44,9,FALSE)","v":795},{"$f":"VLOOKUP($B$2,'Table 11'!$A$26:$L$44,9,FALSE)","v":795},{"$f":"VLOOKUP($B$2,'Table 12'!$A$26:$L$44,9,FALSE)","v":810},{"$f":"VLOOKUP($B$2,'Table 13'!$A$26:$L$44,9,FALSE)","v":825},{"$f":"VLOOKUP($B$2,'Table 14'!$A$26:$L$44,9,FALSE)","v":862.5},{"$f":"V28/U28-1","v":4.5454545454545414E-2},{"$f":"V28/O28-1","v":0.14999999999999991}]
[null,"Median",{"$f":"VLOOKUP($B$2,'Table 7'!$A$26:$L$44,4,FALSE)","v":600},{"$f":"VLOOKUP($B$2,'Table 8'!$A$26:$L$44,4,FALSE)","v":600},{"$f":"VLOOKUP($B$2,'Table 9'!$A$26:$L$44,4,FALSE)","v":599},{"$f":"VLOOKUP($B$2,'Table 10'!$A$26:$L$44,4,FALSE)","v":608},{"$f":"VLOOKUP($B$2,'Table 11'!$A$26:$L$44,4,FALSE)","v":625},{"$f":"VLOOKUP($B$2,'Table 12'!$A$26:$L$44,4,FALSE)","v":650},{"$f":"VLOOKUP($B$2,'Table 13'!$A$26:$L$44,4,FALSE)","v":675},{"$f":"VLOOKUP($B$2,'Table 14'!$A$26:$L$44,4,FALSE)","v":695},{"$f":"J29/I29-1","v":2.9629629629629672E-2},{"$f":"J29/C29-1","v":0.15833333333333344},null,"Median",{"$f":"VLOOKUP($B$2,'Table 7'!$A$26:$L$44,10,FALSE)","v":825},{"$f":"VLOOKUP($B$2,'Table 8'!$A$26:$L$44,10,FALSE)","v":800},{"$f":"VLOOKUP($B$2,'Table 9'!$A$26:$L$44,10,FALSE)","v":850},{"$f":"VLOOKUP($B$2,'Table 10'!$A$26:$L$44,10,FALSE)","v":850},{"$f":"VLOOKUP($B$2,'Table 11'!$A$26:$L$44,10,FALSE)","v":862.5},{"$f":"VLOOKUP($B$2,'Table 12'!$A$26:$L$44,10,FALSE)","v":935},{"$f":"VLOOKUP($B$2,'Table 13'!$A$26:$L$44,10,FALSE)","v":895},{"$f":"VLOOKUP($B$2,'Table 14'!$A$26:$L$44,10,FALSE)","v":950},{"$f":"V29/U29-1","v":6.1452513966480549E-2},{"$f":"V29/O29-1","v":0.1515151515151516}]
[null,"Mean",{"$f":"VLOOKUP($B$2,'Table 7'!$A$26:$L$44,5,FALSE)","v":615.97},{"$f":"VLOOKUP($B$2,'Table 8'!$A$26:$L$44,5,FALSE)","v":619.26},{"$f":"VLOOKUP($B$2,'Table 9'!$A$26:$L$44,5,FALSE)","v":624.25},{"$f":"VLOOKUP($B$2,'Table 10'!$A$26:$L$44,5,FALSE)","v":623.23},{"$f":"VLOOKUP($B$2,'Table 11'!$A$26:$L$44,5,FALSE)","v":636.77},{"$f":"VLOOKUP($B$2,'Table 12'!$A$26:$L$44,5,FALSE)","v":673.9},{"$f":"VLOOKUP($B$2,'Table 13'!$A$26:$L$44,5,FALSE)","v":690.52},{"$f":"VLOOKUP($B$2,'Table 14'!$A$26:$L$44,5,FALSE)","v":708.53},2.6081793431037559E-2,0.15026705846063915,null,"Mean",{"$f":"VLOOKUP($B$2,'Table 7'!$A$26:$L$44,11,FALSE)","v":834.19},{"$f":"VLOOKUP($B$2,'Table 8'!$A$26:$L$44,11,FALSE)","v":796.42},{"$f":"VLOOKUP($B$2,'Table 9'!$A$26:$L$44,11,FALSE)","v":856.56},{"$f":"VLOOKUP($B$2,'Table 10'!$A$26:$L$44,11,FALSE)","v":870.95},{"$f":"VLOOKUP($B$2,'Table 11'!$A$26:$L$44,11,FALSE)","v":889.07},{"$f":"VLOOKUP($B$2,'Table 12'!$A$26:$L$44,11,FALSE)","v":936.17},{"$f":"VLOOKUP($B$2,'Table 13'!$A$26:$L$44,11,FALSE)","v":920.33},{"$f":"VLOOKUP($B$2,'Table 14'!$A$26:$L$44,11,FALSE)","v":975.1},5.9511262264622555E-2,0.16891835193421167]
[null,"Upper Quartile",{"$f":"VLOOKUP($B$2,'Table 7'!$A$26:$L$44,6,FALSE)","v":650},{"$f":"VLOOKUP($B$2,'Table 8'!$A$26:$L$44,6,FALSE)","v":650},{"$f":"VLOOKUP($B$2,'Table 9'!$A$26:$L$44,6,FALSE)","v":650},{"$f":"VLOOKUP($B$2,'Table 10'!$A$26:$L$44,6,FALSE)","v":675},{"$f":"VLOOKUP($B$2,'Table 11'!$A$26:$L$44,6,FALSE)","v":675},{"$f":"VLOOKUP($B$2,'Table 12'!$A$26:$L$44,6,FALSE)","v":725},{"$f":"VLOOKUP($B$2,'Table 13'!$A$26:$L$44,6,FALSE)","v":775},{"$f":"VLOOKUP($B$2,'Table 14'!$A$26:$L$44,6,FALSE)","v":775},0,0.19230769230769229,null,"Upper Quartile",{"$f":"VLOOKUP($B$2,'Table 7'!$A$26:$L$44,12,FALSE)","v":875},{"$f":"VLOOKUP($B$2,'Table 8'!$A$26:$L$44,12,FALSE)","v":875},{"$f":"VLOOKUP($B$2,'Table 9'!$A$26:$L$44,12,FALSE)","v":895},{"$f":"VLOOKUP($B$2,'Table 10'!$A$26:$L$44,12,FALSE)","v":940},{"$f":"VLOOKUP($B$2,'Table 11'!$A$26:$L$44,12,FALSE)","v":950},{"$f":"VLOOKUP($B$2,'Table 12'!$A$26:$L$44,12,FALSE)","v":1000},{"$f":"VLOOKUP($B$2,'Table 13'!$A$26:$L$44,12,FALSE)","v":1000},{"$f":"VLOOKUP($B$2,'Table 14'!$A$26:$L$44,12,FALSE)","v":1100},0.10000000000000009,0.25714285714285712]
[]
[]
[]
[]
[]
[]
[]
[]
[]
[]
[]
[]
[]
[]
[]
[]
[null,"1 Bedroom Shared Properties - Quartile Measures, years to end Sept, (£ monthly):",null,null,null,null,null,null,null,null,null,null,null,"Sample Sizes:"]
[null,null,2010,2011,2012,2013,2014,2015,2016,2017,"2016 to 2017","2010 to 2017",null,null,null,null,2010,2011,2012,2013,2014,2015,2016,2017]
[null,"Lower Quartile",{"$f":"VLOOKUP($B$2,'Table 7'!$A$47:$F$65,3,FALSE)","v":240},{"$f":"VLOOKUP($B$2,'Table 8'!$A$47:$F$65,3,FALSE)","v":235},{"$f":"VLOOKUP($B$2,'Table 9'!$A$47:$F$65,3,FALSE)","v":250},{"$f":"VLOOKUP($B$2,'Table 10'!$A$47:$F$65,3,FALSE)","v":250.47},{"$f":"VLOOKUP($B$2,'Table 11'!$A$47:$F$65,3,FALSE)","v":260},{"$f":"VLOOKUP($B$2,'Table 12'!$A$47:$F$65,3,FALSE)","v":250.89},{"$f":"VLOOKUP($B$2,'Table 13'!$A$47:$F$65,3,FALSE)","v":275},{"$f":"VLOOKUP($B$2,'Table 14'!$A$47:$F$65,3,FALSE)","v":275},{"$f":"J50/I50-1","v":0},{"$f":"J50/C50-1","v":0.14583333333333326},null,"1 Bedroom ",null,null,{"$f":"VLOOKUP($B$2,'Table 7'!$A$5:$L$23,2,FALSE)","v":107},{"$f":"VLOOKUP($B$2,'Table 8'!$A$5:$L$23,2,FALSE)","v":104},{"$f":"VLOOKUP($B$2,'Table 9'!$A$5:$L$23,2,FALSE)","v":67},{"$f":"VLOOKUP($B$2,'Table 10'!$A$5:$L$23,2,FALSE)","v":104},{"$f":"VLOOKUP($B$2,'Table 11'!$A$5:$L$23,2,FALSE)","v":96},{"$f":"VLOOKUP($B$2,'Table 12'!$A$5:$L$23,2,FALSE)","v":103},{"$f":"VLOOKUP($B$2,'Table 13'!$A$5:$L$23,2,FALSE)","v":93},{"$f":"VLOOKUP($B$2,'Table 14'!$A$5:$L$23,2,FALSE)","v":103}]
[null,"Median",{"$f":"VLOOKUP($B$2,'Table 7'!$A$47:$F$65,4,FALSE)","v":285},{"$f":"VLOOKUP($B$2,'Table 8'!$A$47:$F$65,4,FALSE)","v":281.67},{"$f":"VLOOKUP($B$2,'Table 9'!$A$47:$F$65,4,FALSE)","v":275},{"$f":"VLOOKUP($B$2,'Table 10'!$A$47:$F$65,4,FALSE)","v":275},{"$f":"VLOOKUP($B$2,'Table 11'!$A$47:$F$65,4,FALSE)","v":285},{"$f":"VLOOKUP($B$2,'Table 12'!$A$47:$F$65,4,FALSE)","v":300},{"$f":"VLOOKUP($B$2,'Table 13'!$A$47:$F$65,4,FALSE)","v":325},{"$f":"VLOOKUP($B$2,'Table 14'!$A$47:$F$65,4,FALSE)","v":325},{"$f":"J51/I51-1","v":0},{"$f":"J51/C51-1","v":0.14035087719298245},null,"2 Bedrooms",null,null,{"$f":"VLOOKUP($B$2,'Table 7'!$A$5:$L$23,8,FALSE)","v":417},{"$f":"VLOOKUP($B$2,'Table 8'!$A$5:$L$23,8,FALSE)","v":362},{"$f":"VLOOKUP($B$2,'Table 9'!$A$5:$L$23,8,FALSE)","v":265},{"$f":"VLOOKUP($B$2,'Table 10'!$A$5:$L$23,8,FALSE)","v":358},{"$f":"VLOOKUP($B$2,'Table 11'!$A$5:$L$23,8,FALSE)","v":338},{"$f":"VLOOKUP($B$2,'Table 12'!$A$5:$L$23,8,FALSE)","v":380},{"$f":"VLOOKUP($B$2,'Table 13'!$A$5:$L$23,8,FALSE)","v":385},{"$f":"VLOOKUP($B$2,'Table 14'!$A$5:$L$23,8,FALSE)","v":396}]
[null,"Mean",{"$f":"VLOOKUP($B$2,'Table 7'!$A$47:$F$65,5,FALSE)","v":278.75},{"$f":"VLOOKUP($B$2,'Table 8'!$A$47:$F$65,5,FALSE)","v":274.61},{"$f":"VLOOKUP($B$2,'Table 9'!$A$47:$F$65,5,FALSE)","v":274.07},{"$f":"VLOOKUP($B$2,'Table 10'!$A$47:$F$65,5,FALSE)","v":287.04000000000002},{"$f":"VLOOKUP($B$2,'Table 11'!$A$47:$F$65,5,FALSE)","v":293.83},{"$f":"VLOOKUP($B$2,'Table 12'!$A$47:$F$65,5,FALSE)","v":298.56},{"$f":"VLOOKUP($B$2,'Table 13'!$A$47:$F$65,5,FALSE)","v":318.32},{"$f":"VLOOKUP($B$2,'Table 14'!$A$47:$F$65,5,FALSE)","v":331.66},4.1907514450867156E-2,0.18981165919282517,null,"3 Bedrooms",null,null,{"$f":"VLOOKUP($B$2,'Table 7'!$A$26:$L$44,2,FALSE)","v":211},{"$f":"VLOOKUP($B$2,'Table 8'!$A$26:$L$44,2,FALSE)","v":219},{"$f":"VLOOKUP($B$2,'Table 9'!$A$26:$L$44,2,FALSE)","v":173},{"$f":"VLOOKUP($B$2,'Table 10'!$A$26:$L$44,2,FALSE)","v":183},{"$f":"VLOOKUP($B$2,'Table 11'!$A$26:$L$44,2,FALSE)","v":143},{"$f":"VLOOKUP($B$2,'Table 12'!$A$26:$L$44,2,FALSE)","v":173},{"$f":"VLOOKUP($B$2,'Table 13'!$A$26:$L$44,2,FALSE)","v":131},{"$f":"VLOOKUP($B$2,'Table 14'!$A$26:$L$44,2,FALSE)","v":133}]
[null,"Upper Quartile",{"$f":"VLOOKUP($B$2,'Table 7'!$A$47:$F$65,6,FALSE)","v":315},{"$f":"VLOOKUP($B$2,'Table 8'!$A$47:$F$65,6,FALSE)","v":304.17},{"$f":"VLOOKUP($B$2,'Table 9'!$A$47:$F$65,6,FALSE)","v":295},{"$f":"VLOOKUP($B$2,'Table 10'!$A$47:$F$65,6,FALSE)","v":325},{"$f":"VLOOKUP($B$2,'Table 11'!$A$47:$F$65,6,FALSE)","v":325},{"$f":"VLOOKUP($B$2,'Table 12'!$A$47:$F$65,6,FALSE)","v":355},{"$f":"VLOOKUP($B$2,'Table 13'!$A$47:$F$65,6,FALSE)","v":359.52},{"$f":"VLOOKUP($B$2,'Table 14'!$A$47:$F$65,6,FALSE)","v":359.52},0,0.14133333333333331,null,"4 Bedrooms",null,null,{"$f":"VLOOKUP($B$2,'Table 7'!$A$26:$L$44,8,FALSE)","v":80},{"$f":"VLOOKUP($B$2,'Table 8'!$A$26:$L$44,8,FALSE)","v":74},{"$f":"VLOOKUP($B$2,'Table 9'!$A$26:$L$44,8,FALSE)","v":62},{"$f":"VLOOKUP($B$2,'Table 10'!$A$26:$L$44,8,FALSE)","v":63},{"$f":"VLOOKUP($B$2,'Table 11'!$A$26:$L$44,8,FALSE)","v":54},{"$f":"VLOOKUP($B$2,'Table 12'!$A$26:$L$44,8,FALSE)","v":60},{"$f":"VLOOKUP($B$2,'Table 13'!$A$26:$L$44,8,FALSE)","v":46},{"$f":"VLOOKUP($B$2,'Table 14'!$A$26:$L$44,8,FALSE)","v":48}]
[null,null,null,null,null,null,null,null,null,null,null,null,null,"1 Bedroom Shared",null,null,{"$f":"VLOOKUP($B$2,'Table 7'!$A$47:$L$65,2,FALSE)","v":41},{"$f":"VLOOKUP($B$2,'Table 8'!$A$47:$L$65,2,FALSE)","v":64},{"$f":"VLOOKUP($B$2,'Table 9'!$A$47:$L$65,2,FALSE)","v":39},{"$f":"VLOOKUP($B$2,'Table 10'!$A$47:$L$65,2,FALSE)","v":65},{"$f":"VLOOKUP($B$2,'Table 11'!$A$47:$L$65,2,FALSE)","v":65},{"$f":"VLOOKUP($B$2,'Table 12'!$A$47:$L$65,2,FALSE)","v":70},{"$f":"VLOOKUP($B$2,'Table 13'!$A$47:$L$65,2,FALSE)","v":70},{"$f":"VLOOKUP($B$2,'Table 14'!$A$47:$L$65,2,FALSE)","v":75}]
[]
[]
[]
[]
[]
[]
[]
[]
[]
[]
[]
[]
[]
[]
[]
[]
[]
[null,null,null,null,null,null,null,null,null,null,null,null,null,null,null,null,null,null,null,null,null,null,null,null,null,null,2010,2011,2012,2013,2014,2015,2016,2017]
[null,null,null,null,null,null,null,null,null,null,null,null,null,null,null,null,null,null,null,null,null,null,null,null,null,"Scotland",{"$f":"'All years 2 bed'!B22","v":536.27},{"$f":"'All years 2 bed'!C22","v":546.41999999999996},{"$f":"'All years 2 bed'!D22","v":552.89},{"$f":"'All years 2 bed'!E22","v":575.84},{"$f":"'All years 2 bed'!F22","v":596.45000000000005},{"$f":"'All years 2 bed'!G22","v":609.52},{"$f":"'All years 2 bed'!H22","v":615.64},{"$f":"'All years 2 bed'!I22","v":642.79999999999995}]
[null,null,null,null,null,null,null,null,null,null,null,null,null,null,null,null,null,null,null,null,null,null,null,null,null,{"$f":"B2","v":"West Lothian"},{"$f":"VLOOKUP($Z$74,'All years 2 bed'!$A$4:$I$21,2,FALSE)","v":527.37},{"$f":"VLOOKUP($Z$74,'All years 2 bed'!$A$4:$I$21,3,FALSE)","v":525.86},{"$f":"VLOOKUP($Z$74,'All years 2 bed'!$A$4:$I$21,4,FALSE)","v":527.74},{"$f":"VLOOKUP($Z$74,'All years 2 bed'!$A$4:$I$21,5,FALSE)","v":536.71},{"$f":"VLOOKUP($Z$74,'All years 2 bed'!$A$4:$I$21,6,FALSE)","v":542.6},{"$f":"VLOOKUP($Z$74,'All years 2 bed'!$A$4:$I$21,7,FALSE)","v":559.54},{"$f":"VLOOKUP($Z$74,'All years 2 bed'!$A$4:$I$21,8,FALSE)","v":577.79999999999995},{"$f":"VLOOKUP($Z$74,'All years 2 bed'!$A$4:$I$21,9,FALSE)","v":598.79}]

{"sheet":"Aberdeen & Shire","index":47,"n_rows":94,"n_cols":43,"rows_kept":94,"cut":false,"hidden":false,"merged":[[73,13,73,15],[1,1,1,3],[69,13,69,15],[70,13,70,15],[71,13,71,15],[72,13,72,15]]}
[null,"BRMA:"]
[null,"Aberdeen and Shire"]
[]
["Back to contents"]
[null,"Broad Rental Market Area Profile: Aberdeen and Shire"]
[]
[]
[]
[]
[]
[]
[]
[]
[]
[]
[]
[]
[]
[]
[]
[]
[]
[]
[null,"1 Bedroom Properties - Quartile Measures, years to end Sept, (£ monthly):",null,null,null,null,null,null,null,null,null,null,null,"2 Bedroom Properties - Quartile Measures, years to end Sept, (£ monthly):"]
[null,null,2010,2011,2012,2013,2014,2015,2016,2017,"2016 to 2017","2010 to 2017",null,null,2010,2011,2012,2013,2014,2015,2016,2017,"2016 to 2017","2010 to 2017"]
[null,"Lower Quartile",{"$f":"VLOOKUP($B$2,'Table 7'!$A$5:$L$23,3,FALSE)","v":500},{"$f":"VLOOKUP($B$2,'Table 8'!$A$5:$L$23,3,FALSE)","v":500},{"$f":"VLOOKUP($B$2,'Table 9'!$A$5:$L$23,3,FALSE)","v":520},{"$f":"VLOOKUP($B$2,'Table 10'!$A$5:$L$23,3,FALSE)","v":550},{"$f":"VLOOKUP($B$2,'Table 11'!$A$5:$L$23,3,FALSE)","v":625},{"$f":"VLOOKUP($B$2,'Table 12'!$A$5:$L$23,3,FALSE)","v":625},{"$f":"VLOOKUP($B$2,'Table 13'!$A$5:$L$23,3,FALSE)","v":510},{"$f":"VLOOKUP($B$2,'Table 14'!$A$5:$L$23,3,FALSE)","v":450},{"$f":"J26/I26-1","v":-0.11764705882352944},{"$f":"J26/C26-1","v":-9.9999999999999978E-2},null,"Lower Quartile",{"$f":"VLOOKUP($B$2,'Table 7'!$A$5:$L$23,9,FALSE)","v":590},{"$f":"VLOOKUP($B$2,'Table 8'!$A$5:$L$23,9,FALSE)","v":600},{"$f":"VLOOKUP($B$2,'Table 9'!$A$5:$L$23,9,FALSE)","v":650},{"$f":"VLOOKUP($B$2,'Table 10'!$A$5:$L$23,9,FALSE)","v":700},{"$f":"VLOOKUP($B$2,'Table 11'!$A$5:$L$23,9,FALSE)","v":795},{"$f":"VLOOKUP($B$2,'Table 12'!$A$5:$L$23,9,FALSE)","v":795},{"$f":"VLOOKUP($B$2,'Table 13'!$A$5:$L$23,9,FALSE)","v":675},{"$f":"VLOOKUP($B$2,'Table 14'!$A$5:$L$23,9,FALSE)","v":600},{"$f":"V26/U26-1","v":-0.11111111111111116},{"$f":"V26/O26-1","v":1.6949152542372836E-2}]
[null,"Median",{"$f":"VLOOKUP($B$2,'Table 7'!$A$5:$L$23,4,FALSE)","v":525},{"$f":"VLOOKUP($B$2,'Table 8'!$A$5:$L$23,4,FALSE)","v":550},{"$f":"VLOOKUP($B$2,'Table 9'!$A$5:$L$23,4,FALSE)","v":550},{"$f":"VLOOKUP($B$2,'Table 10'!$A$5:$L$23,4,FALSE)","v":600},{"$f":"VLOOKUP($B$2,'Table 11'!$A$5:$L$23,4,FALSE)","v":650},{"$f":"VLOOKUP($B$2,'Table 12'!$A$5:$L$23,4,FALSE)","v":675},{"$f":"VLOOKUP($B$2,'Table 13'!$A$5:$L$23,4,FALSE)","v":550},{"$f":"VLOOKUP($B$2,'Table 14'!$A$5:$L$23,4,FALSE)","v":500},{"$f":"J27/I27-1","v":-9.0909090909090939E-2},{"$f":"J27/C27-1","v":-4.7619047619047672E-2},null,"Median",{"$f":"VLOOKUP($B$2,'Table 7'!$A$5:$L$23,10,FALSE)","v":650},{"$f":"VLOOKUP($B$2,'Table 8'!$A$5:$L$23,10,FALSE)","v":695},{"$f":"VLOOKUP($B$2,'Table 9'!$A$5:$L$23,10,FALSE)","v":700},{"$f":"VLOOKUP($B$2,'Table 10'!$A$5:$L$23,10,FALSE)","v":800},{"$f":"VLOOKUP($B$2,'Table 11'!$A$5:$L$23,10,FALSE)","v":875},{"$f":"VLOOKUP($B$2,'Table 12'!$A$5:$L$23,10,FALSE)","v":875},{"$f":"VLOOKUP($B$2,'Table 13'!$A$5:$L$23,10,FALSE)","v":750},{"$f":"VLOOKUP($B$2,'Table 14'!$A$5:$L$23,10,FALSE)","v":650},{"$f":"V27/U27-1","v":-0.1333333333333333},{"$f":"V27/O27-1","v":0}]
[null,"Mean",{"$f":"VLOOKUP($B$2,'Table 7'!$A$5:$L$23,5,FALSE)","v":528.64},{"$f":"VLOOKUP($B$2,'Table 8'!$A$5:$L$23,5,FALSE)","v":540.49},{"$f":"VLOOKUP($B$2,'Table 9'!$A$5:$L$23,5,FALSE)","v":555.25},{"$f":"VLOOKUP($B$2,'Table 10'!$A$5:$L$23,5,FALSE)","v":600.17999999999995},{"$f":"VLOOKUP($B$2,'Table 11'!$A$5:$L$23,5,FALSE)","v":663.52},{"$f":"VLOOKUP($B$2,'Table 12'!$A$5:$L$23,5,FALSE)","v":666.96},{"$f":"VLOOKUP($B$2,'Table 13'!$A$5:$L$23,5,FALSE)","v":565.87},{"$f":"VLOOKUP($B$2,'Table 14'!$A$5:$L$23,5,FALSE)","v":500.65},-0.11525615424037328,-5.2947185230024285E-2,null,"Mean",{"$f":"VLOOKUP($B$2,'Table 7'!$A$5:$L$23,11,FALSE)","v":642.58000000000004},{"$f":"VLOOKUP($B$2,'Table 8'!$A$5:$L$23,11,FALSE)","v":670.81},{"$f":"VLOOKUP($B$2,'Table 9'!$A$5:$L$23,11,FALSE)","v":701.44},{"$f":"VLOOKUP($B$2,'Table 10'!$A$5:$L$23,11,FALSE)","v":819.48},{"$f":"VLOOKUP($B$2,'Table 11'!$A$5:$L$23,11,FALSE)","v":898.08},{"$f":"VLOOKUP($B$2,'Table 12'!$A$5:$L$23,11,FALSE)","v":873.8},{"$f":"VLOOKUP($B$2,'Table 13'!$A$5:$L$23,11,FALSE)","v":754.39},{"$f":"VLOOKUP($B$2,'Table 14'!$A$5:$L$23,11,FALSE)","v":681.97},-9.5998091173000621E-2,6.129976034112472E-2]
[null,"Upper Quartile",{"$f":"VLOOKUP($B$2,'Table 7'!$A$5:$L$23,6,FALSE)","v":575},{"$f":"VLOOKUP($B$2,'Table 8'!$A$5:$L$23,6,FALSE)","v":575},{"$f":"VLOOKUP($B$2,'Table 9'!$A$5:$L$23,6,FALSE)","v":600},{"$f":"VLOOKUP($B$2,'Table 10'!$A$5:$L$23,6,FALSE)","v":650},{"$f":"VLOOKUP($B$2,'Table 11'!$A$5:$L$23,6,FALSE)","v":725},{"$f":"VLOOKUP($B$2,'Table 12'!$A$5:$L$23,6,FALSE)","v":700},{"$f":"VLOOKUP($B$2,'Table 13'!$A$5:$L$23,6,FALSE)","v":600},{"$f":"VLOOKUP($B$2,'Table 14'!$A$5:$L$23,6,FALSE)","v":550},-8.333333333333337E-2,-4.3478260869565188E-2,null,"Upper Quartile",{"$f":"VLOOKUP($B$2,'Table 7'!$A$5:$L$23,12,FALSE)","v":700},{"$f":"VLOOKUP($B$2,'Table 8'!$A$5:$L$23,12,FALSE)","v":750},{"$f":"VLOOKUP($B$2,'Table 9'!$A$5:$L$23,12,FALSE)","v":775},{"$f":"VLOOKUP($B$2,'Table 10'!$A$5:$L$23,12,FALSE)","v":900},{"$f":"VLOOKUP($B$2,'Table 11'!$A$5:$L$23,12,FALSE)","v":1000},{"$f":"VLOOKUP($B$2,'Table 12'!$A$5:$L$23,12,FALSE)","v":950},{"$f":"VLOOKUP($B$2,'Table 13'!$A$5:$L$23,12,FALSE)","v":800},{"$f":"VLOOKUP($B$2,'Table 14'!$A$5:$L$23,12,FALSE)","v":750},-6.25E-2,7.1428571428571397E-2]
[]
[]
[]
[]
[]
[]
[]
[]
[]
[]
[]
[]
[]
[]
[]
[]
[null,"3 Bedroom Properties - Quartile Measures, years to end Sept, (£ monthly):",null,null,null,null,null,null,null,null,null,null,null,"4 Bedroom Properties - Quartile Measures, years to end Sept, (£ monthly):"]
[null,null,2010,2011,2012,2013,2014,2015,2016,2017,"2016 to 2017","2010 to 2017",null,null,2010,2011,2012,2013,2014,2015,2016,2017,"2016 to 2017","2010 to 2017"]
[null,"Lower Quartile",{"$f":"VLOOKUP($B$2,'Table 7'!$A$26:$L$44,3,FALSE)","v":650},{"$f":"VLOOKUP($B$2,'Table 8'!$A$26:$L$44,3,FALSE)","v":650},{"$f":"VLOOKUP($B$2,'Table 9'!$A$26:$L$44,3,FALSE)","v":700},{"$f":"VLOOKUP($B$2,'Table 10'!$A$26:$L$44,3,FALSE)","v":775},{"$f":"VLOOKUP($B$2,'Table 11'!$A$26:$L$44,3,FALSE)","v":850},{"$f":"VLOOKUP($B$2,'Table 12'!$A$26:$L$44,3,FALSE)","v":900},{"$f":"VLOOKUP($B$2,'Table 13'!$A$26:$L$44,3,FALSE)","v":800},{"$f":"VLOOKUP($B$2,'Table 14'!$A$26:$L$44,3,FALSE)","v":750},{"$f":"J48/I48-1","v":-6.25E-2},{"$f":"J48/C48-1","v":0.15384615384615374},null,"Lower Quartile",{"$f":"VLOOKUP($B$2,'Table 7'!$A$26:$L$44,9,FALSE)","v":850},{"$f":"VLOOKUP($B$2,'Table 8'!$A$26:$L$44,9,FALSE)","v":850},{"$f":"VLOOKUP($B$2,'Table 9'!$A$26:$L$44,9,FALSE)","v":900},{"$f":"VLOOKUP($B$2,'Table 10'!$A$26:$L$44,9,FALSE)","v":1100},{"$f":"VLOOKUP($B$2,'Table 11'!$A$26:$L$44,9,FALSE)","v":1200},{"$f":"VLOOKUP($B$2,'Table 12'!$A$26:$L$44,9,FALSE)","v":1250},{"$f":"VLOOKUP($B$2,'Table 13'!$A$26:$L$44,9,FALSE)","v":1000},{"$f":"VLOOKUP($B$2,'Table 14'!$A$26:$L$44,9,FALSE)","v":950},{"$f":"V48/U48-1","v":-5.0000000000000044E-2},{"$f":"V48/O48-1","v":0.11764705882352944}]
[null,"Median",{"$f":"VLOOKUP($B$2,'Table 7'!$A$26:$L$44,4,FALSE)","v":750},{"$f":"VLOOKUP($B$2,'Table 8'!$A$26:$L$44,4,FALSE)","v":750},{"$f":"VLOOKUP($B$2,'Table 9'!$A$26:$L$44,4,FALSE)","v":825},{"$f":"VLOOKUP($B$2,'Table 10'!$A$26:$L$44,4,FALSE)","v":950},{"$f":"VLOOKUP($B$2,'Table 11'!$A$26:$L$44,4,FALSE)","v":1100},{"$f":"VLOOKUP($B$2,'Table 12'!$A$26:$L$44,4,FALSE)","v":1100},{"$f":"VLOOKUP($B$2,'Table 13'!$A$26:$L$44,4,FALSE)","v":900},{"$f":"VLOOKUP($B$2,'Table 14'!$A$26:$L$44,4,FALSE)","v":850},{"$f":"J49/I49-1","v":-5.555555555555558E-2},{"$f":"J49/C49-1","v":0.1333333333333333},null,"Median",{"$f":"VLOOKUP($B$2,'Table 7'!$A$26:$L$44,10,FALSE)","v":950},{"$f":"VLOOKUP($B$2,'Table 8'!$A$26:$L$44,10,FALSE)","v":995},{"$f":"VLOOKUP($B$2,'Table 9'!$A$26:$L$44,10,FALSE)","v":1100},{"$f":"VLOOKUP($B$2,'Table 10'!$A$26:$L$44,10,FALSE)","v":1400},{"$f":"VLOOKUP($B$2,'Table 11'!$A$26:$L$44,10,FALSE)","v":1550},{"$f":"VLOOKUP($B$2,'Table 12'!$A$26:$L$44,10,FALSE)","v":1450},{"$f":"VLOOKUP($B$2,'Table 13'!$A$26:$L$44,10,FALSE)","v":1200},{"$f":"VLOOKUP($B$2,'Table 14'!$A$26:$L$44,10,FALSE)","v":1100},{"$f":"V49/U49-1","v":-8.333333333333337E-2},{"$f":"V49/O49-1","v":0.15789473684210531}]
[null,"Mean",{"$f":"VLOOKUP($B$2,'Table 7'!$A$26:$L$44,5,FALSE)","v":743.67},{"$f":"VLOOKUP($B$2,'Table 8'!$A$26:$L$44,5,FALSE)","v":752.95},{"$f":"VLOOKUP($B$2,'Table 9'!$A$26:$L$44,5,FALSE)","v":827.09},{"$f":"VLOOKUP($B$2,'Table 10'!$A$26:$L$44,5,FALSE)","v":1019.32},{"$f":"VLOOKUP($B$2,'Table 11'!$A$26:$L$44,5,FALSE)","v":1089.01},{"$f":"VLOOKUP($B$2,'Table 12'!$A$26:$L$44,5,FALSE)","v":1072.46},{"$f":"VLOOKUP($B$2,'Table 13'!$A$26:$L$44,5,FALSE)","v":930.15},{"$f":"VLOOKUP($B$2,'Table 14'!$A$26:$L$44,5,FALSE)","v":865.75},-6.9236144707842784E-2,0.16415883389137664,null,"Mean",{"$f":"VLOOKUP($B$2,'Table 7'!$A$26:$L$44,11,FALSE)","v":943.66},{"$f":"VLOOKUP($B$2,'Table 8'!$A$26:$L$44,11,FALSE)","v":1017.76},{"$f":"VLOOKUP($B$2,'Table 9'!$A$26:$L$44,11,FALSE)","v":1105.08},{"$f":"VLOOKUP($B$2,'Table 10'!$A$26:$L$44,11,FALSE)","v":1484.07},{"$f":"VLOOKUP($B$2,'Table 11'!$A$26:$L$44,11,FALSE)","v":1564.74},{"$f":"VLOOKUP($B$2,'Table 12'!$A$26:$L$44,11,FALSE)","v":1492.52},{"$f":"VLOOKUP($B$2,'Table 13'!$A$26:$L$44,11,FALSE)","v":1291.33},{"$f":"VLOOKUP($B$2,'Table 14'!$A$26:$L$44,11,FALSE)","v":1168.92},-9.4793739787660702E-2,0.23870885700358202]
[null,"Upper Quartile",{"$f":"VLOOKUP($B$2,'Table 7'!$A$26:$L$44,6,FALSE)","v":850},{"$f":"VLOOKUP($B$2,'Table 8'!$A$26:$L$44,6,FALSE)","v":875},{"$f":"VLOOKUP($B$2,'Table 9'!$A$26:$L$44,6,FALSE)","v":950},{"$f":"VLOOKUP($B$2,'Table 10'!$A$26:$L$44,6,FALSE)","v":1200},{"$f":"VLOOKUP($B$2,'Table 11'!$A$26:$L$44,6,FALSE)","v":1300},{"$f":"VLOOKUP($B$2,'Table 12'!$A$26:$L$44,6,FALSE)","v":1250},{"$f":"VLOOKUP($B$2,'Table 13'!$A$26:$L$44,6,FALSE)","v":1050},{"$f":"VLOOKUP($B$2,'Table 14'!$A$26:$L$44,6,FALSE)","v":950},-9.5238095238095233E-2,0.11764705882352944,null,"Upper Quartile",{"$f":"VLOOKUP($B$2,'Table 7'!$A$26:$L$44,12,FALSE)","v":1000},{"$f":"VLOOKUP($B$2,'Table 8'!$A$26:$L$44,12,FALSE)","v":1200},{"$f":"VLOOKUP($B$2,'Table 9'!$A$26:$L$44,12,FALSE)","v":1300},{"$f":"VLOOKUP($B$2,'Table 10'!$A$26:$L$44,12,FALSE)","v":1800},{"$f":"VLOOKUP($B$2,'Table 11'!$A$26:$L$44,12,FALSE)","v":1850},{"$f":"VLOOKUP($B$2,'Table 12'!$A$26:$L$44,12,FALSE)","v":1700},{"$f":"VLOOKUP($B$2,'Table 13'!$A$26:$L$44,12,FALSE)","v":1500},{"$f":"VLOOKUP($B$2,'Table 14'!$A$26:$L$44,12,FALSE)","v":1300},-0.1333333333333333,0.30000000000000004]
[]
[]
[]
[]
[]
[]
[]
[]
[]
[]
[]
[]
[]
[]
[]
[]
[null,"1 Bedroom Shared Properties - Quartile Measures, years to end Sept, (£ monthly):",null,null,null,null,null,null,null,null,null,null,null,"Sample Sizes:",null,null,null,null,null,null,null,null,null,null,null,"Sample Sizes:"]
[null,null,2010,2011,2012,2013,2014,2015,2016,2017,"2016 to 2017","2010 to 2017",null,null,null,null,2010,2011,2012,2013,2014,2015,2016,2017,null,null,2010,2011,2012,2013,2014,2015,2016,2017]
[null,"Lower Quartile",{"$f":"VLOOKUP($B$2,'Table 7'!$A$47:$F$65,3,FALSE)","v":286},{"$f":"VLOOKUP($B$2,'Table 8'!$A$47:$F$65,3,FALSE)","v":285},{"$f":"VLOOKUP($B$2,'Table 9'!$A$47:$F$65,3,FALSE)","v":300},{"$f":"VLOOKUP($B$2,'Table 10'!$A$47:$F$65,3,FALSE)","v":316.33},{"$f":"VLOOKUP($B$2,'Table 11'!$A$47:$F$65,3,FALSE)","v":345},{"$f":"VLOOKUP($B$2,'Table 12'!$A$47:$F$65,3,FALSE)","v":375},{"$f":"VLOOKUP($B$2,'Table 13'!$A$47:$F$65,3,FALSE)","v":350},{"$f":"VLOOKUP($B$2,'Table 14'!$A$47:$F$65,3,FALSE)","v":320},{"$f":"J70/I70-1","v":-8.5714285714285743E-2},{"$f":"J70/C70-1","v":0.11888111888111896},null,"1 Bedroom ",null,null,{"$f":"VLOOKUP($B$2,'Table 7'!$A$5:$L$23,2,FALSE)","v":541},{"$f":"VLOOKUP($B$2,'Table 8'!$A$5:$L$23,2,FALSE)","v":691},{"$f":"VLOOKUP($B$2,'Table 9'!$A$5:$L$23,2,FALSE)","v":690},{"$f":"VLOOKUP($B$2,'Table 10'!$A$5:$L$23,2,FALSE)","v":534},{"$f":"VLOOKUP($B$2,'Table 11'!$A$5:$L$23,2,FALSE)","v":561},{"$f":"VLOOKUP($B$2,'Table 12'!$A$5:$L$23,2,FALSE)","v":596},{"$f":"VLOOKUP($B$2,'Table 13'!$A$5:$L$23,2,FALSE)","v":738},{"$f":"VLOOKUP($B$2,'Table 14'!$A$5:$L$23,2,FALSE)","v":756},null,"1 Bedroom ",{"$f":"VLOOKUP($B$2,'Table 7'!$A$5:$L$23,2,FALSE)","v":541},{"$f":"VLOOKUP($B$2,'Table 8'!$A$5:$L$23,2,FALSE)","v":691},{"$f":"VLOOKUP($B$2,'Table 9'!$A$5:$L$23,2,FALSE)","v":690},{"$f":"VLOOKUP($B$2,'Table 10'!$A$5:$L$23,2,FALSE)","v":534},{"$f":"VLOOKUP($B$2,'Table 11'!$A$5:$L$23,2,FALSE)","v":561},{"$f":"VLOOKUP($B$2,'Table 12'!$A$5:$L$23,2,FALSE)","v":596},{"$f":"VLOOKUP($B$2,'Table 13'!$A$5:$L$23,2,FALSE)","v":738},{"$f":"VLOOKUP($B$2,'Table 14'!$A$5:$L$23,2,FALSE)","v":756}]
[null,"Median",{"$f":"VLOOKUP($B$2,'Table 7'!$A$47:$F$65,4,FALSE)","v":335},{"$f":"VLOOKUP($B$2,'Table 8'!$A$47:$F$65,4,FALSE)","v":325},{"$f":"VLOOKUP($B$2,'Table 9'!$A$47:$F$65,4,FALSE)","v":340},{"$f":"VLOOKUP($B$2,'Table 10'!$A$47:$F$65,4,FALSE)","v":350},{"$f":"VLOOKUP($B$2,'Table 11'!$A$47:$F$65,4,FALSE)","v":400},{"$f":"VLOOKUP($B$2,'Table 12'!$A$47:$F$65,4,FALSE)","v":407.5},{"$f":"VLOOKUP($B$2,'Table 13'!$A$47:$F$65,4,FALSE)","v":400},{"$f":"VLOOKUP($B$2,'Table 14'!$A$47:$F$65,4,FALSE)","v":350},{"$f":"J71/I71-1","v":-0.125},{"$f":"J71/C71-1","v":4.4776119402984982E-2},null,"2 Bedrooms",null,null,{"$f":"VLOOKUP($B$2,'Table 7'!$A$5:$L$23,8,FALSE)","v":557},{"$f":"VLOOKUP($B$2,'Table 8'!$A$5:$L$23,8,FALSE)","v":870},{"$f":"VLOOKUP($B$2,'Table 9'!$A$5:$L$23,8,FALSE)","v":1062},{"$f":"VLOOKUP($B$2,'Table 10'!$A$5:$L$23,8,FALSE)","v":967},{"$f":"VLOOKUP($B$2,'Table 11'!$A$5:$L$23,8,FALSE)","v":1025},{"$f":"VLOOKUP($B$2,'Table 12'!$A$5:$L$23,8,FALSE)","v":1009},{"$f":"VLOOKUP($B$2,'Table 13'!$A$5:$L$23,8,FALSE)","v":1271},{"$f":"VLOOKUP($B$2,'Table 14'!$A$5:$L$23,8,FALSE)","v":1448},null,"2 Bedrooms",{"$f":"VLOOKUP($B$2,'Table 7'!$A$5:$L$23,8,FALSE)","v":557},{"$f":"VLOOKUP($B$2,'Table 8'!$A$5:$L$23,8,FALSE)","v":870},{"$f":"VLOOKUP($B$2,'Table 9'!$A$5:$L$23,8,FALSE)","v":1062},{"$f":"VLOOKUP($B$2,'Table 10'!$A$5:$L$23,8,FALSE)","v":967},{"$f":"VLOOKUP($B$2,'Table 11'!$A$5:$L$23,8,FALSE)","v":1025},{"$f":"VLOOKUP($B$2,'Table 12'!$A$5:$L$23,8,FALSE)","v":1009},{"$f":"VLOOKUP($B$2,'Table 13'!$A$5:$L$23,8,FALSE)","v":1271},{"$f":"VLOOKUP($B$2,'Table 14'!$A$5:$L$23,8,FALSE)","v":1448}]
[null,"Mean",{"$f":"VLOOKUP($B$2,'Table 7'!$A$47:$F$65,5,FALSE)","v":328.42},{"$f":"VLOOKUP($B$2,'Table 8'!$A$47:$F$65,5,FALSE)","v":322.86},{"$f":"VLOOKUP($B$2,'Table 9'!$A$47:$F$65,5,FALSE)","v":338.34},{"$f":"VLOOKUP($B$2,'Table 10'!$A$47:$F$65,5,FALSE)","v":365.66},{"$f":"VLOOKUP($B$2,'Table 11'!$A$47:$F$65,5,FALSE)","v":401.77},{"$f":"VLOOKUP($B$2,'Table 12'!$A$47:$F$65,5,FALSE)","v":433.46},{"$f":"VLOOKUP($B$2,'Table 13'!$A$47:$F$65,5,FALSE)","v":404.11},{"$f":"VLOOKUP($B$2,'Table 14'!$A$47:$F$65,5,FALSE)","v":358.31},-0.11333547796392074,9.1011509652274558E-2,null,"3 Bedrooms",null,null,{"$f":"VLOOKUP($B$2,'Table 7'!$A$26:$L$44,2,FALSE)","v":226},{"$f":"VLOOKUP($B$2,'Table 8'!$A$26:$L$44,2,FALSE)","v":364},{"$f":"VLOOKUP($B$2,'Table 9'!$A$26:$L$44,2,FALSE)","v":486},{"$f":"VLOOKUP($B$2,'Table 10'!$A$26:$L$44,2,FALSE)","v":448},{"$f":"VLOOKUP($B$2,'Table 11'!$A$26:$L$44,2,FALSE)","v":422},{"$f":"VLOOKUP($B$2,'Table 12'!$A$26:$L$44,2,FALSE)","v":428},{"$f":"VLOOKUP($B$2,'Table 13'!$A$26:$L$44,2,FALSE)","v":412},{"$f":"VLOOKUP($B$2,'Table 14'!$A$26:$L$44,2,FALSE)","v":446},null,"3 Bedrooms",{"$f":"VLOOKUP($B$2,'Table 7'!$A$26:$L$44,2,FALSE)","v":226},{"$f":"VLOOKUP($B$2,'Table 8'!$A$26:$L$44,2,FALSE)","v":364},{"$f":"VLOOKUP($B$2,'Table 9'!$A$26:$L$44,2,FALSE)","v":486},{"$f":"VLOOKUP($B$2,'Table 10'!$A$26:$L$44,2,FALSE)","v":448},{"$f":"VLOOKUP($B$2,'Table 11'!$A$26:$L$44,2,FALSE)","v":422},{"$f":"VLOOKUP($B$2,'Table 12'!$A$26:$L$44,2,FALSE)","v":428},{"$f":"VLOOKUP($B$2,'Table 13'!$A$26:$L$44,2,FALSE)","v":412},{"$f":"VLOOKUP($B$2,'Table 14'!$A$26:$L$44,2,FALSE)","v":446}]
[null,"Upper Quartile",{"$f":"VLOOKUP($B$2,'Table 7'!$A$47:$F$65,6,FALSE)","v":360},{"$f":"VLOOKUP($B$2,'Table 8'!$A$47:$F$65,6,FALSE)","v":355},{"$f":"VLOOKUP($B$2,'Table 9'!$A$47:$F$65,6,FALSE)","v":375},{"$f":"VLOOKUP($B$2,'Table 10'!$A$47:$F$65,6,FALSE)","v":400},{"$f":"VLOOKUP($B$2,'Table 11'!$A$47:$F$65,6,FALSE)","v":450},{"$f":"VLOOKUP($B$2,'Table 12'!$A$47:$F$65,6,FALSE)","v":500},{"$f":"VLOOKUP($B$2,'Table 13'!$A$47:$F$65,6,FALSE)","v":450},{"$f":"VLOOKUP($B$2,'Table 14'!$A$47:$F$65,6,FALSE)","v":400},-0.11111111111111116,0.11111111111111116,null,"4 Bedrooms",null,null,{"$f":"VLOOKUP($B$2,'Table 7'!$A$26:$L$44,8,FALSE)","v":123},{"$f":"VLOOKUP($B$2,'Table 8'!$A$26:$L$44,8,FALSE)","v":174},{"$f":"VLOOKUP($B$2,'Table 9'!$A$26:$L$44,8,FALSE)","v":239},{"$f":"VLOOKUP($B$2,'Table 10'!$A$26:$L$44,8,FALSE)","v":324},{"$f":"VLOOKUP($B$2,'Table 11'!$A$26:$L$44,8,FALSE)","v":293},{"$f":"VLOOKUP($B$2,'Table 12'!$A$26:$L$44,8,FALSE)","v":281},{"$f":"VLOOKUP($B$2,'Table 13'!$A$26:$L$44,8,FALSE)","v":275},{"$f":"VLOOKUP($B$2,'Table 14'!$A$26:$L$44,8,FALSE)","v":213},null,"4 Bedrooms",{"$f":"VLOOKUP($B$2,'Table 7'!$A$26:$L$44,8,FALSE)","v":123},{"$f":"VLOOKUP($B$2,'Table 8'!$A$26:$L$44,8,FALSE)","v":174},{"$f":"VLOOKUP($B$2,'Table 9'!$A$26:$L$44,8,FALSE)","v":239},{"$f":"VLOOKUP($B$2,'Table 10'!$A$26:$L$44,8,FALSE)","v":324},{"$f":"VLOOKUP($B$2,'Table 11'!$A$26:$L$44,8,FALSE)","v":293},{"$f":"VLOOKUP($B$2,'Table 12'!$A$26:$L$44,8,FALSE)","v":281},{"$f":"VLOOKUP($B$2,'Table 13'!$A$26:$L$44,8,FALSE)","v":275},{"$f":"VLOOKUP($B$2,'Table 14'!$A$26:$L$44,8,FALSE)","v":213}]
[null,null,null,null,null,null,null,null,null,null,null,null,null,"1 Bedroom Shared",null,null,{"$f":"VLOOKUP($B$2,'Table 7'!$A$47:$L$65,2,FALSE)","v":134},{"$f":"VLOOKUP($B$2,'Table 8'!$A$47:$L$65,2,FALSE)","v":192},{"$f":"VLOOKUP($B$2,'Table 9'!$A$47:$L$65,2,FALSE)","v":232},{"$f":"VLOOKUP($B$2,'Table 10'!$A$47:$L$65,2,FALSE)","v":142},{"$f":"VLOOKUP($B$2,'Table 11'!$A$47:$L$65,2,FALSE)","v":148},{"$f":"VLOOKUP($B$2,'Table 12'!$A$47:$L$65,2,FALSE)","v":138},{"$f":"VLOOKUP($B$2,'Table 13'!$A$47:$L$65,2,FALSE)","v":104},{"$f":"VLOOKUP($B$2,'Table 14'!$A$47:$L$65,2,FALSE)","v":98},null,"1 Bedroom Shared",{"$f":"VLOOKUP($B$2,'Table 7'!$A$47:$L$65,2,FALSE)","v":134},{"$f":"VLOOKUP($B$2,'Table 8'!$A$47:$L$65,2,FALSE)","v":192},{"$f":"VLOOKUP($B$2,'Table 9'!$A$47:$L$65,2,FALSE)","v":232},{"$f":"VLOOKUP($B$2,'Table 10'!$A$47:$L$65,2,FALSE)","v":142},{"$f":"VLOOKUP($B$2,'Table 11'!$A$47:$L$65,2,FALSE)","v":148},{"$f":"VLOOKUP($B$2,'Table 12'!$A$47:$L$65,2,FALSE)","v":138},{"$f":"VLOOKUP($B$2,'Table 13'!$A$47:$L$65,2,FALSE)","v":104},{"$f":"VLOOKUP($B$2,'Table 14'!$A$47:$L$65,2,FALSE)","v":98}]
[]
[]
[]
[]
[]
[]
[]
[]
[]
[]
[]
[]
[]
[]
[]
[]
[]
[null,null,null,null,null,null,null,null,null,null,null,null,null,null,null,null,null,null,null,null,null,null,null,null,null,null,null,null,null,null,null,null,null,null,null,2010,2011,2012,2013,2014,2015,2016,2017]
[null,null,null,null,null,null,null,null,null,null,null,null,null,null,null,null,null,null,null,null,null,null,null,null,null,null,null,null,null,null,null,null,null,null,"Scotland",{"$f":"'All years 2 bed'!B22","v":536.27},{"$f":"'All years 2 bed'!C22","v":546.41999999999996},{"$f":"'All years 2 bed'!D22","v":552.89},{"$f":"'All years 2 bed'!E22","v":575.84},{"$f":"'All years 2 bed'!F22","v":596.45000000000005},{"$f":"'All years 2 bed'!G22","v":609.52},{"$f":"'All years 2 bed'!H22","v":615.64},{"$f":"'All years 2 bed'!I22","v":642.79999999999995}]
[null,null,null,null,null,null,null,null,null,null,null,null,null,null,null,null,null,null,null,null,null,null,null,null,null,null,null,null,null,null,null,null,null,null,{"$f":"B2","v":"Aberdeen and Shire"},{"$f":"VLOOKUP($AI$94,'All years 2 bed'!$A$4:$I$21,2,FALSE)","v":642.58000000000004},{"$f":"VLOOKUP($AI$94,'All years 2 bed'!$A$4:$I$21,3,FALSE)","v":670.81},{"$f":"VLOOKUP($AI$94,'All years 2 bed'!$A$4:$I$21,4,FALSE)","v":701.44},{"$f":"VLOOKUP($AI$94,'All years 2 bed'!$A$4:$I$21,5,FALSE)","v":819.48},{"$f":"VLOOKUP($AI$94,'All years 2 bed'!$A$4:$I$21,6,FALSE)","v":898.08},{"$f":"VLOOKUP($AI$94,'All years 2 bed'!$A$4:$I$21,7,FALSE)","v":873.8},{"$f":"VLOOKUP($AI$94,'All years 2 bed'!$A$4:$I$21,8,FALSE)","v":754.39},{"$f":"VLOOKUP($AI$94,'All years 2 bed'!$A$4:$I$21,9,FALSE)","v":681.97}]

{"sheet":"Argyll & Bute","index":48,"n_rows":94,"n_cols":43,"rows_kept":94,"cut":false,"hidden":false,"merged":[[73,13,73,15],[1,1,1,3],[69,13,69,15],[70,13,70,15],[71,13,71,15],[72,13,72,15]]}
[null,"BRMA:"]
[null,"Argyll and Bute"]
[]
["Back to contents"]
[null,"Broad Rental Market Area Profile: Argyll and Bute"]
[]
[]
[]
[]
[]
[]
[]
[]
[]
[]
[]
[]
[]
[]
[]
[]
[]
[]
[null,"1 Bedroom Properties - Quartile Measures, years to end Sept, (£ monthly):",null,null,null,null,null,null,null,null,null,null,null,"2 Bedroom Properties - Quartile Measures, years to end Sept, (£ monthly):"]
[null,null,2010,2011,2012,2013,2014,2015,2016,2017,"2016 to 2017","2010 to 2017",null,null,2010,2011,2012,2013,2014,2015,2016,2017,"2016 to 2017","2010 to 2017"]
[null,"Lower Quartile",{"$f":"VLOOKUP($B$2,'Table 7'!$A$5:$L$23,3,FALSE)","v":350},{"$f":"VLOOKUP($B$2,'Table 8'!$A$5:$L$23,3,FALSE)","v":325},{"$f":"VLOOKUP($B$2,'Table 9'!$A$5:$L$23,3,FALSE)","v":350},{"$f":"VLOOKUP($B$2,'Table 10'!$A$5:$L$23,3,FALSE)","v":350},{"$f":"VLOOKUP($B$2,'Table 11'!$A$5:$L$23,3,FALSE)","v":360},{"$f":"VLOOKUP($B$2,'Table 12'!$A$5:$L$23,3,FALSE)","v":350},{"$f":"VLOOKUP($B$2,'Table 13'!$A$5:$L$23,3,FALSE)","v":350.5},{"$f":"VLOOKUP($B$2,'Table 14'!$A$5:$L$23,3,FALSE)","v":375},{"$f":"J26/I26-1","v":6.9900142653352315E-2},{"$f":"J26/C26-1","v":7.1428571428571397E-2},null,"Lower Quartile",{"$f":"VLOOKUP($B$2,'Table 7'!$A$5:$L$23,9,FALSE)","v":450},{"$f":"VLOOKUP($B$2,'Table 8'!$A$5:$L$23,9,FALSE)","v":425},{"$f":"VLOOKUP($B$2,'Table 9'!$A$5:$L$23,9,FALSE)","v":450},{"$f":"VLOOKUP($B$2,'Table 10'!$A$5:$L$23,9,FALSE)","v":450},{"$f":"VLOOKUP($B$2,'Table 11'!$A$5:$L$23,9,FALSE)","v":425},{"$f":"VLOOKUP($B$2,'Table 12'!$A$5:$L$23,9,FALSE)","v":450},{"$f":"VLOOKUP($B$2,'Table 13'!$A$5:$L$23,9,FALSE)","v":460},{"$f":"VLOOKUP($B$2,'Table 14'!$A$5:$L$23,9,FALSE)","v":450},{"$f":"V26/U26-1","v":-2.1739130434782594E-2},{"$f":"V26/O26-1","v":0}]
[null,"Median",{"$f":"VLOOKUP($B$2,'Table 7'!$A$5:$L$23,4,FALSE)","v":395},{"$f":"VLOOKUP($B$2,'Table 8'!$A$5:$L$23,4,FALSE)","v":395},{"$f":"VLOOKUP($B$2,'Table 9'!$A$5:$L$23,4,FALSE)","v":395},{"$f":"VLOOKUP($B$2,'Table 10'!$A$5:$L$23,4,FALSE)","v":400},{"$f":"VLOOKUP($B$2,'Table 11'!$A$5:$L$23,4,FALSE)","v":395},{"$f":"VLOOKUP($B$2,'Table 12'!$A$5:$L$23,4,FALSE)","v":400},{"$f":"VLOOKUP($B$2,'Table 13'!$A$5:$L$23,4,FALSE)","v":400},{"$f":"VLOOKUP($B$2,'Table 14'!$A$5:$L$23,4,FALSE)","v":400},{"$f":"J27/I27-1","v":0},{"$f":"J27/C27-1","v":1.2658227848101333E-2},null,"Median",{"$f":"VLOOKUP($B$2,'Table 7'!$A$5:$L$23,10,FALSE)","v":495},{"$f":"VLOOKUP($B$2,'Table 8'!$A$5:$L$23,10,FALSE)","v":495},{"$f":"VLOOKUP($B$2,'Table 9'!$A$5:$L$23,10,FALSE)","v":495},{"$f":"VLOOKUP($B$2,'Table 10'!$A$5:$L$23,10,FALSE)","v":495},{"$f":"VLOOKUP($B$2,'Table 11'!$A$5:$L$23,10,FALSE)","v":495},{"$f":"VLOOKUP($B$2,'Table 12'!$A$5:$L$23,10,FALSE)","v":495},{"$f":"VLOOKUP($B$2,'Table 13'!$A$5:$L$23,10,FALSE)","v":500},{"$f":"VLOOKUP($B$2,'Table 14'!$A$5:$L$23,10,FALSE)","v":500},{"$f":"V27/U27-1","v":0},{"$f":"V27/O27-1","v":1.0101010101010166E-2}]
[null,"Mean",{"$f":"VLOOKUP($B$2,'Table 7'!$A$5:$L$23,5,FALSE)","v":382.06},{"$f":"VLOOKUP($B$2,'Table 8'!$A$5:$L$23,5,FALSE)","v":369.11},{"$f":"VLOOKUP($B$2,'Table 9'!$A$5:$L$23,5,FALSE)","v":383.07},{"$f":"VLOOKUP($B$2,'Table 10'!$A$5:$L$23,5,FALSE)","v":398.82},{"$f":"VLOOKUP($B$2,'Table 11'!$A$5:$L$23,5,FALSE)","v":395.47},{"$f":"VLOOKUP($B$2,'Table 12'!$A$5:$L$23,5,FALSE)","v":398.16},{"$f":"VLOOKUP($B$2,'Table 13'!$A$5:$L$23,5,FALSE)","v":412.33},{"$f":"VLOOKUP($B$2,'Table 14'!$A$5:$L$23,5,FALSE)","v":417.15},1.1689666044187863E-2,9.1844212950845439E-2,null,"Mean",{"$f":"VLOOKUP($B$2,'Table 7'!$A$5:$L$23,11,FALSE)","v":503.03},{"$f":"VLOOKUP($B$2,'Table 8'!$A$5:$L$23,11,FALSE)","v":499.54},{"$f":"VLOOKUP($B$2,'Table 9'!$A$5:$L$23,11,FALSE)","v":508.31},{"$f":"VLOOKUP($B$2,'Table 10'!$A$5:$L$23,11,FALSE)","v":502.51},{"$f":"VLOOKUP($B$2,'Table 11'!$A$5:$L$23,11,FALSE)","v":495.44},{"$f":"VLOOKUP($B$2,'Table 12'!$A$5:$L$23,11,FALSE)","v":508.79},{"$f":"VLOOKUP($B$2,'Table 13'!$A$5:$L$23,11,FALSE)","v":524.75},{"$f":"VLOOKUP($B$2,'Table 14'!$A$5:$L$23,11,FALSE)","v":515.92999999999995},-1.6808003811338845E-2,2.5644593761803502E-2]
[null,"Upper Quartile",{"$f":"VLOOKUP($B$2,'Table 7'!$A$5:$L$23,6,FALSE)","v":425},{"$f":"VLOOKUP($B$2,'Table 8'!$A$5:$L$23,6,FALSE)","v":425},{"$f":"VLOOKUP($B$2,'Table 9'!$A$5:$L$23,6,FALSE)","v":425},{"$f":"VLOOKUP($B$2,'Table 10'!$A$5:$L$23,6,FALSE)","v":440},{"$f":"VLOOKUP($B$2,'Table 11'!$A$5:$L$23,6,FALSE)","v":425},{"$f":"VLOOKUP($B$2,'Table 12'!$A$5:$L$23,6,FALSE)","v":450},{"$f":"VLOOKUP($B$2,'Table 13'!$A$5:$L$23,6,FALSE)","v":450},{"$f":"VLOOKUP($B$2,'Table 14'!$A$5:$L$23,6,FALSE)","v":450},0,5.8823529411764719E-2,null,"Upper Quartile",{"$f":"VLOOKUP($B$2,'Table 7'!$A$5:$L$23,12,FALSE)","v":550},{"$f":"VLOOKUP($B$2,'Table 8'!$A$5:$L$23,12,FALSE)","v":550},{"$f":"VLOOKUP($B$2,'Table 9'!$A$5:$L$23,12,FALSE)","v":550},{"$f":"VLOOKUP($B$2,'Table 10'!$A$5:$L$23,12,FALSE)","v":550},{"$f":"VLOOKUP($B$2,'Table 11'!$A$5:$L$23,12,FALSE)","v":550},{"$f":"VLOOKUP($B$2,'Table 12'!$A$5:$L$23,12,FALSE)","v":550},{"$f":"VLOOKUP($B$2,'Table 13'!$A$5:$L$23,12,FALSE)","v":575},{"$f":"VLOOKUP($B$2,'Table 14'!$A$5:$L$23,12,FALSE)","v":550},-4.3478260869565188E-2,0]
[]
[]
[]
[]
[]
[]
[]
[]
[]
[]
[]
[]
[]
[]
[]
[]
[null,"3 Bedroom Properties - Quartile Measures, years to end Sept, (£ monthly):",null,null,null,null,null,null,null,null,null,null,null,"4 Bedroom Properties - Quartile Measures, years to end Sept, (£ monthly):"]
[null,null,2010,2011,2012,2013,2014,2015,2016,2017,"2016 to 2017","2010 to 2017",null,null,2010,2011,2012,2013,2014,2015,2016,2017,"2016 to 2017","2010 to 2017"]
[null,"Lower Quartile",{"$f":"VLOOKUP($B$2,'Table 7'!$A$26:$L$44,3,FALSE)","v":500},{"$f":"VLOOKUP($B$2,'Table 8'!$A$26:$L$44,3,FALSE)","v":495},{"$f":"VLOOKUP($B$2,'Table 9'!$A$26:$L$44,3,FALSE)","v":550},{"$f":"VLOOKUP($B$2,'Table 10'!$A$26:$L$44,3,FALSE)","v":500},{"$f":"VLOOKUP($B$2,'Table 11'!$A$26:$L$44,3,FALSE)","v":500},{"$f":"VLOOKUP($B$2,'Table 12'!$A$26:$L$44,3,FALSE)","v":510},{"$f":"VLOOKUP($B$2,'Table 13'!$A$26:$L$44,3,FALSE)","v":550},{"$f":"VLOOKUP($B$2,'Table 14'!$A$26:$L$44,3,FALSE)","v":525},{"$f":"J48/I48-1","v":-4.5454545454545414E-2},{"$f":"J48/C48-1","v":5.0000000000000044E-2},null,"Lower Quartile",{"$f":"VLOOKUP($B$2,'Table 7'!$A$26:$L$44,9,FALSE)","v":750},{"$f":"VLOOKUP($B$2,'Table 8'!$A$26:$L$44,9,FALSE)","v":725},{"$f":"VLOOKUP($B$2,'Table 9'!$A$26:$L$44,9,FALSE)","v":725},{"$f":"VLOOKUP($B$2,'Table 10'!$A$26:$L$44,9,FALSE)","v":722.5},{"$f":"VLOOKUP($B$2,'Table 11'!$A$26:$L$44,9,FALSE)","v":772.5},{"$f":"VLOOKUP($B$2,'Table 12'!$A$26:$L$44,9,FALSE)","v":850},{"$f":"VLOOKUP($B$2,'Table 13'!$A$26:$L$44,9,FALSE)","v":795},{"$f":"VLOOKUP($B$2,'Table 14'!$A$26:$L$44,9,FALSE)","v":700},{"$f":"V48/U48-1","v":-0.11949685534591192},{"$f":"V48/O48-1","v":-6.6666666666666652E-2}]
[null,"Median",{"$f":"VLOOKUP($B$2,'Table 7'!$A$26:$L$44,4,FALSE)","v":575},{"$f":"VLOOKUP($B$2,'Table 8'!$A$26:$L$44,4,FALSE)","v":595},{"$f":"VLOOKUP($B$2,'Table 9'!$A$26:$L$44,4,FALSE)","v":650},{"$f":"VLOOKUP($B$2,'Table 10'!$A$26:$L$44,4,FALSE)","v":600},{"$f":"VLOOKUP($B$2,'Table 11'!$A$26:$L$44,4,FALSE)","v":650},{"$f":"VLOOKUP($B$2,'Table 12'!$A$26:$L$44,4,FALSE)","v":595},{"$f":"VLOOKUP($B$2,'Table 13'!$A$26:$L$44,4,FALSE)","v":650},{"$f":"VLOOKUP($B$2,'Table 14'!$A$26:$L$44,4,FALSE)","v":597.5},{"$f":"J49/I49-1","v":-8.0769230769230815E-2},{"$f":"J49/C49-1","v":3.9130434782608692E-2},null,"Median",{"$f":"VLOOKUP($B$2,'Table 7'!$A$26:$L$44,10,FALSE)","v":850},{"$f":"VLOOKUP($B$2,'Table 8'!$A$26:$L$44,10,FALSE)","v":800},{"$f":"VLOOKUP($B$2,'Table 9'!$A$26:$L$44,10,FALSE)","v":800},{"$f":"VLOOKUP($B$2,'Table 10'!$A$26:$L$44,10,FALSE)","v":850},{"$f":"VLOOKUP($B$2,'Table 11'!$A$26:$L$44,10,FALSE)","v":895},{"$f":"VLOOKUP($B$2,'Table 12'!$A$26:$L$44,10,FALSE)","v":900},{"$f":"VLOOKUP($B$2,'Table 13'!$A$26:$L$44,10,FALSE)","v":900},{"$f":"VLOOKUP($B$2,'Table 14'!$A$26:$L$44,10,FALSE)","v":925},{"$f":"V49/U49-1","v":2.7777777777777679E-2},{"$f":"V49/O49-1","v":8.8235294117646967E-2}]
[null,"Mean",{"$f":"VLOOKUP($B$2,'Table 7'!$A$26:$L$44,5,FALSE)","v":637.54},{"$f":"VLOOKUP($B$2,'Table 8'!$A$26:$L$44,5,FALSE)","v":627.45000000000005},{"$f":"VLOOKUP($B$2,'Table 9'!$A$26:$L$44,5,FALSE)","v":678.87},{"$f":"VLOOKUP($B$2,'Table 10'!$A$26:$L$44,5,FALSE)","v":624.94000000000005},{"$f":"VLOOKUP($B$2,'Table 11'!$A$26:$L$44,5,FALSE)","v":639.6},{"$f":"VLOOKUP($B$2,'Table 12'!$A$26:$L$44,5,FALSE)","v":612.35},{"$f":"VLOOKUP($B$2,'Table 13'!$A$26:$L$44,5,FALSE)","v":665.89},{"$f":"VLOOKUP($B$2,'Table 14'!$A$26:$L$44,5,FALSE)","v":651.62},-2.1429965910285453E-2,2.2084888791291668E-2,null,"Mean",{"$f":"VLOOKUP($B$2,'Table 7'!$A$26:$L$44,11,FALSE)","v":923.91},{"$f":"VLOOKUP($B$2,'Table 8'!$A$26:$L$44,11,FALSE)","v":834.13},{"$f":"VLOOKUP($B$2,'Table 9'!$A$26:$L$44,11,FALSE)","v":877.55},{"$f":"VLOOKUP($B$2,'Table 10'!$A$26:$L$44,11,FALSE)","v":921.83},{"$f":"VLOOKUP($B$2,'Table 11'!$A$26:$L$44,11,FALSE)","v":908.89},{"$f":"VLOOKUP($B$2,'Table 12'!$A$26:$L$44,11,FALSE)","v":946.5},{"$f":"VLOOKUP($B$2,'Table 13'!$A$26:$L$44,11,FALSE)","v":988.57},{"$f":"VLOOKUP($B$2,'Table 14'!$A$26:$L$44,11,FALSE)","v":980.26},-8.4060815116785426E-3,6.0990789146128987E-2]
[null,"Upper Quartile",{"$f":"VLOOKUP($B$2,'Table 7'!$A$26:$L$44,6,FALSE)","v":750},{"$f":"VLOOKUP($B$2,'Table 8'!$A$26:$L$44,6,FALSE)","v":750},{"$f":"VLOOKUP($B$2,'Table 9'!$A$26:$L$44,6,FALSE)","v":775},{"$f":"VLOOKUP($B$2,'Table 10'!$A$26:$L$44,6,FALSE)","v":745},{"$f":"VLOOKUP($B$2,'Table 11'!$A$26:$L$44,6,FALSE)","v":750},{"$f":"VLOOKUP($B$2,'Table 12'!$A$26:$L$44,6,FALSE)","v":675},{"$f":"VLOOKUP($B$2,'Table 13'!$A$26:$L$44,6,FALSE)","v":750},{"$f":"VLOOKUP($B$2,'Table 14'!$A$26:$L$44,6,FALSE)","v":750},0,0,null,"Upper Quartile",{"$f":"VLOOKUP($B$2,'Table 7'!$A$26:$L$44,12,FALSE)","v":1175},{"$f":"VLOOKUP($B$2,'Table 8'!$A$26:$L$44,12,FALSE)","v":995},{"$f":"VLOOKUP($B$2,'Table 9'!$A$26:$L$44,12,FALSE)","v":950},{"$f":"VLOOKUP($B$2,'Table 10'!$A$26:$L$44,12,FALSE)","v":1197.5},{"$f":"VLOOKUP($B$2,'Table 11'!$A$26:$L$44,12,FALSE)","v":997.5},{"$f":"VLOOKUP($B$2,'Table 12'!$A$26:$L$44,12,FALSE)","v":995},{"$f":"VLOOKUP($B$2,'Table 13'!$A$26:$L$44,12,FALSE)","v":1200},{"$f":"VLOOKUP($B$2,'Table 14'!$A$26:$L$44,12,FALSE)","v":1250},4.1666666666666741E-2,6.3829787234042534E-2]
[]
[]
[]
[]
[]
[]
[]
[]
[]
[]
[]
[]
[]
[]
[]
[]
[null,"1 Bedroom Shared Properties - Quartile Measures, years to end Sept, (£ monthly):",null,null,null,null,null,null,null,null,null,null,null,"Sample Sizes:",null,null,null,null,null,null,null,null,null,null,null,"Sample Sizes:"]
[null,null,2010,2011,2012,2013,2014,2015,2016,2017,"2016 to 2017","2010 to 2017",null,null,null,null,2010,2011,2012,2013,2014,2015,2016,2017,null,null,2010,2011,2012,2013,2014,2015,2016,2017]
[null,"Lower Quartile",{"$f":"VLOOKUP($B$2,'Table 7'!$A$47:$F$65,3,FALSE)","v":300},{"$f":"VLOOKUP($B$2,'Table 8'!$A$47:$F$65,3,FALSE)","v":284},{"$f":"VLOOKUP($B$2,'Table 9'!$A$47:$F$65,3,FALSE)","v":260},{"$f":"VLOOKUP($B$2,'Table 10'!$A$47:$F$65,3,FALSE)","v":228.33},{"$f":"VLOOKUP($B$2,'Table 11'!$A$47:$F$65,3,FALSE)","v":273.33},{"$f":"VLOOKUP($B$2,'Table 12'!$A$47:$F$65,3,FALSE)","v":275},{"$f":"VLOOKUP($B$2,'Table 13'!$A$47:$F$65,3,FALSE)","v":275},{"$f":"VLOOKUP($B$2,'Table 14'!$A$47:$F$65,3,FALSE)","v":255},{"$f":"J70/I70-1","v":-7.2727272727272751E-2},{"$f":"J70/C70-1","v":-0.15000000000000002},null,"1 Bedroom ",null,null,{"$f":"VLOOKUP($B$2,'Table 7'!$A$5:$L$23,2,FALSE)","v":80},{"$f":"VLOOKUP($B$2,'Table 8'!$A$5:$L$23,2,FALSE)","v":89},{"$f":"VLOOKUP($B$2,'Table 9'!$A$5:$L$23,2,FALSE)","v":95},{"$f":"VLOOKUP($B$2,'Table 10'!$A$5:$L$23,2,FALSE)","v":65},{"$f":"VLOOKUP($B$2,'Table 11'!$A$5:$L$23,2,FALSE)","v":91},{"$f":"VLOOKUP($B$2,'Table 12'!$A$5:$L$23,2,FALSE)","v":102},{"$f":"VLOOKUP($B$2,'Table 13'!$A$5:$L$23,2,FALSE)","v":124},{"$f":"VLOOKUP($B$2,'Table 14'!$A$5:$L$23,2,FALSE)","v":107},null,"1 Bedroom ",{"$f":"VLOOKUP($B$2,'Table 7'!$A$5:$L$23,2,FALSE)","v":80},{"$f":"VLOOKUP($B$2,'Table 8'!$A$5:$L$23,2,FALSE)","v":89},{"$f":"VLOOKUP($B$2,'Table 9'!$A$5:$L$23,2,FALSE)","v":95},{"$f":"VLOOKUP($B$2,'Table 10'!$A$5:$L$23,2,FALSE)","v":65},{"$f":"VLOOKUP($B$2,'Table 11'!$A$5:$L$23,2,FALSE)","v":91},{"$f":"VLOOKUP($B$2,'Table 12'!$A$5:$L$23,2,FALSE)","v":102},{"$f":"VLOOKUP($B$2,'Table 13'!$A$5:$L$23,2,FALSE)","v":124},{"$f":"VLOOKUP($B$2,'Table 14'!$A$5:$L$23,2,FALSE)","v":107}]
[null,"Median",{"$f":"VLOOKUP($B$2,'Table 7'!$A$47:$F$65,4,FALSE)","v":320.33},{"$f":"VLOOKUP($B$2,'Table 8'!$A$47:$F$65,4,FALSE)","v":324},{"$f":"VLOOKUP($B$2,'Table 9'!$A$47:$F$65,4,FALSE)","v":281.66000000000003},{"$f":"VLOOKUP($B$2,'Table 10'!$A$47:$F$65,4,FALSE)","v":301.67},{"$f":"VLOOKUP($B$2,'Table 11'!$A$47:$F$65,4,FALSE)","v":303.33},{"$f":"VLOOKUP($B$2,'Table 12'!$A$47:$F$65,4,FALSE)","v":325},{"$f":"VLOOKUP($B$2,'Table 13'!$A$47:$F$65,4,FALSE)","v":316.07},{"$f":"VLOOKUP($B$2,'Table 14'!$A$47:$F$65,4,FALSE)","v":294.35000000000002},{"$f":"J71/I71-1","v":-6.8718954661941889E-2},{"$f":"J71/C71-1","v":-8.1103861642680908E-2},null,"2 Bedrooms",null,null,{"$f":"VLOOKUP($B$2,'Table 7'!$A$5:$L$23,8,FALSE)","v":142},{"$f":"VLOOKUP($B$2,'Table 8'!$A$5:$L$23,8,FALSE)","v":143},{"$f":"VLOOKUP($B$2,'Table 9'!$A$5:$L$23,8,FALSE)","v":172},{"$f":"VLOOKUP($B$2,'Table 10'!$A$5:$L$23,8,FALSE)","v":151},{"$f":"VLOOKUP($B$2,'Table 11'!$A$5:$L$23,8,FALSE)","v":140},{"$f":"VLOOKUP($B$2,'Table 12'!$A$5:$L$23,8,FALSE)","v":178},{"$f":"VLOOKUP($B$2,'Table 13'!$A$5:$L$23,8,FALSE)","v":173},{"$f":"VLOOKUP($B$2,'Table 14'!$A$5:$L$23,8,FALSE)","v":180},null,"2 Bedrooms",{"$f":"VLOOKUP($B$2,'Table 7'!$A$5:$L$23,8,FALSE)","v":142},{"$f":"VLOOKUP($B$2,'Table 8'!$A$5:$L$23,8,FALSE)","v":143},{"$f":"VLOOKUP($B$2,'Table 9'!$A$5:$L$23,8,FALSE)","v":172},{"$f":"VLOOKUP($B$2,'Table 10'!$A$5:$L$23,8,FALSE)","v":151},{"$f":"VLOOKUP($B$2,'Table 11'!$A$5:$L$23,8,FALSE)","v":140},{"$f":"VLOOKUP($B$2,'Table 12'!$A$5:$L$23,8,FALSE)","v":178},{"$f":"VLOOKUP($B$2,'Table 13'!$A$5:$L$23,8,FALSE)","v":173},{"$f":"VLOOKUP($B$2,'Table 14'!$A$5:$L$23,8,FALSE)","v":180}]
[null,"Mean",{"$f":"VLOOKUP($B$2,'Table 7'!$A$47:$F$65,5,FALSE)","v":315.60000000000002},{"$f":"VLOOKUP($B$2,'Table 8'!$A$47:$F$65,5,FALSE)","v":318.41000000000003},{"$f":"VLOOKUP($B$2,'Table 9'!$A$47:$F$65,5,FALSE)","v":274.73},{"$f":"VLOOKUP($B$2,'Table 10'!$A$47:$F$65,5,FALSE)","v":280.18},{"$f":"VLOOKUP($B$2,'Table 11'!$A$47:$F$65,5,FALSE)","v":305.91000000000003},{"$f":"VLOOKUP($B$2,'Table 12'!$A$47:$F$65,5,FALSE)","v":319.23},{"$f":"VLOOKUP($B$2,'Table 13'!$A$47:$F$65,5,FALSE)","v":301.85000000000002},{"$f":"VLOOKUP($B$2,'Table 14'!$A$47:$F$65,5,FALSE)","v":300.83},-3.3791618353488095E-3,-4.6799746514575524E-2,null,"3 Bedrooms",null,null,{"$f":"VLOOKUP($B$2,'Table 7'!$A$26:$L$44,2,FALSE)","v":69},{"$f":"VLOOKUP($B$2,'Table 8'!$A$26:$L$44,2,FALSE)","v":87},{"$f":"VLOOKUP($B$2,'Table 9'!$A$26:$L$44,2,FALSE)","v":102},{"$f":"VLOOKUP($B$2,'Table 10'!$A$26:$L$44,2,FALSE)","v":83},{"$f":"VLOOKUP($B$2,'Table 11'!$A$26:$L$44,2,FALSE)","v":82},{"$f":"VLOOKUP($B$2,'Table 12'!$A$26:$L$44,2,FALSE)","v":98},{"$f":"VLOOKUP($B$2,'Table 13'!$A$26:$L$44,2,FALSE)","v":85},{"$f":"VLOOKUP($B$2,'Table 14'!$A$26:$L$44,2,FALSE)","v":76},null,"3 Bedrooms",{"$f":"VLOOKUP($B$2,'Table 7'!$A$26:$L$44,2,FALSE)","v":69},{"$f":"VLOOKUP($B$2,'Table 8'!$A$26:$L$44,2,FALSE)","v":87},{"$f":"VLOOKUP($B$2,'Table 9'!$A$26:$L$44,2,FALSE)","v":102},{"$f":"VLOOKUP($B$2,'Table 10'!$A$26:$L$44,2,FALSE)","v":83},{"$f":"VLOOKUP($B$2,'Table 11'!$A$26:$L$44,2,FALSE)","v":82},{"$f":"VLOOKUP($B$2,'Table 12'!$A$26:$L$44,2,FALSE)","v":98},{"$f":"VLOOKUP($B$2,'Table 13'!$A$26:$L$44,2,FALSE)","v":85},{"$f":"VLOOKUP($B$2,'Table 14'!$A$26:$L$44,2,FALSE)","v":76}]
[null,"Upper Quartile",{"$f":"VLOOKUP($B$2,'Table 7'!$A$47:$F$65,6,FALSE)","v":333},{"$f":"VLOOKUP($B$2,'Table 8'!$A$47:$F$65,6,FALSE)","v":340},{"$f":"VLOOKUP($B$2,'Table 9'!$A$47:$F$65,6,FALSE)","v":325},{"$f":"VLOOKUP($B$2,'Table 10'!$A$47:$F$65,6,FALSE)","v":325},{"$f":"VLOOKUP($B$2,'Table 11'!$A$47:$F$65,6,FALSE)","v":334.52},{"$f":"VLOOKUP($B$2,'Table 12'!$A$47:$F$65,6,FALSE)","v":347.62},{"$f":"VLOOKUP($B$2,'Table 13'!$A$47:$F$65,6,FALSE)","v":325},{"$f":"VLOOKUP($B$2,'Table 14'!$A$47:$F$65,6,FALSE)","v":345},6.1538461538461542E-2,3.6036036036036112E-2,null,"4 Bedrooms",null,null,{"$f":"VLOOKUP($B$2,'Table 7'!$A$26:$L$44,8,FALSE)","v":32},{"$f":"VLOOKUP($B$2,'Table 8'!$A$26:$L$44,8,FALSE)","v":46},{"$f":"VLOOKUP($B$2,'Table 9'!$A$26:$L$44,8,FALSE)","v":51},{"$f":"VLOOKUP($B$2,'Table 10'!$A$26:$L$44,8,FALSE)","v":60},{"$f":"VLOOKUP($B$2,'Table 11'!$A$26:$L$44,8,FALSE)","v":36},{"$f":"VLOOKUP($B$2,'Table 12'!$A$26:$L$44,8,FALSE)","v":40},{"$f":"VLOOKUP($B$2,'Table 13'!$A$26:$L$44,8,FALSE)","v":44},{"$f":"VLOOKUP($B$2,'Table 14'!$A$26:$L$44,8,FALSE)","v":19},null,"4 Bedrooms",{"$f":"VLOOKUP($B$2,'Table 7'!$A$26:$L$44,8,FALSE)","v":32},{"$f":"VLOOKUP($B$2,'Table 8'!$A$26:$L$44,8,FALSE)","v":46},{"$f":"VLOOKUP($B$2,'Table 9'!$A$26:$L$44,8,FALSE)","v":51},{"$f":"VLOOKUP($B$2,'Table 10'!$A$26:$L$44,8,FALSE)","v":60},{"$f":"VLOOKUP($B$2,'Table 11'!$A$26:$L$44,8,FALSE)","v":36},{"$f":"VLOOKUP($B$2,'Table 12'!$A$26:$L$44,8,FALSE)","v":40},{"$f":"VLOOKUP($B$2,'Table 13'!$A$26:$L$44,8,FALSE)","v":44},{"$f":"VLOOKUP($B$2,'Table 14'!$A$26:$L$44,8,FALSE)","v":19}]
[null,null,null,null,null,null,null,null,null,null,null,null,null,"1 Bedroom Shared",null,null,{"$f":"VLOOKUP($B$2,'Table 7'!$A$47:$L$65,2,FALSE)","v":10},{"$f":"VLOOKUP($B$2,'Table 8'!$A$47:$L$65,2,FALSE)","v":17},{"$f":"VLOOKUP($B$2,'Table 9'!$A$47:$L$65,2,FALSE)","v":38},{"$f":"VLOOKUP($B$2,'Table 10'!$A$47:$L$65,2,FALSE)","v":70},{"$f":"VLOOKUP($B$2,'Table 11'!$A$47:$L$65,2,FALSE)","v":68},{"$f":"VLOOKUP($B$2,'Table 12'!$A$47:$L$65,2,FALSE)","v":81},{"$f":"VLOOKUP($B$2,'Table 13'!$A$47:$L$65,2,FALSE)","v":46},{"$f":"VLOOKUP($B$2,'Table 14'!$A$47:$L$65,2,FALSE)","v":45},null,"1 Bedroom Shared",{"$f":"VLOOKUP($B$2,'Table 7'!$A$47:$L$65,2,FALSE)","v":10},{"$f":"VLOOKUP($B$2,'Table 8'!$A$47:$L$65,2,FALSE)","v":17},{"$f":"VLOOKUP($B$2,'Table 9'!$A$47:$L$65,2,FALSE)","v":38},{"$f":"VLOOKUP($B$2,'Table 10'!$A$47:$L$65,2,FALSE)","v":70},{"$f":"VLOOKUP($B$2,'Table 11'!$A$47:$L$65,2,FALSE)","v":68},{"$f":"VLOOKUP($B$2,'Table 12'!$A$47:$L$65,2,FALSE)","v":81},{"$f":"VLOOKUP($B$2,'Table 13'!$A$47:$L$65,2,FALSE)","v":46},{"$f":"VLOOKUP($B$2,'Table 14'!$A$47:$L$65,2,FALSE)","v":45}]
[]
[]
[]
[]
[]
[]
[]
[]
[]
[]
[]
[]
[]
[]
[]
[]
[]
[null,null,null,null,null,null,null,null,null,null,null,null,null,null,null,null,null,null,null,null,null,null,null,null,null,null,null,null,null,null,null,null,null,null,null,2010,2011,2012,2013,2014,2015,2016,2017]
[null,null,null,null,null,null,null,null,null,null,null,null,null,null,null,null,null,null,null,null,null,null,null,null,null,null,null,null,null,null,null,null,null,null,"Scotland",{"$f":"'All years 2 bed'!B22","v":536.27},{"$f":"'All years 2 bed'!C22","v":546.41999999999996},{"$f":"'All years 2 bed'!D22","v":552.89},{"$f":"'All years 2 bed'!E22","v":575.84},{"$f":"'All years 2 bed'!F22","v":596.45000000000005},{"$f":"'All years 2 bed'!G22","v":609.52},{"$f":"'All years 2 bed'!H22","v":615.64},{"$f":"'All years 2 bed'!I22","v":642.79999999999995}]
[null,null,null,null,null,null,null,null,null,null,null,null,null,null,null,null,null,null,null,null,null,null,null,null,null,null,null,null,null,null,null,null,null,null,{"$f":"B2","v":"Argyll and Bute"},{"$f":"VLOOKUP($AI$94,'All years 2 bed'!$A$4:$I$21,2,FALSE)","v":503.03},{"$f":"VLOOKUP($AI$94,'All years 2 bed'!$A$4:$I$21,3,FALSE)","v":499.54},{"$f":"VLOOKUP($AI$94,'All years 2 bed'!$A$4:$I$21,4,FALSE)","v":508.31},{"$f":"VLOOKUP($AI$94,'All years 2 bed'!$A$4:$I$21,5,FALSE)","v":502.51},{"$f":"VLOOKUP($AI$94,'All years 2 bed'!$A$4:$I$21,6,FALSE)","v":495.44},{"$f":"VLOOKUP($AI$94,'All years 2 bed'!$A$4:$I$21,7,FALSE)","v":508.79},{"$f":"VLOOKUP($AI$94,'All years 2 bed'!$A$4:$I$21,8,FALSE)","v":524.75},{"$f":"VLOOKUP($AI$94,'All years 2 bed'!$A$4:$I$21,9,FALSE)","v":515.92999999999995}]

{"sheet":"Ayrshires","index":49,"n_rows":94,"n_cols":43,"rows_kept":94,"cut":false,"hidden":false,"merged":[[73,13,73,15],[1,1,1,3],[69,13,69,15],[70,13,70,15],[71,13,71,15],[72,13,72,15]]}
[null,"BRMA:"]
[null,"Ayrshires"]
[]
["Back to contents"]
[null,"Broad Rental Market Area Profile: Ayrshires"]
[]
[]
[]
[]
[]
[]
[]
[]
[]
[]
[]
[]
[]
[]
[]
[]
[]
[]
[null,"1 Bedroom Properties - Quartile Measures, years to end Sept, (£ monthly):",null,null,null,null,null,null,null,null,null,null,null,"2 Bedroom Properties - Quartile Measures, years to end Sept, (£ monthly):"]
[null,null,2010,2011,2012,2013,2014,2015,2016,2017,"2016 to 2017","2010 to 2017",null,null,2010,2011,2012,2013,2014,2015,2016,2017,"2016 to 2017","2010 to 2017"]
[null,"Lower Quartile",{"$f":"VLOOKUP($B$2,'Table 7'!$A$5:$L$23,3,FALSE)","v":350},{"$f":"VLOOKUP($B$2,'Table 8'!$A$5:$L$23,3,FALSE)","v":350},{"$f":"VLOOKUP($B$2,'Table 9'!$A$5:$L$23,3,FALSE)","v":330},{"$f":"VLOOKUP($B$2,'Table 10'!$A$5:$L$23,3,FALSE)","v":325},{"$f":"VLOOKUP($B$2,'Table 11'!$A$5:$L$23,3,FALSE)","v":325},{"$f":"VLOOKUP($B$2,'Table 12'!$A$5:$L$23,3,FALSE)","v":325},{"$f":"VLOOKUP($B$2,'Table 13'!$A$5:$L$23,3,FALSE)","v":327.5},{"$f":"VLOOKUP($B$2,'Table 14'!$A$5:$L$23,3,FALSE)","v":350},{"$f":"J26/I26-1","v":6.8702290076335881E-2},{"$f":"J26/C26-1","v":0},null,"Lower Quartile",{"$f":"VLOOKUP($B$2,'Table 7'!$A$5:$L$23,9,FALSE)","v":425},{"$f":"VLOOKUP($B$2,'Table 8'!$A$5:$L$23,9,FALSE)","v":425},{"$f":"VLOOKUP($B$2,'Table 9'!$A$5:$L$23,9,FALSE)","v":425},{"$f":"VLOOKUP($B$2,'Table 10'!$A$5:$L$23,9,FALSE)","v":425},{"$f":"VLOOKUP($B$2,'Table 11'!$A$5:$L$23,9,FALSE)","v":425},{"$f":"VLOOKUP($B$2,'Table 12'!$A$5:$L$23,9,FALSE)","v":420},{"$f":"VLOOKUP($B$2,'Table 13'!$A$5:$L$23,9,FALSE)","v":425},{"$f":"VLOOKUP($B$2,'Table 14'!$A$5:$L$23,9,FALSE)","v":425},{"$f":"V26/U26-1","v":0},{"$f":"V26/O26-1","v":0}]
[null,"Median",{"$f":"VLOOKUP($B$2,'Table 7'!$A$5:$L$23,4,FALSE)","v":375},{"$f":"VLOOKUP($B$2,'Table 8'!$A$5:$L$23,4,FALSE)","v":375},{"$f":"VLOOKUP($B$2,'Table 9'!$A$5:$L$23,4,FALSE)","v":350},{"$f":"VLOOKUP($B$2,'Table 10'!$A$5:$L$23,4,FALSE)","v":360},{"$f":"VLOOKUP($B$2,'Table 11'!$A$5:$L$23,4,FALSE)","v":360},{"$f":"VLOOKUP($B$2,'Table 12'!$A$5:$L$23,4,FALSE)","v":350},{"$f":"VLOOKUP($B$2,'Table 13'!$A$5:$L$23,4,FALSE)","v":350},{"$f":"VLOOKUP($B$2,'Table 14'!$A$5:$L$23,4,FALSE)","v":365},{"$f":"J27/I27-1","v":4.2857142857142927E-2},{"$f":"J27/C27-1","v":-2.6666666666666616E-2},null,"Median",{"$f":"VLOOKUP($B$2,'Table 7'!$A$5:$L$23,10,FALSE)","v":450},{"$f":"VLOOKUP($B$2,'Table 8'!$A$5:$L$23,10,FALSE)","v":450},{"$f":"VLOOKUP($B$2,'Table 9'!$A$5:$L$23,10,FALSE)","v":450},{"$f":"VLOOKUP($B$2,'Table 10'!$A$5:$L$23,10,FALSE)","v":450},{"$f":"VLOOKUP($B$2,'Table 11'!$A$5:$L$23,10,FALSE)","v":450},{"$f":"VLOOKUP($B$2,'Table 12'!$A$5:$L$23,10,FALSE)","v":450},{"$f":"VLOOKUP($B$2,'Table 13'!$A$5:$L$23,10,FALSE)","v":450},{"$f":"VLOOKUP($B$2,'Table 14'!$A$5:$L$23,10,FALSE)","v":450},{"$f":"V27/U27-1","v":0},{"$f":"V27/O27-1","v":0}]
[null,"Mean",{"$f":"VLOOKUP($B$2,'Table 7'!$A$5:$L$23,5,FALSE)","v":375.42},{"$f":"VLOOKUP($B$2,'Table 8'!$A$5:$L$23,5,FALSE)","v":378.48},{"$f":"VLOOKUP($B$2,'Table 9'!$A$5:$L$23,5,FALSE)","v":365.01},{"$f":"VLOOKUP($B$2,'Table 10'!$A$5:$L$23,5,FALSE)","v":369.38},{"$f":"VLOOKUP($B$2,'Table 11'!$A$5:$L$23,5,FALSE)","v":364.83},{"$f":"VLOOKUP($B$2,'Table 12'!$A$5:$L$23,5,FALSE)","v":362.86},{"$f":"VLOOKUP($B$2,'Table 13'!$A$5:$L$23,5,FALSE)","v":366.26},{"$f":"VLOOKUP($B$2,'Table 14'!$A$5:$L$23,5,FALSE)","v":369.97},1.0129416261672075E-2,-1.4517074210217862E-2,null,"Mean",{"$f":"VLOOKUP($B$2,'Table 7'!$A$5:$L$23,11,FALSE)","v":464.47},{"$f":"VLOOKUP($B$2,'Table 8'!$A$5:$L$23,11,FALSE)","v":469.47},{"$f":"VLOOKUP($B$2,'Table 9'!$A$5:$L$23,11,FALSE)","v":459.24},{"$f":"VLOOKUP($B$2,'Table 10'!$A$5:$L$23,11,FALSE)","v":469.51},{"$f":"VLOOKUP($B$2,'Table 11'!$A$5:$L$23,11,FALSE)","v":460.9},{"$f":"VLOOKUP($B$2,'Table 12'!$A$5:$L$23,11,FALSE)","v":460.63},{"$f":"VLOOKUP($B$2,'Table 13'!$A$5:$L$23,11,FALSE)","v":463.38},{"$f":"VLOOKUP($B$2,'Table 14'!$A$5:$L$23,11,FALSE)","v":466.59},6.927359834261182E-3,4.5643421534220519E-3]
[null,"Upper Quartile",{"$f":"VLOOKUP($B$2,'Table 7'!$A$5:$L$23,6,FALSE)","v":400},{"$f":"VLOOKUP($B$2,'Table 8'!$A$5:$L$23,6,FALSE)","v":400},{"$f":"VLOOKUP($B$2,'Table 9'!$A$5:$L$23,6,FALSE)","v":395},{"$f":"VLOOKUP($B$2,'Table 10'!$A$5:$L$23,6,FALSE)","v":400},{"$f":"VLOOKUP($B$2,'Table 11'!$A$5:$L$23,6,FALSE)","v":395},{"$f":"VLOOKUP($B$2,'Table 12'!$A$5:$L$23,6,FALSE)","v":395},{"$f":"VLOOKUP($B$2,'Table 13'!$A$5:$L$23,6,FALSE)","v":400},{"$f":"VLOOKUP($B$2,'Table 14'!$A$5:$L$23,6,FALSE)","v":400},0,0,null,"Upper Quartile",{"$f":"VLOOKUP($B$2,'Table 7'!$A$5:$L$23,12,FALSE)","v":495},{"$f":"VLOOKUP($B$2,'Table 8'!$A$5:$L$23,12,FALSE)","v":500},{"$f":"VLOOKUP($B$2,'Table 9'!$A$5:$L$23,12,FALSE)","v":495},{"$f":"VLOOKUP($B$2,'Table 10'!$A$5:$L$23,12,FALSE)","v":500},{"$f":"VLOOKUP($B$2,'Table 11'!$A$5:$L$23,12,FALSE)","v":497.5},{"$f":"VLOOKUP($B$2,'Table 12'!$A$5:$L$23,12,FALSE)","v":500},{"$f":"VLOOKUP($B$2,'Table 13'!$A$5:$L$23,12,FALSE)","v":500},{"$f":"VLOOKUP($B$2,'Table 14'!$A$5:$L$23,12,FALSE)","v":500},0,1.0101010101010166E-2]
[]
[]
[]
[]
[]
[]
[]
[]
[]
[]
[]
[]
[]
[]
[]
[]
[null,"3 Bedroom Properties - Quartile Measures, years to end Sept, (£ monthly):",null,null,null,null,null,null,null,null,null,null,null,"4 Bedroom Properties - Quartile Measures, years to end Sept, (£ monthly):"]
[null,null,2010,2011,2012,2013,2014,2015,2016,2017,"2016 to 2017","2010 to 2017",null,null,2010,2011,2012,2013,2014,2015,2016,2017,"2016 to 2017","2010 to 2017"]
[null,"Lower Quartile",{"$f":"VLOOKUP($B$2,'Table 7'!$A$26:$L$44,3,FALSE)","v":475},{"$f":"VLOOKUP($B$2,'Table 8'!$A$26:$L$44,3,FALSE)","v":495},{"$f":"VLOOKUP($B$2,'Table 9'!$A$26:$L$44,3,FALSE)","v":495},{"$f":"VLOOKUP($B$2,'Table 10'!$A$26:$L$44,3,FALSE)","v":495},{"$f":"VLOOKUP($B$2,'Table 11'!$A$26:$L$44,3,FALSE)","v":495},{"$f":"VLOOKUP($B$2,'Table 12'!$A$26:$L$44,3,FALSE)","v":490},{"$f":"VLOOKUP($B$2,'Table 13'!$A$26:$L$44,3,FALSE)","v":495},{"$f":"VLOOKUP($B$2,'Table 14'!$A$26:$L$44,3,FALSE)","v":495},{"$f":"J48/I48-1","v":0},{"$f":"J48/C48-1","v":4.2105263157894646E-2},null,"Lower Quartile",{"$f":"VLOOKUP($B$2,'Table 7'!$A$26:$L$44,9,FALSE)","v":650},{"$f":"VLOOKUP($B$2,'Table 8'!$A$26:$L$44,9,FALSE)","v":650},{"$f":"VLOOKUP($B$2,'Table 9'!$A$26:$L$44,9,FALSE)","v":650},{"$f":"VLOOKUP($B$2,'Table 10'!$A$26:$L$44,9,FALSE)","v":677.5},{"$f":"VLOOKUP($B$2,'Table 11'!$A$26:$L$44,9,FALSE)","v":675},{"$f":"VLOOKUP($B$2,'Table 12'!$A$26:$L$44,9,FALSE)","v":695},{"$f":"VLOOKUP($B$2,'Table 13'!$A$26:$L$44,9,FALSE)","v":695},{"$f":"VLOOKUP($B$2,'Table 14'!$A$26:$L$44,9,FALSE)","v":700},{"$f":"V48/U48-1","v":7.194244604316502E-3},{"$f":"V48/O48-1","v":7.6923076923076872E-2}]
[null,"Median",{"$f":"VLOOKUP($B$2,'Table 7'!$A$26:$L$44,4,FALSE)","v":545},{"$f":"VLOOKUP($B$2,'Table 8'!$A$26:$L$44,4,FALSE)","v":550},{"$f":"VLOOKUP($B$2,'Table 9'!$A$26:$L$44,4,FALSE)","v":550},{"$f":"VLOOKUP($B$2,'Table 10'!$A$26:$L$44,4,FALSE)","v":550},{"$f":"VLOOKUP($B$2,'Table 11'!$A$26:$L$44,4,FALSE)","v":550},{"$f":"VLOOKUP($B$2,'Table 12'!$A$26:$L$44,4,FALSE)","v":525},{"$f":"VLOOKUP($B$2,'Table 13'!$A$26:$L$44,4,FALSE)","v":550},{"$f":"VLOOKUP($B$2,'Table 14'!$A$26:$L$44,4,FALSE)","v":550},{"$f":"J49/I49-1","v":0},{"$f":"J49/C49-1","v":9.1743119266054496E-3},null,"Median",{"$f":"VLOOKUP($B$2,'Table 7'!$A$26:$L$44,10,FALSE)","v":725},{"$f":"VLOOKUP($B$2,'Table 8'!$A$26:$L$44,10,FALSE)","v":750},{"$f":"VLOOKUP($B$2,'Table 9'!$A$26:$L$44,10,FALSE)","v":750},{"$f":"VLOOKUP($B$2,'Table 10'!$A$26:$L$44,10,FALSE)","v":795},{"$f":"VLOOKUP($B$2,'Table 11'!$A$26:$L$44,10,FALSE)","v":750},{"$f":"VLOOKUP($B$2,'Table 12'!$A$26:$L$44,10,FALSE)","v":850},{"$f":"VLOOKUP($B$2,'Table 13'!$A$26:$L$44,10,FALSE)","v":800},{"$f":"VLOOKUP($B$2,'Table 14'!$A$26:$L$44,10,FALSE)","v":895},{"$f":"V49/U49-1","v":0.11874999999999991},{"$f":"V49/O49-1","v":0.23448275862068968}]
[null,"Mean",{"$f":"VLOOKUP($B$2,'Table 7'!$A$26:$L$44,5,FALSE)","v":556.1},{"$f":"VLOOKUP($B$2,'Table 8'!$A$26:$L$44,5,FALSE)","v":569.88},{"$f":"VLOOKUP($B$2,'Table 9'!$A$26:$L$44,5,FALSE)","v":576.09},{"$f":"VLOOKUP($B$2,'Table 10'!$A$26:$L$44,5,FALSE)","v":574.91},{"$f":"VLOOKUP($B$2,'Table 11'!$A$26:$L$44,5,FALSE)","v":568.83000000000004},{"$f":"VLOOKUP($B$2,'Table 12'!$A$26:$L$44,5,FALSE)","v":568.07000000000005},{"$f":"VLOOKUP($B$2,'Table 13'!$A$26:$L$44,5,FALSE)","v":578.84},{"$f":"VLOOKUP($B$2,'Table 14'!$A$26:$L$44,5,FALSE)","v":589.54999999999995},1.8502522285951173E-2,6.0151051969070224E-2,null,"Mean",{"$f":"VLOOKUP($B$2,'Table 7'!$A$26:$L$44,11,FALSE)","v":758.06},{"$f":"VLOOKUP($B$2,'Table 8'!$A$26:$L$44,11,FALSE)","v":788.66},{"$f":"VLOOKUP($B$2,'Table 9'!$A$26:$L$44,11,FALSE)","v":816.47},{"$f":"VLOOKUP($B$2,'Table 10'!$A$26:$L$44,11,FALSE)","v":834.36},{"$f":"VLOOKUP($B$2,'Table 11'!$A$26:$L$44,11,FALSE)","v":840.12},{"$f":"VLOOKUP($B$2,'Table 12'!$A$26:$L$44,11,FALSE)","v":871.69},{"$f":"VLOOKUP($B$2,'Table 13'!$A$26:$L$44,11,FALSE)","v":907.52},{"$f":"VLOOKUP($B$2,'Table 14'!$A$26:$L$44,11,FALSE)","v":906.8},-7.9337094499298821E-4,0.19621138168482699]
[null,"Upper Quartile",{"$f":"VLOOKUP($B$2,'Table 7'!$A$26:$L$44,6,FALSE)","v":600},{"$f":"VLOOKUP($B$2,'Table 8'!$A$26:$L$44,6,FALSE)","v":625},{"$f":"VLOOKUP($B$2,'Table 9'!$A$26:$L$44,6,FALSE)","v":650},{"$f":"VLOOKUP($B$2,'Table 10'!$A$26:$L$44,6,FALSE)","v":650},{"$f":"VLOOKUP($B$2,'Table 11'!$A$26:$L$44,6,FALSE)","v":625},{"$f":"VLOOKUP($B$2,'Table 12'!$A$26:$L$44,6,FALSE)","v":642.5},{"$f":"VLOOKUP($B$2,'Table 13'!$A$26:$L$44,6,FALSE)","v":650},{"$f":"VLOOKUP($B$2,'Table 14'!$A$26:$L$44,6,FALSE)","v":640},-1.538461538461533E-2,6.6666666666666652E-2,null,"Upper Quartile",{"$f":"VLOOKUP($B$2,'Table 7'!$A$26:$L$44,12,FALSE)","v":850},{"$f":"VLOOKUP($B$2,'Table 8'!$A$26:$L$44,12,FALSE)","v":875},{"$f":"VLOOKUP($B$2,'Table 9'!$A$26:$L$44,12,FALSE)","v":900},{"$f":"VLOOKUP($B$2,'Table 10'!$A$26:$L$44,12,FALSE)","v":900},{"$f":"VLOOKUP($B$2,'Table 11'!$A$26:$L$44,12,FALSE)","v":1000},{"$f":"VLOOKUP($B$2,'Table 12'!$A$26:$L$44,12,FALSE)","v":995},{"$f":"VLOOKUP($B$2,'Table 13'!$A$26:$L$44,12,FALSE)","v":975},{"$f":"VLOOKUP($B$2,'Table 14'!$A$26:$L$44,12,FALSE)","v":1050},7.6923076923076872E-2,0.23529411764705888]
[]
[]
[]
[]
[]
[]
[]
[]
[]
[]
[]
[]
[]
[]
[]
[]
[null,"1 Bedroom Shared Properties - Quartile Measures, years to end Sept, (£ monthly):",null,null,null,null,null,null,null,null,null,null,null,"Sample Sizes:",null,null,null,null,null,null,null,null,null,null,null,"Sample Sizes:"]
[null,null,2010,2011,2012,2013,2014,2015,2016,2017,"2016 to 2017","2010 to 2017",null,null,null,null,2010,2011,2012,2013,2014,2015,2016,2017,null,null,2010,2011,2012,2013,2014,2015,2016,2017]
[null,"Lower Quartile",{"$f":"VLOOKUP($B$2,'Table 7'!$A$47:$F$65,3,FALSE)","v":280},{"$f":"VLOOKUP($B$2,'Table 8'!$A$47:$F$65,3,FALSE)","v":274},{"$f":"VLOOKUP($B$2,'Table 9'!$A$47:$F$65,3,FALSE)","v":273},{"$f":"VLOOKUP($B$2,'Table 10'!$A$47:$F$65,3,FALSE)","v":260},{"$f":"VLOOKUP($B$2,'Table 11'!$A$47:$F$65,3,FALSE)","v":260},{"$f":"VLOOKUP($B$2,'Table 12'!$A$47:$F$65,3,FALSE)","v":275},{"$f":"VLOOKUP($B$2,'Table 13'!$A$47:$F$65,3,FALSE)","v":275},{"$f":"VLOOKUP($B$2,'Table 14'!$A$47:$F$65,3,FALSE)","v":275},{"$f":"J70/I70-1","v":0},{"$f":"J70/C70-1","v":-1.7857142857142905E-2},null,"1 Bedroom ",null,null,{"$f":"VLOOKUP($B$2,'Table 7'!$A$5:$L$23,2,FALSE)","v":359},{"$f":"VLOOKUP($B$2,'Table 8'!$A$5:$L$23,2,FALSE)","v":354},{"$f":"VLOOKUP($B$2,'Table 9'!$A$5:$L$23,2,FALSE)","v":284},{"$f":"VLOOKUP($B$2,'Table 10'!$A$5:$L$23,2,FALSE)","v":201},{"$f":"VLOOKUP($B$2,'Table 11'!$A$5:$L$23,2,FALSE)","v":206},{"$f":"VLOOKUP($B$2,'Table 12'!$A$5:$L$23,2,FALSE)","v":286},{"$f":"VLOOKUP($B$2,'Table 13'!$A$5:$L$23,2,FALSE)","v":288},{"$f":"VLOOKUP($B$2,'Table 14'!$A$5:$L$23,2,FALSE)","v":351},null,"1 Bedroom ",{"$f":"VLOOKUP($B$2,'Table 7'!$A$5:$L$23,2,FALSE)","v":359},{"$f":"VLOOKUP($B$2,'Table 8'!$A$5:$L$23,2,FALSE)","v":354},{"$f":"VLOOKUP($B$2,'Table 9'!$A$5:$L$23,2,FALSE)","v":284},{"$f":"VLOOKUP($B$2,'Table 10'!$A$5:$L$23,2,FALSE)","v":201},{"$f":"VLOOKUP($B$2,'Table 11'!$A$5:$L$23,2,FALSE)","v":206},{"$f":"VLOOKUP($B$2,'Table 12'!$A$5:$L$23,2,FALSE)","v":286},{"$f":"VLOOKUP($B$2,'Table 13'!$A$5:$L$23,2,FALSE)","v":288},{"$f":"VLOOKUP($B$2,'Table 14'!$A$5:$L$23,2,FALSE)","v":351}]
[null,"Median",{"$f":"VLOOKUP($B$2,'Table 7'!$A$47:$F$65,4,FALSE)","v":300},{"$f":"VLOOKUP($B$2,'Table 8'!$A$47:$F$65,4,FALSE)","v":298},{"$f":"VLOOKUP($B$2,'Table 9'!$A$47:$F$65,4,FALSE)","v":300},{"$f":"VLOOKUP($B$2,'Table 10'!$A$47:$F$65,4,FALSE)","v":286.5},{"$f":"VLOOKUP($B$2,'Table 11'!$A$47:$F$65,4,FALSE)","v":276.66000000000003},{"$f":"VLOOKUP($B$2,'Table 12'!$A$47:$F$65,4,FALSE)","v":300},{"$f":"VLOOKUP($B$2,'Table 13'!$A$47:$F$65,4,FALSE)","v":325.89},{"$f":"VLOOKUP($B$2,'Table 14'!$A$47:$F$65,4,FALSE)","v":337.79},{"$f":"J71/I71-1","v":3.6515388628064693E-2},{"$f":"J71/C71-1","v":0.12596666666666678},null,"2 Bedrooms",null,null,{"$f":"VLOOKUP($B$2,'Table 7'!$A$5:$L$23,8,FALSE)","v":759},{"$f":"VLOOKUP($B$2,'Table 8'!$A$5:$L$23,8,FALSE)","v":737},{"$f":"VLOOKUP($B$2,'Table 9'!$A$5:$L$23,8,FALSE)","v":607},{"$f":"VLOOKUP($B$2,'Table 10'!$A$5:$L$23,8,FALSE)","v":592},{"$f":"VLOOKUP($B$2,'Table 11'!$A$5:$L$23,8,FALSE)","v":604},{"$f":"VLOOKUP($B$2,'Table 12'!$A$5:$L$23,8,FALSE)","v":681},{"$f":"VLOOKUP($B$2,'Table 13'!$A$5:$L$23,8,FALSE)","v":716},{"$f":"VLOOKUP($B$2,'Table 14'!$A$5:$L$23,8,FALSE)","v":786},null,"2 Bedrooms",{"$f":"VLOOKUP($B$2,'Table 7'!$A$5:$L$23,8,FALSE)","v":759},{"$f":"VLOOKUP($B$2,'Table 8'!$A$5:$L$23,8,FALSE)","v":737},{"$f":"VLOOKUP($B$2,'Table 9'!$A$5:$L$23,8,FALSE)","v":607},{"$f":"VLOOKUP($B$2,'Table 10'!$A$5:$L$23,8,FALSE)","v":592},{"$f":"VLOOKUP($B$2,'Table 11'!$A$5:$L$23,8,FALSE)","v":604},{"$f":"VLOOKUP($B$2,'Table 12'!$A$5:$L$23,8,FALSE)","v":681},{"$f":"VLOOKUP($B$2,'Table 13'!$A$5:$L$23,8,FALSE)","v":716},{"$f":"VLOOKUP($B$2,'Table 14'!$A$5:$L$23,8,FALSE)","v":786}]
[null,"Mean",{"$f":"VLOOKUP($B$2,'Table 7'!$A$47:$F$65,5,FALSE)","v":301.7},{"$f":"VLOOKUP($B$2,'Table 8'!$A$47:$F$65,5,FALSE)","v":300.68},{"$f":"VLOOKUP($B$2,'Table 9'!$A$47:$F$65,5,FALSE)","v":301.73},{"$f":"VLOOKUP($B$2,'Table 10'!$A$47:$F$65,5,FALSE)","v":301.14999999999998},{"$f":"VLOOKUP($B$2,'Table 11'!$A$47:$F$65,5,FALSE)","v":289.5},{"$f":"VLOOKUP($B$2,'Table 12'!$A$47:$F$65,5,FALSE)","v":304.35000000000002},{"$f":"VLOOKUP($B$2,'Table 13'!$A$47:$F$65,5,FALSE)","v":335.13},{"$f":"VLOOKUP($B$2,'Table 14'!$A$47:$F$65,5,FALSE)","v":338.11},8.8920717333571542E-3,0.12068279748094146,null,"3 Bedrooms",null,null,{"$f":"VLOOKUP($B$2,'Table 7'!$A$26:$L$44,2,FALSE)","v":390},{"$f":"VLOOKUP($B$2,'Table 8'!$A$26:$L$44,2,FALSE)","v":417},{"$f":"VLOOKUP($B$2,'Table 9'!$A$26:$L$44,2,FALSE)","v":328},{"$f":"VLOOKUP($B$2,'Table 10'!$A$26:$L$44,2,FALSE)","v":347},{"$f":"VLOOKUP($B$2,'Table 11'!$A$26:$L$44,2,FALSE)","v":346},{"$f":"VLOOKUP($B$2,'Table 12'!$A$26:$L$44,2,FALSE)","v":380},{"$f":"VLOOKUP($B$2,'Table 13'!$A$26:$L$44,2,FALSE)","v":341},{"$f":"VLOOKUP($B$2,'Table 14'!$A$26:$L$44,2,FALSE)","v":317},null,"3 Bedrooms",{"$f":"VLOOKUP($B$2,'Table 7'!$A$26:$L$44,2,FALSE)","v":390},{"$f":"VLOOKUP($B$2,'Table 8'!$A$26:$L$44,2,FALSE)","v":417},{"$f":"VLOOKUP($B$2,'Table 9'!$A$26:$L$44,2,FALSE)","v":328},{"$f":"VLOOKUP($B$2,'Table 10'!$A$26:$L$44,2,FALSE)","v":347},{"$f":"VLOOKUP($B$2,'Table 11'!$A$26:$L$44,2,FALSE)","v":346},{"$f":"VLOOKUP($B$2,'Table 12'!$A$26:$L$44,2,FALSE)","v":380},{"$f":"VLOOKUP($B$2,'Table 13'!$A$26:$L$44,2,FALSE)","v":341},{"$f":"VLOOKUP($B$2,'Table 14'!$A$26:$L$44,2,FALSE)","v":317}]
[null,"Upper Quartile",{"$f":"VLOOKUP($B$2,'Table 7'!$A$47:$F$65,6,FALSE)","v":324},{"$f":"VLOOKUP($B$2,'Table 8'!$A$47:$F$65,6,FALSE)","v":324},{"$f":"VLOOKUP($B$2,'Table 9'!$A$47:$F$65,6,FALSE)","v":325},{"$f":"VLOOKUP($B$2,'Table 10'!$A$47:$F$65,6,FALSE)","v":325},{"$f":"VLOOKUP($B$2,'Table 11'!$A$47:$F$65,6,FALSE)","v":315},{"$f":"VLOOKUP($B$2,'Table 12'!$A$47:$F$65,6,FALSE)","v":333},{"$f":"VLOOKUP($B$2,'Table 13'!$A$47:$F$65,6,FALSE)","v":359.52},{"$f":"VLOOKUP($B$2,'Table 14'!$A$47:$F$65,6,FALSE)","v":359.52},0,0.10962962962962952,null,"4 Bedrooms",null,null,{"$f":"VLOOKUP($B$2,'Table 7'!$A$26:$L$44,8,FALSE)","v":119},{"$f":"VLOOKUP($B$2,'Table 8'!$A$26:$L$44,8,FALSE)","v":136},{"$f":"VLOOKUP($B$2,'Table 9'!$A$26:$L$44,8,FALSE)","v":108},{"$f":"VLOOKUP($B$2,'Table 10'!$A$26:$L$44,8,FALSE)","v":136},{"$f":"VLOOKUP($B$2,'Table 11'!$A$26:$L$44,8,FALSE)","v":115},{"$f":"VLOOKUP($B$2,'Table 12'!$A$26:$L$44,8,FALSE)","v":106},{"$f":"VLOOKUP($B$2,'Table 13'!$A$26:$L$44,8,FALSE)","v":101},{"$f":"VLOOKUP($B$2,'Table 14'!$A$26:$L$44,8,FALSE)","v":97},null,"4 Bedrooms",{"$f":"VLOOKUP($B$2,'Table 7'!$A$26:$L$44,8,FALSE)","v":119},{"$f":"VLOOKUP($B$2,'Table 8'!$A$26:$L$44,8,FALSE)","v":136},{"$f":"VLOOKUP($B$2,'Table 9'!$A$26:$L$44,8,FALSE)","v":108},{"$f":"VLOOKUP($B$2,'Table 10'!$A$26:$L$44,8,FALSE)","v":136},{"$f":"VLOOKUP($B$2,'Table 11'!$A$26:$L$44,8,FALSE)","v":115},{"$f":"VLOOKUP($B$2,'Table 12'!$A$26:$L$44,8,FALSE)","v":106},{"$f":"VLOOKUP($B$2,'Table 13'!$A$26:$L$44,8,FALSE)","v":101},{"$f":"VLOOKUP($B$2,'Table 14'!$A$26:$L$44,8,FALSE)","v":97}]
[null,null,null,null,null,null,null,null,null,null,null,null,null,"1 Bedroom Shared",null,null,{"$f":"VLOOKUP($B$2,'Table 7'!$A$47:$L$65,2,FALSE)","v":38},{"$f":"VLOOKUP($B$2,'Table 8'!$A$47:$L$65,2,FALSE)","v":67},{"$f":"VLOOKUP($B$2,'Table 9'!$A$47:$L$65,2,FALSE)","v":97},{"$f":"VLOOKUP($B$2,'Table 10'!$A$47:$L$65,2,FALSE)","v":120},{"$f":"VLOOKUP($B$2,'Table 11'!$A$47:$L$65,2,FALSE)","v":107},{"$f":"VLOOKUP($B$2,'Table 12'!$A$47:$L$65,2,FALSE)","v":139},{"$f":"VLOOKUP($B$2,'Table 13'!$A$47:$L$65,2,FALSE)","v":115},{"$f":"VLOOKUP($B$2,'Table 14'!$A$47:$L$65,2,FALSE)","v":146},null,"1 Bedroom Shared",{"$f":"VLOOKUP($B$2,'Table 7'!$A$47:$L$65,2,FALSE)","v":38},{"$f":"VLOOKUP($B$2,'Table 8'!$A$47:$L$65,2,FALSE)","v":67},{"$f":"VLOOKUP($B$2,'Table 9'!$A$47:$L$65,2,FALSE)","v":97},{"$f":"VLOOKUP($B$2,'Table 10'!$A$47:$L$65,2,FALSE)","v":120},{"$f":"VLOOKUP($B$2,'Table 11'!$A$47:$L$65,2,FALSE)","v":107},{"$f":"VLOOKUP($B$2,'Table 12'!$A$47:$L$65,2,FALSE)","v":139},{"$f":"VLOOKUP($B$2,'Table 13'!$A$47:$L$65,2,FALSE)","v":115},{"$f":"VLOOKUP($B$2,'Table 14'!$A$47:$L$65,2,FALSE)","v":146}]
[]
[]
[]
[]
[]
[]
[]
[]
[]
[]
[]
[]
[]
[]
[]
[]
[]
[null,null,null,null,null,null,null,null,null,null,null,null,null,null,null,null,null,null,null,null,null,null,null,null,null,null,null,null,null,null,null,null,null,null,null,2010,2011,2012,2013,2014,2015,2016,2017]
[null,null,null,null,null,null,null,null,null,null,null,null,null,null,null,null,null,null,null,null,null,null,null,null,null,null,null,null,null,null,null,null,null,null,"Scotland",{"$f":"'All years 2 bed'!B22","v":536.27},{"$f":"'All years 2 bed'!C22","v":546.41999999999996},{"$f":"'All years 2 bed'!D22","v":552.89},{"$f":"'All years 2 bed'!E22","v":575.84},{"$f":"'All years 2 bed'!F22","v":596.45000000000005},{"$f":"'All years 2 bed'!G22","v":609.52},{"$f":"'All years 2 bed'!H22","v":615.64},{"$f":"'All years 2 bed'!I22","v":642.79999999999995}]
[null,null,null,null,null,null,null,null,null,null,null,null,null,null,null,null,null,null,null,null,null,null,null,null,null,null,null,null,null,null,null,null,null,null,{"$f":"B2","v":"Ayrshires"},{"$f":"VLOOKUP($AI$94,'All years 2 bed'!$A$4:$I$21,2,FALSE)","v":464.47},{"$f":"VLOOKUP($AI$94,'All years 2 bed'!$A$4:$I$21,3,FALSE)","v":469.47},{"$f":"VLOOKUP($AI$94,'All years 2 bed'!$A$4:$I$21,4,FALSE)","v":459.24},{"$f":"VLOOKUP($AI$94,'All years 2 bed'!$A$4:$I$21,5,FALSE)","v":469.51},{"$f":"VLOOKUP($AI$94,'All years 2 bed'!$A$4:$I$21,6,FALSE)","v":460.9},{"$f":"VLOOKUP($AI$94,'All years 2 bed'!$A$4:$I$21,7,FALSE)","v":460.63},{"$f":"VLOOKUP($AI$94,'All years 2 bed'!$A$4:$I$21,8,FALSE)","v":463.38},{"$f":"VLOOKUP($AI$94,'All years 2 bed'!$A$4:$I$21,9,FALSE)","v":466.59}]

{"sheet":"Dumfries & Galloway","index":50,"n_rows":94,"n_cols":43,"rows_kept":94,"cut":false,"hidden":false,"merged":[[73,13,73,15],[1,1,1,3],[69,13,69,15],[70,13,70,15],[71,13,71,15],[72,13,72,15]]}
[null,"BRMA:"]
[null,"Dumfries and Galloway"]
[]
["Back to contents"]
[null,"Broad Rental Market Area Profile: Dumfries and Galloway"]
[]
[]
[]
[]
[]
[]
[]
[]
[]
[]
[]
[]
[]
[]
[]
[]
[]
[]
[null,"1 Bedroom Properties - Quartile Measures, years to end Sept, (£ monthly):",null,null,null,null,null,null,null,null,null,null,null,"2 Bedroom Properties - Quartile Measures, years to end Sept, (£ monthly):"]
[null,null,2010,2011,2012,2013,2014,2015,2016,2017,"2016 to 2017","2010 to 2017",null,null,2010,2011,2012,2013,2014,2015,2016,2017,"2016 to 2017","2010 to 2017"]
[null,"Lower Quartile",{"$f":"VLOOKUP($B$2,'Table 7'!$A$5:$L$23,3,FALSE)","v":325},{"$f":"VLOOKUP($B$2,'Table 8'!$A$5:$L$23,3,FALSE)","v":340},{"$f":"VLOOKUP($B$2,'Table 9'!$A$5:$L$23,3,FALSE)","v":350},{"$f":"VLOOKUP($B$2,'Table 10'!$A$5:$L$23,3,FALSE)","v":350},{"$f":"VLOOKUP($B$2,'Table 11'!$A$5:$L$23,3,FALSE)","v":350},{"$f":"VLOOKUP($B$2,'Table 12'!$A$5:$L$23,3,FALSE)","v":350},{"$f":"VLOOKUP($B$2,'Table 13'!$A$5:$L$23,3,FALSE)","v":369.35},{"$f":"VLOOKUP($B$2,'Table 14'!$A$5:$L$23,3,FALSE)","v":350},{"$f":"J26/I26-1","v":-5.2389332611344264E-2},{"$f":"J26/C26-1","v":7.6923076923076872E-2},null,"Lower Quartile",{"$f":"VLOOKUP($B$2,'Table 7'!$A$5:$L$23,9,FALSE)","v":400},{"$f":"VLOOKUP($B$2,'Table 8'!$A$5:$L$23,9,FALSE)","v":420},{"$f":"VLOOKUP($B$2,'Table 9'!$A$5:$L$23,9,FALSE)","v":420},{"$f":"VLOOKUP($B$2,'Table 10'!$A$5:$L$23,9,FALSE)","v":425},{"$f":"VLOOKUP($B$2,'Table 11'!$A$5:$L$23,9,FALSE)","v":410},{"$f":"VLOOKUP($B$2,'Table 12'!$A$5:$L$23,9,FALSE)","v":420},{"$f":"VLOOKUP($B$2,'Table 13'!$A$5:$L$23,9,FALSE)","v":420},{"$f":"VLOOKUP($B$2,'Table 14'!$A$5:$L$23,9,FALSE)","v":425},{"$f":"V26/U26-1","v":1.1904761904761862E-2},{"$f":"V26/O26-1","v":6.25E-2}]
[null,"Median",{"$f":"VLOOKUP($B$2,'Table 7'!$A$5:$L$23,4,FALSE)","v":360},{"$f":"VLOOKUP($B$2,'Table 8'!$A$5:$L$23,4,FALSE)","v":375},{"$f":"VLOOKUP($B$2,'Table 9'!$A$5:$L$23,4,FALSE)","v":370},{"$f":"VLOOKUP($B$2,'Table 10'!$A$5:$L$23,4,FALSE)","v":375},{"$f":"VLOOKUP($B$2,'Table 11'!$A$5:$L$23,4,FALSE)","v":375},{"$f":"VLOOKUP($B$2,'Table 12'!$A$5:$L$23,4,FALSE)","v":375},{"$f":"VLOOKUP($B$2,'Table 13'!$A$5:$L$23,4,FALSE)","v":380},{"$f":"VLOOKUP($B$2,'Table 14'!$A$5:$L$23,4,FALSE)","v":390},{"$f":"J27/I27-1","v":2.6315789473684292E-2},{"$f":"J27/C27-1","v":8.3333333333333259E-2},null,"Median",{"$f":"VLOOKUP($B$2,'Table 7'!$A$5:$L$23,10,FALSE)","v":430},{"$f":"VLOOKUP($B$2,'Table 8'!$A$5:$L$23,10,FALSE)","v":450},{"$f":"VLOOKUP($B$2,'Table 9'!$A$5:$L$23,10,FALSE)","v":450},{"$f":"VLOOKUP($B$2,'Table 10'!$A$5:$L$23,10,FALSE)","v":450},{"$f":"VLOOKUP($B$2,'Table 11'!$A$5:$L$23,10,FALSE)","v":450},{"$f":"VLOOKUP($B$2,'Table 12'!$A$5:$L$23,10,FALSE)","v":450},{"$f":"VLOOKUP($B$2,'Table 13'!$A$5:$L$23,10,FALSE)","v":450},{"$f":"VLOOKUP($B$2,'Table 14'!$A$5:$L$23,10,FALSE)","v":450},{"$f":"V27/U27-1","v":0},{"$f":"V27/O27-1","v":4.6511627906976827E-2}]
[null,"Mean",{"$f":"VLOOKUP($B$2,'Table 7'!$A$5:$L$23,5,FALSE)","v":358.94},{"$f":"VLOOKUP($B$2,'Table 8'!$A$5:$L$23,5,FALSE)","v":367.22},{"$f":"VLOOKUP($B$2,'Table 9'!$A$5:$L$23,5,FALSE)","v":366.47},{"$f":"VLOOKUP($B$2,'Table 10'!$A$5:$L$23,5,FALSE)","v":374.15},{"$f":"VLOOKUP($B$2,'Table 11'!$A$5:$L$23,5,FALSE)","v":369.27},{"$f":"VLOOKUP($B$2,'Table 12'!$A$5:$L$23,5,FALSE)","v":373.39},{"$f":"VLOOKUP($B$2,'Table 13'!$A$5:$L$23,5,FALSE)","v":384.25},{"$f":"VLOOKUP($B$2,'Table 14'!$A$5:$L$23,5,FALSE)","v":383.46},-2.0559531554977806E-3,6.8312252744191282E-2,null,"Mean",{"$f":"VLOOKUP($B$2,'Table 7'!$A$5:$L$23,11,FALSE)","v":435.12},{"$f":"VLOOKUP($B$2,'Table 8'!$A$5:$L$23,11,FALSE)","v":444.21},{"$f":"VLOOKUP($B$2,'Table 9'!$A$5:$L$23,11,FALSE)","v":443.75},{"$f":"VLOOKUP($B$2,'Table 10'!$A$5:$L$23,11,FALSE)","v":444.46},{"$f":"VLOOKUP($B$2,'Table 11'!$A$5:$L$23,11,FALSE)","v":442.14},{"$f":"VLOOKUP($B$2,'Table 12'!$A$5:$L$23,11,FALSE)","v":446.25},{"$f":"VLOOKUP($B$2,'Table 13'!$A$5:$L$23,11,FALSE)","v":446.89},{"$f":"VLOOKUP($B$2,'Table 14'!$A$5:$L$23,11,FALSE)","v":453.39},1.4544966322808772E-2,4.1988416988417043E-2]
[null,"Upper Quartile",{"$f":"VLOOKUP($B$2,'Table 7'!$A$5:$L$23,6,FALSE)","v":390},{"$f":"VLOOKUP($B$2,'Table 8'!$A$5:$L$23,6,FALSE)","v":395},{"$f":"VLOOKUP($B$2,'Table 9'!$A$5:$L$23,6,FALSE)","v":395},{"$f":"VLOOKUP($B$2,'Table 10'!$A$5:$L$23,6,FALSE)","v":395},{"$f":"VLOOKUP($B$2,'Table 11'!$A$5:$L$23,6,FALSE)","v":390},{"$f":"VLOOKUP($B$2,'Table 12'!$A$5:$L$23,6,FALSE)","v":400},{"$f":"VLOOKUP($B$2,'Table 13'!$A$5:$L$23,6,FALSE)","v":400},{"$f":"VLOOKUP($B$2,'Table 14'!$A$5:$L$23,6,FALSE)","v":400},0,2.564102564102555E-2,null,"Upper Quartile",{"$f":"VLOOKUP($B$2,'Table 7'!$A$5:$L$23,12,FALSE)","v":475},{"$f":"VLOOKUP($B$2,'Table 8'!$A$5:$L$23,12,FALSE)","v":475},{"$f":"VLOOKUP($B$2,'Table 9'!$A$5:$L$23,12,FALSE)","v":475},{"$f":"VLOOKUP($B$2,'Table 10'!$A$5:$L$23,12,FALSE)","v":475},{"$f":"VLOOKUP($B$2,'Table 11'!$A$5:$L$23,12,FALSE)","v":475},{"$f":"VLOOKUP($B$2,'Table 12'!$A$5:$L$23,12,FALSE)","v":475},{"$f":"VLOOKUP($B$2,'Table 13'!$A$5:$L$23,12,FALSE)","v":475},{"$f":"VLOOKUP($B$2,'Table 14'!$A$5:$L$23,12,FALSE)","v":475},0,0]
[]
[]
[]
[]
[]
[]
[]
[]
[]
[]
[]
[]
[]
[]
[]
[]
[null,"3 Bedroom Properties - Quartile Measures, years to end Sept, (£ monthly):",null,null,null,null,null,null,null,null,null,null,null,"4 Bedroom Properties - Quartile Measures, years to end Sept, (£ monthly):"]
[null,null,2010,2011,2012,2013,2014,2015,2016,2017,"2016 to 2017","2010 to 2017",null,null,2010,2011,2012,2013,2014,2015,2016,2017,"2016 to 2017","2010 to 2017"]
[null,"Lower Quartile",{"$f":"VLOOKUP($B$2,'Table 7'!$A$26:$L$44,3,FALSE)","v":440},{"$f":"VLOOKUP($B$2,'Table 8'!$A$26:$L$44,3,FALSE)","v":450},{"$f":"VLOOKUP($B$2,'Table 9'!$A$26:$L$44,3,FALSE)","v":450},{"$f":"VLOOKUP($B$2,'Table 10'!$A$26:$L$44,3,FALSE)","v":475},{"$f":"VLOOKUP($B$2,'Table 11'!$A$26:$L$44,3,FALSE)","v":450},{"$f":"VLOOKUP($B$2,'Table 12'!$A$26:$L$44,3,FALSE)","v":450},{"$f":"VLOOKUP($B$2,'Table 13'!$A$26:$L$44,3,FALSE)","v":450},{"$f":"VLOOKUP($B$2,'Table 14'!$A$26:$L$44,3,FALSE)","v":460},{"$f":"J48/I48-1","v":2.2222222222222143E-2},{"$f":"J48/C48-1","v":4.5454545454545414E-2},null,"Lower Quartile",{"$f":"VLOOKUP($B$2,'Table 7'!$A$26:$L$44,9,FALSE)","v":500},{"$f":"VLOOKUP($B$2,'Table 8'!$A$26:$L$44,9,FALSE)","v":550},{"$f":"VLOOKUP($B$2,'Table 9'!$A$26:$L$44,9,FALSE)","v":545},{"$f":"VLOOKUP($B$2,'Table 10'!$A$26:$L$44,9,FALSE)","v":550},{"$f":"VLOOKUP($B$2,'Table 11'!$A$26:$L$44,9,FALSE)","v":550},{"$f":"VLOOKUP($B$2,'Table 12'!$A$26:$L$44,9,FALSE)","v":550},{"$f":"VLOOKUP($B$2,'Table 13'!$A$26:$L$44,9,FALSE)","v":550},{"$f":"VLOOKUP($B$2,'Table 14'!$A$26:$L$44,9,FALSE)","v":550},{"$f":"V48/U48-1","v":0},{"$f":"V48/O48-1","v":0.10000000000000009}]
[null,"Median",{"$f":"VLOOKUP($B$2,'Table 7'!$A$26:$L$44,4,FALSE)","v":485},{"$f":"VLOOKUP($B$2,'Table 8'!$A$26:$L$44,4,FALSE)","v":500},{"$f":"VLOOKUP($B$2,'Table 9'!$A$26:$L$44,4,FALSE)","v":500},{"$f":"VLOOKUP($B$2,'Table 10'!$A$26:$L$44,4,FALSE)","v":500},{"$f":"VLOOKUP($B$2,'Table 11'!$A$26:$L$44,4,FALSE)","v":500},{"$f":"VLOOKUP($B$2,'Table 12'!$A$26:$L$44,4,FALSE)","v":500},{"$f":"VLOOKUP($B$2,'Table 13'!$A$26:$L$44,4,FALSE)","v":500},{"$f":"VLOOKUP($B$2,'Table 14'!$A$26:$L$44,4,FALSE)","v":500},{"$f":"J49/I49-1","v":0},{"$f":"J49/C49-1","v":3.0927835051546282E-2},null,"Median",{"$f":"VLOOKUP($B$2,'Table 7'!$A$26:$L$44,10,FALSE)","v":600},{"$f":"VLOOKUP($B$2,'Table 8'!$A$26:$L$44,10,FALSE)","v":650},{"$f":"VLOOKUP($B$2,'Table 9'!$A$26:$L$44,10,FALSE)","v":622.5},{"$f":"VLOOKUP($B$2,'Table 10'!$A$26:$L$44,10,FALSE)","v":632.5},{"$f":"VLOOKUP($B$2,'Table 11'!$A$26:$L$44,10,FALSE)","v":650},{"$f":"VLOOKUP($B$2,'Table 12'!$A$26:$L$44,10,FALSE)","v":650},{"$f":"VLOOKUP($B$2,'Table 13'!$A$26:$L$44,10,FALSE)","v":650},{"$f":"VLOOKUP($B$2,'Table 14'!$A$26:$L$44,10,FALSE)","v":650},{"$f":"V49/U49-1","v":0},{"$f":"V49/O49-1","v":8.3333333333333259E-2}]
[null,"Mean",{"$f":"VLOOKUP($B$2,'Table 7'!$A$26:$L$44,5,FALSE)","v":499.63},{"$f":"VLOOKUP($B$2,'Table 8'!$A$26:$L$44,5,FALSE)","v":509.58},{"$f":"VLOOKUP($B$2,'Table 9'!$A$26:$L$44,5,FALSE)","v":507.7},{"$f":"VLOOKUP($B$2,'Table 10'!$A$26:$L$44,5,FALSE)","v":508.44},{"$f":"VLOOKUP($B$2,'Table 11'!$A$26:$L$44,5,FALSE)","v":511.86},{"$f":"VLOOKUP($B$2,'Table 12'!$A$26:$L$44,5,FALSE)","v":505.94},{"$f":"VLOOKUP($B$2,'Table 13'!$A$26:$L$44,5,FALSE)","v":513.91},{"$f":"VLOOKUP($B$2,'Table 14'!$A$26:$L$44,5,FALSE)","v":526.20000000000005},2.3914693234224016E-2,5.3179352721013595E-2,null,"Mean",{"$f":"VLOOKUP($B$2,'Table 7'!$A$26:$L$44,11,FALSE)","v":620.08000000000004},{"$f":"VLOOKUP($B$2,'Table 8'!$A$26:$L$44,11,FALSE)","v":648.78},{"$f":"VLOOKUP($B$2,'Table 9'!$A$26:$L$44,11,FALSE)","v":632.94000000000005},{"$f":"VLOOKUP($B$2,'Table 10'!$A$26:$L$44,11,FALSE)","v":635.38},{"$f":"VLOOKUP($B$2,'Table 11'!$A$26:$L$44,11,FALSE)","v":636.91999999999996},{"$f":"VLOOKUP($B$2,'Table 12'!$A$26:$L$44,11,FALSE)","v":646.85},{"$f":"VLOOKUP($B$2,'Table 13'!$A$26:$L$44,11,FALSE)","v":645.80999999999995},{"$f":"VLOOKUP($B$2,'Table 14'!$A$26:$L$44,11,FALSE)","v":702.46},8.7719298245614086E-2,0.13285382531286283]
[null,"Upper Quartile",{"$f":"VLOOKUP($B$2,'Table 7'!$A$26:$L$44,6,FALSE)","v":550},{"$f":"VLOOKUP($B$2,'Table 8'!$A$26:$L$44,6,FALSE)","v":560},{"$f":"VLOOKUP($B$2,'Table 9'!$A$26:$L$44,6,FALSE)","v":550},{"$f":"VLOOKUP($B$2,'Table 10'!$A$26:$L$44,6,FALSE)","v":550},{"$f":"VLOOKUP($B$2,'Table 11'!$A$26:$L$44,6,FALSE)","v":550},{"$f":"VLOOKUP($B$2,'Table 12'!$A$26:$L$44,6,FALSE)","v":550},{"$f":"VLOOKUP($B$2,'Table 13'!$A$26:$L$44,6,FALSE)","v":550},{"$f":"VLOOKUP($B$2,'Table 14'!$A$26:$L$44,6,FALSE)","v":575},4.5454545454545414E-2,4.5454545454545414E-2,null,"Upper Quartile",{"$f":"VLOOKUP($B$2,'Table 7'!$A$26:$L$44,12,FALSE)","v":700},{"$f":"VLOOKUP($B$2,'Table 8'!$A$26:$L$44,12,FALSE)","v":700},{"$f":"VLOOKUP($B$2,'Table 9'!$A$26:$L$44,12,FALSE)","v":675},{"$f":"VLOOKUP($B$2,'Table 10'!$A$26:$L$44,12,FALSE)","v":700},{"$f":"VLOOKUP($B$2,'Table 11'!$A$26:$L$44,12,FALSE)","v":700},{"$f":"VLOOKUP($B$2,'Table 12'!$A$26:$L$44,12,FALSE)","v":750},{"$f":"VLOOKUP($B$2,'Table 13'!$A$26:$L$44,12,FALSE)","v":750},{"$f":"VLOOKUP($B$2,'Table 14'!$A$26:$L$44,12,FALSE)","v":750},0,7.1428571428571397E-2]
[]
[]
[]
[]
[]
[]
[]
[]
[]
[]
[]
[]
[]
[]
[]
[]
[null,"1 Bedroom Shared Properties - Quartile Measures, years to end Sept, (£ monthly):",null,null,null,null,null,null,null,null,null,null,null,"Sample Sizes:",null,null,null,null,null,null,null,null,null,null,null,"Sample Sizes:"]
[null,null,2010,2011,2012,2013,2014,2015,2016,2017,"2016 to 2017","2010 to 2017",null,null,null,null,2010,2011,2012,2013,2014,2015,2016,2017,null,null,2010,2011,2012,2013,2014,2015,2016,2017]
[null,"Lower Quartile",{"$f":"VLOOKUP($B$2,'Table 7'!$A$47:$F$65,3,FALSE)","v":260},{"$f":"VLOOKUP($B$2,'Table 8'!$A$47:$F$65,3,FALSE)","v":255},{"$f":"VLOOKUP($B$2,'Table 9'!$A$47:$F$65,3,FALSE)","v":250.47},{"$f":"VLOOKUP($B$2,'Table 10'!$A$47:$F$65,3,FALSE)","v":250},{"$f":"VLOOKUP($B$2,'Table 11'!$A$47:$F$65,3,FALSE)","v":255},{"$f":"VLOOKUP($B$2,'Table 12'!$A$47:$F$65,3,FALSE)","v":257.5},{"$f":"VLOOKUP($B$2,'Table 13'!$A$47:$F$65,3,FALSE)","v":260},{"$f":"VLOOKUP($B$2,'Table 14'!$A$47:$F$65,3,FALSE)","v":255},{"$f":"J70/I70-1","v":-1.9230769230769273E-2},{"$f":"J70/C70-1","v":-1.9230769230769273E-2},null,"1 Bedroom ",null,null,{"$f":"VLOOKUP($B$2,'Table 7'!$A$5:$L$23,2,FALSE)","v":58},{"$f":"VLOOKUP($B$2,'Table 8'!$A$5:$L$23,2,FALSE)","v":82},{"$f":"VLOOKUP($B$2,'Table 9'!$A$5:$L$23,2,FALSE)","v":97},{"$f":"VLOOKUP($B$2,'Table 10'!$A$5:$L$23,2,FALSE)","v":102},{"$f":"VLOOKUP($B$2,'Table 11'!$A$5:$L$23,2,FALSE)","v":114},{"$f":"VLOOKUP($B$2,'Table 12'!$A$5:$L$23,2,FALSE)","v":110},{"$f":"VLOOKUP($B$2,'Table 13'!$A$5:$L$23,2,FALSE)","v":109},{"$f":"VLOOKUP($B$2,'Table 14'!$A$5:$L$23,2,FALSE)","v":110},null,"1 Bedroom ",{"$f":"VLOOKUP($B$2,'Table 7'!$A$5:$L$23,2,FALSE)","v":58},{"$f":"VLOOKUP($B$2,'Table 8'!$A$5:$L$23,2,FALSE)","v":82},{"$f":"VLOOKUP($B$2,'Table 9'!$A$5:$L$23,2,FALSE)","v":97},{"$f":"VLOOKUP($B$2,'Table 10'!$A$5:$L$23,2,FALSE)","v":102},{"$f":"VLOOKUP($B$2,'Table 11'!$A$5:$L$23,2,FALSE)","v":114},{"$f":"VLOOKUP($B$2,'Table 12'!$A$5:$L$23,2,FALSE)","v":110},{"$f":"VLOOKUP($B$2,'Table 13'!$A$5:$L$23,2,FALSE)","v":109},{"$f":"VLOOKUP($B$2,'Table 14'!$A$5:$L$23,2,FALSE)","v":110}]
[null,"Median",{"$f":"VLOOKUP($B$2,'Table 7'!$A$47:$F$65,4,FALSE)","v":285},{"$f":"VLOOKUP($B$2,'Table 8'!$A$47:$F$65,4,FALSE)","v":275},{"$f":"VLOOKUP($B$2,'Table 9'!$A$47:$F$65,4,FALSE)","v":275},{"$f":"VLOOKUP($B$2,'Table 10'!$A$47:$F$65,4,FALSE)","v":265},{"$f":"VLOOKUP($B$2,'Table 11'!$A$47:$F$65,4,FALSE)","v":271.67},{"$f":"VLOOKUP($B$2,'Table 12'!$A$47:$F$65,4,FALSE)","v":281.81},{"$f":"VLOOKUP($B$2,'Table 13'!$A$47:$F$65,4,FALSE)","v":282.5},{"$f":"VLOOKUP($B$2,'Table 14'!$A$47:$F$65,4,FALSE)","v":287.5},{"$f":"J71/I71-1","v":1.7699115044247815E-2},{"$f":"J71/C71-1","v":8.7719298245614308E-3},null,"2 Bedrooms",null,null,{"$f":"VLOOKUP($B$2,'Table 7'!$A$5:$L$23,8,FALSE)","v":180},{"$f":"VLOOKUP($B$2,'Table 8'!$A$5:$L$23,8,FALSE)","v":280},{"$f":"VLOOKUP($B$2,'Table 9'!$A$5:$L$23,8,FALSE)","v":322},{"$f":"VLOOKUP($B$2,'Table 10'!$A$5:$L$23,8,FALSE)","v":339},{"$f":"VLOOKUP($B$2,'Table 11'!$A$5:$L$23,8,FALSE)","v":363},{"$f":"VLOOKUP($B$2,'Table 12'!$A$5:$L$23,8,FALSE)","v":371},{"$f":"VLOOKUP($B$2,'Table 13'!$A$5:$L$23,8,FALSE)","v":341},{"$f":"VLOOKUP($B$2,'Table 14'!$A$5:$L$23,8,FALSE)","v":330},null,"2 Bedrooms",{"$f":"VLOOKUP($B$2,'Table 7'!$A$5:$L$23,8,FALSE)","v":180},{"$f":"VLOOKUP($B$2,'Table 8'!$A$5:$L$23,8,FALSE)","v":280},{"$f":"VLOOKUP($B$2,'Table 9'!$A$5:$L$23,8,FALSE)","v":322},{"$f":"VLOOKUP($B$2,'Table 10'!$A$5:$L$23,8,FALSE)","v":339},{"$f":"VLOOKUP($B$2,'Table 11'!$A$5:$L$23,8,FALSE)","v":363},{"$f":"VLOOKUP($B$2,'Table 12'!$A$5:$L$23,8,FALSE)","v":371},{"$f":"VLOOKUP($B$2,'Table 13'!$A$5:$L$23,8,FALSE)","v":341},{"$f":"VLOOKUP($B$2,'Table 14'!$A$5:$L$23,8,FALSE)","v":330}]
[null,"Mean",{"$f":"VLOOKUP($B$2,'Table 7'!$A$47:$F$65,5,FALSE)","v":277.88},{"$f":"VLOOKUP($B$2,'Table 8'!$A$47:$F$65,5,FALSE)","v":274.11},{"$f":"VLOOKUP($B$2,'Table 9'!$A$47:$F$65,5,FALSE)","v":274.66000000000003},{"$f":"VLOOKUP($B$2,'Table 10'!$A$47:$F$65,5,FALSE)","v":272.17},{"$f":"VLOOKUP($B$2,'Table 11'!$A$47:$F$65,5,FALSE)","v":268.81},{"$f":"VLOOKUP($B$2,'Table 12'!$A$47:$F$65,5,FALSE)","v":277.7},{"$f":"VLOOKUP($B$2,'Table 13'!$A$47:$F$65,5,FALSE)","v":284.72000000000003},{"$f":"VLOOKUP($B$2,'Table 14'!$A$47:$F$65,5,FALSE)","v":291.95},2.5393368923854798E-2,5.0633366920973089E-2,null,"3 Bedrooms",null,null,{"$f":"VLOOKUP($B$2,'Table 7'!$A$26:$L$44,2,FALSE)","v":145},{"$f":"VLOOKUP($B$2,'Table 8'!$A$26:$L$44,2,FALSE)","v":200},{"$f":"VLOOKUP($B$2,'Table 9'!$A$26:$L$44,2,FALSE)","v":256},{"$f":"VLOOKUP($B$2,'Table 10'!$A$26:$L$44,2,FALSE)","v":259},{"$f":"VLOOKUP($B$2,'Table 11'!$A$26:$L$44,2,FALSE)","v":284},{"$f":"VLOOKUP($B$2,'Table 12'!$A$26:$L$44,2,FALSE)","v":234},{"$f":"VLOOKUP($B$2,'Table 13'!$A$26:$L$44,2,FALSE)","v":206},{"$f":"VLOOKUP($B$2,'Table 14'!$A$26:$L$44,2,FALSE)","v":190},null,"3 Bedrooms",{"$f":"VLOOKUP($B$2,'Table 7'!$A$26:$L$44,2,FALSE)","v":145},{"$f":"VLOOKUP($B$2,'Table 8'!$A$26:$L$44,2,FALSE)","v":200},{"$f":"VLOOKUP($B$2,'Table 9'!$A$26:$L$44,2,FALSE)","v":256},{"$f":"VLOOKUP($B$2,'Table 10'!$A$26:$L$44,2,FALSE)","v":259},{"$f":"VLOOKUP($B$2,'Table 11'!$A$26:$L$44,2,FALSE)","v":284},{"$f":"VLOOKUP($B$2,'Table 12'!$A$26:$L$44,2,FALSE)","v":234},{"$f":"VLOOKUP($B$2,'Table 13'!$A$26:$L$44,2,FALSE)","v":206},{"$f":"VLOOKUP($B$2,'Table 14'!$A$26:$L$44,2,FALSE)","v":190}]
[null,"Upper Quartile",{"$f":"VLOOKUP($B$2,'Table 7'!$A$47:$F$65,6,FALSE)","v":299.99},{"$f":"VLOOKUP($B$2,'Table 8'!$A$47:$F$65,6,FALSE)","v":290},{"$f":"VLOOKUP($B$2,'Table 9'!$A$47:$F$65,6,FALSE)","v":305},{"$f":"VLOOKUP($B$2,'Table 10'!$A$47:$F$65,6,FALSE)","v":293.8},{"$f":"VLOOKUP($B$2,'Table 11'!$A$47:$F$65,6,FALSE)","v":285},{"$f":"VLOOKUP($B$2,'Table 12'!$A$47:$F$65,6,FALSE)","v":305},{"$f":"VLOOKUP($B$2,'Table 13'!$A$47:$F$65,6,FALSE)","v":305},{"$f":"VLOOKUP($B$2,'Table 14'!$A$47:$F$65,6,FALSE)","v":334.52},9.6786885245901511E-2,0.11510383679455982,null,"4 Bedrooms",null,null,{"$f":"VLOOKUP($B$2,'Table 7'!$A$26:$L$44,8,FALSE)","v":65},{"$f":"VLOOKUP($B$2,'Table 8'!$A$26:$L$44,8,FALSE)","v":80},{"$f":"VLOOKUP($B$2,'Table 9'!$A$26:$L$44,8,FALSE)","v":80},{"$f":"VLOOKUP($B$2,'Table 10'!$A$26:$L$44,8,FALSE)","v":80},{"$f":"VLOOKUP($B$2,'Table 11'!$A$26:$L$44,8,FALSE)","v":65},{"$f":"VLOOKUP($B$2,'Table 12'!$A$26:$L$44,8,FALSE)","v":62},{"$f":"VLOOKUP($B$2,'Table 13'!$A$26:$L$44,8,FALSE)","v":62},{"$f":"VLOOKUP($B$2,'Table 14'!$A$26:$L$44,8,FALSE)","v":54},null,"4 Bedrooms",{"$f":"VLOOKUP($B$2,'Table 7'!$A$26:$L$44,8,FALSE)","v":65},{"$f":"VLOOKUP($B$2,'Table 8'!$A$26:$L$44,8,FALSE)","v":80},{"$f":"VLOOKUP($B$2,'Table 9'!$A$26:$L$44,8,FALSE)","v":80},{"$f":"VLOOKUP($B$2,'Table 10'!$A$26:$L$44,8,FALSE)","v":80},{"$f":"VLOOKUP($B$2,'Table 11'!$A$26:$L$44,8,FALSE)","v":65},{"$f":"VLOOKUP($B$2,'Table 12'!$A$26:$L$44,8,FALSE)","v":62},{"$f":"VLOOKUP($B$2,'Table 13'!$A$26:$L$44,8,FALSE)","v":62},{"$f":"VLOOKUP($B$2,'Table 14'!$A$26:$L$44,8,FALSE)","v":54}]
[null,null,null,null,null,null,null,null,null,null,null,null,null,"1 Bedroom Shared",null,null,{"$f":"VLOOKUP($B$2,'Table 7'!$A$47:$L$65,2,FALSE)","v":50},{"$f":"VLOOKUP($B$2,'Table 8'!$A$47:$L$65,2,FALSE)","v":59},{"$f":"VLOOKUP($B$2,'Table 9'!$A$47:$L$65,2,FALSE)","v":55},{"$f":"VLOOKUP($B$2,'Table 10'!$A$47:$L$65,2,FALSE)","v":65},{"$f":"VLOOKUP($B$2,'Table 11'!$A$47:$L$65,2,FALSE)","v":74},{"$f":"VLOOKUP($B$2,'Table 12'!$A$47:$L$65,2,FALSE)","v":80},{"$f":"VLOOKUP($B$2,'Table 13'!$A$47:$L$65,2,FALSE)","v":82},{"$f":"VLOOKUP($B$2,'Table 14'!$A$47:$L$65,2,FALSE)","v":98},null,"1 Bedroom Shared",{"$f":"VLOOKUP($B$2,'Table 7'!$A$47:$L$65,2,FALSE)","v":50},{"$f":"VLOOKUP($B$2,'Table 8'!$A$47:$L$65,2,FALSE)","v":59},{"$f":"VLOOKUP($B$2,'Table 9'!$A$47:$L$65,2,FALSE)","v":55},{"$f":"VLOOKUP($B$2,'Table 10'!$A$47:$L$65,2,FALSE)","v":65},{"$f":"VLOOKUP($B$2,'Table 11'!$A$47:$L$65,2,FALSE)","v":74},{"$f":"VLOOKUP($B$2,'Table 12'!$A$47:$L$65,2,FALSE)","v":80},{"$f":"VLOOKUP($B$2,'Table 13'!$A$47:$L$65,2,FALSE)","v":82},{"$f":"VLOOKUP($B$2,'Table 14'!$A$47:$L$65,2,FALSE)","v":98}]
[]
[]
[]
[]
[]
[]
[]
[]
[]
[]
[]
[]
[]
[]
[]
[]
[]
[null,null,null,null,null,null,null,null,null,null,null,null,null,null,null,null,null,null,null,null,null,null,null,null,null,null,null,null,null,null,null,null,null,null,null,2010,2011,2012,2013,2014,2015,2016,2017]
[null,null,null,null,null,null,null,null,null,null,null,null,null,null,null,null,null,null,null,null,null,null,null,null,null,null,null,null,null,null,null,null,null,null,"Scotland",{"$f":"'All years 2 bed'!B22","v":536.27},{"$f":"'All years 2 bed'!C22","v":546.41999999999996},{"$f":"'All years 2 bed'!D22","v":552.89},{"$f":"'All years 2 bed'!E22","v":575.84},{"$f":"'All years 2 bed'!F22","v":596.45000000000005},{"$f":"'All years 2 bed'!G22","v":609.52},{"$f":"'All years 2 bed'!H22","v":615.64},{"$f":"'All years 2 bed'!I22","v":642.79999999999995}]
[null,null,null,null,null,null,null,null,null,null,null,null,null,null,null,null,null,null,null,null,null,null,null,null,null,null,null,null,null,null,null,null,null,null,{"$f":"B2","v":"Dumfries and Galloway"},{"$f":"VLOOKUP($AI$94,'All years 2 bed'!$A$4:$I$21,2,FALSE)","v":435.12},{"$f":"VLOOKUP($AI$94,'All years 2 bed'!$A$4:$I$21,3,FALSE)","v":444.21},{"$f":"VLOOKUP($AI$94,'All years 2 bed'!$A$4:$I$21,4,FALSE)","v":443.75},{"$f":"VLOOKUP($AI$94,'All years 2 bed'!$A$4:$I$21,5,FALSE)","v":444.46},{"$f":"VLOOKUP($AI$94,'All years 2 bed'!$A$4:$I$21,6,FALSE)","v":442.14},{"$f":"VLOOKUP($AI$94,'All years 2 bed'!$A$4:$I$21,7,FALSE)","v":446.25},{"$f":"VLOOKUP($AI$94,'All years 2 bed'!$A$4:$I$21,8,FALSE)","v":446.89},{"$f":"VLOOKUP($AI$94,'All years 2 bed'!$A$4:$I$21,9,FALSE)","v":453.39}]

{"sheet":"Dundee & Angus","index":51,"n_rows":94,"n_cols":43,"rows_kept":94,"cut":false,"hidden":false,"merged":[[73,13,73,15],[1,1,1,3],[69,13,69,15],[70,13,70,15],[71,13,71,15],[72,13,72,15]]}
[null,"BRMA:"]
[null,"Dundee and Angus"]
[]
["Back to contents"]
[null,"Broad Rental Market Area Profile: Dundee and Angus"]
[]
[]
[]
[]
[]
[]
[]
[]
[]
[]
[]
[]
[]
[]
[]
[]
[]
[]
[null,"1 Bedroom Properties - Quartile Measures, years to end Sept, (£ monthly):",null,null,null,null,null,null,null,null,null,null,null,"2 Bedroom Properties - Quartile Measures, years to end Sept, (£ monthly):"]
[null,null,2010,2011,2012,2013,2014,2015,2016,2017,"2016 to 2017","2010 to 2017",null,null,2010,2011,2012,2013,2014,2015,2016,2017,"2016 to 2017","2010 to 2017"]
[null,"Lower Quartile",{"$f":"VLOOKUP($B$2,'Table 7'!$A$5:$L$23,3,FALSE)","v":320},{"$f":"VLOOKUP($B$2,'Table 8'!$A$5:$L$23,3,FALSE)","v":325},{"$f":"VLOOKUP($B$2,'Table 9'!$A$5:$L$23,3,FALSE)","v":330},{"$f":"VLOOKUP($B$2,'Table 10'!$A$5:$L$23,3,FALSE)","v":330},{"$f":"VLOOKUP($B$2,'Table 11'!$A$5:$L$23,3,FALSE)","v":335},{"$f":"VLOOKUP($B$2,'Table 12'!$A$5:$L$23,3,FALSE)","v":350},{"$f":"VLOOKUP($B$2,'Table 13'!$A$5:$L$23,3,FALSE)","v":350},{"$f":"VLOOKUP($B$2,'Table 14'!$A$5:$L$23,3,FALSE)","v":350},{"$f":"J26/I26-1","v":0},{"$f":"J26/C26-1","v":9.375E-2},null,"Lower Quartile",{"$f":"VLOOKUP($B$2,'Table 7'!$A$5:$L$23,9,FALSE)","v":440},{"$f":"VLOOKUP($B$2,'Table 8'!$A$5:$L$23,9,FALSE)","v":450},{"$f":"VLOOKUP($B$2,'Table 9'!$A$5:$L$23,9,FALSE)","v":440},{"$f":"VLOOKUP($B$2,'Table 10'!$A$5:$L$23,9,FALSE)","v":450},{"$f":"VLOOKUP($B$2,'Table 11'!$A$5:$L$23,9,FALSE)","v":450},{"$f":"VLOOKUP($B$2,'Table 12'!$A$5:$L$23,9,FALSE)","v":450},{"$f":"VLOOKUP($B$2,'Table 13'!$A$5:$L$23,9,FALSE)","v":465},{"$f":"VLOOKUP($B$2,'Table 14'!$A$5:$L$23,9,FALSE)","v":475},{"$f":"V26/U26-1","v":2.1505376344086002E-2},{"$f":"V26/O26-1","v":7.9545454545454586E-2}]
[null,"Median",{"$f":"VLOOKUP($B$2,'Table 7'!$A$5:$L$23,4,FALSE)","v":350},{"$f":"VLOOKUP($B$2,'Table 8'!$A$5:$L$23,4,FALSE)","v":350},{"$f":"VLOOKUP($B$2,'Table 9'!$A$5:$L$23,4,FALSE)","v":360},{"$f":"VLOOKUP($B$2,'Table 10'!$A$5:$L$23,4,FALSE)","v":350},{"$f":"VLOOKUP($B$2,'Table 11'!$A$5:$L$23,4,FALSE)","v":365},{"$f":"VLOOKUP($B$2,'Table 12'!$A$5:$L$23,4,FALSE)","v":375},{"$f":"VLOOKUP($B$2,'Table 13'!$A$5:$L$23,4,FALSE)","v":375},{"$f":"VLOOKUP($B$2,'Table 14'!$A$5:$L$23,4,FALSE)","v":385},{"$f":"J27/I27-1","v":2.6666666666666616E-2},{"$f":"J27/C27-1","v":0.10000000000000009},null,"Median",{"$f":"VLOOKUP($B$2,'Table 7'!$A$5:$L$23,10,FALSE)","v":480},{"$f":"VLOOKUP($B$2,'Table 8'!$A$5:$L$23,10,FALSE)","v":500},{"$f":"VLOOKUP($B$2,'Table 9'!$A$5:$L$23,10,FALSE)","v":490},{"$f":"VLOOKUP($B$2,'Table 10'!$A$5:$L$23,10,FALSE)","v":500},{"$f":"VLOOKUP($B$2,'Table 11'!$A$5:$L$23,10,FALSE)","v":500},{"$f":"VLOOKUP($B$2,'Table 12'!$A$5:$L$23,10,FALSE)","v":517.5},{"$f":"VLOOKUP($B$2,'Table 13'!$A$5:$L$23,10,FALSE)","v":530},{"$f":"VLOOKUP($B$2,'Table 14'!$A$5:$L$23,10,FALSE)","v":540},{"$f":"V27/U27-1","v":1.8867924528301883E-2},{"$f":"V27/O27-1","v":0.125}]
[null,"Mean",{"$f":"VLOOKUP($B$2,'Table 7'!$A$5:$L$23,5,FALSE)","v":350.87},{"$f":"VLOOKUP($B$2,'Table 8'!$A$5:$L$23,5,FALSE)","v":360.3},{"$f":"VLOOKUP($B$2,'Table 9'!$A$5:$L$23,5,FALSE)","v":361.48},{"$f":"VLOOKUP($B$2,'Table 10'!$A$5:$L$23,5,FALSE)","v":362.12},{"$f":"VLOOKUP($B$2,'Table 11'!$A$5:$L$23,5,FALSE)","v":369.12},{"$f":"VLOOKUP($B$2,'Table 12'!$A$5:$L$23,5,FALSE)","v":381.24},{"$f":"VLOOKUP($B$2,'Table 13'!$A$5:$L$23,5,FALSE)","v":383.14},{"$f":"VLOOKUP($B$2,'Table 14'!$A$5:$L$23,5,FALSE)","v":393.68},2.7509526543822105E-2,0.12201100122552511,null,"Mean",{"$f":"VLOOKUP($B$2,'Table 7'!$A$5:$L$23,11,FALSE)","v":497.46},{"$f":"VLOOKUP($B$2,'Table 8'!$A$5:$L$23,11,FALSE)","v":520.5},{"$f":"VLOOKUP($B$2,'Table 9'!$A$5:$L$23,11,FALSE)","v":502.96},{"$f":"VLOOKUP($B$2,'Table 10'!$A$5:$L$23,11,FALSE)","v":515.07000000000005},{"$f":"VLOOKUP($B$2,'Table 11'!$A$5:$L$23,11,FALSE)","v":517.76},{"$f":"VLOOKUP($B$2,'Table 12'!$A$5:$L$23,11,FALSE)","v":530.9},{"$f":"VLOOKUP($B$2,'Table 13'!$A$5:$L$23,11,FALSE)","v":545.96},{"$f":"VLOOKUP($B$2,'Table 14'!$A$5:$L$23,11,FALSE)","v":554.96},1.648472415561586E-2,0.11558718288907666]
[null,"Upper Quartile",{"$f":"VLOOKUP($B$2,'Table 7'!$A$5:$L$23,6,FALSE)","v":375},{"$f":"VLOOKUP($B$2,'Table 8'!$A$5:$L$23,6,FALSE)","v":385},{"$f":"VLOOKUP($B$2,'Table 9'!$A$5:$L$23,6,FALSE)","v":380},{"$f":"VLOOKUP($B$2,'Table 10'!$A$5:$L$23,6,FALSE)","v":385},{"$f":"VLOOKUP($B$2,'Table 11'!$A$5:$L$23,6,FALSE)","v":400},{"$f":"VLOOKUP($B$2,'Table 12'!$A$5:$L$23,6,FALSE)","v":400},{"$f":"VLOOKUP($B$2,'Table 13'!$A$5:$L$23,6,FALSE)","v":400},{"$f":"VLOOKUP($B$2,'Table 14'!$A$5:$L$23,6,FALSE)","v":425},6.25E-2,0.1333333333333333,null,"Upper Quartile",{"$f":"VLOOKUP($B$2,'Table 7'!$A$5:$L$23,12,FALSE)","v":550},{"$f":"VLOOKUP($B$2,'Table 8'!$A$5:$L$23,12,FALSE)","v":585},{"$f":"VLOOKUP($B$2,'Table 9'!$A$5:$L$23,12,FALSE)","v":560},{"$f":"VLOOKUP($B$2,'Table 10'!$A$5:$L$23,12,FALSE)","v":575},{"$f":"VLOOKUP($B$2,'Table 11'!$A$5:$L$23,12,FALSE)","v":575},{"$f":"VLOOKUP($B$2,'Table 12'!$A$5:$L$23,12,FALSE)","v":600},{"$f":"VLOOKUP($B$2,'Table 13'!$A$5:$L$23,12,FALSE)","v":600},{"$f":"VLOOKUP($B$2,'Table 14'!$A$5:$L$23,12,FALSE)","v":622.5},3.7500000000000089E-2,0.13181818181818183]
[]
[]
[]
[]
[]
[]
[]
[]
[]
[]
[]
[]
[]
[]
[]
[]
[null,"3 Bedroom Properties - Quartile Measures, years to end Sept, (£ monthly):",null,null,null,null,null,null,null,null,null,null,null,"4 Bedroom Properties - Quartile Measures, years to end Sept, (£ monthly):"]
[null,null,2010,2011,2012,2013,2014,2015,2016,2017,"2016 to 2017","2010 to 2017",null,null,2010,2011,2012,2013,2014,2015,2016,2017,"2016 to 2017","2010 to 2017"]
[null,"Lower Quartile",{"$f":"VLOOKUP($B$2,'Table 7'!$A$26:$L$44,3,FALSE)","v":550},{"$f":"VLOOKUP($B$2,'Table 8'!$A$26:$L$44,3,FALSE)","v":575},{"$f":"VLOOKUP($B$2,'Table 9'!$A$26:$L$44,3,FALSE)","v":550},{"$f":"VLOOKUP($B$2,'Table 10'!$A$26:$L$44,3,FALSE)","v":550},{"$f":"VLOOKUP($B$2,'Table 11'!$A$26:$L$44,3,FALSE)","v":550},{"$f":"VLOOKUP($B$2,'Table 12'!$A$26:$L$44,3,FALSE)","v":560},{"$f":"VLOOKUP($B$2,'Table 13'!$A$26:$L$44,3,FALSE)","v":600},{"$f":"VLOOKUP($B$2,'Table 14'!$A$26:$L$44,3,FALSE)","v":590},{"$f":"J48/I48-1","v":-1.6666666666666718E-2},{"$f":"J48/C48-1","v":7.2727272727272751E-2},null,"Lower Quartile",{"$f":"VLOOKUP($B$2,'Table 7'!$A$26:$L$44,9,FALSE)","v":750},{"$f":"VLOOKUP($B$2,'Table 8'!$A$26:$L$44,9,FALSE)","v":780},{"$f":"VLOOKUP($B$2,'Table 9'!$A$26:$L$44,9,FALSE)","v":750},{"$f":"VLOOKUP($B$2,'Table 10'!$A$26:$L$44,9,FALSE)","v":750},{"$f":"VLOOKUP($B$2,'Table 11'!$A$26:$L$44,9,FALSE)","v":800},{"$f":"VLOOKUP($B$2,'Table 12'!$A$26:$L$44,9,FALSE)","v":825},{"$f":"VLOOKUP($B$2,'Table 13'!$A$26:$L$44,9,FALSE)","v":800},{"$f":"VLOOKUP($B$2,'Table 14'!$A$26:$L$44,9,FALSE)","v":850},{"$f":"V48/U48-1","v":6.25E-2},{"$f":"V48/O48-1","v":0.1333333333333333}]
[null,"Median",{"$f":"VLOOKUP($B$2,'Table 7'!$A$26:$L$44,4,FALSE)","v":650},{"$f":"VLOOKUP($B$2,'Table 8'!$A$26:$L$44,4,FALSE)","v":650},{"$f":"VLOOKUP($B$2,'Table 9'!$A$26:$L$44,4,FALSE)","v":650},{"$f":"VLOOKUP($B$2,'Table 10'!$A$26:$L$44,4,FALSE)","v":625},{"$f":"VLOOKUP($B$2,'Table 11'!$A$26:$L$44,4,FALSE)","v":650},{"$f":"VLOOKUP($B$2,'Table 12'!$A$26:$L$44,4,FALSE)","v":690},{"$f":"VLOOKUP($B$2,'Table 13'!$A$26:$L$44,4,FALSE)","v":700},{"$f":"VLOOKUP($B$2,'Table 14'!$A$26:$L$44,4,FALSE)","v":700},{"$f":"J49/I49-1","v":0},{"$f":"J49/C49-1","v":7.6923076923076872E-2},null,"Median",{"$f":"VLOOKUP($B$2,'Table 7'!$A$26:$L$44,10,FALSE)","v":825},{"$f":"VLOOKUP($B$2,'Table 8'!$A$26:$L$44,10,FALSE)","v":850},{"$f":"VLOOKUP($B$2,'Table 9'!$A$26:$L$44,10,FALSE)","v":850},{"$f":"VLOOKUP($B$2,'Table 10'!$A$26:$L$44,10,FALSE)","v":850},{"$f":"VLOOKUP($B$2,'Table 11'!$A$26:$L$44,10,FALSE)","v":950},{"$f":"VLOOKUP($B$2,'Table 12'!$A$26:$L$44,10,FALSE)","v":950},{"$f":"VLOOKUP($B$2,'Table 13'!$A$26:$L$44,10,FALSE)","v":995},{"$f":"VLOOKUP($B$2,'Table 14'!$A$26:$L$44,10,FALSE)","v":1000},{"$f":"V49/U49-1","v":5.0251256281406143E-3},{"$f":"V49/O49-1","v":0.21212121212121215}]
[null,"Mean",{"$f":"VLOOKUP($B$2,'Table 7'!$A$26:$L$44,5,FALSE)","v":632.52},{"$f":"VLOOKUP($B$2,'Table 8'!$A$26:$L$44,5,FALSE)","v":651.09},{"$f":"VLOOKUP($B$2,'Table 9'!$A$26:$L$44,5,FALSE)","v":643.12},{"$f":"VLOOKUP($B$2,'Table 10'!$A$26:$L$44,5,FALSE)","v":644.39},{"$f":"VLOOKUP($B$2,'Table 11'!$A$26:$L$44,5,FALSE)","v":668.02},{"$f":"VLOOKUP($B$2,'Table 12'!$A$26:$L$44,5,FALSE)","v":684.17},{"$f":"VLOOKUP($B$2,'Table 13'!$A$26:$L$44,5,FALSE)","v":701.64},{"$f":"VLOOKUP($B$2,'Table 14'!$A$26:$L$44,5,FALSE)","v":717.22},2.2205119434467901E-2,0.13390880920761417,null,"Mean",{"$f":"VLOOKUP($B$2,'Table 7'!$A$26:$L$44,11,FALSE)","v":811.27},{"$f":"VLOOKUP($B$2,'Table 8'!$A$26:$L$44,11,FALSE)","v":894.44},{"$f":"VLOOKUP($B$2,'Table 9'!$A$26:$L$44,11,FALSE)","v":849.5},{"$f":"VLOOKUP($B$2,'Table 10'!$A$26:$L$44,11,FALSE)","v":883.13},{"$f":"VLOOKUP($B$2,'Table 11'!$A$26:$L$44,11,FALSE)","v":961.21},{"$f":"VLOOKUP($B$2,'Table 12'!$A$26:$L$44,11,FALSE)","v":967.81},{"$f":"VLOOKUP($B$2,'Table 13'!$A$26:$L$44,11,FALSE)","v":972.76},{"$f":"VLOOKUP($B$2,'Table 14'!$A$26:$L$44,11,FALSE)","v":1047.22},7.6545088202639944E-2,0.29084028745054047]
[null,"Upper Quartile",{"$f":"VLOOKUP($B$2,'Table 7'!$A$26:$L$44,6,FALSE)","v":700},{"$f":"VLOOKUP($B$2,'Table 8'!$A$26:$L$44,6,FALSE)","v":750},{"$f":"VLOOKUP($B$2,'Table 9'!$A$26:$L$44,6,FALSE)","v":725},{"$f":"VLOOKUP($B$2,'Table 10'!$A$26:$L$44,6,FALSE)","v":750},{"$f":"VLOOKUP($B$2,'Table 11'!$A$26:$L$44,6,FALSE)","v":750},{"$f":"VLOOKUP($B$2,'Table 12'!$A$26:$L$44,6,FALSE)","v":795},{"$f":"VLOOKUP($B$2,'Table 13'!$A$26:$L$44,6,FALSE)","v":795},{"$f":"VLOOKUP($B$2,'Table 14'!$A$26:$L$44,6,FALSE)","v":800},6.2893081761006275E-3,0.14285714285714279,null,"Upper Quartile",{"$f":"VLOOKUP($B$2,'Table 7'!$A$26:$L$44,12,FALSE)","v":890},{"$f":"VLOOKUP($B$2,'Table 8'!$A$26:$L$44,12,FALSE)","v":1000},{"$f":"VLOOKUP($B$2,'Table 9'!$A$26:$L$44,12,FALSE)","v":950},{"$f":"VLOOKUP($B$2,'Table 10'!$A$26:$L$44,12,FALSE)","v":950},{"$f":"VLOOKUP($B$2,'Table 11'!$A$26:$L$44,12,FALSE)","v":1140},{"$f":"VLOOKUP($B$2,'Table 12'!$A$26:$L$44,12,FALSE)","v":1140},{"$f":"VLOOKUP($B$2,'Table 13'!$A$26:$L$44,12,FALSE)","v":1200},{"$f":"VLOOKUP($B$2,'Table 14'!$A$26:$L$44,12,FALSE)","v":1240},3.3333333333333437E-2,0.39325842696629221]
[]
[]
[]
[]
[]
[]
[]
[]
[]
[]
[]
[]
[]
[]
[]
[]
[null,"1 Bedroom Shared Properties - Quartile Measures, years to end Sept, (£ monthly):",null,null,null,null,null,null,null,null,null,null,null,"Sample Sizes:",null,null,null,null,null,null,null,null,null,null,null,"Sample Sizes:"]
[null,null,2010,2011,2012,2013,2014,2015,2016,2017,"2016 to 2017","2010 to 2017",null,null,null,null,2010,2011,2012,2013,2014,2015,2016,2017,null,null,2010,2011,2012,2013,2014,2015,2016,2017]
[null,"Lower Quartile",{"$f":"VLOOKUP($B$2,'Table 7'!$A$47:$F$65,3,FALSE)","v":225},{"$f":"VLOOKUP($B$2,'Table 8'!$A$47:$F$65,3,FALSE)","v":235},{"$f":"VLOOKUP($B$2,'Table 9'!$A$47:$F$65,3,FALSE)","v":238.33},{"$f":"VLOOKUP($B$2,'Table 10'!$A$47:$F$65,3,FALSE)","v":250},{"$f":"VLOOKUP($B$2,'Table 11'!$A$47:$F$65,3,FALSE)","v":250},{"$f":"VLOOKUP($B$2,'Table 12'!$A$47:$F$65,3,FALSE)","v":250},{"$f":"VLOOKUP($B$2,'Table 13'!$A$47:$F$65,3,FALSE)","v":250},{"$f":"VLOOKUP($B$2,'Table 14'!$A$47:$F$65,3,FALSE)","v":260},{"$f":"J70/I70-1","v":4.0000000000000036E-2},{"$f":"J70/C70-1","v":0.15555555555555545},null,"1 Bedroom ",null,null,{"$f":"VLOOKUP($B$2,'Table 7'!$A$5:$L$23,2,FALSE)","v":319},{"$f":"VLOOKUP($B$2,'Table 8'!$A$5:$L$23,2,FALSE)","v":458},{"$f":"VLOOKUP($B$2,'Table 9'!$A$5:$L$23,2,FALSE)","v":483},{"$f":"VLOOKUP($B$2,'Table 10'!$A$5:$L$23,2,FALSE)","v":437},{"$f":"VLOOKUP($B$2,'Table 11'!$A$5:$L$23,2,FALSE)","v":405},{"$f":"VLOOKUP($B$2,'Table 12'!$A$5:$L$23,2,FALSE)","v":406},{"$f":"VLOOKUP($B$2,'Table 13'!$A$5:$L$23,2,FALSE)","v":382},{"$f":"VLOOKUP($B$2,'Table 14'!$A$5:$L$23,2,FALSE)","v":369},null,"1 Bedroom ",{"$f":"VLOOKUP($B$2,'Table 7'!$A$5:$L$23,2,FALSE)","v":319},{"$f":"VLOOKUP($B$2,'Table 8'!$A$5:$L$23,2,FALSE)","v":458},{"$f":"VLOOKUP($B$2,'Table 9'!$A$5:$L$23,2,FALSE)","v":483},{"$f":"VLOOKUP($B$2,'Table 10'!$A$5:$L$23,2,FALSE)","v":437},{"$f":"VLOOKUP($B$2,'Table 11'!$A$5:$L$23,2,FALSE)","v":405},{"$f":"VLOOKUP($B$2,'Table 12'!$A$5:$L$23,2,FALSE)","v":406},{"$f":"VLOOKUP($B$2,'Table 13'!$A$5:$L$23,2,FALSE)","v":382},{"$f":"VLOOKUP($B$2,'Table 14'!$A$5:$L$23,2,FALSE)","v":369}]
[null,"Median",{"$f":"VLOOKUP($B$2,'Table 7'!$A$47:$F$65,4,FALSE)","v":250},{"$f":"VLOOKUP($B$2,'Table 8'!$A$47:$F$65,4,FALSE)","v":260},{"$f":"VLOOKUP($B$2,'Table 9'!$A$47:$F$65,4,FALSE)","v":265},{"$f":"VLOOKUP($B$2,'Table 10'!$A$47:$F$65,4,FALSE)","v":273.33999999999997},{"$f":"VLOOKUP($B$2,'Table 11'!$A$47:$F$65,4,FALSE)","v":275},{"$f":"VLOOKUP($B$2,'Table 12'!$A$47:$F$65,4,FALSE)","v":290},{"$f":"VLOOKUP($B$2,'Table 13'!$A$47:$F$65,4,FALSE)","v":300},{"$f":"VLOOKUP($B$2,'Table 14'!$A$47:$F$65,4,FALSE)","v":290},{"$f":"J71/I71-1","v":-3.3333333333333326E-2},{"$f":"J71/C71-1","v":0.15999999999999992},null,"2 Bedrooms",null,null,{"$f":"VLOOKUP($B$2,'Table 7'!$A$5:$L$23,8,FALSE)","v":613},{"$f":"VLOOKUP($B$2,'Table 8'!$A$5:$L$23,8,FALSE)","v":818},{"$f":"VLOOKUP($B$2,'Table 9'!$A$5:$L$23,8,FALSE)","v":918},{"$f":"VLOOKUP($B$2,'Table 10'!$A$5:$L$23,8,FALSE)","v":790},{"$f":"VLOOKUP($B$2,'Table 11'!$A$5:$L$23,8,FALSE)","v":856},{"$f":"VLOOKUP($B$2,'Table 12'!$A$5:$L$23,8,FALSE)","v":860},{"$f":"VLOOKUP($B$2,'Table 13'!$A$5:$L$23,8,FALSE)","v":950},{"$f":"VLOOKUP($B$2,'Table 14'!$A$5:$L$23,8,FALSE)","v":728},null,"2 Bedrooms",{"$f":"VLOOKUP($B$2,'Table 7'!$A$5:$L$23,8,FALSE)","v":613},{"$f":"VLOOKUP($B$2,'Table 8'!$A$5:$L$23,8,FALSE)","v":818},{"$f":"VLOOKUP($B$2,'Table 9'!$A$5:$L$23,8,FALSE)","v":918},{"$f":"VLOOKUP($B$2,'Table 10'!$A$5:$L$23,8,FALSE)","v":790},{"$f":"VLOOKUP($B$2,'Table 11'!$A$5:$L$23,8,FALSE)","v":856},{"$f":"VLOOKUP($B$2,'Table 12'!$A$5:$L$23,8,FALSE)","v":860},{"$f":"VLOOKUP($B$2,'Table 13'!$A$5:$L$23,8,FALSE)","v":950},{"$f":"VLOOKUP($B$2,'Table 14'!$A$5:$L$23,8,FALSE)","v":728}]
[null,"Mean",{"$f":"VLOOKUP($B$2,'Table 7'!$A$47:$F$65,5,FALSE)","v":262.86},{"$f":"VLOOKUP($B$2,'Table 8'!$A$47:$F$65,5,FALSE)","v":263.08},{"$f":"VLOOKUP($B$2,'Table 9'!$A$47:$F$65,5,FALSE)","v":269.83},{"$f":"VLOOKUP($B$2,'Table 10'!$A$47:$F$65,5,FALSE)","v":268.35000000000002},{"$f":"VLOOKUP($B$2,'Table 11'!$A$47:$F$65,5,FALSE)","v":274.42},{"$f":"VLOOKUP($B$2,'Table 12'!$A$47:$F$65,5,FALSE)","v":289.27999999999997},{"$f":"VLOOKUP($B$2,'Table 13'!$A$47:$F$65,5,FALSE)","v":295.72000000000003},{"$f":"VLOOKUP($B$2,'Table 14'!$A$47:$F$65,5,FALSE)","v":309.20999999999998},4.5617475990801903E-2,0.17632960511298768,null,"3 Bedrooms",null,null,{"$f":"VLOOKUP($B$2,'Table 7'!$A$26:$L$44,2,FALSE)","v":198},{"$f":"VLOOKUP($B$2,'Table 8'!$A$26:$L$44,2,FALSE)","v":224},{"$f":"VLOOKUP($B$2,'Table 9'!$A$26:$L$44,2,FALSE)","v":283},{"$f":"VLOOKUP($B$2,'Table 10'!$A$26:$L$44,2,FALSE)","v":245},{"$f":"VLOOKUP($B$2,'Table 11'!$A$26:$L$44,2,FALSE)","v":303},{"$f":"VLOOKUP($B$2,'Table 12'!$A$26:$L$44,2,FALSE)","v":283},{"$f":"VLOOKUP($B$2,'Table 13'!$A$26:$L$44,2,FALSE)","v":335},{"$f":"VLOOKUP($B$2,'Table 14'!$A$26:$L$44,2,FALSE)","v":275},null,"3 Bedrooms",{"$f":"VLOOKUP($B$2,'Table 7'!$A$26:$L$44,2,FALSE)","v":198},{"$f":"VLOOKUP($B$2,'Table 8'!$A$26:$L$44,2,FALSE)","v":224},{"$f":"VLOOKUP($B$2,'Table 9'!$A$26:$L$44,2,FALSE)","v":283},{"$f":"VLOOKUP($B$2,'Table 10'!$A$26:$L$44,2,FALSE)","v":245},{"$f":"VLOOKUP($B$2,'Table 11'!$A$26:$L$44,2,FALSE)","v":303},{"$f":"VLOOKUP($B$2,'Table 12'!$A$26:$L$44,2,FALSE)","v":283},{"$f":"VLOOKUP($B$2,'Table 13'!$A$26:$L$44,2,FALSE)","v":335},{"$f":"VLOOKUP($B$2,'Table 14'!$A$26:$L$44,2,FALSE)","v":275}]
[null,"Upper Quartile",{"$f":"VLOOKUP($B$2,'Table 7'!$A$47:$F$65,6,FALSE)","v":300},{"$f":"VLOOKUP($B$2,'Table 8'!$A$47:$F$65,6,FALSE)","v":290},{"$f":"VLOOKUP($B$2,'Table 9'!$A$47:$F$65,6,FALSE)","v":300},{"$f":"VLOOKUP($B$2,'Table 10'!$A$47:$F$65,6,FALSE)","v":300},{"$f":"VLOOKUP($B$2,'Table 11'!$A$47:$F$65,6,FALSE)","v":300},{"$f":"VLOOKUP($B$2,'Table 12'!$A$47:$F$65,6,FALSE)","v":320},{"$f":"VLOOKUP($B$2,'Table 13'!$A$47:$F$65,6,FALSE)","v":320},{"$f":"VLOOKUP($B$2,'Table 14'!$A$47:$F$65,6,FALSE)","v":340},6.25E-2,0.1333333333333333,null,"4 Bedrooms",null,null,{"$f":"VLOOKUP($B$2,'Table 7'!$A$26:$L$44,8,FALSE)","v":71},{"$f":"VLOOKUP($B$2,'Table 8'!$A$26:$L$44,8,FALSE)","v":107},{"$f":"VLOOKUP($B$2,'Table 9'!$A$26:$L$44,8,FALSE)","v":121},{"$f":"VLOOKUP($B$2,'Table 10'!$A$26:$L$44,8,FALSE)","v":93},{"$f":"VLOOKUP($B$2,'Table 11'!$A$26:$L$44,8,FALSE)","v":107},{"$f":"VLOOKUP($B$2,'Table 12'!$A$26:$L$44,8,FALSE)","v":105},{"$f":"VLOOKUP($B$2,'Table 13'!$A$26:$L$44,8,FALSE)","v":85},{"$f":"VLOOKUP($B$2,'Table 14'!$A$26:$L$44,8,FALSE)","v":115},null,"4 Bedrooms",{"$f":"VLOOKUP($B$2,'Table 7'!$A$26:$L$44,8,FALSE)","v":71},{"$f":"VLOOKUP($B$2,'Table 8'!$A$26:$L$44,8,FALSE)","v":107},{"$f":"VLOOKUP($B$2,'Table 9'!$A$26:$L$44,8,FALSE)","v":121},{"$f":"VLOOKUP($B$2,'Table 10'!$A$26:$L$44,8,FALSE)","v":93},{"$f":"VLOOKUP($B$2,'Table 11'!$A$26:$L$44,8,FALSE)","v":107},{"$f":"VLOOKUP($B$2,'Table 12'!$A$26:$L$44,8,FALSE)","v":105},{"$f":"VLOOKUP($B$2,'Table 13'!$A$26:$L$44,8,FALSE)","v":85},{"$f":"VLOOKUP($B$2,'Table 14'!$A$26:$L$44,8,FALSE)","v":115}]
[null,null,null,null,null,null,null,null,null,null,null,null,null,"1 Bedroom Shared",null,null,{"$f":"VLOOKUP($B$2,'Table 7'!$A$47:$L$65,2,FALSE)","v":94},{"$f":"VLOOKUP($B$2,'Table 8'!$A$47:$L$65,2,FALSE)","v":138},{"$f":"VLOOKUP($B$2,'Table 9'!$A$47:$L$65,2,FALSE)","v":143},{"$f":"VLOOKUP($B$2,'Table 10'!$A$47:$L$65,2,FALSE)","v":108},{"$f":"VLOOKUP($B$2,'Table 11'!$A$47:$L$65,2,FALSE)","v":104},{"$f":"VLOOKUP($B$2,'Table 12'!$A$47:$L$65,2,FALSE)","v":95},{"$f":"VLOOKUP($B$2,'Table 13'!$A$47:$L$65,2,FALSE)","v":93},{"$f":"VLOOKUP($B$2,'Table 14'!$A$47:$L$65,2,FALSE)","v":200},null,"1 Bedroom Shared",{"$f":"VLOOKUP($B$2,'Table 7'!$A$47:$L$65,2,FALSE)","v":94},{"$f":"VLOOKUP($B$2,'Table 8'!$A$47:$L$65,2,FALSE)","v":138},{"$f":"VLOOKUP($B$2,'Table 9'!$A$47:$L$65,2,FALSE)","v":143},{"$f":"VLOOKUP($B$2,'Table 10'!$A$47:$L$65,2,FALSE)","v":108},{"$f":"VLOOKUP($B$2,'Table 11'!$A$47:$L$65,2,FALSE)","v":104},{"$f":"VLOOKUP($B$2,'Table 12'!$A$47:$L$65,2,FALSE)","v":95},{"$f":"VLOOKUP($B$2,'Table 13'!$A$47:$L$65,2,FALSE)","v":93},{"$f":"VLOOKUP($B$2,'Table 14'!$A$47:$L$65,2,FALSE)","v":200}]
[]
[]
[]
[]
[]
[]
[]
[]
[]
[]
[]
[]
[]
[]
[]
[]
[]
[null,null,null,null,null,null,null,null,null,null,null,null,null,null,null,null,null,null,null,null,null,null,null,null,null,null,null,null,null,null,null,null,null,null,null,2010,2011,2012,2013,2014,2015,2016,2017]
[null,null,null,null,null,null,null,null,null,null,null,null,null,null,null,null,null,null,null,null,null,null,null,null,null,null,null,null,null,null,null,null,null,null,"Scotland",{"$f":"'All years 2 bed'!B22","v":536.27},{"$f":"'All years 2 bed'!C22","v":546.41999999999996},{"$f":"'All years 2 bed'!D22","v":552.89},{"$f":"'All years 2 bed'!E22","v":575.84},{"$f":"'All years 2 bed'!F22","v":596.45000000000005},{"$f":"'All years 2 bed'!G22","v":609.52},{"$f":"'All years 2 bed'!H22","v":615.64},{"$f":"'All years 2 bed'!I22","v":642.79999999999995}]
[null,null,null,null,null,null,null,null,null,null,null,null,null,null,null,null,null,null,null,null,null,null,null,null,null,null,null,null,null,null,null,null,null,null,{"$f":"B2","v":"Dundee and Angus"},{"$f":"VLOOKUP($AI$94,'All years 2 bed'!$A$4:$I$21,2,FALSE)","v":497.46},{"$f":"VLOOKUP($AI$94,'All years 2 bed'!$A$4:$I$21,3,FALSE)","v":520.5},{"$f":"VLOOKUP($AI$94,'All years 2 bed'!$A$4:$I$21,4,FALSE)","v":502.96},{"$f":"VLOOKUP($AI$94,'All years 2 bed'!$A$4:$I$21,5,FALSE)","v":515.07000000000005},{"$f":"VLOOKUP($AI$94,'All years 2 bed'!$A$4:$I$21,6,FALSE)","v":517.76},{"$f":"VLOOKUP($AI$94,'All years 2 bed'!$A$4:$I$21,7,FALSE)","v":530.9},{"$f":"VLOOKUP($AI$94,'All years 2 bed'!$A$4:$I$21,8,FALSE)","v":545.96},{"$f":"VLOOKUP($AI$94,'All years 2 bed'!$A$4:$I$21,9,FALSE)","v":554.96}]

{"sheet":"East Dunbartonshire","index":52,"n_rows":94,"n_cols":43,"rows_kept":94,"cut":false,"hidden":false,"merged":[[73,13,73,15],[1,1,1,3],[69,13,69,15],[70,13,70,15],[71,13,71,15],[72,13,72,15]]}
[null,"BRMA:"]
[null,"East Dunbartonshire"]
[]
["Back to contents"]
[null,"Broad Rental Market Area Profile: East Dunbartonshire"]
[]
[]
[]
[]
[]
[]
[]
[]
[]
[]
[]
[]
[]
[]
[]
[]
[]
[]
[null,"1 Bedroom Properties - Quartile Measures, years to end Sept, (£ monthly):",null,null,null,null,null,null,null,null,null,null,null,"2 Bedroom Properties - Quartile Measures, years to end Sept, (£ monthly):"]
[null,null,2010,2011,2012,2013,2014,2015,2016,2017,"2016 to 2017","2010 to 2017",null,null,2010,2011,2012,2013,2014,2015,2016,2017,"2016 to 2017","2010 to 2017"]
[null,"Lower Quartile",{"$f":"VLOOKUP($B$2,'Table 7'!$A$5:$L$23,3,FALSE)","v":400},{"$f":"VLOOKUP($B$2,'Table 8'!$A$5:$L$23,3,FALSE)","v":412.5},{"$f":"VLOOKUP($B$2,'Table 9'!$A$5:$L$23,3,FALSE)","v":400},{"$f":"VLOOKUP($B$2,'Table 10'!$A$5:$L$23,3,FALSE)","v":420},{"$f":"VLOOKUP($B$2,'Table 11'!$A$5:$L$23,3,FALSE)","v":425},{"$f":"VLOOKUP($B$2,'Table 12'!$A$5:$L$23,3,FALSE)","v":425},{"$f":"VLOOKUP($B$2,'Table 13'!$A$5:$L$23,3,FALSE)","v":425},{"$f":"VLOOKUP($B$2,'Table 14'!$A$5:$L$23,3,FALSE)","v":425},{"$f":"J26/I26-1","v":0},{"$f":"J26/C26-1","v":6.25E-2},null,"Lower Quartile",{"$f":"VLOOKUP($B$2,'Table 7'!$A$5:$L$23,9,FALSE)","v":525},{"$f":"VLOOKUP($B$2,'Table 8'!$A$5:$L$23,9,FALSE)","v":500},{"$f":"VLOOKUP($B$2,'Table 9'!$A$5:$L$23,9,FALSE)","v":525},{"$f":"VLOOKUP($B$2,'Table 10'!$A$5:$L$23,9,FALSE)","v":500},{"$f":"VLOOKUP($B$2,'Table 11'!$A$5:$L$23,9,FALSE)","v":525},{"$f":"VLOOKUP($B$2,'Table 12'!$A$5:$L$23,9,FALSE)","v":525},{"$f":"VLOOKUP($B$2,'Table 13'!$A$5:$L$23,9,FALSE)","v":550},{"$f":"VLOOKUP($B$2,'Table 14'!$A$5:$L$23,9,FALSE)","v":550},{"$f":"V26/U26-1","v":0},{"$f":"V26/O26-1","v":4.7619047619047672E-2}]
[null,"Median",{"$f":"VLOOKUP($B$2,'Table 7'!$A$5:$L$23,4,FALSE)","v":425},{"$f":"VLOOKUP($B$2,'Table 8'!$A$5:$L$23,4,FALSE)","v":450},{"$f":"VLOOKUP($B$2,'Table 9'!$A$5:$L$23,4,FALSE)","v":425},{"$f":"VLOOKUP($B$2,'Table 10'!$A$5:$L$23,4,FALSE)","v":450},{"$f":"VLOOKUP($B$2,'Table 11'!$A$5:$L$23,4,FALSE)","v":450},{"$f":"VLOOKUP($B$2,'Table 12'!$A$5:$L$23,4,FALSE)","v":450},{"$f":"VLOOKUP($B$2,'Table 13'!$A$5:$L$23,4,FALSE)","v":450},{"$f":"VLOOKUP($B$2,'Table 14'!$A$5:$L$23,4,FALSE)","v":450},{"$f":"J27/I27-1","v":0},{"$f":"J27/C27-1","v":5.8823529411764719E-2},null,"Median",{"$f":"VLOOKUP($B$2,'Table 7'!$A$5:$L$23,10,FALSE)","v":575},{"$f":"VLOOKUP($B$2,'Table 8'!$A$5:$L$23,10,FALSE)","v":550},{"$f":"VLOOKUP($B$2,'Table 9'!$A$5:$L$23,10,FALSE)","v":595},{"$f":"VLOOKUP($B$2,'Table 10'!$A$5:$L$23,10,FALSE)","v":575},{"$f":"VLOOKUP($B$2,'Table 11'!$A$5:$L$23,10,FALSE)","v":575},{"$f":"VLOOKUP($B$2,'Table 12'!$A$5:$L$23,10,FALSE)","v":575},{"$f":"VLOOKUP($B$2,'Table 13'!$A$5:$L$23,10,FALSE)","v":625},{"$f":"VLOOKUP($B$2,'Table 14'!$A$5:$L$23,10,FALSE)","v":600},{"$f":"V27/U27-1","v":-4.0000000000000036E-2},{"$f":"V27/O27-1","v":4.3478260869565188E-2}]
[null,"Mean",{"$f":"VLOOKUP($B$2,'Table 7'!$A$5:$L$23,5,FALSE)","v":449.59},{"$f":"VLOOKUP($B$2,'Table 8'!$A$5:$L$23,5,FALSE)","v":456.61},{"$f":"VLOOKUP($B$2,'Table 9'!$A$5:$L$23,5,FALSE)","v":440.86},{"$f":"VLOOKUP($B$2,'Table 10'!$A$5:$L$23,5,FALSE)","v":465.96},{"$f":"VLOOKUP($B$2,'Table 11'!$A$5:$L$23,5,FALSE)","v":472.07},{"$f":"VLOOKUP($B$2,'Table 12'!$A$5:$L$23,5,FALSE)","v":461.49},{"$f":"VLOOKUP($B$2,'Table 13'!$A$5:$L$23,5,FALSE)","v":478.92},{"$f":"VLOOKUP($B$2,'Table 14'!$A$5:$L$23,5,FALSE)","v":487.82},1.8583479495531519E-2,8.5033030094085804E-2,null,"Mean",{"$f":"VLOOKUP($B$2,'Table 7'!$A$5:$L$23,11,FALSE)","v":581.12},{"$f":"VLOOKUP($B$2,'Table 8'!$A$5:$L$23,11,FALSE)","v":571.97},{"$f":"VLOOKUP($B$2,'Table 9'!$A$5:$L$23,11,FALSE)","v":608.66},{"$f":"VLOOKUP($B$2,'Table 10'!$A$5:$L$23,11,FALSE)","v":587.11},{"$f":"VLOOKUP($B$2,'Table 11'!$A$5:$L$23,11,FALSE)","v":603.70000000000005},{"$f":"VLOOKUP($B$2,'Table 12'!$A$5:$L$23,11,FALSE)","v":610.75},{"$f":"VLOOKUP($B$2,'Table 13'!$A$5:$L$23,11,FALSE)","v":635.52},{"$f":"VLOOKUP($B$2,'Table 14'!$A$5:$L$23,11,FALSE)","v":653.4},2.8134441087613205E-2,0.12438050660792954]
[null,"Upper Quartile",{"$f":"VLOOKUP($B$2,'Table 7'!$A$5:$L$23,6,FALSE)","v":475},{"$f":"VLOOKUP($B$2,'Table 8'!$A$5:$L$23,6,FALSE)","v":475},{"$f":"VLOOKUP($B$2,'Table 9'!$A$5:$L$23,6,FALSE)","v":475},{"$f":"VLOOKUP($B$2,'Table 10'!$A$5:$L$23,6,FALSE)","v":495},{"$f":"VLOOKUP($B$2,'Table 11'!$A$5:$L$23,6,FALSE)","v":525},{"$f":"VLOOKUP($B$2,'Table 12'!$A$5:$L$23,6,FALSE)","v":495},{"$f":"VLOOKUP($B$2,'Table 13'!$A$5:$L$23,6,FALSE)","v":525},{"$f":"VLOOKUP($B$2,'Table 14'!$A$5:$L$23,6,FALSE)","v":550},4.7619047619047672E-2,0.15789473684210531,null,"Upper Quartile",{"$f":"VLOOKUP($B$2,'Table 7'!$A$5:$L$23,12,FALSE)","v":625},{"$f":"VLOOKUP($B$2,'Table 8'!$A$5:$L$23,12,FALSE)","v":650},{"$f":"VLOOKUP($B$2,'Table 9'!$A$5:$L$23,12,FALSE)","v":680},{"$f":"VLOOKUP($B$2,'Table 10'!$A$5:$L$23,12,FALSE)","v":650},{"$f":"VLOOKUP($B$2,'Table 11'!$A$5:$L$23,12,FALSE)","v":695},{"$f":"VLOOKUP($B$2,'Table 12'!$A$5:$L$23,12,FALSE)","v":675},{"$f":"VLOOKUP($B$2,'Table 13'!$A$5:$L$23,12,FALSE)","v":695},{"$f":"VLOOKUP($B$2,'Table 14'!$A$5:$L$23,12,FALSE)","v":750},7.9136690647481966E-2,0.19999999999999996]
[]
[]
[]
[]
[]
[]
[]
[]
[]
[]
[]
[]
[]
[]
[]
[]
[null,"3 Bedroom Properties - Quartile Measures, years to end Sept, (£ monthly):",null,null,null,null,null,null,null,null,null,null,null,"4 Bedroom Properties - Quartile Measures, years to end Sept, (£ monthly):"]
[null,null,2010,2011,2012,2013,2014,2015,2016,2017,"2016 to 2017","2010 to 2017",null,null,2010,2011,2012,2013,2014,2015,2016,2017,"2016 to 2017","2010 to 2017"]
[null,"Lower Quartile",{"$f":"VLOOKUP($B$2,'Table 7'!$A$26:$L$44,3,FALSE)","v":650},{"$f":"VLOOKUP($B$2,'Table 8'!$A$26:$L$44,3,FALSE)","v":650},{"$f":"VLOOKUP($B$2,'Table 9'!$A$26:$L$44,3,FALSE)","v":695},{"$f":"VLOOKUP($B$2,'Table 10'!$A$26:$L$44,3,FALSE)","v":650},{"$f":"VLOOKUP($B$2,'Table 11'!$A$26:$L$44,3,FALSE)","v":695},{"$f":"VLOOKUP($B$2,'Table 12'!$A$26:$L$44,3,FALSE)","v":695},{"$f":"VLOOKUP($B$2,'Table 13'!$A$26:$L$44,3,FALSE)","v":695},{"$f":"VLOOKUP($B$2,'Table 14'!$A$26:$L$44,3,FALSE)","v":775},{"$f":"J48/I48-1","v":0.1151079136690647},{"$f":"J48/C48-1","v":0.19230769230769229},null,"Lower Quartile",{"$f":"VLOOKUP($B$2,'Table 7'!$A$26:$L$44,9,FALSE)","v":900},{"$f":"VLOOKUP($B$2,'Table 8'!$A$26:$L$44,9,FALSE)","v":950},{"$f":"VLOOKUP($B$2,'Table 9'!$A$26:$L$44,9,FALSE)","v":900},{"$f":"VLOOKUP($B$2,'Table 10'!$A$26:$L$44,9,FALSE)","v":950},{"$f":"VLOOKUP($B$2,'Table 11'!$A$26:$L$44,9,FALSE)","v":922.5},{"$f":"VLOOKUP($B$2,'Table 12'!$A$26:$L$44,9,FALSE)","v":950},{"$f":"VLOOKUP($B$2,'Table 13'!$A$26:$L$44,9,FALSE)","v":962.5},{"$f":"VLOOKUP($B$2,'Table 14'!$A$26:$L$44,9,FALSE)","v":1200},{"$f":"V48/U48-1","v":0.24675324675324672},{"$f":"V48/O48-1","v":0.33333333333333326}]
[null,"Median",{"$f":"VLOOKUP($B$2,'Table 7'!$A$26:$L$44,4,FALSE)","v":700},{"$f":"VLOOKUP($B$2,'Table 8'!$A$26:$L$44,4,FALSE)","v":730},{"$f":"VLOOKUP($B$2,'Table 9'!$A$26:$L$44,4,FALSE)","v":750},{"$f":"VLOOKUP($B$2,'Table 10'!$A$26:$L$44,4,FALSE)","v":750},{"$f":"VLOOKUP($B$2,'Table 11'!$A$26:$L$44,4,FALSE)","v":795},{"$f":"VLOOKUP($B$2,'Table 12'!$A$26:$L$44,4,FALSE)","v":797.5},{"$f":"VLOOKUP($B$2,'Table 13'!$A$26:$L$44,4,FALSE)","v":795},{"$f":"VLOOKUP($B$2,'Table 14'!$A$26:$L$44,4,FALSE)","v":892.5},{"$f":"J49/I49-1","v":0.12264150943396235},{"$f":"J49/C49-1","v":0.27499999999999991},null,"Median",{"$f":"VLOOKUP($B$2,'Table 7'!$A$26:$L$44,10,FALSE)","v":995},{"$f":"VLOOKUP($B$2,'Table 8'!$A$26:$L$44,10,FALSE)","v":1100},{"$f":"VLOOKUP($B$2,'Table 9'!$A$26:$L$44,10,FALSE)","v":1195},{"$f":"VLOOKUP($B$2,'Table 10'!$A$26:$L$44,10,FALSE)","v":1100},{"$f":"VLOOKUP($B$2,'Table 11'!$A$26:$L$44,10,FALSE)","v":1200},{"$f":"VLOOKUP($B$2,'Table 12'!$A$26:$L$44,10,FALSE)","v":1200},{"$f":"VLOOKUP($B$2,'Table 13'!$A$26:$L$44,10,FALSE)","v":1100},{"$f":"VLOOKUP($B$2,'Table 14'!$A$26:$L$44,10,FALSE)","v":1500},{"$f":"V49/U49-1","v":0.36363636363636354},{"$f":"V49/O49-1","v":0.50753768844221114}]
[null,"Mean",{"$f":"VLOOKUP($B$2,'Table 7'!$A$26:$L$44,5,FALSE)","v":750.02},{"$f":"VLOOKUP($B$2,'Table 8'!$A$26:$L$44,5,FALSE)","v":772.43},{"$f":"VLOOKUP($B$2,'Table 9'!$A$26:$L$44,5,FALSE)","v":810.13},{"$f":"VLOOKUP($B$2,'Table 10'!$A$26:$L$44,5,FALSE)","v":797.68},{"$f":"VLOOKUP($B$2,'Table 11'!$A$26:$L$44,5,FALSE)","v":798.73},{"$f":"VLOOKUP($B$2,'Table 12'!$A$26:$L$44,5,FALSE)","v":819.59},{"$f":"VLOOKUP($B$2,'Table 13'!$A$26:$L$44,5,FALSE)","v":859.19},{"$f":"VLOOKUP($B$2,'Table 14'!$A$26:$L$44,5,FALSE)","v":923.82},7.5222011429369573E-2,0.2317271539425616,null,"Mean",{"$f":"VLOOKUP($B$2,'Table 7'!$A$26:$L$44,11,FALSE)","v":1135.19},{"$f":"VLOOKUP($B$2,'Table 8'!$A$26:$L$44,11,FALSE)","v":1204.31},{"$f":"VLOOKUP($B$2,'Table 9'!$A$26:$L$44,11,FALSE)","v":1137.57},{"$f":"VLOOKUP($B$2,'Table 10'!$A$26:$L$44,11,FALSE)","v":1246.04},{"$f":"VLOOKUP($B$2,'Table 11'!$A$26:$L$44,11,FALSE)","v":1279.83},{"$f":"VLOOKUP($B$2,'Table 12'!$A$26:$L$44,11,FALSE)","v":1264.46},{"$f":"VLOOKUP($B$2,'Table 13'!$A$26:$L$44,11,FALSE)","v":1276.8800000000001},{"$f":"VLOOKUP($B$2,'Table 14'!$A$26:$L$44,11,FALSE)","v":1551.67},0.21520424785414449,0.36688131502215482]
[null,"Upper Quartile",{"$f":"VLOOKUP($B$2,'Table 7'!$A$26:$L$44,6,FALSE)","v":775},{"$f":"VLOOKUP($B$2,'Table 8'!$A$26:$L$44,6,FALSE)","v":800},{"$f":"VLOOKUP($B$2,'Table 9'!$A$26:$L$44,6,FALSE)","v":895},{"$f":"VLOOKUP($B$2,'Table 10'!$A$26:$L$44,6,FALSE)","v":850},{"$f":"VLOOKUP($B$2,'Table 11'!$A$26:$L$44,6,FALSE)","v":890},{"$f":"VLOOKUP($B$2,'Table 12'!$A$26:$L$44,6,FALSE)","v":900},{"$f":"VLOOKUP($B$2,'Table 13'!$A$26:$L$44,6,FALSE)","v":985},{"$f":"VLOOKUP($B$2,'Table 14'!$A$26:$L$44,6,FALSE)","v":1000},1.5228426395939021E-2,0.29032258064516125,null,"Upper Quartile",{"$f":"VLOOKUP($B$2,'Table 7'!$A$26:$L$44,12,FALSE)","v":1350},{"$f":"VLOOKUP($B$2,'Table 8'!$A$26:$L$44,12,FALSE)","v":1400},{"$f":"VLOOKUP($B$2,'Table 9'!$A$26:$L$44,12,FALSE)","v":1300},{"$f":"VLOOKUP($B$2,'Table 10'!$A$26:$L$44,12,FALSE)","v":1500},{"$f":"VLOOKUP($B$2,'Table 11'!$A$26:$L$44,12,FALSE)","v":1525},{"$f":"VLOOKUP($B$2,'Table 12'!$A$26:$L$44,12,FALSE)","v":1500},{"$f":"VLOOKUP($B$2,'Table 13'!$A$26:$L$44,12,FALSE)","v":1500},{"$f":"VLOOKUP($B$2,'Table 14'!$A$26:$L$44,12,FALSE)","v":1650},0.10000000000000009,0.22222222222222232]
[]
[]
[]
[]
[]
[]
[]
[]
[]
[]
[]
[]
[]
[]
[]
[]
[null,"1 Bedroom Shared Properties - Quartile Measures, years to end Sept, (£ monthly):",null,null,null,null,null,null,null,null,null,null,null,"Sample Sizes:",null,null,null,null,null,null,null,null,null,null,null,"Sample Sizes:"]
[null,null,2010,2011,2012,2013,2014,2015,2016,2017,"2016 to 2017","2010 to 2017",null,null,null,null,2010,2011,2012,2013,2014,2015,2016,2017,null,null,2010,2011,2012,2013,2014,2015,2016,2017]
[null,"Lower Quartile",{"$f":"VLOOKUP($B$2,'Table 7'!$A$47:$F$65,3,FALSE)","v":274},{"$f":"VLOOKUP($B$2,'Table 8'!$A$47:$F$65,3,FALSE)","v":257},{"$f":"VLOOKUP($B$2,'Table 9'!$A$47:$F$65,3,FALSE)","v":285},{"$f":"VLOOKUP($B$2,'Table 10'!$A$47:$F$65,3,FALSE)","v":281.66000000000003},{"$f":"VLOOKUP($B$2,'Table 11'!$A$47:$F$65,3,FALSE)","v":285},{"$f":"VLOOKUP($B$2,'Table 12'!$A$47:$F$65,3,FALSE)","v":280},{"$f":"VLOOKUP($B$2,'Table 13'!$A$47:$F$65,3,FALSE)","v":275},{"$f":"VLOOKUP($B$2,'Table 14'!$A$47:$F$65,3,FALSE)","v":325},{"$f":"J70/I70-1","v":0.18181818181818188},{"$f":"J70/C70-1","v":0.18613138686131392},null,"1 Bedroom ",null,null,{"$f":"VLOOKUP($B$2,'Table 7'!$A$5:$L$23,2,FALSE)","v":75},{"$f":"VLOOKUP($B$2,'Table 8'!$A$5:$L$23,2,FALSE)","v":84},{"$f":"VLOOKUP($B$2,'Table 9'!$A$5:$L$23,2,FALSE)","v":70},{"$f":"VLOOKUP($B$2,'Table 10'!$A$5:$L$23,2,FALSE)","v":52},{"$f":"VLOOKUP($B$2,'Table 11'!$A$5:$L$23,2,FALSE)","v":58},{"$f":"VLOOKUP($B$2,'Table 12'!$A$5:$L$23,2,FALSE)","v":111},{"$f":"VLOOKUP($B$2,'Table 13'!$A$5:$L$23,2,FALSE)","v":98},{"$f":"VLOOKUP($B$2,'Table 14'!$A$5:$L$23,2,FALSE)","v":71},null,"1 Bedroom ",{"$f":"VLOOKUP($B$2,'Table 7'!$A$5:$L$23,2,FALSE)","v":75},{"$f":"VLOOKUP($B$2,'Table 8'!$A$5:$L$23,2,FALSE)","v":84},{"$f":"VLOOKUP($B$2,'Table 9'!$A$5:$L$23,2,FALSE)","v":70},{"$f":"VLOOKUP($B$2,'Table 10'!$A$5:$L$23,2,FALSE)","v":52},{"$f":"VLOOKUP($B$2,'Table 11'!$A$5:$L$23,2,FALSE)","v":58},{"$f":"VLOOKUP($B$2,'Table 12'!$A$5:$L$23,2,FALSE)","v":111},{"$f":"VLOOKUP($B$2,'Table 13'!$A$5:$L$23,2,FALSE)","v":98},{"$f":"VLOOKUP($B$2,'Table 14'!$A$5:$L$23,2,FALSE)","v":71}]
[null,"Median",{"$f":"VLOOKUP($B$2,'Table 7'!$A$47:$F$65,4,FALSE)","v":300},{"$f":"VLOOKUP($B$2,'Table 8'!$A$47:$F$65,4,FALSE)","v":305},{"$f":"VLOOKUP($B$2,'Table 9'!$A$47:$F$65,4,FALSE)","v":327.5},{"$f":"VLOOKUP($B$2,'Table 10'!$A$47:$F$65,4,FALSE)","v":310},{"$f":"VLOOKUP($B$2,'Table 11'!$A$47:$F$65,4,FALSE)","v":315},{"$f":"VLOOKUP($B$2,'Table 12'!$A$47:$F$65,4,FALSE)","v":319.54000000000002},{"$f":"VLOOKUP($B$2,'Table 13'!$A$47:$F$65,4,FALSE)","v":325},{"$f":"VLOOKUP($B$2,'Table 14'!$A$47:$F$65,4,FALSE)","v":375},{"$f":"J71/I71-1","v":0.15384615384615374},{"$f":"J71/C71-1","v":0.25},null,"2 Bedrooms",null,null,{"$f":"VLOOKUP($B$2,'Table 7'!$A$5:$L$23,8,FALSE)","v":172},{"$f":"VLOOKUP($B$2,'Table 8'!$A$5:$L$23,8,FALSE)","v":137},{"$f":"VLOOKUP($B$2,'Table 9'!$A$5:$L$23,8,FALSE)","v":114},{"$f":"VLOOKUP($B$2,'Table 10'!$A$5:$L$23,8,FALSE)","v":123},{"$f":"VLOOKUP($B$2,'Table 11'!$A$5:$L$23,8,FALSE)","v":150},{"$f":"VLOOKUP($B$2,'Table 12'!$A$5:$L$23,8,FALSE)","v":177},{"$f":"VLOOKUP($B$2,'Table 13'!$A$5:$L$23,8,FALSE)","v":144},{"$f":"VLOOKUP($B$2,'Table 14'!$A$5:$L$23,8,FALSE)","v":169},null,"2 Bedrooms",{"$f":"VLOOKUP($B$2,'Table 7'!$A$5:$L$23,8,FALSE)","v":172},{"$f":"VLOOKUP($B$2,'Table 8'!$A$5:$L$23,8,FALSE)","v":137},{"$f":"VLOOKUP($B$2,'Table 9'!$A$5:$L$23,8,FALSE)","v":114},{"$f":"VLOOKUP($B$2,'Table 10'!$A$5:$L$23,8,FALSE)","v":123},{"$f":"VLOOKUP($B$2,'Table 11'!$A$5:$L$23,8,FALSE)","v":150},{"$f":"VLOOKUP($B$2,'Table 12'!$A$5:$L$23,8,FALSE)","v":177},{"$f":"VLOOKUP($B$2,'Table 13'!$A$5:$L$23,8,FALSE)","v":144},{"$f":"VLOOKUP($B$2,'Table 14'!$A$5:$L$23,8,FALSE)","v":169}]
[null,"Mean",{"$f":"VLOOKUP($B$2,'Table 7'!$A$47:$F$65,5,FALSE)","v":300.36},{"$f":"VLOOKUP($B$2,'Table 8'!$A$47:$F$65,5,FALSE)","v":303.58999999999997},{"$f":"VLOOKUP($B$2,'Table 9'!$A$47:$F$65,5,FALSE)","v":338.4},{"$f":"VLOOKUP($B$2,'Table 10'!$A$47:$F$65,5,FALSE)","v":323.36},{"$f":"VLOOKUP($B$2,'Table 11'!$A$47:$F$65,5,FALSE)","v":322.2},{"$f":"VLOOKUP($B$2,'Table 12'!$A$47:$F$65,5,FALSE)","v":312.08},{"$f":"VLOOKUP($B$2,'Table 13'!$A$47:$F$65,5,FALSE)","v":324.77999999999997},{"$f":"VLOOKUP($B$2,'Table 14'!$A$47:$F$65,5,FALSE)","v":385.4},0.18664942422562958,0.28312691436942328,null,"3 Bedrooms",null,null,{"$f":"VLOOKUP($B$2,'Table 7'!$A$26:$L$44,2,FALSE)","v":110},{"$f":"VLOOKUP($B$2,'Table 8'!$A$26:$L$44,2,FALSE)","v":115},{"$f":"VLOOKUP($B$2,'Table 9'!$A$26:$L$44,2,FALSE)","v":79},{"$f":"VLOOKUP($B$2,'Table 10'!$A$26:$L$44,2,FALSE)","v":95},{"$f":"VLOOKUP($B$2,'Table 11'!$A$26:$L$44,2,FALSE)","v":114},{"$f":"VLOOKUP($B$2,'Table 12'!$A$26:$L$44,2,FALSE)","v":98},{"$f":"VLOOKUP($B$2,'Table 13'!$A$26:$L$44,2,FALSE)","v":105},{"$f":"VLOOKUP($B$2,'Table 14'!$A$26:$L$44,2,FALSE)","v":106},null,"3 Bedrooms",{"$f":"VLOOKUP($B$2,'Table 7'!$A$26:$L$44,2,FALSE)","v":110},{"$f":"VLOOKUP($B$2,'Table 8'!$A$26:$L$44,2,FALSE)","v":115},{"$f":"VLOOKUP($B$2,'Table 9'!$A$26:$L$44,2,FALSE)","v":79},{"$f":"VLOOKUP($B$2,'Table 10'!$A$26:$L$44,2,FALSE)","v":95},{"$f":"VLOOKUP($B$2,'Table 11'!$A$26:$L$44,2,FALSE)","v":114},{"$f":"VLOOKUP($B$2,'Table 12'!$A$26:$L$44,2,FALSE)","v":98},{"$f":"VLOOKUP($B$2,'Table 13'!$A$26:$L$44,2,FALSE)","v":105},{"$f":"VLOOKUP($B$2,'Table 14'!$A$26:$L$44,2,FALSE)","v":106}]
[null,"Upper Quartile",{"$f":"VLOOKUP($B$2,'Table 7'!$A$47:$F$65,6,FALSE)","v":324},{"$f":"VLOOKUP($B$2,'Table 8'!$A$47:$F$65,6,FALSE)","v":335},{"$f":"VLOOKUP($B$2,'Table 9'!$A$47:$F$65,6,FALSE)","v":368.33},{"$f":"VLOOKUP($B$2,'Table 10'!$A$47:$F$65,6,FALSE)","v":376.66},{"$f":"VLOOKUP($B$2,'Table 11'!$A$47:$F$65,6,FALSE)","v":341.67},{"$f":"VLOOKUP($B$2,'Table 12'!$A$47:$F$65,6,FALSE)","v":325},{"$f":"VLOOKUP($B$2,'Table 13'!$A$47:$F$65,6,FALSE)","v":375},{"$f":"VLOOKUP($B$2,'Table 14'!$A$47:$F$65,6,FALSE)","v":425},0.1333333333333333,0.31172839506172845,null,"4 Bedrooms",null,null,{"$f":"VLOOKUP($B$2,'Table 7'!$A$26:$L$44,8,FALSE)","v":43},{"$f":"VLOOKUP($B$2,'Table 8'!$A$26:$L$44,8,FALSE)","v":51},{"$f":"VLOOKUP($B$2,'Table 9'!$A$26:$L$44,8,FALSE)","v":37},{"$f":"VLOOKUP($B$2,'Table 10'!$A$26:$L$44,8,FALSE)","v":48},{"$f":"VLOOKUP($B$2,'Table 11'!$A$26:$L$44,8,FALSE)","v":40},{"$f":"VLOOKUP($B$2,'Table 12'!$A$26:$L$44,8,FALSE)","v":46},{"$f":"VLOOKUP($B$2,'Table 13'!$A$26:$L$44,8,FALSE)","v":40},{"$f":"VLOOKUP($B$2,'Table 14'!$A$26:$L$44,8,FALSE)","v":42},null,"4 Bedrooms",{"$f":"VLOOKUP($B$2,'Table 7'!$A$26:$L$44,8,FALSE)","v":43},{"$f":"VLOOKUP($B$2,'Table 8'!$A$26:$L$44,8,FALSE)","v":51},{"$f":"VLOOKUP($B$2,'Table 9'!$A$26:$L$44,8,FALSE)","v":37},{"$f":"VLOOKUP($B$2,'Table 10'!$A$26:$L$44,8,FALSE)","v":48},{"$f":"VLOOKUP($B$2,'Table 11'!$A$26:$L$44,8,FALSE)","v":40},{"$f":"VLOOKUP($B$2,'Table 12'!$A$26:$L$44,8,FALSE)","v":46},{"$f":"VLOOKUP($B$2,'Table 13'!$A$26:$L$44,8,FALSE)","v":40},{"$f":"VLOOKUP($B$2,'Table 14'!$A$26:$L$44,8,FALSE)","v":42}]
[null,null,null,null,null,null,null,null,null,null,null,null,null,"1 Bedroom Shared",null,null,{"$f":"VLOOKUP($B$2,'Table 7'!$A$47:$L$65,2,FALSE)","v":22},{"$f":"VLOOKUP($B$2,'Table 8'!$A$47:$L$65,2,FALSE)","v":31},{"$f":"VLOOKUP($B$2,'Table 9'!$A$47:$L$65,2,FALSE)","v":26},{"$f":"VLOOKUP($B$2,'Table 10'!$A$47:$L$65,2,FALSE)","v":38},{"$f":"VLOOKUP($B$2,'Table 11'!$A$47:$L$65,2,FALSE)","v":28},{"$f":"VLOOKUP($B$2,'Table 12'!$A$47:$L$65,2,FALSE)","v":32},{"$f":"VLOOKUP($B$2,'Table 13'!$A$47:$L$65,2,FALSE)","v":22},{"$f":"VLOOKUP($B$2,'Table 14'!$A$47:$L$65,2,FALSE)","v":30},null,"1 Bedroom Shared",{"$f":"VLOOKUP($B$2,'Table 7'!$A$47:$L$65,2,FALSE)","v":22},{"$f":"VLOOKUP($B$2,'Table 8'!$A$47:$L$65,2,FALSE)","v":31},{"$f":"VLOOKUP($B$2,'Table 9'!$A$47:$L$65,2,FALSE)","v":26},{"$f":"VLOOKUP($B$2,'Table 10'!$A$47:$L$65,2,FALSE)","v":38},{"$f":"VLOOKUP($B$2,'Table 11'!$A$47:$L$65,2,FALSE)","v":28},{"$f":"VLOOKUP($B$2,'Table 12'!$A$47:$L$65,2,FALSE)","v":32},{"$f":"VLOOKUP($B$2,'Table 13'!$A$47:$L$65,2,FALSE)","v":22},{"$f":"VLOOKUP($B$2,'Table 14'!$A$47:$L$65,2,FALSE)","v":30}]
[]
[]
[]
[]
[]
[]
[]
[]
[]
[]
[]
[]
[]
[]
[]
[]
[]
[null,null,null,null,null,null,null,null,null,null,null,null,null,null,null,null,null,null,null,null,null,null,null,null,null,null,null,null,null,null,null,null,null,null,null,2010,2011,2012,2013,2014,2015,2016,2017]
[null,null,null,null,null,null,null,null,null,null,null,null,null,null,null,null,null,null,null,null,null,null,null,null,null,null,null,null,null,null,null,null,null,null,"Scotland",{"$f":"'All years 2 bed'!B22","v":536.27},{"$f":"'All years 2 bed'!C22","v":546.41999999999996},{"$f":"'All years 2 bed'!D22","v":552.89},{"$f":"'All years 2 bed'!E22","v":575.84},{"$f":"'All years 2 bed'!F22","v":596.45000000000005},{"$f":"'All years 2 bed'!G22","v":609.52},{"$f":"'All years 2 bed'!H22","v":615.64},{"$f":"'All years 2 bed'!I22","v":642.79999999999995}]
[null,null,null,null,null,null,null,null,null,null,null,null,null,null,null,null,null,null,null,null,null,null,null,null,null,null,null,null,null,null,null,null,null,null,{"$f":"B2","v":"East Dunbartonshire"},{"$f":"VLOOKUP($AI$94,'All years 2 bed'!$A$4:$I$21,2,FALSE)","v":581.12},{"$f":"VLOOKUP($AI$94,'All years 2 bed'!$A$4:$I$21,3,FALSE)","v":571.97},{"$f":"VLOOKUP($AI$94,'All years 2 bed'!$A$4:$I$21,4,FALSE)","v":608.66},{"$f":"VLOOKUP($AI$94,'All years 2 bed'!$A$4:$I$21,5,FALSE)","v":587.11},{"$f":"VLOOKUP($AI$94,'All years 2 bed'!$A$4:$I$21,6,FALSE)","v":603.70000000000005},{"$f":"VLOOKUP($AI$94,'All years 2 bed'!$A$4:$I$21,7,FALSE)","v":610.75},{"$f":"VLOOKUP($AI$94,'All years 2 bed'!$A$4:$I$21,8,FALSE)","v":635.52},{"$f":"VLOOKUP($AI$94,'All years 2 bed'!$A$4:$I$21,9,FALSE)","v":653.4}]

{"sheet":"Fife","index":53,"n_rows":94,"n_cols":43,"rows_kept":94,"cut":false,"hidden":false,"merged":[[73,13,73,15],[1,1,1,3],[69,13,69,15],[70,13,70,15],[71,13,71,15],[72,13,72,15]]}
[null,"BRMA:"]
[null,"Fife"]
[]
["Back to contents"]
[null,"Broad Rental Market Area Profile: Fife"]
[]
[]
[]
[]
[]
[]
[]
[]
[]
[]
[]
[]
[]
[]
[]
[]
[]
[]
[null,"1 Bedroom Properties - Quartile Measures, years to end Sept, (£ monthly):",null,null,null,null,null,null,null,null,null,null,null,"2 Bedroom Properties - Quartile Measures, years to end Sept, (£ monthly):"]
[null,null,2010,2011,2012,2013,2014,2015,2016,2017,"2016 to 2017","2010 to 2017",null,null,2010,2011,2012,2013,2014,2015,2016,2017,"2016 to 2017","2010 to 2017"]
[null,"Lower Quartile",{"$f":"VLOOKUP($B$2,'Table 7'!$A$5:$L$23,3,FALSE)","v":350},{"$f":"VLOOKUP($B$2,'Table 8'!$A$5:$L$23,3,FALSE)","v":350},{"$f":"VLOOKUP($B$2,'Table 9'!$A$5:$L$23,3,FALSE)","v":350},{"$f":"VLOOKUP($B$2,'Table 10'!$A$5:$L$23,3,FALSE)","v":350},{"$f":"VLOOKUP($B$2,'Table 11'!$A$5:$L$23,3,FALSE)","v":350},{"$f":"VLOOKUP($B$2,'Table 12'!$A$5:$L$23,3,FALSE)","v":350},{"$f":"VLOOKUP($B$2,'Table 13'!$A$5:$L$23,3,FALSE)","v":360},{"$f":"VLOOKUP($B$2,'Table 14'!$A$5:$L$23,3,FALSE)","v":365},{"$f":"J26/I26-1","v":1.388888888888884E-2},{"$f":"J26/C26-1","v":4.2857142857142927E-2},null,"Lower Quartile",{"$f":"VLOOKUP($B$2,'Table 7'!$A$5:$L$23,9,FALSE)","v":420},{"$f":"VLOOKUP($B$2,'Table 8'!$A$5:$L$23,9,FALSE)","v":425},{"$f":"VLOOKUP($B$2,'Table 9'!$A$5:$L$23,9,FALSE)","v":430},{"$f":"VLOOKUP($B$2,'Table 10'!$A$5:$L$23,9,FALSE)","v":425},{"$f":"VLOOKUP($B$2,'Table 11'!$A$5:$L$23,9,FALSE)","v":450},{"$f":"VLOOKUP($B$2,'Table 12'!$A$5:$L$23,9,FALSE)","v":440},{"$f":"VLOOKUP($B$2,'Table 13'!$A$5:$L$23,9,FALSE)","v":450},{"$f":"VLOOKUP($B$2,'Table 14'!$A$5:$L$23,9,FALSE)","v":450},{"$f":"V26/U26-1","v":0},{"$f":"V26/O26-1","v":7.1428571428571397E-2}]
[null,"Median",{"$f":"VLOOKUP($B$2,'Table 7'!$A$5:$L$23,4,FALSE)","v":370},{"$f":"VLOOKUP($B$2,'Table 8'!$A$5:$L$23,4,FALSE)","v":375},{"$f":"VLOOKUP($B$2,'Table 9'!$A$5:$L$23,4,FALSE)","v":375},{"$f":"VLOOKUP($B$2,'Table 10'!$A$5:$L$23,4,FALSE)","v":375},{"$f":"VLOOKUP($B$2,'Table 11'!$A$5:$L$23,4,FALSE)","v":395},{"$f":"VLOOKUP($B$2,'Table 12'!$A$5:$L$23,4,FALSE)","v":395},{"$f":"VLOOKUP($B$2,'Table 13'!$A$5:$L$23,4,FALSE)","v":395},{"$f":"VLOOKUP($B$2,'Table 14'!$A$5:$L$23,4,FALSE)","v":400},{"$f":"J27/I27-1","v":1.2658227848101333E-2},{"$f":"J27/C27-1","v":8.1081081081081141E-2},null,"Median",{"$f":"VLOOKUP($B$2,'Table 7'!$A$5:$L$23,10,FALSE)","v":450},{"$f":"VLOOKUP($B$2,'Table 8'!$A$5:$L$23,10,FALSE)","v":470},{"$f":"VLOOKUP($B$2,'Table 9'!$A$5:$L$23,10,FALSE)","v":470},{"$f":"VLOOKUP($B$2,'Table 10'!$A$5:$L$23,10,FALSE)","v":475},{"$f":"VLOOKUP($B$2,'Table 11'!$A$5:$L$23,10,FALSE)","v":490},{"$f":"VLOOKUP($B$2,'Table 12'!$A$5:$L$23,10,FALSE)","v":475},{"$f":"VLOOKUP($B$2,'Table 13'!$A$5:$L$23,10,FALSE)","v":495},{"$f":"VLOOKUP($B$2,'Table 14'!$A$5:$L$23,10,FALSE)","v":500},{"$f":"V27/U27-1","v":1.0101010101010166E-2},{"$f":"V27/O27-1","v":0.11111111111111116}]
[null,"Mean",{"$f":"VLOOKUP($B$2,'Table 7'!$A$5:$L$23,5,FALSE)","v":378.99},{"$f":"VLOOKUP($B$2,'Table 8'!$A$5:$L$23,5,FALSE)","v":383.44},{"$f":"VLOOKUP($B$2,'Table 9'!$A$5:$L$23,5,FALSE)","v":387.33},{"$f":"VLOOKUP($B$2,'Table 10'!$A$5:$L$23,5,FALSE)","v":381.48},{"$f":"VLOOKUP($B$2,'Table 11'!$A$5:$L$23,5,FALSE)","v":405.31},{"$f":"VLOOKUP($B$2,'Table 12'!$A$5:$L$23,5,FALSE)","v":395.12},{"$f":"VLOOKUP($B$2,'Table 13'!$A$5:$L$23,5,FALSE)","v":402.75},{"$f":"VLOOKUP($B$2,'Table 14'!$A$5:$L$23,5,FALSE)","v":411.45},2.1601489757914205E-2,8.564869785482454E-2,null,"Mean",{"$f":"VLOOKUP($B$2,'Table 7'!$A$5:$L$23,11,FALSE)","v":463.99},{"$f":"VLOOKUP($B$2,'Table 8'!$A$5:$L$23,11,FALSE)","v":476.96},{"$f":"VLOOKUP($B$2,'Table 9'!$A$5:$L$23,11,FALSE)","v":481.34},{"$f":"VLOOKUP($B$2,'Table 10'!$A$5:$L$23,11,FALSE)","v":485.39},{"$f":"VLOOKUP($B$2,'Table 11'!$A$5:$L$23,11,FALSE)","v":509.51},{"$f":"VLOOKUP($B$2,'Table 12'!$A$5:$L$23,11,FALSE)","v":497.96},{"$f":"VLOOKUP($B$2,'Table 13'!$A$5:$L$23,11,FALSE)","v":510.77},{"$f":"VLOOKUP($B$2,'Table 14'!$A$5:$L$23,11,FALSE)","v":533.29},4.4090295044736383E-2,0.14935666716955098]
[null,"Upper Quartile",{"$f":"VLOOKUP($B$2,'Table 7'!$A$5:$L$23,6,FALSE)","v":395},{"$f":"VLOOKUP($B$2,'Table 8'!$A$5:$L$23,6,FALSE)","v":400},{"$f":"VLOOKUP($B$2,'Table 9'!$A$5:$L$23,6,FALSE)","v":400},{"$f":"VLOOKUP($B$2,'Table 10'!$A$5:$L$23,6,FALSE)","v":400},{"$f":"VLOOKUP($B$2,'Table 11'!$A$5:$L$23,6,FALSE)","v":425},{"$f":"VLOOKUP($B$2,'Table 12'!$A$5:$L$23,6,FALSE)","v":425},{"$f":"VLOOKUP($B$2,'Table 13'!$A$5:$L$23,6,FALSE)","v":425},{"$f":"VLOOKUP($B$2,'Table 14'!$A$5:$L$23,6,FALSE)","v":450},5.8823529411764719E-2,0.139240506329114,null,"Upper Quartile",{"$f":"VLOOKUP($B$2,'Table 7'!$A$5:$L$23,12,FALSE)","v":495},{"$f":"VLOOKUP($B$2,'Table 8'!$A$5:$L$23,12,FALSE)","v":520},{"$f":"VLOOKUP($B$2,'Table 9'!$A$5:$L$23,12,FALSE)","v":510},{"$f":"VLOOKUP($B$2,'Table 10'!$A$5:$L$23,12,FALSE)","v":525},{"$f":"VLOOKUP($B$2,'Table 11'!$A$5:$L$23,12,FALSE)","v":550},{"$f":"VLOOKUP($B$2,'Table 12'!$A$5:$L$23,12,FALSE)","v":550},{"$f":"VLOOKUP($B$2,'Table 13'!$A$5:$L$23,12,FALSE)","v":550},{"$f":"VLOOKUP($B$2,'Table 14'!$A$5:$L$23,12,FALSE)","v":575},4.5454545454545414E-2,0.16161616161616155]
[]
[]
[]
[]
[]
[]
[]
[]
[]
[]
[]
[]
[]
[]
[]
[]
[null,"3 Bedroom Properties - Quartile Measures, years to end Sept, (£ monthly):",null,null,null,null,null,null,null,null,null,null,null,"4 Bedroom Properties - Quartile Measures, years to end Sept, (£ monthly):"]
[null,null,2010,2011,2012,2013,2014,2015,2016,2017,"2016 to 2017","2010 to 2017",null,null,2010,2011,2012,2013,2014,2015,2016,2017,"2016 to 2017","2010 to 2017"]
[null,"Lower Quartile",{"$f":"VLOOKUP($B$2,'Table 7'!$A$26:$L$44,3,FALSE)","v":480},{"$f":"VLOOKUP($B$2,'Table 8'!$A$26:$L$44,3,FALSE)","v":495},{"$f":"VLOOKUP($B$2,'Table 9'!$A$26:$L$44,3,FALSE)","v":500},{"$f":"VLOOKUP($B$2,'Table 10'!$A$26:$L$44,3,FALSE)","v":500},{"$f":"VLOOKUP($B$2,'Table 11'!$A$26:$L$44,3,FALSE)","v":525},{"$f":"VLOOKUP($B$2,'Table 12'!$A$26:$L$44,3,FALSE)","v":500},{"$f":"VLOOKUP($B$2,'Table 13'!$A$26:$L$44,3,FALSE)","v":520},{"$f":"VLOOKUP($B$2,'Table 14'!$A$26:$L$44,3,FALSE)","v":550},{"$f":"J48/I48-1","v":5.7692307692307709E-2},{"$f":"J48/C48-1","v":0.14583333333333326},null,"Lower Quartile",{"$f":"VLOOKUP($B$2,'Table 7'!$A$26:$L$44,9,FALSE)","v":695},{"$f":"VLOOKUP($B$2,'Table 8'!$A$26:$L$44,9,FALSE)","v":750},{"$f":"VLOOKUP($B$2,'Table 9'!$A$26:$L$44,9,FALSE)","v":750},{"$f":"VLOOKUP($B$2,'Table 10'!$A$26:$L$44,9,FALSE)","v":750},{"$f":"VLOOKUP($B$2,'Table 11'!$A$26:$L$44,9,FALSE)","v":750},{"$f":"VLOOKUP($B$2,'Table 12'!$A$26:$L$44,9,FALSE)","v":750},{"$f":"VLOOKUP($B$2,'Table 13'!$A$26:$L$44,9,FALSE)","v":775},{"$f":"VLOOKUP($B$2,'Table 14'!$A$26:$L$44,9,FALSE)","v":790},{"$f":"V48/U48-1","v":1.9354838709677358E-2},{"$f":"V48/O48-1","v":0.13669064748201443}]
[null,"Median",{"$f":"VLOOKUP($B$2,'Table 7'!$A$26:$L$44,4,FALSE)","v":525},{"$f":"VLOOKUP($B$2,'Table 8'!$A$26:$L$44,4,FALSE)","v":560},{"$f":"VLOOKUP($B$2,'Table 9'!$A$26:$L$44,4,FALSE)","v":575},{"$f":"VLOOKUP($B$2,'Table 10'!$A$26:$L$44,4,FALSE)","v":575},{"$f":"VLOOKUP($B$2,'Table 11'!$A$26:$L$44,4,FALSE)","v":590},{"$f":"VLOOKUP($B$2,'Table 12'!$A$26:$L$44,4,FALSE)","v":575},{"$f":"VLOOKUP($B$2,'Table 13'!$A$26:$L$44,4,FALSE)","v":575},{"$f":"VLOOKUP($B$2,'Table 14'!$A$26:$L$44,4,FALSE)","v":612.5},{"$f":"J49/I49-1","v":6.5217391304347894E-2},{"$f":"J49/C49-1","v":0.16666666666666674},null,"Median",{"$f":"VLOOKUP($B$2,'Table 7'!$A$26:$L$44,10,FALSE)","v":790},{"$f":"VLOOKUP($B$2,'Table 8'!$A$26:$L$44,10,FALSE)","v":800},{"$f":"VLOOKUP($B$2,'Table 9'!$A$26:$L$44,10,FALSE)","v":825},{"$f":"VLOOKUP($B$2,'Table 10'!$A$26:$L$44,10,FALSE)","v":850},{"$f":"VLOOKUP($B$2,'Table 11'!$A$26:$L$44,10,FALSE)","v":850},{"$f":"VLOOKUP($B$2,'Table 12'!$A$26:$L$44,10,FALSE)","v":850},{"$f":"VLOOKUP($B$2,'Table 13'!$A$26:$L$44,10,FALSE)","v":875},{"$f":"VLOOKUP($B$2,'Table 14'!$A$26:$L$44,10,FALSE)","v":895},{"$f":"V49/U49-1","v":2.2857142857142909E-2},{"$f":"V49/O49-1","v":0.13291139240506333}]
[null,"Mean",{"$f":"VLOOKUP($B$2,'Table 7'!$A$26:$L$44,5,FALSE)","v":563.02},{"$f":"VLOOKUP($B$2,'Table 8'!$A$26:$L$44,5,FALSE)","v":588.67999999999995},{"$f":"VLOOKUP($B$2,'Table 9'!$A$26:$L$44,5,FALSE)","v":592.24},{"$f":"VLOOKUP($B$2,'Table 10'!$A$26:$L$44,5,FALSE)","v":600.47},{"$f":"VLOOKUP($B$2,'Table 11'!$A$26:$L$44,5,FALSE)","v":608.70000000000005},{"$f":"VLOOKUP($B$2,'Table 12'!$A$26:$L$44,5,FALSE)","v":602.28},{"$f":"VLOOKUP($B$2,'Table 13'!$A$26:$L$44,5,FALSE)","v":617},{"$f":"VLOOKUP($B$2,'Table 14'!$A$26:$L$44,5,FALSE)","v":656.95},6.4748784440842755E-2,0.16683243934496117,null,"Mean",{"$f":"VLOOKUP($B$2,'Table 7'!$A$26:$L$44,11,FALSE)","v":773.31},{"$f":"VLOOKUP($B$2,'Table 8'!$A$26:$L$44,11,FALSE)","v":823.76},{"$f":"VLOOKUP($B$2,'Table 9'!$A$26:$L$44,11,FALSE)","v":859.7},{"$f":"VLOOKUP($B$2,'Table 10'!$A$26:$L$44,11,FALSE)","v":884.28},{"$f":"VLOOKUP($B$2,'Table 11'!$A$26:$L$44,11,FALSE)","v":870.87},{"$f":"VLOOKUP($B$2,'Table 12'!$A$26:$L$44,11,FALSE)","v":884.35},{"$f":"VLOOKUP($B$2,'Table 13'!$A$26:$L$44,11,FALSE)","v":900.74},{"$f":"VLOOKUP($B$2,'Table 14'!$A$26:$L$44,11,FALSE)","v":917.22},1.8296067677687322E-2,0.18609613221088583]
[null,"Upper Quartile",{"$f":"VLOOKUP($B$2,'Table 7'!$A$26:$L$44,6,FALSE)","v":627.5},{"$f":"VLOOKUP($B$2,'Table 8'!$A$26:$L$44,6,FALSE)","v":650},{"$f":"VLOOKUP($B$2,'Table 9'!$A$26:$L$44,6,FALSE)","v":650},{"$f":"VLOOKUP($B$2,'Table 10'!$A$26:$L$44,6,FALSE)","v":675},{"$f":"VLOOKUP($B$2,'Table 11'!$A$26:$L$44,6,FALSE)","v":675},{"$f":"VLOOKUP($B$2,'Table 12'!$A$26:$L$44,6,FALSE)","v":680},{"$f":"VLOOKUP($B$2,'Table 13'!$A$26:$L$44,6,FALSE)","v":695},{"$f":"VLOOKUP($B$2,'Table 14'!$A$26:$L$44,6,FALSE)","v":750},7.9136690647481966E-2,0.19521912350597614,null,"Upper Quartile",{"$f":"VLOOKUP($B$2,'Table 7'!$A$26:$L$44,12,FALSE)","v":850},{"$f":"VLOOKUP($B$2,'Table 8'!$A$26:$L$44,12,FALSE)","v":895},{"$f":"VLOOKUP($B$2,'Table 9'!$A$26:$L$44,12,FALSE)","v":895},{"$f":"VLOOKUP($B$2,'Table 10'!$A$26:$L$44,12,FALSE)","v":925},{"$f":"VLOOKUP($B$2,'Table 11'!$A$26:$L$44,12,FALSE)","v":947.5},{"$f":"VLOOKUP($B$2,'Table 12'!$A$26:$L$44,12,FALSE)","v":950},{"$f":"VLOOKUP($B$2,'Table 13'!$A$26:$L$44,12,FALSE)","v":975},{"$f":"VLOOKUP($B$2,'Table 14'!$A$26:$L$44,12,FALSE)","v":995},2.051282051282044E-2,0.17058823529411771]
[]
[]
[]
[]
[]
[]
[]
[]
[]
[]
[]
[]
[]
[]
[]
[]
[null,"1 Bedroom Shared Properties - Quartile Measures, years to end Sept, (£ monthly):",null,null,null,null,null,null,null,null,null,null,null,"Sample Sizes:",null,null,null,null,null,null,null,null,null,null,null,"Sample Sizes:"]
[null,null,2010,2011,2012,2013,2014,2015,2016,2017,"2016 to 2017","2010 to 2017",null,null,null,null,2010,2011,2012,2013,2014,2015,2016,2017,null,null,2010,2011,2012,2013,2014,2015,2016,2017]
[null,"Lower Quartile",{"$f":"VLOOKUP($B$2,'Table 7'!$A$47:$F$65,3,FALSE)","v":238.33},{"$f":"VLOOKUP($B$2,'Table 8'!$A$47:$F$65,3,FALSE)","v":224},{"$f":"VLOOKUP($B$2,'Table 9'!$A$47:$F$65,3,FALSE)","v":251.33},{"$f":"VLOOKUP($B$2,'Table 10'!$A$47:$F$65,3,FALSE)","v":274},{"$f":"VLOOKUP($B$2,'Table 11'!$A$47:$F$65,3,FALSE)","v":275},{"$f":"VLOOKUP($B$2,'Table 12'!$A$47:$F$65,3,FALSE)","v":275},{"$f":"VLOOKUP($B$2,'Table 13'!$A$47:$F$65,3,FALSE)","v":290},{"$f":"VLOOKUP($B$2,'Table 14'!$A$47:$F$65,3,FALSE)","v":275},{"$f":"J70/I70-1","v":-5.1724137931034475E-2},{"$f":"J70/C70-1","v":0.15386229178030453},null,"1 Bedroom ",null,null,{"$f":"VLOOKUP($B$2,'Table 7'!$A$5:$L$23,2,FALSE)","v":202},{"$f":"VLOOKUP($B$2,'Table 8'!$A$5:$L$23,2,FALSE)","v":186},{"$f":"VLOOKUP($B$2,'Table 9'!$A$5:$L$23,2,FALSE)","v":227},{"$f":"VLOOKUP($B$2,'Table 10'!$A$5:$L$23,2,FALSE)","v":253},{"$f":"VLOOKUP($B$2,'Table 11'!$A$5:$L$23,2,FALSE)","v":180},{"$f":"VLOOKUP($B$2,'Table 12'!$A$5:$L$23,2,FALSE)","v":279},{"$f":"VLOOKUP($B$2,'Table 13'!$A$5:$L$23,2,FALSE)","v":322},{"$f":"VLOOKUP($B$2,'Table 14'!$A$5:$L$23,2,FALSE)","v":325},null,"1 Bedroom ",{"$f":"VLOOKUP($B$2,'Table 7'!$A$5:$L$23,2,FALSE)","v":202},{"$f":"VLOOKUP($B$2,'Table 8'!$A$5:$L$23,2,FALSE)","v":186},{"$f":"VLOOKUP($B$2,'Table 9'!$A$5:$L$23,2,FALSE)","v":227},{"$f":"VLOOKUP($B$2,'Table 10'!$A$5:$L$23,2,FALSE)","v":253},{"$f":"VLOOKUP($B$2,'Table 11'!$A$5:$L$23,2,FALSE)","v":180},{"$f":"VLOOKUP($B$2,'Table 12'!$A$5:$L$23,2,FALSE)","v":279},{"$f":"VLOOKUP($B$2,'Table 13'!$A$5:$L$23,2,FALSE)","v":322},{"$f":"VLOOKUP($B$2,'Table 14'!$A$5:$L$23,2,FALSE)","v":325}]
[null,"Median",{"$f":"VLOOKUP($B$2,'Table 7'!$A$47:$F$65,4,FALSE)","v":255.67},{"$f":"VLOOKUP($B$2,'Table 8'!$A$47:$F$65,4,FALSE)","v":250},{"$f":"VLOOKUP($B$2,'Table 9'!$A$47:$F$65,4,FALSE)","v":285},{"$f":"VLOOKUP($B$2,'Table 10'!$A$47:$F$65,4,FALSE)","v":303.33},{"$f":"VLOOKUP($B$2,'Table 11'!$A$47:$F$65,4,FALSE)","v":304.17},{"$f":"VLOOKUP($B$2,'Table 12'!$A$47:$F$65,4,FALSE)","v":316.07},{"$f":"VLOOKUP($B$2,'Table 13'!$A$47:$F$65,4,FALSE)","v":351.92},{"$f":"VLOOKUP($B$2,'Table 14'!$A$47:$F$65,4,FALSE)","v":348.04},{"$f":"J71/I71-1","v":-1.1025233007501689E-2},{"$f":"J71/C71-1","v":0.3612860327766263},null,"2 Bedrooms",null,null,{"$f":"VLOOKUP($B$2,'Table 7'!$A$5:$L$23,8,FALSE)","v":606},{"$f":"VLOOKUP($B$2,'Table 8'!$A$5:$L$23,8,FALSE)","v":503},{"$f":"VLOOKUP($B$2,'Table 9'!$A$5:$L$23,8,FALSE)","v":711},{"$f":"VLOOKUP($B$2,'Table 10'!$A$5:$L$23,8,FALSE)","v":738},{"$f":"VLOOKUP($B$2,'Table 11'!$A$5:$L$23,8,FALSE)","v":626},{"$f":"VLOOKUP($B$2,'Table 12'!$A$5:$L$23,8,FALSE)","v":812},{"$f":"VLOOKUP($B$2,'Table 13'!$A$5:$L$23,8,FALSE)","v":680},{"$f":"VLOOKUP($B$2,'Table 14'!$A$5:$L$23,8,FALSE)","v":611},null,"2 Bedrooms",{"$f":"VLOOKUP($B$2,'Table 7'!$A$5:$L$23,8,FALSE)","v":606},{"$f":"VLOOKUP($B$2,'Table 8'!$A$5:$L$23,8,FALSE)","v":503},{"$f":"VLOOKUP($B$2,'Table 9'!$A$5:$L$23,8,FALSE)","v":711},{"$f":"VLOOKUP($B$2,'Table 10'!$A$5:$L$23,8,FALSE)","v":738},{"$f":"VLOOKUP($B$2,'Table 11'!$A$5:$L$23,8,FALSE)","v":626},{"$f":"VLOOKUP($B$2,'Table 12'!$A$5:$L$23,8,FALSE)","v":812},{"$f":"VLOOKUP($B$2,'Table 13'!$A$5:$L$23,8,FALSE)","v":680},{"$f":"VLOOKUP($B$2,'Table 14'!$A$5:$L$23,8,FALSE)","v":611}]
[null,"Mean",{"$f":"VLOOKUP($B$2,'Table 7'!$A$47:$F$65,5,FALSE)","v":270.66000000000003},{"$f":"VLOOKUP($B$2,'Table 8'!$A$47:$F$65,5,FALSE)","v":253.94},{"$f":"VLOOKUP($B$2,'Table 9'!$A$47:$F$65,5,FALSE)","v":292.26},{"$f":"VLOOKUP($B$2,'Table 10'!$A$47:$F$65,5,FALSE)","v":312.87},{"$f":"VLOOKUP($B$2,'Table 11'!$A$47:$F$65,5,FALSE)","v":312.33},{"$f":"VLOOKUP($B$2,'Table 12'!$A$47:$F$65,5,FALSE)","v":320.61},{"$f":"VLOOKUP($B$2,'Table 13'!$A$47:$F$65,5,FALSE)","v":367.97},{"$f":"VLOOKUP($B$2,'Table 14'!$A$47:$F$65,5,FALSE)","v":347.5},-5.5629535016441634E-2,0.28389861819256623,null,"3 Bedrooms",null,null,{"$f":"VLOOKUP($B$2,'Table 7'!$A$26:$L$44,2,FALSE)","v":272},{"$f":"VLOOKUP($B$2,'Table 8'!$A$26:$L$44,2,FALSE)","v":282},{"$f":"VLOOKUP($B$2,'Table 9'!$A$26:$L$44,2,FALSE)","v":407},{"$f":"VLOOKUP($B$2,'Table 10'!$A$26:$L$44,2,FALSE)","v":381},{"$f":"VLOOKUP($B$2,'Table 11'!$A$26:$L$44,2,FALSE)","v":415},{"$f":"VLOOKUP($B$2,'Table 12'!$A$26:$L$44,2,FALSE)","v":455},{"$f":"VLOOKUP($B$2,'Table 13'!$A$26:$L$44,2,FALSE)","v":434},{"$f":"VLOOKUP($B$2,'Table 14'!$A$26:$L$44,2,FALSE)","v":348},null,"3 Bedrooms",{"$f":"VLOOKUP($B$2,'Table 7'!$A$26:$L$44,2,FALSE)","v":272},{"$f":"VLOOKUP($B$2,'Table 8'!$A$26:$L$44,2,FALSE)","v":282},{"$f":"VLOOKUP($B$2,'Table 9'!$A$26:$L$44,2,FALSE)","v":407},{"$f":"VLOOKUP($B$2,'Table 10'!$A$26:$L$44,2,FALSE)","v":381},{"$f":"VLOOKUP($B$2,'Table 11'!$A$26:$L$44,2,FALSE)","v":415},{"$f":"VLOOKUP($B$2,'Table 12'!$A$26:$L$44,2,FALSE)","v":455},{"$f":"VLOOKUP($B$2,'Table 13'!$A$26:$L$44,2,FALSE)","v":434},{"$f":"VLOOKUP($B$2,'Table 14'!$A$26:$L$44,2,FALSE)","v":348}]
[null,"Upper Quartile",{"$f":"VLOOKUP($B$2,'Table 7'!$A$47:$F$65,6,FALSE)","v":281.67},{"$f":"VLOOKUP($B$2,'Table 8'!$A$47:$F$65,6,FALSE)","v":275},{"$f":"VLOOKUP($B$2,'Table 9'!$A$47:$F$65,6,FALSE)","v":325},{"$f":"VLOOKUP($B$2,'Table 10'!$A$47:$F$65,6,FALSE)","v":336.5},{"$f":"VLOOKUP($B$2,'Table 11'!$A$47:$F$65,6,FALSE)","v":350},{"$f":"VLOOKUP($B$2,'Table 12'!$A$47:$F$65,6,FALSE)","v":355},{"$f":"VLOOKUP($B$2,'Table 13'!$A$47:$F$65,6,FALSE)","v":409.66},{"$f":"VLOOKUP($B$2,'Table 14'!$A$47:$F$65,6,FALSE)","v":379.52},-7.3573207049748679E-2,0.34739233855220641,null,"4 Bedrooms",null,null,{"$f":"VLOOKUP($B$2,'Table 7'!$A$26:$L$44,8,FALSE)","v":106},{"$f":"VLOOKUP($B$2,'Table 8'!$A$26:$L$44,8,FALSE)","v":120},{"$f":"VLOOKUP($B$2,'Table 9'!$A$26:$L$44,8,FALSE)","v":185},{"$f":"VLOOKUP($B$2,'Table 10'!$A$26:$L$44,8,FALSE)","v":138},{"$f":"VLOOKUP($B$2,'Table 11'!$A$26:$L$44,8,FALSE)","v":168},{"$f":"VLOOKUP($B$2,'Table 12'!$A$26:$L$44,8,FALSE)","v":167},{"$f":"VLOOKUP($B$2,'Table 13'!$A$26:$L$44,8,FALSE)","v":151},{"$f":"VLOOKUP($B$2,'Table 14'!$A$26:$L$44,8,FALSE)","v":125},null,"4 Bedrooms",{"$f":"VLOOKUP($B$2,'Table 7'!$A$26:$L$44,8,FALSE)","v":106},{"$f":"VLOOKUP($B$2,'Table 8'!$A$26:$L$44,8,FALSE)","v":120},{"$f":"VLOOKUP($B$2,'Table 9'!$A$26:$L$44,8,FALSE)","v":185},{"$f":"VLOOKUP($B$2,'Table 10'!$A$26:$L$44,8,FALSE)","v":138},{"$f":"VLOOKUP($B$2,'Table 11'!$A$26:$L$44,8,FALSE)","v":168},{"$f":"VLOOKUP($B$2,'Table 12'!$A$26:$L$44,8,FALSE)","v":167},{"$f":"VLOOKUP($B$2,'Table 13'!$A$26:$L$44,8,FALSE)","v":151},{"$f":"VLOOKUP($B$2,'Table 14'!$A$26:$L$44,8,FALSE)","v":125}]
[null,null,null,null,null,null,null,null,null,null,null,null,null,"1 Bedroom Shared",null,null,{"$f":"VLOOKUP($B$2,'Table 7'!$A$47:$L$65,2,FALSE)","v":49},{"$f":"VLOOKUP($B$2,'Table 8'!$A$47:$L$65,2,FALSE)","v":69},{"$f":"VLOOKUP($B$2,'Table 9'!$A$47:$L$65,2,FALSE)","v":109},{"$f":"VLOOKUP($B$2,'Table 10'!$A$47:$L$65,2,FALSE)","v":152},{"$f":"VLOOKUP($B$2,'Table 11'!$A$47:$L$65,2,FALSE)","v":146},{"$f":"VLOOKUP($B$2,'Table 12'!$A$47:$L$65,2,FALSE)","v":209},{"$f":"VLOOKUP($B$2,'Table 13'!$A$47:$L$65,2,FALSE)","v":162},{"$f":"VLOOKUP($B$2,'Table 14'!$A$47:$L$65,2,FALSE)","v":162},null,"1 Bedroom Shared",{"$f":"VLOOKUP($B$2,'Table 7'!$A$47:$L$65,2,FALSE)","v":49},{"$f":"VLOOKUP($B$2,'Table 8'!$A$47:$L$65,2,FALSE)","v":69},{"$f":"VLOOKUP($B$2,'Table 9'!$A$47:$L$65,2,FALSE)","v":109},{"$f":"VLOOKUP($B$2,'Table 10'!$A$47:$L$65,2,FALSE)","v":152},{"$f":"VLOOKUP($B$2,'Table 11'!$A$47:$L$65,2,FALSE)","v":146},{"$f":"VLOOKUP($B$2,'Table 12'!$A$47:$L$65,2,FALSE)","v":209},{"$f":"VLOOKUP($B$2,'Table 13'!$A$47:$L$65,2,FALSE)","v":162},{"$f":"VLOOKUP($B$2,'Table 14'!$A$47:$L$65,2,FALSE)","v":162}]
[]
[]
[]
[]
[]
[]
[]
[]
[]
[]
[]
[]
[]
[]
[]
[]
[]
[null,null,null,null,null,null,null,null,null,null,null,null,null,null,null,null,null,null,null,null,null,null,null,null,null,null,null,null,null,null,null,null,null,null,null,2010,2011,2012,2013,2014,2015,2016,2017]
[null,null,null,null,null,null,null,null,null,null,null,null,null,null,null,null,null,null,null,null,null,null,null,null,null,null,null,null,null,null,null,null,null,null,"Scotland",{"$f":"'All years 2 bed'!B22","v":536.27},{"$f":"'All years 2 bed'!C22","v":546.41999999999996},{"$f":"'All years 2 bed'!D22","v":552.89},{"$f":"'All years 2 bed'!E22","v":575.84},{"$f":"'All years 2 bed'!F22","v":596.45000000000005},{"$f":"'All years 2 bed'!G22","v":609.52},{"$f":"'All years 2 bed'!H22","v":615.64},{"$f":"'All years 2 bed'!I22","v":642.79999999999995}]
[null,null,null,null,null,null,null,null,null,null,null,null,null,null,null,null,null,null,null,null,null,null,null,null,null,null,null,null,null,null,null,null,null,null,{"$f":"B2","v":"Fife"},{"$f":"VLOOKUP($AI$94,'All years 2 bed'!$A$4:$I$21,2,FALSE)","v":463.99},{"$f":"VLOOKUP($AI$94,'All years 2 bed'!$A$4:$I$21,3,FALSE)","v":476.96},{"$f":"VLOOKUP($AI$94,'All years 2 bed'!$A$4:$I$21,4,FALSE)","v":481.34},{"$f":"VLOOKUP($AI$94,'All years 2 bed'!$A$4:$I$21,5,FALSE)","v":485.39},{"$f":"VLOOKUP($AI$94,'All years 2 bed'!$A$4:$I$21,6,FALSE)","v":509.51},{"$f":"VLOOKUP($AI$94,'All years 2 bed'!$A$4:$I$21,7,FALSE)","v":497.96},{"$f":"VLOOKUP($AI$94,'All years 2 bed'!$A$4:$I$21,8,FALSE)","v":510.77},{"$f":"VLOOKUP($AI$94,'All years 2 bed'!$A$4:$I$21,9,FALSE)","v":533.29}]

{"sheet":"Forth Valley","index":54,"n_rows":94,"n_cols":43,"rows_kept":94,"cut":false,"hidden":false,"merged":[[73,13,73,15],[1,1,1,3],[69,13,69,15],[70,13,70,15],[71,13,71,15],[72,13,72,15]]}
[null,"BRMA:"]
[null,"Forth Valley"]
[]
["Back to contents"]
[null,"Broad Rental Market Area Profile: Forth Valley"]
[]
[]
[]
[]
[]
[]
[]
[]
[]
[]
[]
[]
[]
[]
[]
[]
[]
[]
[null,"1 Bedroom Properties - Quartile Measures, years to end Sept, (£ monthly):",null,null,null,null,null,null,null,null,null,null,null,"2 Bedroom Properties - Quartile Measures, years to end Sept, (£ monthly):"]
[null,null,2010,2011,2012,2013,2014,2015,2016,2017,"2016 to 2017","2010 to 2017",null,null,2010,2011,2012,2013,2014,2015,2016,2017,"2016 to 2017","2010 to 2017"]
[null,"Lower Quartile",{"$f":"VLOOKUP($B$2,'Table 7'!$A$5:$L$23,3,FALSE)","v":350},{"$f":"VLOOKUP($B$2,'Table 8'!$A$5:$L$23,3,FALSE)","v":350},{"$f":"VLOOKUP($B$2,'Table 9'!$A$5:$L$23,3,FALSE)","v":350},{"$f":"VLOOKUP($B$2,'Table 10'!$A$5:$L$23,3,FALSE)","v":350},{"$f":"VLOOKUP($B$2,'Table 11'!$A$5:$L$23,3,FALSE)","v":350},{"$f":"VLOOKUP($B$2,'Table 12'!$A$5:$L$23,3,FALSE)","v":357.5},{"$f":"VLOOKUP($B$2,'Table 13'!$A$5:$L$23,3,FALSE)","v":355},{"$f":"VLOOKUP($B$2,'Table 14'!$A$5:$L$23,3,FALSE)","v":350},{"$f":"J26/I26-1","v":-1.4084507042253502E-2},{"$f":"J26/C26-1","v":0},null,"Lower Quartile",{"$f":"VLOOKUP($B$2,'Table 7'!$A$5:$L$23,9,FALSE)","v":435},{"$f":"VLOOKUP($B$2,'Table 8'!$A$5:$L$23,9,FALSE)","v":450},{"$f":"VLOOKUP($B$2,'Table 9'!$A$5:$L$23,9,FALSE)","v":450},{"$f":"VLOOKUP($B$2,'Table 10'!$A$5:$L$23,9,FALSE)","v":450},{"$f":"VLOOKUP($B$2,'Table 11'!$A$5:$L$23,9,FALSE)","v":435},{"$f":"VLOOKUP($B$2,'Table 12'!$A$5:$L$23,9,FALSE)","v":450},{"$f":"VLOOKUP($B$2,'Table 13'!$A$5:$L$23,9,FALSE)","v":450},{"$f":"VLOOKUP($B$2,'Table 14'!$A$5:$L$23,9,FALSE)","v":475},{"$f":"V26/U26-1","v":5.555555555555558E-2},{"$f":"V26/O26-1","v":9.1954022988505857E-2}]
[null,"Median",{"$f":"VLOOKUP($B$2,'Table 7'!$A$5:$L$23,4,FALSE)","v":375},{"$f":"VLOOKUP($B$2,'Table 8'!$A$5:$L$23,4,FALSE)","v":385},{"$f":"VLOOKUP($B$2,'Table 9'!$A$5:$L$23,4,FALSE)","v":395},{"$f":"VLOOKUP($B$2,'Table 10'!$A$5:$L$23,4,FALSE)","v":390},{"$f":"VLOOKUP($B$2,'Table 11'!$A$5:$L$23,4,FALSE)","v":392.5},{"$f":"VLOOKUP($B$2,'Table 12'!$A$5:$L$23,4,FALSE)","v":380},{"$f":"VLOOKUP($B$2,'Table 13'!$A$5:$L$23,4,FALSE)","v":395},{"$f":"VLOOKUP($B$2,'Table 14'!$A$5:$L$23,4,FALSE)","v":395},{"$f":"J27/I27-1","v":0},{"$f":"J27/C27-1","v":5.3333333333333233E-2},null,"Median",{"$f":"VLOOKUP($B$2,'Table 7'!$A$5:$L$23,10,FALSE)","v":482.5},{"$f":"VLOOKUP($B$2,'Table 8'!$A$5:$L$23,10,FALSE)","v":495},{"$f":"VLOOKUP($B$2,'Table 9'!$A$5:$L$23,10,FALSE)","v":500},{"$f":"VLOOKUP($B$2,'Table 10'!$A$5:$L$23,10,FALSE)","v":495},{"$f":"VLOOKUP($B$2,'Table 11'!$A$5:$L$23,10,FALSE)","v":495},{"$f":"VLOOKUP($B$2,'Table 12'!$A$5:$L$23,10,FALSE)","v":495},{"$f":"VLOOKUP($B$2,'Table 13'!$A$5:$L$23,10,FALSE)","v":510},{"$f":"VLOOKUP($B$2,'Table 14'!$A$5:$L$23,10,FALSE)","v":550},{"$f":"V27/U27-1","v":7.8431372549019551E-2},{"$f":"V27/O27-1","v":0.13989637305699487}]
[null,"Mean",{"$f":"VLOOKUP($B$2,'Table 7'!$A$5:$L$23,5,FALSE)","v":386.8},{"$f":"VLOOKUP($B$2,'Table 8'!$A$5:$L$23,5,FALSE)","v":384.61},{"$f":"VLOOKUP($B$2,'Table 9'!$A$5:$L$23,5,FALSE)","v":392.76},{"$f":"VLOOKUP($B$2,'Table 10'!$A$5:$L$23,5,FALSE)","v":388.84},{"$f":"VLOOKUP($B$2,'Table 11'!$A$5:$L$23,5,FALSE)","v":387.39},{"$f":"VLOOKUP($B$2,'Table 12'!$A$5:$L$23,5,FALSE)","v":396.32},{"$f":"VLOOKUP($B$2,'Table 13'!$A$5:$L$23,5,FALSE)","v":407.52},{"$f":"VLOOKUP($B$2,'Table 14'!$A$5:$L$23,5,FALSE)","v":414.77},1.7790537887711011E-2,7.2311271975180835E-2,null,"Mean",{"$f":"VLOOKUP($B$2,'Table 7'!$A$5:$L$23,11,FALSE)","v":492.41},{"$f":"VLOOKUP($B$2,'Table 8'!$A$5:$L$23,11,FALSE)","v":506.53},{"$f":"VLOOKUP($B$2,'Table 9'!$A$5:$L$23,11,FALSE)","v":510.32},{"$f":"VLOOKUP($B$2,'Table 10'!$A$5:$L$23,11,FALSE)","v":505.6},{"$f":"VLOOKUP($B$2,'Table 11'!$A$5:$L$23,11,FALSE)","v":506.37},{"$f":"VLOOKUP($B$2,'Table 12'!$A$5:$L$23,11,FALSE)","v":508.44},{"$f":"VLOOKUP($B$2,'Table 13'!$A$5:$L$23,11,FALSE)","v":529.72},{"$f":"VLOOKUP($B$2,'Table 14'!$A$5:$L$23,11,FALSE)","v":562.54999999999995},6.1976138337234588E-2,0.14244227371499352]
[null,"Upper Quartile",{"$f":"VLOOKUP($B$2,'Table 7'!$A$5:$L$23,6,FALSE)","v":417.5},{"$f":"VLOOKUP($B$2,'Table 8'!$A$5:$L$23,6,FALSE)","v":400},{"$f":"VLOOKUP($B$2,'Table 9'!$A$5:$L$23,6,FALSE)","v":425},{"$f":"VLOOKUP($B$2,'Table 10'!$A$5:$L$23,6,FALSE)","v":425},{"$f":"VLOOKUP($B$2,'Table 11'!$A$5:$L$23,6,FALSE)","v":425},{"$f":"VLOOKUP($B$2,'Table 12'!$A$5:$L$23,6,FALSE)","v":425},{"$f":"VLOOKUP($B$2,'Table 13'!$A$5:$L$23,6,FALSE)","v":450},{"$f":"VLOOKUP($B$2,'Table 14'!$A$5:$L$23,6,FALSE)","v":450},0,7.7844311377245567E-2,null,"Upper Quartile",{"$f":"VLOOKUP($B$2,'Table 7'!$A$5:$L$23,12,FALSE)","v":550},{"$f":"VLOOKUP($B$2,'Table 8'!$A$5:$L$23,12,FALSE)","v":550},{"$f":"VLOOKUP($B$2,'Table 9'!$A$5:$L$23,12,FALSE)","v":550},{"$f":"VLOOKUP($B$2,'Table 10'!$A$5:$L$23,12,FALSE)","v":550},{"$f":"VLOOKUP($B$2,'Table 11'!$A$5:$L$23,12,FALSE)","v":550},{"$f":"VLOOKUP($B$2,'Table 12'!$A$5:$L$23,12,FALSE)","v":550},{"$f":"VLOOKUP($B$2,'Table 13'!$A$5:$L$23,12,FALSE)","v":595},{"$f":"VLOOKUP($B$2,'Table 14'!$A$5:$L$23,12,FALSE)","v":625},5.0420168067226934E-2,0.13636363636363646]
[]
[]
[]
[]
[]
[]
[]
[]
[]
[]
[]
[]
[]
[]
[]
[]
[null,"3 Bedroom Properties - Quartile Measures, years to end Sept, (£ monthly):",null,null,null,null,null,null,null,null,null,null,null,"4 Bedroom Properties - Quartile Measures, years to end Sept, (£ monthly):"]
[null,null,2010,2011,2012,2013,2014,2015,2016,2017,"2016 to 2017","2010 to 2017",null,null,2010,2011,2012,2013,2014,2015,2016,2017,"2016 to 2017","2010 to 2017"]
[null,"Lower Quartile",{"$f":"VLOOKUP($B$2,'Table 7'!$A$26:$L$44,3,FALSE)","v":525},{"$f":"VLOOKUP($B$2,'Table 8'!$A$26:$L$44,3,FALSE)","v":545},{"$f":"VLOOKUP($B$2,'Table 9'!$A$26:$L$44,3,FALSE)","v":545},{"$f":"VLOOKUP($B$2,'Table 10'!$A$26:$L$44,3,FALSE)","v":550},{"$f":"VLOOKUP($B$2,'Table 11'!$A$26:$L$44,3,FALSE)","v":525},{"$f":"VLOOKUP($B$2,'Table 12'!$A$26:$L$44,3,FALSE)","v":525},{"$f":"VLOOKUP($B$2,'Table 13'!$A$26:$L$44,3,FALSE)","v":545},{"$f":"VLOOKUP($B$2,'Table 14'!$A$26:$L$44,3,FALSE)","v":595},{"$f":"J48/I48-1","v":9.174311926605494E-2},{"$f":"J48/C48-1","v":0.1333333333333333},null,"Lower Quartile",{"$f":"VLOOKUP($B$2,'Table 7'!$A$26:$L$44,9,FALSE)","v":750},{"$f":"VLOOKUP($B$2,'Table 8'!$A$26:$L$44,9,FALSE)","v":732.5},{"$f":"VLOOKUP($B$2,'Table 9'!$A$26:$L$44,9,FALSE)","v":750},{"$f":"VLOOKUP($B$2,'Table 10'!$A$26:$L$44,9,FALSE)","v":775},{"$f":"VLOOKUP($B$2,'Table 11'!$A$26:$L$44,9,FALSE)","v":775},{"$f":"VLOOKUP($B$2,'Table 12'!$A$26:$L$44,9,FALSE)","v":795},{"$f":"VLOOKUP($B$2,'Table 13'!$A$26:$L$44,9,FALSE)","v":800},{"$f":"VLOOKUP($B$2,'Table 14'!$A$26:$L$44,9,FALSE)","v":875},{"$f":"V48/U48-1","v":9.375E-2},{"$f":"V48/O48-1","v":0.16666666666666674}]
[null,"Median",{"$f":"VLOOKUP($B$2,'Table 7'!$A$26:$L$44,4,FALSE)","v":600},{"$f":"VLOOKUP($B$2,'Table 8'!$A$26:$L$44,4,FALSE)","v":600},{"$f":"VLOOKUP($B$2,'Table 9'!$A$26:$L$44,4,FALSE)","v":625},{"$f":"VLOOKUP($B$2,'Table 10'!$A$26:$L$44,4,FALSE)","v":600},{"$f":"VLOOKUP($B$2,'Table 11'!$A$26:$L$44,4,FALSE)","v":595},{"$f":"VLOOKUP($B$2,'Table 12'!$A$26:$L$44,4,FALSE)","v":600},{"$f":"VLOOKUP($B$2,'Table 13'!$A$26:$L$44,4,FALSE)","v":650},{"$f":"VLOOKUP($B$2,'Table 14'!$A$26:$L$44,4,FALSE)","v":695},{"$f":"J49/I49-1","v":6.9230769230769207E-2},{"$f":"J49/C49-1","v":0.15833333333333344},null,"Median",{"$f":"VLOOKUP($B$2,'Table 7'!$A$26:$L$44,10,FALSE)","v":800},{"$f":"VLOOKUP($B$2,'Table 8'!$A$26:$L$44,10,FALSE)","v":800},{"$f":"VLOOKUP($B$2,'Table 9'!$A$26:$L$44,10,FALSE)","v":850},{"$f":"VLOOKUP($B$2,'Table 10'!$A$26:$L$44,10,FALSE)","v":850},{"$f":"VLOOKUP($B$2,'Table 11'!$A$26:$L$44,10,FALSE)","v":850},{"$f":"VLOOKUP($B$2,'Table 12'!$A$26:$L$44,10,FALSE)","v":850},{"$f":"VLOOKUP($B$2,'Table 13'!$A$26:$L$44,10,FALSE)","v":950},{"$f":"VLOOKUP($B$2,'Table 14'!$A$26:$L$44,10,FALSE)","v":995},{"$f":"V49/U49-1","v":4.7368421052631504E-2},{"$f":"V49/O49-1","v":0.24374999999999991}]
[null,"Mean",{"$f":"VLOOKUP($B$2,'Table 7'!$A$26:$L$44,5,FALSE)","v":642.74},{"$f":"VLOOKUP($B$2,'Table 8'!$A$26:$L$44,5,FALSE)","v":626.70000000000005},{"$f":"VLOOKUP($B$2,'Table 9'!$A$26:$L$44,5,FALSE)","v":647.5},{"$f":"VLOOKUP($B$2,'Table 10'!$A$26:$L$44,5,FALSE)","v":637.34},{"$f":"VLOOKUP($B$2,'Table 11'!$A$26:$L$44,5,FALSE)","v":637.21},{"$f":"VLOOKUP($B$2,'Table 12'!$A$26:$L$44,5,FALSE)","v":633.64},{"$f":"VLOOKUP($B$2,'Table 13'!$A$26:$L$44,5,FALSE)","v":677.94},{"$f":"VLOOKUP($B$2,'Table 14'!$A$26:$L$44,5,FALSE)","v":752.01},0.10925745641207185,0.17000653452406889,null,"Mean",{"$f":"VLOOKUP($B$2,'Table 7'!$A$26:$L$44,11,FALSE)","v":857.08},{"$f":"VLOOKUP($B$2,'Table 8'!$A$26:$L$44,11,FALSE)","v":858.02},{"$f":"VLOOKUP($B$2,'Table 9'!$A$26:$L$44,11,FALSE)","v":883.77},{"$f":"VLOOKUP($B$2,'Table 10'!$A$26:$L$44,11,FALSE)","v":891.69},{"$f":"VLOOKUP($B$2,'Table 11'!$A$26:$L$44,11,FALSE)","v":878.77},{"$f":"VLOOKUP($B$2,'Table 12'!$A$26:$L$44,11,FALSE)","v":905.72},{"$f":"VLOOKUP($B$2,'Table 13'!$A$26:$L$44,11,FALSE)","v":1051.92},{"$f":"VLOOKUP($B$2,'Table 14'!$A$26:$L$44,11,FALSE)","v":1094.93},4.0887139706441644E-2,0.27751201754795352]
[null,"Upper Quartile",{"$f":"VLOOKUP($B$2,'Table 7'!$A$26:$L$44,6,FALSE)","v":700},{"$f":"VLOOKUP($B$2,'Table 8'!$A$26:$L$44,6,FALSE)","v":695},{"$f":"VLOOKUP($B$2,'Table 9'!$A$26:$L$44,6,FALSE)","v":725},{"$f":"VLOOKUP($B$2,'Table 10'!$A$26:$L$44,6,FALSE)","v":695},{"$f":"VLOOKUP($B$2,'Table 11'!$A$26:$L$44,6,FALSE)","v":750},{"$f":"VLOOKUP($B$2,'Table 12'!$A$26:$L$44,6,FALSE)","v":695},{"$f":"VLOOKUP($B$2,'Table 13'!$A$26:$L$44,6,FALSE)","v":750},{"$f":"VLOOKUP($B$2,'Table 14'!$A$26:$L$44,6,FALSE)","v":850},0.1333333333333333,0.21428571428571419,null,"Upper Quartile",{"$f":"VLOOKUP($B$2,'Table 7'!$A$26:$L$44,12,FALSE)","v":900},{"$f":"VLOOKUP($B$2,'Table 8'!$A$26:$L$44,12,FALSE)","v":900},{"$f":"VLOOKUP($B$2,'Table 9'!$A$26:$L$44,12,FALSE)","v":950},{"$f":"VLOOKUP($B$2,'Table 10'!$A$26:$L$44,12,FALSE)","v":975},{"$f":"VLOOKUP($B$2,'Table 11'!$A$26:$L$44,12,FALSE)","v":900},{"$f":"VLOOKUP($B$2,'Table 12'!$A$26:$L$44,12,FALSE)","v":1000},{"$f":"VLOOKUP($B$2,'Table 13'!$A$26:$L$44,12,FALSE)","v":1200},{"$f":"VLOOKUP($B$2,'Table 14'!$A$26:$L$44,12,FALSE)","v":1295},7.9166666666666607E-2,0.43888888888888888]
[]
[]
[]
[]
[]
[]
[]
[]
[]
[]
[]
[]
[]
[]
[]
[]
[null,"1 Bedroom Shared Properties - Quartile Measures, years to end Sept, (£ monthly):",null,null,null,null,null,null,null,null,null,null,null,"Sample Sizes:",null,null,null,null,null,null,null,null,null,null,null,"Sample Sizes:"]
[null,null,2010,2011,2012,2013,2014,2015,2016,2017,"2016 to 2017","2010 to 2017",null,null,null,null,2010,2011,2012,2013,2014,2015,2016,2017,null,null,2010,2011,2012,2013,2014,2015,2016,2017]
[null,"Lower Quartile",{"$f":"VLOOKUP($B$2,'Table 7'!$A$47:$F$65,3,FALSE)","v":255},{"$f":"VLOOKUP($B$2,'Table 8'!$A$47:$F$65,3,FALSE)","v":250},{"$f":"VLOOKUP($B$2,'Table 9'!$A$47:$F$65,3,FALSE)","v":250},{"$f":"VLOOKUP($B$2,'Table 10'!$A$47:$F$65,3,FALSE)","v":260},{"$f":"VLOOKUP($B$2,'Table 11'!$A$47:$F$65,3,FALSE)","v":270.17},{"$f":"VLOOKUP($B$2,'Table 12'!$A$47:$F$65,3,FALSE)","v":272.62},{"$f":"VLOOKUP($B$2,'Table 13'!$A$47:$F$65,3,FALSE)","v":294.35000000000002},{"$f":"VLOOKUP($B$2,'Table 14'!$A$47:$F$65,3,FALSE)","v":300},{"$f":"J70/I70-1","v":1.9194836079497124E-2},{"$f":"J70/C70-1","v":0.17647058823529416},null,"1 Bedroom ",null,null,{"$f":"VLOOKUP($B$2,'Table 7'!$A$5:$L$23,2,FALSE)","v":260},{"$f":"VLOOKUP($B$2,'Table 8'!$A$5:$L$23,2,FALSE)","v":208},{"$f":"VLOOKUP($B$2,'Table 9'!$A$5:$L$23,2,FALSE)","v":217},{"$f":"VLOOKUP($B$2,'Table 10'!$A$5:$L$23,2,FALSE)","v":219},{"$f":"VLOOKUP($B$2,'Table 11'!$A$5:$L$23,2,FALSE)","v":218},{"$f":"VLOOKUP($B$2,'Table 12'!$A$5:$L$23,2,FALSE)","v":300},{"$f":"VLOOKUP($B$2,'Table 13'!$A$5:$L$23,2,FALSE)","v":350},{"$f":"VLOOKUP($B$2,'Table 14'!$A$5:$L$23,2,FALSE)","v":321},null,"1 Bedroom ",{"$f":"VLOOKUP($B$2,'Table 7'!$A$5:$L$23,2,FALSE)","v":260},{"$f":"VLOOKUP($B$2,'Table 8'!$A$5:$L$23,2,FALSE)","v":208},{"$f":"VLOOKUP($B$2,'Table 9'!$A$5:$L$23,2,FALSE)","v":217},{"$f":"VLOOKUP($B$2,'Table 10'!$A$5:$L$23,2,FALSE)","v":219},{"$f":"VLOOKUP($B$2,'Table 11'!$A$5:$L$23,2,FALSE)","v":218},{"$f":"VLOOKUP($B$2,'Table 12'!$A$5:$L$23,2,FALSE)","v":300},{"$f":"VLOOKUP($B$2,'Table 13'!$A$5:$L$23,2,FALSE)","v":350},{"$f":"VLOOKUP($B$2,'Table 14'!$A$5:$L$23,2,FALSE)","v":321}]
[null,"Median",{"$f":"VLOOKUP($B$2,'Table 7'!$A$47:$F$65,4,FALSE)","v":285},{"$f":"VLOOKUP($B$2,'Table 8'!$A$47:$F$65,4,FALSE)","v":275},{"$f":"VLOOKUP($B$2,'Table 9'!$A$47:$F$65,4,FALSE)","v":275},{"$f":"VLOOKUP($B$2,'Table 10'!$A$47:$F$65,4,FALSE)","v":275},{"$f":"VLOOKUP($B$2,'Table 11'!$A$47:$F$65,4,FALSE)","v":305},{"$f":"VLOOKUP($B$2,'Table 12'!$A$47:$F$65,4,FALSE)","v":300},{"$f":"VLOOKUP($B$2,'Table 13'!$A$47:$F$65,4,FALSE)","v":333},{"$f":"VLOOKUP($B$2,'Table 14'!$A$47:$F$65,4,FALSE)","v":340},{"$f":"J71/I71-1","v":2.1021021021021102E-2},{"$f":"J71/C71-1","v":0.19298245614035081},null,"2 Bedrooms",null,null,{"$f":"VLOOKUP($B$2,'Table 7'!$A$5:$L$23,8,FALSE)","v":660},{"$f":"VLOOKUP($B$2,'Table 8'!$A$5:$L$23,8,FALSE)","v":576},{"$f":"VLOOKUP($B$2,'Table 9'!$A$5:$L$23,8,FALSE)","v":581},{"$f":"VLOOKUP($B$2,'Table 10'!$A$5:$L$23,8,FALSE)","v":582},{"$f":"VLOOKUP($B$2,'Table 11'!$A$5:$L$23,8,FALSE)","v":540},{"$f":"VLOOKUP($B$2,'Table 12'!$A$5:$L$23,8,FALSE)","v":739},{"$f":"VLOOKUP($B$2,'Table 13'!$A$5:$L$23,8,FALSE)","v":709},{"$f":"VLOOKUP($B$2,'Table 14'!$A$5:$L$23,8,FALSE)","v":491},null,"2 Bedrooms",{"$f":"VLOOKUP($B$2,'Table 7'!$A$5:$L$23,8,FALSE)","v":660},{"$f":"VLOOKUP($B$2,'Table 8'!$A$5:$L$23,8,FALSE)","v":576},{"$f":"VLOOKUP($B$2,'Table 9'!$A$5:$L$23,8,FALSE)","v":581},{"$f":"VLOOKUP($B$2,'Table 10'!$A$5:$L$23,8,FALSE)","v":582},{"$f":"VLOOKUP($B$2,'Table 11'!$A$5:$L$23,8,FALSE)","v":540},{"$f":"VLOOKUP($B$2,'Table 12'!$A$5:$L$23,8,FALSE)","v":739},{"$f":"VLOOKUP($B$2,'Table 13'!$A$5:$L$23,8,FALSE)","v":709},{"$f":"VLOOKUP($B$2,'Table 14'!$A$5:$L$23,8,FALSE)","v":491}]
[null,"Mean",{"$f":"VLOOKUP($B$2,'Table 7'!$A$47:$F$65,5,FALSE)","v":275.63},{"$f":"VLOOKUP($B$2,'Table 8'!$A$47:$F$65,5,FALSE)","v":278.14},{"$f":"VLOOKUP($B$2,'Table 9'!$A$47:$F$65,5,FALSE)","v":273.16000000000003},{"$f":"VLOOKUP($B$2,'Table 10'!$A$47:$F$65,5,FALSE)","v":284.89},{"$f":"VLOOKUP($B$2,'Table 11'!$A$47:$F$65,5,FALSE)","v":308.49},{"$f":"VLOOKUP($B$2,'Table 12'!$A$47:$F$65,5,FALSE)","v":307.52},{"$f":"VLOOKUP($B$2,'Table 13'!$A$47:$F$65,5,FALSE)","v":350.9},{"$f":"VLOOKUP($B$2,'Table 14'!$A$47:$F$65,5,FALSE)","v":357.06},1.7554858934169415E-2,0.29543228240757546,null,"3 Bedrooms",null,null,{"$f":"VLOOKUP($B$2,'Table 7'!$A$26:$L$44,2,FALSE)","v":301},{"$f":"VLOOKUP($B$2,'Table 8'!$A$26:$L$44,2,FALSE)","v":241},{"$f":"VLOOKUP($B$2,'Table 9'!$A$26:$L$44,2,FALSE)","v":194},{"$f":"VLOOKUP($B$2,'Table 10'!$A$26:$L$44,2,FALSE)","v":199},{"$f":"VLOOKUP($B$2,'Table 11'!$A$26:$L$44,2,FALSE)","v":176},{"$f":"VLOOKUP($B$2,'Table 12'!$A$26:$L$44,2,FALSE)","v":236},{"$f":"VLOOKUP($B$2,'Table 13'!$A$26:$L$44,2,FALSE)","v":286},{"$f":"VLOOKUP($B$2,'Table 14'!$A$26:$L$44,2,FALSE)","v":244},null,"3 Bedrooms",{"$f":"VLOOKUP($B$2,'Table 7'!$A$26:$L$44,2,FALSE)","v":301},{"$f":"VLOOKUP($B$2,'Table 8'!$A$26:$L$44,2,FALSE)","v":241},{"$f":"VLOOKUP($B$2,'Table 9'!$A$26:$L$44,2,FALSE)","v":194},{"$f":"VLOOKUP($B$2,'Table 10'!$A$26:$L$44,2,FALSE)","v":199},{"$f":"VLOOKUP($B$2,'Table 11'!$A$26:$L$44,2,FALSE)","v":176},{"$f":"VLOOKUP($B$2,'Table 12'!$A$26:$L$44,2,FALSE)","v":236},{"$f":"VLOOKUP($B$2,'Table 13'!$A$26:$L$44,2,FALSE)","v":286},{"$f":"VLOOKUP($B$2,'Table 14'!$A$26:$L$44,2,FALSE)","v":244}]
[null,"Upper Quartile",{"$f":"VLOOKUP($B$2,'Table 7'!$A$47:$F$65,6,FALSE)","v":300},{"$f":"VLOOKUP($B$2,'Table 8'!$A$47:$F$65,6,FALSE)","v":297.5},{"$f":"VLOOKUP($B$2,'Table 9'!$A$47:$F$65,6,FALSE)","v":300},{"$f":"VLOOKUP($B$2,'Table 10'!$A$47:$F$65,6,FALSE)","v":315.47000000000003},{"$f":"VLOOKUP($B$2,'Table 11'!$A$47:$F$65,6,FALSE)","v":354.17},{"$f":"VLOOKUP($B$2,'Table 12'!$A$47:$F$65,6,FALSE)","v":350},{"$f":"VLOOKUP($B$2,'Table 13'!$A$47:$F$65,6,FALSE)","v":375},{"$f":"VLOOKUP($B$2,'Table 14'!$A$47:$F$65,6,FALSE)","v":385},2.6666666666666616E-2,0.28333333333333344,null,"4 Bedrooms",null,null,{"$f":"VLOOKUP($B$2,'Table 7'!$A$26:$L$44,8,FALSE)","v":130},{"$f":"VLOOKUP($B$2,'Table 8'!$A$26:$L$44,8,FALSE)","v":144},{"$f":"VLOOKUP($B$2,'Table 9'!$A$26:$L$44,8,FALSE)","v":114},{"$f":"VLOOKUP($B$2,'Table 10'!$A$26:$L$44,8,FALSE)","v":71},{"$f":"VLOOKUP($B$2,'Table 11'!$A$26:$L$44,8,FALSE)","v":73},{"$f":"VLOOKUP($B$2,'Table 12'!$A$26:$L$44,8,FALSE)","v":83},{"$f":"VLOOKUP($B$2,'Table 13'!$A$26:$L$44,8,FALSE)","v":100},{"$f":"VLOOKUP($B$2,'Table 14'!$A$26:$L$44,8,FALSE)","v":75},null,"4 Bedrooms",{"$f":"VLOOKUP($B$2,'Table 7'!$A$26:$L$44,8,FALSE)","v":130},{"$f":"VLOOKUP($B$2,'Table 8'!$A$26:$L$44,8,FALSE)","v":144},{"$f":"VLOOKUP($B$2,'Table 9'!$A$26:$L$44,8,FALSE)","v":114},{"$f":"VLOOKUP($B$2,'Table 10'!$A$26:$L$44,8,FALSE)","v":71},{"$f":"VLOOKUP($B$2,'Table 11'!$A$26:$L$44,8,FALSE)","v":73},{"$f":"VLOOKUP($B$2,'Table 12'!$A$26:$L$44,8,FALSE)","v":83},{"$f":"VLOOKUP($B$2,'Table 13'!$A$26:$L$44,8,FALSE)","v":100},{"$f":"VLOOKUP($B$2,'Table 14'!$A$26:$L$44,8,FALSE)","v":75}]
[null,null,null,null,null,null,null,null,null,null,null,null,null,"1 Bedroom Shared",null,null,{"$f":"VLOOKUP($B$2,'Table 7'!$A$47:$L$65,2,FALSE)","v":37},{"$f":"VLOOKUP($B$2,'Table 8'!$A$47:$L$65,2,FALSE)","v":56},{"$f":"VLOOKUP($B$2,'Table 9'!$A$47:$L$65,2,FALSE)","v":67},{"$f":"VLOOKUP($B$2,'Table 10'!$A$47:$L$65,2,FALSE)","v":85},{"$f":"VLOOKUP($B$2,'Table 11'!$A$47:$L$65,2,FALSE)","v":108},{"$f":"VLOOKUP($B$2,'Table 12'!$A$47:$L$65,2,FALSE)","v":135},{"$f":"VLOOKUP($B$2,'Table 13'!$A$47:$L$65,2,FALSE)","v":105},{"$f":"VLOOKUP($B$2,'Table 14'!$A$47:$L$65,2,FALSE)","v":137},null,"1 Bedroom Shared",{"$f":"VLOOKUP($B$2,'Table 7'!$A$47:$L$65,2,FALSE)","v":37},{"$f":"VLOOKUP($B$2,'Table 8'!$A$47:$L$65,2,FALSE)","v":56},{"$f":"VLOOKUP($B$2,'Table 9'!$A$47:$L$65,2,FALSE)","v":67},{"$f":"VLOOKUP($B$2,'Table 10'!$A$47:$L$65,2,FALSE)","v":85},{"$f":"VLOOKUP($B$2,'Table 11'!$A$47:$L$65,2,FALSE)","v":108},{"$f":"VLOOKUP($B$2,'Table 12'!$A$47:$L$65,2,FALSE)","v":135},{"$f":"VLOOKUP($B$2,'Table 13'!$A$47:$L$65,2,FALSE)","v":105},{"$f":"VLOOKUP($B$2,'Table 14'!$A$47:$L$65,2,FALSE)","v":137}]
[]
[]
[]
[]
[]
[]
[]
[]
[]
[]
[]
[]
[]
[]
[]
[]
[]
[null,null,null,null,null,null,null,null,null,null,null,null,null,null,null,null,null,null,null,null,null,null,null,null,null,null,null,null,null,null,null,null,null,null,null,2010,2011,2012,2013,2014,2015,2016,2017]
[null,null,null,null,null,null,null,null,null,null,null,null,null,null,null,null,null,null,null,null,null,null,null,null,null,null,null,null,null,null,null,null,null,null,"Scotland",{"$f":"'All years 2 bed'!B22","v":536.27},{"$f":"'All years 2 bed'!C22","v":546.41999999999996},{"$f":"'All years 2 bed'!D22","v":552.89},{"$f":"'All years 2 bed'!E22","v":575.84},{"$f":"'All years 2 bed'!F22","v":596.45000000000005},{"$f":"'All years 2 bed'!G22","v":609.52},{"$f":"'All years 2 bed'!H22","v":615.64},{"$f":"'All years 2 bed'!I22","v":642.79999999999995}]
[null,null,null,null,null,null,null,null,null,null,null,null,null,null,null,null,null,null,null,null,null,null,null,null,null,null,null,null,null,null,null,null,null,null,{"$f":"B2","v":"Forth Valley"},{"$f":"VLOOKUP($AI$94,'All years 2 bed'!$A$4:$I$21,2,FALSE)","v":492.41},{"$f":"VLOOKUP($AI$94,'All years 2 bed'!$A$4:$I$21,3,FALSE)","v":506.53},{"$f":"VLOOKUP($AI$94,'All years 2 bed'!$A$4:$I$21,4,FALSE)","v":510.32},{"$f":"VLOOKUP($AI$94,'All years 2 bed'!$A$4:$I$21,5,FALSE)","v":505.6},{"$f":"VLOOKUP($AI$94,'All years 2 bed'!$A$4:$I$21,6,FALSE)","v":506.37},{"$f":"VLOOKUP($AI$94,'All years 2 bed'!$A$4:$I$21,7,FALSE)","v":508.44},{"$f":"VLOOKUP($AI$94,'All years 2 bed'!$A$4:$I$21,8,FALSE)","v":529.72},{"$f":"VLOOKUP($AI$94,'All years 2 bed'!$A$4:$I$21,9,FALSE)","v":562.54999999999995}]

{"sheet":"Greater Glasgow","index":55,"n_rows":94,"n_cols":43,"rows_kept":94,"cut":false,"hidden":false,"merged":[[73,13,73,15],[1,1,1,3],[69,13,69,15],[70,13,70,15],[71,13,71,15],[72,13,72,15]]}
[null,"BRMA:"]
[null,"Greater Glasgow"]
[]
["Back to contents"]
[null,"Broad Rental Market Area Profile: Greater Glasgow"]
[]
[]
[]
[]
[]
[]
[]
[]
[]
[]
[]
[]
[]
[]
[]
[]
[]
[]
[null,"1 Bedroom Properties - Quartile Measures, years to end Sept, (£ monthly):",null,null,null,null,null,null,null,null,null,null,null,"2 Bedroom Properties - Quartile Measures, years to end Sept, (£ monthly):"]
[null,null,2010,2011,2012,2013,2014,2015,2016,2017,"2016 to 2017","2010 to 2017",null,null,2010,2011,2012,2013,2014,2015,2016,2017,"2016 to 2017","2010 to 2017"]
[null,"Lower Quartile",{"$f":"VLOOKUP($B$2,'Table 7'!$A$5:$L$23,3,FALSE)","v":380},{"$f":"VLOOKUP($B$2,'Table 8'!$A$5:$L$23,3,FALSE)","v":395},{"$f":"VLOOKUP($B$2,'Table 9'!$A$5:$L$23,3,FALSE)","v":375},{"$f":"VLOOKUP($B$2,'Table 10'!$A$5:$L$23,3,FALSE)","v":395},{"$f":"VLOOKUP($B$2,'Table 11'!$A$5:$L$23,3,FALSE)","v":395},{"$f":"VLOOKUP($B$2,'Table 12'!$A$5:$L$23,3,FALSE)","v":420},{"$f":"VLOOKUP($B$2,'Table 13'!$A$5:$L$23,3,FALSE)","v":425},{"$f":"VLOOKUP($B$2,'Table 14'!$A$5:$L$23,3,FALSE)","v":450},{"$f":"J26/I26-1","v":5.8823529411764719E-2},{"$f":"J26/C26-1","v":0.18421052631578938},null,"Lower Quartile",{"$f":"VLOOKUP($B$2,'Table 7'!$A$5:$L$23,9,FALSE)","v":495},{"$f":"VLOOKUP($B$2,'Table 8'!$A$5:$L$23,9,FALSE)","v":495},{"$f":"VLOOKUP($B$2,'Table 9'!$A$5:$L$23,9,FALSE)","v":495},{"$f":"VLOOKUP($B$2,'Table 10'!$A$5:$L$23,9,FALSE)","v":495},{"$f":"VLOOKUP($B$2,'Table 11'!$A$5:$L$23,9,FALSE)","v":500},{"$f":"VLOOKUP($B$2,'Table 12'!$A$5:$L$23,9,FALSE)","v":525},{"$f":"VLOOKUP($B$2,'Table 13'!$A$5:$L$23,9,FALSE)","v":550},{"$f":"VLOOKUP($B$2,'Table 14'!$A$5:$L$23,9,FALSE)","v":575},{"$f":"V26/U26-1","v":4.5454545454545414E-2},{"$f":"V26/O26-1","v":0.16161616161616155}]
[null,"Median",{"$f":"VLOOKUP($B$2,'Table 7'!$A$5:$L$23,4,FALSE)","v":425},{"$f":"VLOOKUP($B$2,'Table 8'!$A$5:$L$23,4,FALSE)","v":450},{"$f":"VLOOKUP($B$2,'Table 9'!$A$5:$L$23,4,FALSE)","v":430},{"$f":"VLOOKUP($B$2,'Table 10'!$A$5:$L$23,4,FALSE)","v":450},{"$f":"VLOOKUP($B$2,'Table 11'!$A$5:$L$23,4,FALSE)","v":450},{"$f":"VLOOKUP($B$2,'Table 12'!$A$5:$L$23,4,FALSE)","v":480},{"$f":"VLOOKUP($B$2,'Table 13'!$A$5:$L$23,4,FALSE)","v":495},{"$f":"VLOOKUP($B$2,'Table 14'!$A$5:$L$23,4,FALSE)","v":525},{"$f":"J27/I27-1","v":6.0606060606060552E-2},{"$f":"J27/C27-1","v":0.23529411764705888},null,"Median",{"$f":"VLOOKUP($B$2,'Table 7'!$A$5:$L$23,10,FALSE)","v":550},{"$f":"VLOOKUP($B$2,'Table 8'!$A$5:$L$23,10,FALSE)","v":550},{"$f":"VLOOKUP($B$2,'Table 9'!$A$5:$L$23,10,FALSE)","v":550},{"$f":"VLOOKUP($B$2,'Table 10'!$A$5:$L$23,10,FALSE)","v":550},{"$f":"VLOOKUP($B$2,'Table 11'!$A$5:$L$23,10,FALSE)","v":575},{"$f":"VLOOKUP($B$2,'Table 12'!$A$5:$L$23,10,FALSE)","v":625},{"$f":"VLOOKUP($B$2,'Table 13'!$A$5:$L$23,10,FALSE)","v":650},{"$f":"VLOOKUP($B$2,'Table 14'!$A$5:$L$23,10,FALSE)","v":695},{"$f":"V27/U27-1","v":6.9230769230769207E-2},{"$f":"V27/O27-1","v":0.26363636363636367}]
[null,"Mean",{"$f":"VLOOKUP($B$2,'Table 7'!$A$5:$L$23,5,FALSE)","v":437.14},{"$f":"VLOOKUP($B$2,'Table 8'!$A$5:$L$23,5,FALSE)","v":451.11},{"$f":"VLOOKUP($B$2,'Table 9'!$A$5:$L$23,5,FALSE)","v":444.05},{"$f":"VLOOKUP($B$2,'Table 10'!$A$5:$L$23,5,FALSE)","v":455.78},{"$f":"VLOOKUP($B$2,'Table 11'!$A$5:$L$23,5,FALSE)","v":476.49},{"$f":"VLOOKUP($B$2,'Table 12'!$A$5:$L$23,5,FALSE)","v":501.23},{"$f":"VLOOKUP($B$2,'Table 13'!$A$5:$L$23,5,FALSE)","v":520.03},{"$f":"VLOOKUP($B$2,'Table 14'!$A$5:$L$23,5,FALSE)","v":549.04999999999995},5.5804472818875794E-2,0.25600494120876593,null,"Mean",{"$f":"VLOOKUP($B$2,'Table 7'!$A$5:$L$23,11,FALSE)","v":563.64},{"$f":"VLOOKUP($B$2,'Table 8'!$A$5:$L$23,11,FALSE)","v":588.04999999999995},{"$f":"VLOOKUP($B$2,'Table 9'!$A$5:$L$23,11,FALSE)","v":572.74},{"$f":"VLOOKUP($B$2,'Table 10'!$A$5:$L$23,11,FALSE)","v":593.71},{"$f":"VLOOKUP($B$2,'Table 11'!$A$5:$L$23,11,FALSE)","v":626.38},{"$f":"VLOOKUP($B$2,'Table 12'!$A$5:$L$23,11,FALSE)","v":667.74},{"$f":"VLOOKUP($B$2,'Table 13'!$A$5:$L$23,11,FALSE)","v":695.92},{"$f":"VLOOKUP($B$2,'Table 14'!$A$5:$L$23,11,FALSE)","v":744.8},7.0237958386021315E-2,0.32141082960755085]
[null,"Upper Quartile",{"$f":"VLOOKUP($B$2,'Table 7'!$A$5:$L$23,6,FALSE)","v":485},{"$f":"VLOOKUP($B$2,'Table 8'!$A$5:$L$23,6,FALSE)","v":495},{"$f":"VLOOKUP($B$2,'Table 9'!$A$5:$L$23,6,FALSE)","v":495},{"$f":"VLOOKUP($B$2,'Table 10'!$A$5:$L$23,6,FALSE)","v":500},{"$f":"VLOOKUP($B$2,'Table 11'!$A$5:$L$23,6,FALSE)","v":535},{"$f":"VLOOKUP($B$2,'Table 12'!$A$5:$L$23,6,FALSE)","v":575},{"$f":"VLOOKUP($B$2,'Table 13'!$A$5:$L$23,6,FALSE)","v":595},{"$f":"VLOOKUP($B$2,'Table 14'!$A$5:$L$23,6,FALSE)","v":625},5.0420168067226934E-2,0.28865979381443307,null,"Upper Quartile",{"$f":"VLOOKUP($B$2,'Table 7'!$A$5:$L$23,12,FALSE)","v":600},{"$f":"VLOOKUP($B$2,'Table 8'!$A$5:$L$23,12,FALSE)","v":650},{"$f":"VLOOKUP($B$2,'Table 9'!$A$5:$L$23,12,FALSE)","v":625},{"$f":"VLOOKUP($B$2,'Table 10'!$A$5:$L$23,12,FALSE)","v":650},{"$f":"VLOOKUP($B$2,'Table 11'!$A$5:$L$23,12,FALSE)","v":695},{"$f":"VLOOKUP($B$2,'Table 12'!$A$5:$L$23,12,FALSE)","v":750},{"$f":"VLOOKUP($B$2,'Table 13'!$A$5:$L$23,12,FALSE)","v":795},{"$f":"VLOOKUP($B$2,'Table 14'!$A$5:$L$23,12,FALSE)","v":850},6.9182389937106903E-2,0.41666666666666674]
[]
[]
[]
[]
[]
[]
[]
[]
[]
[]
[]
[]
[]
[]
[]
[]
[null,"3 Bedroom Properties - Quartile Measures, years to end Sept, (£ monthly):",null,null,null,null,null,null,null,null,null,null,null,"4 Bedroom Properties - Quartile Measures, years to end Sept, (£ monthly):"]
[null,null,2010,2011,2012,2013,2014,2015,2016,2017,"2016 to 2017","2010 to 2017",null,null,2010,2011,2012,2013,2014,2015,2016,2017,"2016 to 2017","2010 to 2017"]
[null,"Lower Quartile",{"$f":"VLOOKUP($B$2,'Table 7'!$A$26:$L$44,3,FALSE)","v":575},{"$f":"VLOOKUP($B$2,'Table 8'!$A$26:$L$44,3,FALSE)","v":575},{"$f":"VLOOKUP($B$2,'Table 9'!$A$26:$L$44,3,FALSE)","v":575},{"$f":"VLOOKUP($B$2,'Table 10'!$A$26:$L$44,3,FALSE)","v":575},{"$f":"VLOOKUP($B$2,'Table 11'!$A$26:$L$44,3,FALSE)","v":567.5},{"$f":"VLOOKUP($B$2,'Table 12'!$A$26:$L$44,3,FALSE)","v":595},{"$f":"VLOOKUP($B$2,'Table 13'!$A$26:$L$44,3,FALSE)","v":600},{"$f":"VLOOKUP($B$2,'Table 14'!$A$26:$L$44,3,FALSE)","v":650},{"$f":"J48/I48-1","v":8.3333333333333259E-2},{"$f":"J48/C48-1","v":0.13043478260869557},null,"Lower Quartile",{"$f":"VLOOKUP($B$2,'Table 7'!$A$26:$L$44,9,FALSE)","v":845},{"$f":"VLOOKUP($B$2,'Table 8'!$A$26:$L$44,9,FALSE)","v":875},{"$f":"VLOOKUP($B$2,'Table 9'!$A$26:$L$44,9,FALSE)","v":800},{"$f":"VLOOKUP($B$2,'Table 10'!$A$26:$L$44,9,FALSE)","v":895},{"$f":"VLOOKUP($B$2,'Table 11'!$A$26:$L$44,9,FALSE)","v":895},{"$f":"VLOOKUP($B$2,'Table 12'!$A$26:$L$44,9,FALSE)","v":850},{"$f":"VLOOKUP($B$2,'Table 13'!$A$26:$L$44,9,FALSE)","v":925},{"$f":"VLOOKUP($B$2,'Table 14'!$A$26:$L$44,9,FALSE)","v":1150},{"$f":"V48/U48-1","v":0.2432432432432432},{"$f":"V48/O48-1","v":0.36094674556213024}]
[null,"Median",{"$f":"VLOOKUP($B$2,'Table 7'!$A$26:$L$44,4,FALSE)","v":695},{"$f":"VLOOKUP($B$2,'Table 8'!$A$26:$L$44,4,FALSE)","v":695},{"$f":"VLOOKUP($B$2,'Table 9'!$A$26:$L$44,4,FALSE)","v":695},{"$f":"VLOOKUP($B$2,'Table 10'!$A$26:$L$44,4,FALSE)","v":675},{"$f":"VLOOKUP($B$2,'Table 11'!$A$26:$L$44,4,FALSE)","v":695},{"$f":"VLOOKUP($B$2,'Table 12'!$A$26:$L$44,4,FALSE)","v":750},{"$f":"VLOOKUP($B$2,'Table 13'!$A$26:$L$44,4,FALSE)","v":800},{"$f":"VLOOKUP($B$2,'Table 14'!$A$26:$L$44,4,FALSE)","v":850},{"$f":"J49/I49-1","v":6.25E-2},{"$f":"J49/C49-1","v":0.2230215827338129},null,"Median",{"$f":"VLOOKUP($B$2,'Table 7'!$A$26:$L$44,10,FALSE)","v":1000},{"$f":"VLOOKUP($B$2,'Table 8'!$A$26:$L$44,10,FALSE)","v":1100},{"$f":"VLOOKUP($B$2,'Table 9'!$A$26:$L$44,10,FALSE)","v":950},{"$f":"VLOOKUP($B$2,'Table 10'!$A$26:$L$44,10,FALSE)","v":1000},{"$f":"VLOOKUP($B$2,'Table 11'!$A$26:$L$44,10,FALSE)","v":1200},{"$f":"VLOOKUP($B$2,'Table 12'!$A$26:$L$44,10,FALSE)","v":1100},{"$f":"VLOOKUP($B$2,'Table 13'!$A$26:$L$44,10,FALSE)","v":1250},{"$f":"VLOOKUP($B$2,'Table 14'!$A$26:$L$44,10,FALSE)","v":1500},{"$f":"V49/U49-1","v":0.19999999999999996},{"$f":"V49/O49-1","v":0.5}]
[null,"Mean",{"$f":"VLOOKUP($B$2,'Table 7'!$A$26:$L$44,5,FALSE)","v":728.19},{"$f":"VLOOKUP($B$2,'Table 8'!$A$26:$L$44,5,FALSE)","v":753.27},{"$f":"VLOOKUP($B$2,'Table 9'!$A$26:$L$44,5,FALSE)","v":734.1},{"$f":"VLOOKUP($B$2,'Table 10'!$A$26:$L$44,5,FALSE)","v":753.15},{"$f":"VLOOKUP($B$2,'Table 11'!$A$26:$L$44,5,FALSE)","v":795.62},{"$f":"VLOOKUP($B$2,'Table 12'!$A$26:$L$44,5,FALSE)","v":833.69},{"$f":"VLOOKUP($B$2,'Table 13'!$A$26:$L$44,5,FALSE)","v":915.07},{"$f":"VLOOKUP($B$2,'Table 14'!$A$26:$L$44,5,FALSE)","v":964.74},5.4280000437124887E-2,0.32484653730482416,null,"Mean",{"$f":"VLOOKUP($B$2,'Table 7'!$A$26:$L$44,11,FALSE)","v":1067.19},{"$f":"VLOOKUP($B$2,'Table 8'!$A$26:$L$44,11,FALSE)","v":1169.83},{"$f":"VLOOKUP($B$2,'Table 9'!$A$26:$L$44,11,FALSE)","v":1048.83},{"$f":"VLOOKUP($B$2,'Table 10'!$A$26:$L$44,11,FALSE)","v":1189.78},{"$f":"VLOOKUP($B$2,'Table 11'!$A$26:$L$44,11,FALSE)","v":1211.1199999999999},{"$f":"VLOOKUP($B$2,'Table 12'!$A$26:$L$44,11,FALSE)","v":1189.33},{"$f":"VLOOKUP($B$2,'Table 13'!$A$26:$L$44,11,FALSE)","v":1299.47},{"$f":"VLOOKUP($B$2,'Table 14'!$A$26:$L$44,11,FALSE)","v":1523.85},0.17267039639237525,0.42790880724144698]
[null,"Upper Quartile",{"$f":"VLOOKUP($B$2,'Table 7'!$A$26:$L$44,6,FALSE)","v":825},{"$f":"VLOOKUP($B$2,'Table 8'!$A$26:$L$44,6,FALSE)","v":862.5},{"$f":"VLOOKUP($B$2,'Table 9'!$A$26:$L$44,6,FALSE)","v":800},{"$f":"VLOOKUP($B$2,'Table 10'!$A$26:$L$44,6,FALSE)","v":850},{"$f":"VLOOKUP($B$2,'Table 11'!$A$26:$L$44,6,FALSE)","v":900},{"$f":"VLOOKUP($B$2,'Table 12'!$A$26:$L$44,6,FALSE)","v":975},{"$f":"VLOOKUP($B$2,'Table 13'!$A$26:$L$44,6,FALSE)","v":1170},{"$f":"VLOOKUP($B$2,'Table 14'!$A$26:$L$44,6,FALSE)","v":1200},2.564102564102555E-2,0.45454545454545459,null,"Upper Quartile",{"$f":"VLOOKUP($B$2,'Table 7'!$A$26:$L$44,12,FALSE)","v":1250},{"$f":"VLOOKUP($B$2,'Table 8'!$A$26:$L$44,12,FALSE)","v":1300},{"$f":"VLOOKUP($B$2,'Table 9'!$A$26:$L$44,12,FALSE)","v":1250},{"$f":"VLOOKUP($B$2,'Table 10'!$A$26:$L$44,12,FALSE)","v":1400},{"$f":"VLOOKUP($B$2,'Table 11'!$A$26:$L$44,12,FALSE)","v":1500},{"$f":"VLOOKUP($B$2,'Table 12'!$A$26:$L$44,12,FALSE)","v":1500},{"$f":"VLOOKUP($B$2,'Table 13'!$A$26:$L$44,12,FALSE)","v":1600},{"$f":"VLOOKUP($B$2,'Table 14'!$A$26:$L$44,12,FALSE)","v":1800},0.125,0.43999999999999995]
[]
[]
[]
[]
[]
[]
[]
[]
[]
[]
[]
[]
[]
[]
[]
[]
[null,"1 Bedroom Shared Properties - Quartile Measures, years to end Sept, (£ monthly):",null,null,null,null,null,null,null,null,null,null,null,"Sample Sizes:",null,null,null,null,null,null,null,null,null,null,null,"Sample Sizes:"]
[null,null,2010,2011,2012,2013,2014,2015,2016,2017,"2016 to 2017","2010 to 2017",null,null,null,null,2010,2011,2012,2013,2014,2015,2016,2017,null,null,2010,2011,2012,2013,2014,2015,2016,2017]
[null,"Lower Quartile",{"$f":"VLOOKUP($B$2,'Table 7'!$A$47:$F$65,3,FALSE)","v":284},{"$f":"VLOOKUP($B$2,'Table 8'!$A$47:$F$65,3,FALSE)","v":270},{"$f":"VLOOKUP($B$2,'Table 9'!$A$47:$F$65,3,FALSE)","v":275},{"$f":"VLOOKUP($B$2,'Table 10'!$A$47:$F$65,3,FALSE)","v":290},{"$f":"VLOOKUP($B$2,'Table 11'!$A$47:$F$65,3,FALSE)","v":293.33},{"$f":"VLOOKUP($B$2,'Table 12'!$A$47:$F$65,3,FALSE)","v":285},{"$f":"VLOOKUP($B$2,'Table 13'!$A$47:$F$65,3,FALSE)","v":308},{"$f":"VLOOKUP($B$2,'Table 14'!$A$47:$F$65,3,FALSE)","v":325},{"$f":"J70/I70-1","v":5.5194805194805241E-2},{"$f":"J70/C70-1","v":0.14436619718309851},null,"1 Bedroom ",null,null,{"$f":"VLOOKUP($B$2,'Table 7'!$A$5:$L$23,2,FALSE)","v":868},{"$f":"VLOOKUP($B$2,'Table 8'!$A$5:$L$23,2,FALSE)","v":747},{"$f":"VLOOKUP($B$2,'Table 9'!$A$5:$L$23,2,FALSE)","v":998},{"$f":"VLOOKUP($B$2,'Table 10'!$A$5:$L$23,2,FALSE)","v":945},{"$f":"VLOOKUP($B$2,'Table 11'!$A$5:$L$23,2,FALSE)","v":1116},{"$f":"VLOOKUP($B$2,'Table 12'!$A$5:$L$23,2,FALSE)","v":1097},{"$f":"VLOOKUP($B$2,'Table 13'!$A$5:$L$23,2,FALSE)","v":1289},{"$f":"VLOOKUP($B$2,'Table 14'!$A$5:$L$23,2,FALSE)","v":1343},null,"1 Bedroom ",{"$f":"VLOOKUP($B$2,'Table 7'!$A$5:$L$23,2,FALSE)","v":868},{"$f":"VLOOKUP($B$2,'Table 8'!$A$5:$L$23,2,FALSE)","v":747},{"$f":"VLOOKUP($B$2,'Table 9'!$A$5:$L$23,2,FALSE)","v":998},{"$f":"VLOOKUP($B$2,'Table 10'!$A$5:$L$23,2,FALSE)","v":945},{"$f":"VLOOKUP($B$2,'Table 11'!$A$5:$L$23,2,FALSE)","v":1116},{"$f":"VLOOKUP($B$2,'Table 12'!$A$5:$L$23,2,FALSE)","v":1097},{"$f":"VLOOKUP($B$2,'Table 13'!$A$5:$L$23,2,FALSE)","v":1289},{"$f":"VLOOKUP($B$2,'Table 14'!$A$5:$L$23,2,FALSE)","v":1343}]
[null,"Median",{"$f":"VLOOKUP($B$2,'Table 7'!$A$47:$F$65,4,FALSE)","v":300},{"$f":"VLOOKUP($B$2,'Table 8'!$A$47:$F$65,4,FALSE)","v":300},{"$f":"VLOOKUP($B$2,'Table 9'!$A$47:$F$65,4,FALSE)","v":302.5},{"$f":"VLOOKUP($B$2,'Table 10'!$A$47:$F$65,4,FALSE)","v":320},{"$f":"VLOOKUP($B$2,'Table 11'!$A$47:$F$65,4,FALSE)","v":325},{"$f":"VLOOKUP($B$2,'Table 12'!$A$47:$F$65,4,FALSE)","v":335},{"$f":"VLOOKUP($B$2,'Table 13'!$A$47:$F$65,4,FALSE)","v":350},{"$f":"VLOOKUP($B$2,'Table 14'!$A$47:$F$65,4,FALSE)","v":375},{"$f":"J71/I71-1","v":7.1428571428571397E-2},{"$f":"J71/C71-1","v":0.25},null,"2 Bedrooms",null,null,{"$f":"VLOOKUP($B$2,'Table 7'!$A$5:$L$23,8,FALSE)","v":1486},{"$f":"VLOOKUP($B$2,'Table 8'!$A$5:$L$23,8,FALSE)","v":1374},{"$f":"VLOOKUP($B$2,'Table 9'!$A$5:$L$23,8,FALSE)","v":1570},{"$f":"VLOOKUP($B$2,'Table 10'!$A$5:$L$23,8,FALSE)","v":1623},{"$f":"VLOOKUP($B$2,'Table 11'!$A$5:$L$23,8,FALSE)","v":1840},{"$f":"VLOOKUP($B$2,'Table 12'!$A$5:$L$23,8,FALSE)","v":1856},{"$f":"VLOOKUP($B$2,'Table 13'!$A$5:$L$23,8,FALSE)","v":2199},{"$f":"VLOOKUP($B$2,'Table 14'!$A$5:$L$23,8,FALSE)","v":2443},null,"2 Bedrooms",{"$f":"VLOOKUP($B$2,'Table 7'!$A$5:$L$23,8,FALSE)","v":1486},{"$f":"VLOOKUP($B$2,'Table 8'!$A$5:$L$23,8,FALSE)","v":1374},{"$f":"VLOOKUP($B$2,'Table 9'!$A$5:$L$23,8,FALSE)","v":1570},{"$f":"VLOOKUP($B$2,'Table 10'!$A$5:$L$23,8,FALSE)","v":1623},{"$f":"VLOOKUP($B$2,'Table 11'!$A$5:$L$23,8,FALSE)","v":1840},{"$f":"VLOOKUP($B$2,'Table 12'!$A$5:$L$23,8,FALSE)","v":1856},{"$f":"VLOOKUP($B$2,'Table 13'!$A$5:$L$23,8,FALSE)","v":2199},{"$f":"VLOOKUP($B$2,'Table 14'!$A$5:$L$23,8,FALSE)","v":2443}]
[null,"Mean",{"$f":"VLOOKUP($B$2,'Table 7'!$A$47:$F$65,5,FALSE)","v":313.10000000000002},{"$f":"VLOOKUP($B$2,'Table 8'!$A$47:$F$65,5,FALSE)","v":295.45999999999998},{"$f":"VLOOKUP($B$2,'Table 9'!$A$47:$F$65,5,FALSE)","v":312.27999999999997},{"$f":"VLOOKUP($B$2,'Table 10'!$A$47:$F$65,5,FALSE)","v":323.08999999999997},{"$f":"VLOOKUP($B$2,'Table 11'!$A$47:$F$65,5,FALSE)","v":346.23},{"$f":"VLOOKUP($B$2,'Table 12'!$A$47:$F$65,5,FALSE)","v":352.87},{"$f":"VLOOKUP($B$2,'Table 13'!$A$47:$F$65,5,FALSE)","v":372.15},{"$f":"VLOOKUP($B$2,'Table 14'!$A$47:$F$65,5,FALSE)","v":385.58},3.608759908638981E-2,0.23149153625039909,null,"3 Bedrooms",null,null,{"$f":"VLOOKUP($B$2,'Table 7'!$A$26:$L$44,2,FALSE)","v":474},{"$f":"VLOOKUP($B$2,'Table 8'!$A$26:$L$44,2,FALSE)","v":476},{"$f":"VLOOKUP($B$2,'Table 9'!$A$26:$L$44,2,FALSE)","v":474},{"$f":"VLOOKUP($B$2,'Table 10'!$A$26:$L$44,2,FALSE)","v":503},{"$f":"VLOOKUP($B$2,'Table 11'!$A$26:$L$44,2,FALSE)","v":512},{"$f":"VLOOKUP($B$2,'Table 12'!$A$26:$L$44,2,FALSE)","v":545},{"$f":"VLOOKUP($B$2,'Table 13'!$A$26:$L$44,2,FALSE)","v":566},{"$f":"VLOOKUP($B$2,'Table 14'!$A$26:$L$44,2,FALSE)","v":745},null,"3 Bedrooms",{"$f":"VLOOKUP($B$2,'Table 7'!$A$26:$L$44,2,FALSE)","v":474},{"$f":"VLOOKUP($B$2,'Table 8'!$A$26:$L$44,2,FALSE)","v":476},{"$f":"VLOOKUP($B$2,'Table 9'!$A$26:$L$44,2,FALSE)","v":474},{"$f":"VLOOKUP($B$2,'Table 10'!$A$26:$L$44,2,FALSE)","v":503},{"$f":"VLOOKUP($B$2,'Table 11'!$A$26:$L$44,2,FALSE)","v":512},{"$f":"VLOOKUP($B$2,'Table 12'!$A$26:$L$44,2,FALSE)","v":545},{"$f":"VLOOKUP($B$2,'Table 13'!$A$26:$L$44,2,FALSE)","v":566},{"$f":"VLOOKUP($B$2,'Table 14'!$A$26:$L$44,2,FALSE)","v":745}]
[null,"Upper Quartile",{"$f":"VLOOKUP($B$2,'Table 7'!$A$47:$F$65,6,FALSE)","v":345},{"$f":"VLOOKUP($B$2,'Table 8'!$A$47:$F$65,6,FALSE)","v":325},{"$f":"VLOOKUP($B$2,'Table 9'!$A$47:$F$65,6,FALSE)","v":350},{"$f":"VLOOKUP($B$2,'Table 10'!$A$47:$F$65,6,FALSE)","v":350},{"$f":"VLOOKUP($B$2,'Table 11'!$A$47:$F$65,6,FALSE)","v":400},{"$f":"VLOOKUP($B$2,'Table 12'!$A$47:$F$65,6,FALSE)","v":400},{"$f":"VLOOKUP($B$2,'Table 13'!$A$47:$F$65,6,FALSE)","v":425},{"$f":"VLOOKUP($B$2,'Table 14'!$A$47:$F$65,6,FALSE)","v":434.52},2.2399999999999975E-2,0.25947826086956516,null,"4 Bedrooms",null,null,{"$f":"VLOOKUP($B$2,'Table 7'!$A$26:$L$44,8,FALSE)","v":219},{"$f":"VLOOKUP($B$2,'Table 8'!$A$26:$L$44,8,FALSE)","v":233},{"$f":"VLOOKUP($B$2,'Table 9'!$A$26:$L$44,8,FALSE)","v":227},{"$f":"VLOOKUP($B$2,'Table 10'!$A$26:$L$44,8,FALSE)","v":138},{"$f":"VLOOKUP($B$2,'Table 11'!$A$26:$L$44,8,FALSE)","v":130},{"$f":"VLOOKUP($B$2,'Table 12'!$A$26:$L$44,8,FALSE)","v":127},{"$f":"VLOOKUP($B$2,'Table 13'!$A$26:$L$44,8,FALSE)","v":123},{"$f":"VLOOKUP($B$2,'Table 14'!$A$26:$L$44,8,FALSE)","v":196},null,"4 Bedrooms",{"$f":"VLOOKUP($B$2,'Table 7'!$A$26:$L$44,8,FALSE)","v":219},{"$f":"VLOOKUP($B$2,'Table 8'!$A$26:$L$44,8,FALSE)","v":233},{"$f":"VLOOKUP($B$2,'Table 9'!$A$26:$L$44,8,FALSE)","v":227},{"$f":"VLOOKUP($B$2,'Table 10'!$A$26:$L$44,8,FALSE)","v":138},{"$f":"VLOOKUP($B$2,'Table 11'!$A$26:$L$44,8,FALSE)","v":130},{"$f":"VLOOKUP($B$2,'Table 12'!$A$26:$L$44,8,FALSE)","v":127},{"$f":"VLOOKUP($B$2,'Table 13'!$A$26:$L$44,8,FALSE)","v":123},{"$f":"VLOOKUP($B$2,'Table 14'!$A$26:$L$44,8,FALSE)","v":196}]
[null,null,null,null,null,null,null,null,null,null,null,null,null,"1 Bedroom Shared",null,null,{"$f":"VLOOKUP($B$2,'Table 7'!$A$47:$L$65,2,FALSE)","v":190},{"$f":"VLOOKUP($B$2,'Table 8'!$A$47:$L$65,2,FALSE)","v":302},{"$f":"VLOOKUP($B$2,'Table 9'!$A$47:$L$65,2,FALSE)","v":372},{"$f":"VLOOKUP($B$2,'Table 10'!$A$47:$L$65,2,FALSE)","v":379},{"$f":"VLOOKUP($B$2,'Table 11'!$A$47:$L$65,2,FALSE)","v":273},{"$f":"VLOOKUP($B$2,'Table 12'!$A$47:$L$65,2,FALSE)","v":255},{"$f":"VLOOKUP($B$2,'Table 13'!$A$47:$L$65,2,FALSE)","v":189},{"$f":"VLOOKUP($B$2,'Table 14'!$A$47:$L$65,2,FALSE)","v":346},null,"1 Bedroom Shared",{"$f":"VLOOKUP($B$2,'Table 7'!$A$47:$L$65,2,FALSE)","v":190},{"$f":"VLOOKUP($B$2,'Table 8'!$A$47:$L$65,2,FALSE)","v":302},{"$f":"VLOOKUP($B$2,'Table 9'!$A$47:$L$65,2,FALSE)","v":372},{"$f":"VLOOKUP($B$2,'Table 10'!$A$47:$L$65,2,FALSE)","v":379},{"$f":"VLOOKUP($B$2,'Table 11'!$A$47:$L$65,2,FALSE)","v":273},{"$f":"VLOOKUP($B$2,'Table 12'!$A$47:$L$65,2,FALSE)","v":255},{"$f":"VLOOKUP($B$2,'Table 13'!$A$47:$L$65,2,FALSE)","v":189},{"$f":"VLOOKUP($B$2,'Table 14'!$A$47:$L$65,2,FALSE)","v":346}]
[]
[]
[]
[]
[]
[]
[]
[]
[]
[]
[]
[]
[]
[]
[]
[]
[]
[null,null,null,null,null,null,null,null,null,null,null,null,null,null,null,null,null,null,null,null,null,null,null,null,null,null,null,null,null,null,null,null,null,null,null,2010,2011,2012,2013,2014,2015,2016,2017]
[null,null,null,null,null,null,null,null,null,null,null,null,null,null,null,null,null,null,null,null,null,null,null,null,null,null,null,null,null,null,null,null,null,null,"Scotland",{"$f":"'All years 2 bed'!B22","v":536.27},{"$f":"'All years 2 bed'!C22","v":546.41999999999996},{"$f":"'All years 2 bed'!D22","v":552.89},{"$f":"'All years 2 bed'!E22","v":575.84},{"$f":"'All years 2 bed'!F22","v":596.45000000000005},{"$f":"'All years 2 bed'!G22","v":609.52},{"$f":"'All years 2 bed'!H22","v":615.64},{"$f":"'All years 2 bed'!I22","v":642.79999999999995}]
[null,null,null,null,null,null,null,null,null,null,null,null,null,null,null,null,null,null,null,null,null,null,null,null,null,null,null,null,null,null,null,null,null,null,{"$f":"B2","v":"Greater Glasgow"},{"$f":"VLOOKUP($AI$94,'All years 2 bed'!$A$4:$I$21,2,FALSE)","v":563.64},{"$f":"VLOOKUP($AI$94,'All years 2 bed'!$A$4:$I$21,3,FALSE)","v":588.04999999999995},{"$f":"VLOOKUP($AI$94,'All years 2 bed'!$A$4:$I$21,4,FALSE)","v":572.74},{"$f":"VLOOKUP($AI$94,'All years 2 bed'!$A$4:$I$21,5,FALSE)","v":593.71},{"$f":"VLOOKUP($AI$94,'All years 2 bed'!$A$4:$I$21,6,FALSE)","v":626.38},{"$f":"VLOOKUP($AI$94,'All years 2 bed'!$A$4:$I$21,7,FALSE)","v":667.74},{"$f":"VLOOKUP($AI$94,'All years 2 bed'!$A$4:$I$21,8,FALSE)","v":695.92},{"$f":"VLOOKUP($AI$94,'All years 2 bed'!$A$4:$I$21,9,FALSE)","v":744.8}]

{"sheet":"Highlands & Islands","index":56,"n_rows":94,"n_cols":43,"rows_kept":94,"cut":false,"hidden":false,"merged":[[73,13,73,15],[1,1,1,3],[69,13,69,15],[70,13,70,15],[71,13,71,15],[72,13,72,15]]}
[null,"BRMA:"]
[null,"Highland and Islands"]
[]
["Back to contents"]
[null,"Broad Rental Market Area Profile: Highlands and Islands"]
[]
[]
[]
[]
[]
[]
[]
[]
[]
[]
[]
[]
[]
[]
[]
[]
[]
[]
[null,"1 Bedroom Properties - Quartile Measures, years to end Sept, (£ monthly):",null,null,null,null,null,null,null,null,null,null,null,"2 Bedroom Properties - Quartile Measures, years to end Sept, (£ monthly):"]
[null,null,2010,2011,2012,2013,2014,2015,2016,2017,"2016 to 2017","2010 to 2017",null,null,2010,2011,2012,2013,2014,2015,2016,2017,"2016 to 2017","2010 to 2017"]
[null,"Lower Quartile",{"$f":"VLOOKUP($B$2,'Table 7'!$A$5:$L$23,3,FALSE)","v":375},{"$f":"VLOOKUP($B$2,'Table 8'!$A$5:$L$23,3,FALSE)","v":375},{"$f":"VLOOKUP($B$2,'Table 9'!$A$5:$L$23,3,FALSE)","v":375},{"$f":"VLOOKUP($B$2,'Table 10'!$A$5:$L$23,3,FALSE)","v":395},{"$f":"VLOOKUP($B$2,'Table 11'!$A$5:$L$23,3,FALSE)","v":400},{"$f":"VLOOKUP($B$2,'Table 12'!$A$5:$L$23,3,FALSE)","v":400},{"$f":"VLOOKUP($B$2,'Table 13'!$A$5:$L$23,3,FALSE)","v":400},{"$f":"VLOOKUP($B$2,'Table 14'!$A$5:$L$23,3,FALSE)","v":400},{"$f":"J26/I26-1","v":0},{"$f":"J26/C26-1","v":6.6666666666666652E-2},null,"Lower Quartile",{"$f":"VLOOKUP($B$2,'Table 7'!$A$5:$L$23,9,FALSE)","v":450},{"$f":"VLOOKUP($B$2,'Table 8'!$A$5:$L$23,9,FALSE)","v":460},{"$f":"VLOOKUP($B$2,'Table 9'!$A$5:$L$23,9,FALSE)","v":450},{"$f":"VLOOKUP($B$2,'Table 10'!$A$5:$L$23,9,FALSE)","v":475},{"$f":"VLOOKUP($B$2,'Table 11'!$A$5:$L$23,9,FALSE)","v":475},{"$f":"VLOOKUP($B$2,'Table 12'!$A$5:$L$23,9,FALSE)","v":495},{"$f":"VLOOKUP($B$2,'Table 13'!$A$5:$L$23,9,FALSE)","v":500},{"$f":"VLOOKUP($B$2,'Table 14'!$A$5:$L$23,9,FALSE)","v":500},{"$f":"V26/U26-1","v":0},{"$f":"V26/O26-1","v":0.11111111111111116}]
[null,"Median",{"$f":"VLOOKUP($B$2,'Table 7'!$A$5:$L$23,4,FALSE)","v":420},{"$f":"VLOOKUP($B$2,'Table 8'!$A$5:$L$23,4,FALSE)","v":420},{"$f":"VLOOKUP($B$2,'Table 9'!$A$5:$L$23,4,FALSE)","v":425},{"$f":"VLOOKUP($B$2,'Table 10'!$A$5:$L$23,4,FALSE)","v":430},{"$f":"VLOOKUP($B$2,'Table 11'!$A$5:$L$23,4,FALSE)","v":445},{"$f":"VLOOKUP($B$2,'Table 12'!$A$5:$L$23,4,FALSE)","v":450},{"$f":"VLOOKUP($B$2,'Table 13'!$A$5:$L$23,4,FALSE)","v":470},{"$f":"VLOOKUP($B$2,'Table 14'!$A$5:$L$23,4,FALSE)","v":475},{"$f":"J27/I27-1","v":1.0638297872340496E-2},{"$f":"J27/C27-1","v":0.13095238095238093},null,"Median",{"$f":"VLOOKUP($B$2,'Table 7'!$A$5:$L$23,10,FALSE)","v":500},{"$f":"VLOOKUP($B$2,'Table 8'!$A$5:$L$23,10,FALSE)","v":500},{"$f":"VLOOKUP($B$2,'Table 9'!$A$5:$L$23,10,FALSE)","v":500},{"$f":"VLOOKUP($B$2,'Table 10'!$A$5:$L$23,10,FALSE)","v":525},{"$f":"VLOOKUP($B$2,'Table 11'!$A$5:$L$23,10,FALSE)","v":525},{"$f":"VLOOKUP($B$2,'Table 12'!$A$5:$L$23,10,FALSE)","v":550},{"$f":"VLOOKUP($B$2,'Table 13'!$A$5:$L$23,10,FALSE)","v":550},{"$f":"VLOOKUP($B$2,'Table 14'!$A$5:$L$23,10,FALSE)","v":550},{"$f":"V27/U27-1","v":0},{"$f":"V27/O27-1","v":0.10000000000000009}]
[null,"Mean",{"$f":"VLOOKUP($B$2,'Table 7'!$A$5:$L$23,5,FALSE)","v":415.01},{"$f":"VLOOKUP($B$2,'Table 8'!$A$5:$L$23,5,FALSE)","v":419.9},{"$f":"VLOOKUP($B$2,'Table 9'!$A$5:$L$23,5,FALSE)","v":424.36},{"$f":"VLOOKUP($B$2,'Table 10'!$A$5:$L$23,5,FALSE)","v":430.75},{"$f":"VLOOKUP($B$2,'Table 11'!$A$5:$L$23,5,FALSE)","v":439.51},{"$f":"VLOOKUP($B$2,'Table 12'!$A$5:$L$23,5,FALSE)","v":449.77},{"$f":"VLOOKUP($B$2,'Table 13'!$A$5:$L$23,5,FALSE)","v":460.5},{"$f":"VLOOKUP($B$2,'Table 14'!$A$5:$L$23,5,FALSE)","v":470.38},2.1454940282301882E-2,0.13341847184405187,null,"Mean",{"$f":"VLOOKUP($B$2,'Table 7'!$A$5:$L$23,11,FALSE)","v":503.41},{"$f":"VLOOKUP($B$2,'Table 8'!$A$5:$L$23,11,FALSE)","v":513.76},{"$f":"VLOOKUP($B$2,'Table 9'!$A$5:$L$23,11,FALSE)","v":516.38},{"$f":"VLOOKUP($B$2,'Table 10'!$A$5:$L$23,11,FALSE)","v":527.24},{"$f":"VLOOKUP($B$2,'Table 11'!$A$5:$L$23,11,FALSE)","v":532.32000000000005},{"$f":"VLOOKUP($B$2,'Table 12'!$A$5:$L$23,11,FALSE)","v":544.54999999999995},{"$f":"VLOOKUP($B$2,'Table 13'!$A$5:$L$23,11,FALSE)","v":560.95000000000005},{"$f":"VLOOKUP($B$2,'Table 14'!$A$5:$L$23,11,FALSE)","v":575.09},2.5207237721722064E-2,0.14238890764982814]
[null,"Upper Quartile",{"$f":"VLOOKUP($B$2,'Table 7'!$A$5:$L$23,6,FALSE)","v":450},{"$f":"VLOOKUP($B$2,'Table 8'!$A$5:$L$23,6,FALSE)","v":450},{"$f":"VLOOKUP($B$2,'Table 9'!$A$5:$L$23,6,FALSE)","v":450},{"$f":"VLOOKUP($B$2,'Table 10'!$A$5:$L$23,6,FALSE)","v":475},{"$f":"VLOOKUP($B$2,'Table 11'!$A$5:$L$23,6,FALSE)","v":475},{"$f":"VLOOKUP($B$2,'Table 12'!$A$5:$L$23,6,FALSE)","v":495},{"$f":"VLOOKUP($B$2,'Table 13'!$A$5:$L$23,6,FALSE)","v":500},{"$f":"VLOOKUP($B$2,'Table 14'!$A$5:$L$23,6,FALSE)","v":520},4.0000000000000036E-2,0.15555555555555545,null,"Upper Quartile",{"$f":"VLOOKUP($B$2,'Table 7'!$A$5:$L$23,12,FALSE)","v":550},{"$f":"VLOOKUP($B$2,'Table 8'!$A$5:$L$23,12,FALSE)","v":550},{"$f":"VLOOKUP($B$2,'Table 9'!$A$5:$L$23,12,FALSE)","v":550},{"$f":"VLOOKUP($B$2,'Table 10'!$A$5:$L$23,12,FALSE)","v":575},{"$f":"VLOOKUP($B$2,'Table 11'!$A$5:$L$23,12,FALSE)","v":580},{"$f":"VLOOKUP($B$2,'Table 12'!$A$5:$L$23,12,FALSE)","v":600},{"$f":"VLOOKUP($B$2,'Table 13'!$A$5:$L$23,12,FALSE)","v":625},{"$f":"VLOOKUP($B$2,'Table 14'!$A$5:$L$23,12,FALSE)","v":650},4.0000000000000036E-2,0.18181818181818188]
[]
[]
[]
[]
[]
[]
[]
[]
[]
[]
[]
[]
[]
[]
[]
[]
[null,"3 Bedroom Properties - Quartile Measures, years to end Sept, (£ monthly):",null,null,null,null,null,null,null,null,null,null,null,"4 Bedroom Properties - Quartile Measures, years to end Sept, (£ monthly):"]
[null,null,2010,2011,2012,2013,2014,2015,2016,2017,"2016 to 2017","2010 to 2017",null,null,2010,2011,2012,2013,2014,2015,2016,2017,"2016 to 2017","2010 to 2017"]
[null,"Lower Quartile",{"$f":"VLOOKUP($B$2,'Table 7'!$A$26:$L$44,3,FALSE)","v":525},{"$f":"VLOOKUP($B$2,'Table 8'!$A$26:$L$44,3,FALSE)","v":550},{"$f":"VLOOKUP($B$2,'Table 9'!$A$26:$L$44,3,FALSE)","v":550},{"$f":"VLOOKUP($B$2,'Table 10'!$A$26:$L$44,3,FALSE)","v":550},{"$f":"VLOOKUP($B$2,'Table 11'!$A$26:$L$44,3,FALSE)","v":550},{"$f":"VLOOKUP($B$2,'Table 12'!$A$26:$L$44,3,FALSE)","v":550},{"$f":"VLOOKUP($B$2,'Table 13'!$A$26:$L$44,3,FALSE)","v":575},{"$f":"VLOOKUP($B$2,'Table 14'!$A$26:$L$44,3,FALSE)","v":595},{"$f":"J48/I48-1","v":3.4782608695652195E-2},{"$f":"J48/C48-1","v":0.1333333333333333},null,"Lower Quartile",{"$f":"VLOOKUP($B$2,'Table 7'!$A$26:$L$44,9,FALSE)","v":650},{"$f":"VLOOKUP($B$2,'Table 8'!$A$26:$L$44,9,FALSE)","v":650},{"$f":"VLOOKUP($B$2,'Table 9'!$A$26:$L$44,9,FALSE)","v":650},{"$f":"VLOOKUP($B$2,'Table 10'!$A$26:$L$44,9,FALSE)","v":650},{"$f":"VLOOKUP($B$2,'Table 11'!$A$26:$L$44,9,FALSE)","v":675},{"$f":"VLOOKUP($B$2,'Table 12'!$A$26:$L$44,9,FALSE)","v":695},{"$f":"VLOOKUP($B$2,'Table 13'!$A$26:$L$44,9,FALSE)","v":695},{"$f":"VLOOKUP($B$2,'Table 14'!$A$26:$L$44,9,FALSE)","v":692.5},{"$f":"V48/U48-1","v":-3.597122302158251E-3},{"$f":"V48/O48-1","v":6.5384615384615374E-2}]
[null,"Median",{"$f":"VLOOKUP($B$2,'Table 7'!$A$26:$L$44,4,FALSE)","v":600},{"$f":"VLOOKUP($B$2,'Table 8'!$A$26:$L$44,4,FALSE)","v":625},{"$f":"VLOOKUP($B$2,'Table 9'!$A$26:$L$44,4,FALSE)","v":620},{"$f":"VLOOKUP($B$2,'Table 10'!$A$26:$L$44,4,FALSE)","v":600},{"$f":"VLOOKUP($B$2,'Table 11'!$A$26:$L$44,4,FALSE)","v":600},{"$f":"VLOOKUP($B$2,'Table 12'!$A$26:$L$44,4,FALSE)","v":650},{"$f":"VLOOKUP($B$2,'Table 13'!$A$26:$L$44,4,FALSE)","v":650},{"$f":"VLOOKUP($B$2,'Table 14'!$A$26:$L$44,4,FALSE)","v":695},{"$f":"J49/I49-1","v":6.9230769230769207E-2},{"$f":"J49/C49-1","v":0.15833333333333344},null,"Median",{"$f":"VLOOKUP($B$2,'Table 7'!$A$26:$L$44,10,FALSE)","v":775},{"$f":"VLOOKUP($B$2,'Table 8'!$A$26:$L$44,10,FALSE)","v":750},{"$f":"VLOOKUP($B$2,'Table 9'!$A$26:$L$44,10,FALSE)","v":750},{"$f":"VLOOKUP($B$2,'Table 10'!$A$26:$L$44,10,FALSE)","v":750},{"$f":"VLOOKUP($B$2,'Table 11'!$A$26:$L$44,10,FALSE)","v":750},{"$f":"VLOOKUP($B$2,'Table 12'!$A$26:$L$44,10,FALSE)","v":795},{"$f":"VLOOKUP($B$2,'Table 13'!$A$26:$L$44,10,FALSE)","v":812.5},{"$f":"VLOOKUP($B$2,'Table 14'!$A$26:$L$44,10,FALSE)","v":825},{"$f":"V49/U49-1","v":1.538461538461533E-2},{"$f":"V49/O49-1","v":6.4516129032258007E-2}]
[null,"Mean",{"$f":"VLOOKUP($B$2,'Table 7'!$A$26:$L$44,5,FALSE)","v":594.77},{"$f":"VLOOKUP($B$2,'Table 8'!$A$26:$L$44,5,FALSE)","v":619.54},{"$f":"VLOOKUP($B$2,'Table 9'!$A$26:$L$44,5,FALSE)","v":623.1},{"$f":"VLOOKUP($B$2,'Table 10'!$A$26:$L$44,5,FALSE)","v":620.37},{"$f":"VLOOKUP($B$2,'Table 11'!$A$26:$L$44,5,FALSE)","v":625.22},{"$f":"VLOOKUP($B$2,'Table 12'!$A$26:$L$44,5,FALSE)","v":652.25},{"$f":"VLOOKUP($B$2,'Table 13'!$A$26:$L$44,5,FALSE)","v":671.75},{"$f":"VLOOKUP($B$2,'Table 14'!$A$26:$L$44,5,FALSE)","v":692.34},3.0651283959806541E-2,0.16404660625115608,null,"Mean",{"$f":"VLOOKUP($B$2,'Table 7'!$A$26:$L$44,11,FALSE)","v":750.68},{"$f":"VLOOKUP($B$2,'Table 8'!$A$26:$L$44,11,FALSE)","v":745.16},{"$f":"VLOOKUP($B$2,'Table 9'!$A$26:$L$44,11,FALSE)","v":755.01},{"$f":"VLOOKUP($B$2,'Table 10'!$A$26:$L$44,11,FALSE)","v":748.89},{"$f":"VLOOKUP($B$2,'Table 11'!$A$26:$L$44,11,FALSE)","v":761.79},{"$f":"VLOOKUP($B$2,'Table 12'!$A$26:$L$44,11,FALSE)","v":814.1},{"$f":"VLOOKUP($B$2,'Table 13'!$A$26:$L$44,11,FALSE)","v":822.47},{"$f":"VLOOKUP($B$2,'Table 14'!$A$26:$L$44,11,FALSE)","v":827.9},6.6020645129913902E-3,0.10286673416102743]
[null,"Upper Quartile",{"$f":"VLOOKUP($B$2,'Table 7'!$A$26:$L$44,6,FALSE)","v":650},{"$f":"VLOOKUP($B$2,'Table 8'!$A$26:$L$44,6,FALSE)","v":695},{"$f":"VLOOKUP($B$2,'Table 9'!$A$26:$L$44,6,FALSE)","v":695},{"$f":"VLOOKUP($B$2,'Table 10'!$A$26:$L$44,6,FALSE)","v":695},{"$f":"VLOOKUP($B$2,'Table 11'!$A$26:$L$44,6,FALSE)","v":700},{"$f":"VLOOKUP($B$2,'Table 12'!$A$26:$L$44,6,FALSE)","v":750},{"$f":"VLOOKUP($B$2,'Table 13'!$A$26:$L$44,6,FALSE)","v":765},{"$f":"VLOOKUP($B$2,'Table 14'!$A$26:$L$44,6,FALSE)","v":795},3.9215686274509887E-2,0.22307692307692317,null,"Upper Quartile",{"$f":"VLOOKUP($B$2,'Table 7'!$A$26:$L$44,12,FALSE)","v":850},{"$f":"VLOOKUP($B$2,'Table 8'!$A$26:$L$44,12,FALSE)","v":825},{"$f":"VLOOKUP($B$2,'Table 9'!$A$26:$L$44,12,FALSE)","v":850},{"$f":"VLOOKUP($B$2,'Table 10'!$A$26:$L$44,12,FALSE)","v":850},{"$f":"VLOOKUP($B$2,'Table 11'!$A$26:$L$44,12,FALSE)","v":850},{"$f":"VLOOKUP($B$2,'Table 12'!$A$26:$L$44,12,FALSE)","v":900},{"$f":"VLOOKUP($B$2,'Table 13'!$A$26:$L$44,12,FALSE)","v":950},{"$f":"VLOOKUP($B$2,'Table 14'!$A$26:$L$44,12,FALSE)","v":912.5},-3.9473684210526327E-2,7.3529411764705843E-2]
[]
[]
[]
[]
[]
[]
[]
[]
[]
[]
[]
[]
[]
[]
[]
[]
[null,"1 Bedroom Shared Properties - Quartile Measures, years to end Sept, (£ monthly):",null,null,null,null,null,null,null,null,null,null,null,"Sample Sizes:",null,null,null,null,null,null,null,null,null,null,null,"Sample Sizes:"]
[null,null,2010,2011,2012,2013,2014,2015,2016,2017,"2016 to 2017","2010 to 2017",null,null,null,null,2010,2011,2012,2013,2014,2015,2016,2017,null,null,2010,2011,2012,2013,2014,2015,2016,2017]
[null,"Lower Quartile",{"$f":"VLOOKUP($B$2,'Table 7'!$A$47:$F$65,3,FALSE)","v":255},{"$f":"VLOOKUP($B$2,'Table 8'!$A$47:$F$65,3,FALSE)","v":258.27},{"$f":"VLOOKUP($B$2,'Table 9'!$A$47:$F$65,3,FALSE)","v":250},{"$f":"VLOOKUP($B$2,'Table 10'!$A$47:$F$65,3,FALSE)","v":250},{"$f":"VLOOKUP($B$2,'Table 11'!$A$47:$F$65,3,FALSE)","v":253.33},{"$f":"VLOOKUP($B$2,'Table 12'!$A$47:$F$65,3,FALSE)","v":270},{"$f":"VLOOKUP($B$2,'Table 13'!$A$47:$F$65,3,FALSE)","v":275.89},{"$f":"VLOOKUP($B$2,'Table 14'!$A$47:$F$65,3,FALSE)","v":280},{"$f":"J70/I70-1","v":1.4897241654282523E-2},{"$f":"J70/C70-1","v":9.8039215686274606E-2},null,"1 Bedroom ",null,null,{"$f":"VLOOKUP($B$2,'Table 7'!$A$5:$L$23,2,FALSE)","v":175},{"$f":"VLOOKUP($B$2,'Table 8'!$A$5:$L$23,2,FALSE)","v":244},{"$f":"VLOOKUP($B$2,'Table 9'!$A$5:$L$23,2,FALSE)","v":257},{"$f":"VLOOKUP($B$2,'Table 10'!$A$5:$L$23,2,FALSE)","v":179},{"$f":"VLOOKUP($B$2,'Table 11'!$A$5:$L$23,2,FALSE)","v":236},{"$f":"VLOOKUP($B$2,'Table 12'!$A$5:$L$23,2,FALSE)","v":258},{"$f":"VLOOKUP($B$2,'Table 13'!$A$5:$L$23,2,FALSE)","v":269},{"$f":"VLOOKUP($B$2,'Table 14'!$A$5:$L$23,2,FALSE)","v":243},null,"1 Bedroom ",{"$f":"VLOOKUP($B$2,'Table 7'!$A$5:$L$23,2,FALSE)","v":175},{"$f":"VLOOKUP($B$2,'Table 8'!$A$5:$L$23,2,FALSE)","v":244},{"$f":"VLOOKUP($B$2,'Table 9'!$A$5:$L$23,2,FALSE)","v":257},{"$f":"VLOOKUP($B$2,'Table 10'!$A$5:$L$23,2,FALSE)","v":179},{"$f":"VLOOKUP($B$2,'Table 11'!$A$5:$L$23,2,FALSE)","v":236},{"$f":"VLOOKUP($B$2,'Table 12'!$A$5:$L$23,2,FALSE)","v":258},{"$f":"VLOOKUP($B$2,'Table 13'!$A$5:$L$23,2,FALSE)","v":269},{"$f":"VLOOKUP($B$2,'Table 14'!$A$5:$L$23,2,FALSE)","v":243}]
[null,"Median",{"$f":"VLOOKUP($B$2,'Table 7'!$A$47:$F$65,4,FALSE)","v":285},{"$f":"VLOOKUP($B$2,'Table 8'!$A$47:$F$65,4,FALSE)","v":285},{"$f":"VLOOKUP($B$2,'Table 9'!$A$47:$F$65,4,FALSE)","v":275},{"$f":"VLOOKUP($B$2,'Table 10'!$A$47:$F$65,4,FALSE)","v":285.33999999999997},{"$f":"VLOOKUP($B$2,'Table 11'!$A$47:$F$65,4,FALSE)","v":290},{"$f":"VLOOKUP($B$2,'Table 12'!$A$47:$F$65,4,FALSE)","v":300},{"$f":"VLOOKUP($B$2,'Table 13'!$A$47:$F$65,4,FALSE)","v":306.39999999999998},{"$f":"VLOOKUP($B$2,'Table 14'!$A$47:$F$65,4,FALSE)","v":300},{"$f":"J71/I71-1","v":-2.0887728459529908E-2},{"$f":"J71/C71-1","v":5.2631578947368363E-2},null,"2 Bedrooms",null,null,{"$f":"VLOOKUP($B$2,'Table 7'!$A$5:$L$23,8,FALSE)","v":585},{"$f":"VLOOKUP($B$2,'Table 8'!$A$5:$L$23,8,FALSE)","v":783},{"$f":"VLOOKUP($B$2,'Table 9'!$A$5:$L$23,8,FALSE)","v":785},{"$f":"VLOOKUP($B$2,'Table 10'!$A$5:$L$23,8,FALSE)","v":566},{"$f":"VLOOKUP($B$2,'Table 11'!$A$5:$L$23,8,FALSE)","v":741},{"$f":"VLOOKUP($B$2,'Table 12'!$A$5:$L$23,8,FALSE)","v":734},{"$f":"VLOOKUP($B$2,'Table 13'!$A$5:$L$23,8,FALSE)","v":733},{"$f":"VLOOKUP($B$2,'Table 14'!$A$5:$L$23,8,FALSE)","v":738},null,"2 Bedrooms",{"$f":"VLOOKUP($B$2,'Table 7'!$A$5:$L$23,8,FALSE)","v":585},{"$f":"VLOOKUP($B$2,'Table 8'!$A$5:$L$23,8,FALSE)","v":783},{"$f":"VLOOKUP($B$2,'Table 9'!$A$5:$L$23,8,FALSE)","v":785},{"$f":"VLOOKUP($B$2,'Table 10'!$A$5:$L$23,8,FALSE)","v":566},{"$f":"VLOOKUP($B$2,'Table 11'!$A$5:$L$23,8,FALSE)","v":741},{"$f":"VLOOKUP($B$2,'Table 12'!$A$5:$L$23,8,FALSE)","v":734},{"$f":"VLOOKUP($B$2,'Table 13'!$A$5:$L$23,8,FALSE)","v":733},{"$f":"VLOOKUP($B$2,'Table 14'!$A$5:$L$23,8,FALSE)","v":738}]
[null,"Mean",{"$f":"VLOOKUP($B$2,'Table 7'!$A$47:$F$65,5,FALSE)","v":287.37},{"$f":"VLOOKUP($B$2,'Table 8'!$A$47:$F$65,5,FALSE)","v":289.49},{"$f":"VLOOKUP($B$2,'Table 9'!$A$47:$F$65,5,FALSE)","v":279.29000000000002},{"$f":"VLOOKUP($B$2,'Table 10'!$A$47:$F$65,5,FALSE)","v":317.58999999999997},{"$f":"VLOOKUP($B$2,'Table 11'!$A$47:$F$65,5,FALSE)","v":290.83},{"$f":"VLOOKUP($B$2,'Table 12'!$A$47:$F$65,5,FALSE)","v":315.31},{"$f":"VLOOKUP($B$2,'Table 13'!$A$47:$F$65,5,FALSE)","v":319.81},{"$f":"VLOOKUP($B$2,'Table 14'!$A$47:$F$65,5,FALSE)","v":327.29000000000002},2.3388887151746474E-2,0.13891498764658805,null,"3 Bedrooms",null,null,{"$f":"VLOOKUP($B$2,'Table 7'!$A$26:$L$44,2,FALSE)","v":362},{"$f":"VLOOKUP($B$2,'Table 8'!$A$26:$L$44,2,FALSE)","v":467},{"$f":"VLOOKUP($B$2,'Table 9'!$A$26:$L$44,2,FALSE)","v":491},{"$f":"VLOOKUP($B$2,'Table 10'!$A$26:$L$44,2,FALSE)","v":355},{"$f":"VLOOKUP($B$2,'Table 11'!$A$26:$L$44,2,FALSE)","v":436},{"$f":"VLOOKUP($B$2,'Table 12'!$A$26:$L$44,2,FALSE)","v":347},{"$f":"VLOOKUP($B$2,'Table 13'!$A$26:$L$44,2,FALSE)","v":361},{"$f":"VLOOKUP($B$2,'Table 14'!$A$26:$L$44,2,FALSE)","v":370},null,"3 Bedrooms",{"$f":"VLOOKUP($B$2,'Table 7'!$A$26:$L$44,2,FALSE)","v":362},{"$f":"VLOOKUP($B$2,'Table 8'!$A$26:$L$44,2,FALSE)","v":467},{"$f":"VLOOKUP($B$2,'Table 9'!$A$26:$L$44,2,FALSE)","v":491},{"$f":"VLOOKUP($B$2,'Table 10'!$A$26:$L$44,2,FALSE)","v":355},{"$f":"VLOOKUP($B$2,'Table 11'!$A$26:$L$44,2,FALSE)","v":436},{"$f":"VLOOKUP($B$2,'Table 12'!$A$26:$L$44,2,FALSE)","v":347},{"$f":"VLOOKUP($B$2,'Table 13'!$A$26:$L$44,2,FALSE)","v":361},{"$f":"VLOOKUP($B$2,'Table 14'!$A$26:$L$44,2,FALSE)","v":370}]
[null,"Upper Quartile",{"$f":"VLOOKUP($B$2,'Table 7'!$A$47:$F$65,6,FALSE)","v":310},{"$f":"VLOOKUP($B$2,'Table 8'!$A$47:$F$65,6,FALSE)","v":320},{"$f":"VLOOKUP($B$2,'Table 9'!$A$47:$F$65,6,FALSE)","v":300},{"$f":"VLOOKUP($B$2,'Table 10'!$A$47:$F$65,6,FALSE)","v":311.67},{"$f":"VLOOKUP($B$2,'Table 11'!$A$47:$F$65,6,FALSE)","v":318.33},{"$f":"VLOOKUP($B$2,'Table 12'!$A$47:$F$65,6,FALSE)","v":334.52},{"$f":"VLOOKUP($B$2,'Table 13'!$A$47:$F$65,6,FALSE)","v":350},{"$f":"VLOOKUP($B$2,'Table 14'!$A$47:$F$65,6,FALSE)","v":375},7.1428571428571397E-2,0.20967741935483875,null,"4 Bedrooms",null,null,{"$f":"VLOOKUP($B$2,'Table 7'!$A$26:$L$44,8,FALSE)","v":117},{"$f":"VLOOKUP($B$2,'Table 8'!$A$26:$L$44,8,FALSE)","v":170},{"$f":"VLOOKUP($B$2,'Table 9'!$A$26:$L$44,8,FALSE)","v":184},{"$f":"VLOOKUP($B$2,'Table 10'!$A$26:$L$44,8,FALSE)","v":128},{"$f":"VLOOKUP($B$2,'Table 11'!$A$26:$L$44,8,FALSE)","v":123},{"$f":"VLOOKUP($B$2,'Table 12'!$A$26:$L$44,8,FALSE)","v":129},{"$f":"VLOOKUP($B$2,'Table 13'!$A$26:$L$44,8,FALSE)","v":108},{"$f":"VLOOKUP($B$2,'Table 14'!$A$26:$L$44,8,FALSE)","v":100},null,"4 Bedrooms",{"$f":"VLOOKUP($B$2,'Table 7'!$A$26:$L$44,8,FALSE)","v":117},{"$f":"VLOOKUP($B$2,'Table 8'!$A$26:$L$44,8,FALSE)","v":170},{"$f":"VLOOKUP($B$2,'Table 9'!$A$26:$L$44,8,FALSE)","v":184},{"$f":"VLOOKUP($B$2,'Table 10'!$A$26:$L$44,8,FALSE)","v":128},{"$f":"VLOOKUP($B$2,'Table 11'!$A$26:$L$44,8,FALSE)","v":123},{"$f":"VLOOKUP($B$2,'Table 12'!$A$26:$L$44,8,FALSE)","v":129},{"$f":"VLOOKUP($B$2,'Table 13'!$A$26:$L$44,8,FALSE)","v":108},{"$f":"VLOOKUP($B$2,'Table 14'!$A$26:$L$44,8,FALSE)","v":100}]
[null,null,null,null,null,null,null,null,null,null,null,null,null,"1 Bedroom Shared",null,null,{"$f":"VLOOKUP($B$2,'Table 7'!$A$47:$L$65,2,FALSE)","v":101},{"$f":"VLOOKUP($B$2,'Table 8'!$A$47:$L$65,2,FALSE)","v":133},{"$f":"VLOOKUP($B$2,'Table 9'!$A$47:$L$65,2,FALSE)","v":143},{"$f":"VLOOKUP($B$2,'Table 10'!$A$47:$L$65,2,FALSE)","v":126},{"$f":"VLOOKUP($B$2,'Table 11'!$A$47:$L$65,2,FALSE)","v":134},{"$f":"VLOOKUP($B$2,'Table 12'!$A$47:$L$65,2,FALSE)","v":201},{"$f":"VLOOKUP($B$2,'Table 13'!$A$47:$L$65,2,FALSE)","v":178},{"$f":"VLOOKUP($B$2,'Table 14'!$A$47:$L$65,2,FALSE)","v":157},null,"1 Bedroom Shared",{"$f":"VLOOKUP($B$2,'Table 7'!$A$47:$L$65,2,FALSE)","v":101},{"$f":"VLOOKUP($B$2,'Table 8'!$A$47:$L$65,2,FALSE)","v":133},{"$f":"VLOOKUP($B$2,'Table 9'!$A$47:$L$65,2,FALSE)","v":143},{"$f":"VLOOKUP($B$2,'Table 10'!$A$47:$L$65,2,FALSE)","v":126},{"$f":"VLOOKUP($B$2,'Table 11'!$A$47:$L$65,2,FALSE)","v":134},{"$f":"VLOOKUP($B$2,'Table 12'!$A$47:$L$65,2,FALSE)","v":201},{"$f":"VLOOKUP($B$2,'Table 13'!$A$47:$L$65,2,FALSE)","v":178},{"$f":"VLOOKUP($B$2,'Table 14'!$A$47:$L$65,2,FALSE)","v":157}]
[]
[]
[]
[]
[]
[]
[]
[]
[]
[]
[]
[]
[]
[]
[]
[]
[]
[null,null,null,null,null,null,null,null,null,null,null,null,null,null,null,null,null,null,null,null,null,null,null,null,null,null,null,null,null,null,null,null,null,null,null,2010,2011,2012,2013,2014,2015,2016,2017]
[null,null,null,null,null,null,null,null,null,null,null,null,null,null,null,null,null,null,null,null,null,null,null,null,null,null,null,null,null,null,null,null,null,null,"Scotland",{"$f":"'All years 2 bed'!B22","v":536.27},{"$f":"'All years 2 bed'!C22","v":546.41999999999996},{"$f":"'All years 2 bed'!D22","v":552.89},{"$f":"'All years 2 bed'!E22","v":575.84},{"$f":"'All years 2 bed'!F22","v":596.45000000000005},{"$f":"'All years 2 bed'!G22","v":609.52},{"$f":"'All years 2 bed'!H22","v":615.64},{"$f":"'All years 2 bed'!I22","v":642.79999999999995}]
[null,null,null,null,null,null,null,null,null,null,null,null,null,null,null,null,null,null,null,null,null,null,null,null,null,null,null,null,null,null,null,null,null,null,{"$f":"B2","v":"Highland and Islands"},{"$f":"VLOOKUP($AI$94,'All years 2 bed'!$A$4:$I$21,2,FALSE)","v":503.41},{"$f":"VLOOKUP($AI$94,'All years 2 bed'!$A$4:$I$21,3,FALSE)","v":513.76},{"$f":"VLOOKUP($AI$94,'All years 2 bed'!$A$4:$I$21,4,FALSE)","v":516.38},{"$f":"VLOOKUP($AI$94,'All years 2 bed'!$A$4:$I$21,5,FALSE)","v":527.24},{"$f":"VLOOKUP($AI$94,'All years 2 bed'!$A$4:$I$21,6,FALSE)","v":532.32000000000005},{"$f":"VLOOKUP($AI$94,'All years 2 bed'!$A$4:$I$21,7,FALSE)","v":544.54999999999995},{"$f":"VLOOKUP($AI$94,'All years 2 bed'!$A$4:$I$21,8,FALSE)","v":560.95000000000005},{"$f":"VLOOKUP($AI$94,'All years 2 bed'!$A$4:$I$21,9,FALSE)","v":575.09}]

{"sheet":"Lothian","index":57,"n_rows":94,"n_cols":43,"rows_kept":94,"cut":false,"hidden":false,"merged":[[73,13,73,15],[1,1,1,3],[69,13,69,15],[70,13,70,15],[71,13,71,15],[72,13,72,15]]}
[null,"BRMA:"]
[null,"Lothian"]
[]
["Back to contents"]
[null,"Broad Rental Market Area Profile: Lothian"]
[]
[]
[]
[]
[]
[]
[]
[]
[]
[]
[]
[]
[]
[]
[]
[]
[]
[]
[null,"1 Bedroom Properties - Quartile Measures, years to end Sept, (£ monthly):",null,null,null,null,null,null,null,null,null,null,null,"2 Bedroom Properties - Quartile Measures, years to end Sept, (£ monthly):"]
[null,null,2010,2011,2012,2013,2014,2015,2016,2017,"2016 to 2017","2010 to 2017",null,null,2010,2011,2012,2013,2014,2015,2016,2017,"2016 to 2017","2010 to 2017"]
[null,"Lower Quartile",{"$f":"VLOOKUP($B$2,'Table 7'!$A$5:$L$23,3,FALSE)","v":465},{"$f":"VLOOKUP($B$2,'Table 8'!$A$5:$L$23,3,FALSE)","v":480},{"$f":"VLOOKUP($B$2,'Table 9'!$A$5:$L$23,3,FALSE)","v":495},{"$f":"VLOOKUP($B$2,'Table 10'!$A$5:$L$23,3,FALSE)","v":495},{"$f":"VLOOKUP($B$2,'Table 11'!$A$5:$L$23,3,FALSE)","v":515},{"$f":"VLOOKUP($B$2,'Table 12'!$A$5:$L$23,3,FALSE)","v":550},{"$f":"VLOOKUP($B$2,'Table 13'!$A$5:$L$23,3,FALSE)","v":575},{"$f":"VLOOKUP($B$2,'Table 14'!$A$5:$L$23,3,FALSE)","v":625},{"$f":"J26/I26-1","v":8.6956521739130377E-2},{"$f":"J26/C26-1","v":0.34408602150537626},null,"Lower Quartile",{"$f":"VLOOKUP($B$2,'Table 7'!$A$5:$L$23,9,FALSE)","v":580},{"$f":"VLOOKUP($B$2,'Table 8'!$A$5:$L$23,9,FALSE)","v":595},{"$f":"VLOOKUP($B$2,'Table 9'!$A$5:$L$23,9,FALSE)","v":600},{"$f":"VLOOKUP($B$2,'Table 10'!$A$5:$L$23,9,FALSE)","v":625},{"$f":"VLOOKUP($B$2,'Table 11'!$A$5:$L$23,9,FALSE)","v":630},{"$f":"VLOOKUP($B$2,'Table 12'!$A$5:$L$23,9,FALSE)","v":675},{"$f":"VLOOKUP($B$2,'Table 13'!$A$5:$L$23,9,FALSE)","v":700},{"$f":"VLOOKUP($B$2,'Table 14'!$A$5:$L$23,9,FALSE)","v":750},{"$f":"V26/U26-1","v":7.1428571428571397E-2},{"$f":"V26/O26-1","v":0.2931034482758621}]
[null,"Median",{"$f":"VLOOKUP($B$2,'Table 7'!$A$5:$L$23,4,FALSE)","v":500},{"$f":"VLOOKUP($B$2,'Table 8'!$A$5:$L$23,4,FALSE)","v":525},{"$f":"VLOOKUP($B$2,'Table 9'!$A$5:$L$23,4,FALSE)","v":525},{"$f":"VLOOKUP($B$2,'Table 10'!$A$5:$L$23,4,FALSE)","v":525},{"$f":"VLOOKUP($B$2,'Table 11'!$A$5:$L$23,4,FALSE)","v":550},{"$f":"VLOOKUP($B$2,'Table 12'!$A$5:$L$23,4,FALSE)","v":595},{"$f":"VLOOKUP($B$2,'Table 13'!$A$5:$L$23,4,FALSE)","v":625},{"$f":"VLOOKUP($B$2,'Table 14'!$A$5:$L$23,4,FALSE)","v":675},{"$f":"J27/I27-1","v":8.0000000000000071E-2},{"$f":"J27/C27-1","v":0.35000000000000009},null,"Median",{"$f":"VLOOKUP($B$2,'Table 7'!$A$5:$L$23,10,FALSE)","v":650},{"$f":"VLOOKUP($B$2,'Table 8'!$A$5:$L$23,10,FALSE)","v":650},{"$f":"VLOOKUP($B$2,'Table 9'!$A$5:$L$23,10,FALSE)","v":650},{"$f":"VLOOKUP($B$2,'Table 10'!$A$5:$L$23,10,FALSE)","v":680},{"$f":"VLOOKUP($B$2,'Table 11'!$A$5:$L$23,10,FALSE)","v":705},{"$f":"VLOOKUP($B$2,'Table 12'!$A$5:$L$23,10,FALSE)","v":775},{"$f":"VLOOKUP($B$2,'Table 13'!$A$5:$L$23,10,FALSE)","v":800},{"$f":"VLOOKUP($B$2,'Table 14'!$A$5:$L$23,10,FALSE)","v":850},{"$f":"V27/U27-1","v":6.25E-2},{"$f":"V27/O27-1","v":0.30769230769230771}]
[null,"Mean",{"$f":"VLOOKUP($B$2,'Table 7'!$A$5:$L$23,5,FALSE)","v":520.36},{"$f":"VLOOKUP($B$2,'Table 8'!$A$5:$L$23,5,FALSE)","v":535.28},{"$f":"VLOOKUP($B$2,'Table 9'!$A$5:$L$23,5,FALSE)","v":541.54999999999995},{"$f":"VLOOKUP($B$2,'Table 10'!$A$5:$L$23,5,FALSE)","v":555.27},{"$f":"VLOOKUP($B$2,'Table 11'!$A$5:$L$23,5,FALSE)","v":582.17999999999995},{"$f":"VLOOKUP($B$2,'Table 12'!$A$5:$L$23,5,FALSE)","v":619.9},{"$f":"VLOOKUP($B$2,'Table 13'!$A$5:$L$23,5,FALSE)","v":652.91999999999996},{"$f":"VLOOKUP($B$2,'Table 14'!$A$5:$L$23,5,FALSE)","v":704.27},7.8646694847760878E-2,0.35342839572603579,null,"Mean",{"$f":"VLOOKUP($B$2,'Table 7'!$A$5:$L$23,11,FALSE)","v":664.51},{"$f":"VLOOKUP($B$2,'Table 8'!$A$5:$L$23,11,FALSE)","v":688.96},{"$f":"VLOOKUP($B$2,'Table 9'!$A$5:$L$23,11,FALSE)","v":699.53},{"$f":"VLOOKUP($B$2,'Table 10'!$A$5:$L$23,11,FALSE)","v":728.57},{"$f":"VLOOKUP($B$2,'Table 11'!$A$5:$L$23,11,FALSE)","v":779.12},{"$f":"VLOOKUP($B$2,'Table 12'!$A$5:$L$23,11,FALSE)","v":828.92},{"$f":"VLOOKUP($B$2,'Table 13'!$A$5:$L$23,11,FALSE)","v":830.97},{"$f":"VLOOKUP($B$2,'Table 14'!$A$5:$L$23,11,FALSE)","v":888.18},6.8847250803278026E-2,0.33659388120570033]
[null,"Upper Quartile",{"$f":"VLOOKUP($B$2,'Table 7'!$A$5:$L$23,6,FALSE)","v":550},{"$f":"VLOOKUP($B$2,'Table 8'!$A$5:$L$23,6,FALSE)","v":575},{"$f":"VLOOKUP($B$2,'Table 9'!$A$5:$L$23,6,FALSE)","v":575},{"$f":"VLOOKUP($B$2,'Table 10'!$A$5:$L$23,6,FALSE)","v":595},{"$f":"VLOOKUP($B$2,'Table 11'!$A$5:$L$23,6,FALSE)","v":625},{"$f":"VLOOKUP($B$2,'Table 12'!$A$5:$L$23,6,FALSE)","v":675},{"$f":"VLOOKUP($B$2,'Table 13'!$A$5:$L$23,6,FALSE)","v":700},{"$f":"VLOOKUP($B$2,'Table 14'!$A$5:$L$23,6,FALSE)","v":750},7.1428571428571397E-2,0.36363636363636354,null,"Upper Quartile",{"$f":"VLOOKUP($B$2,'Table 7'!$A$5:$L$23,12,FALSE)","v":715},{"$f":"VLOOKUP($B$2,'Table 8'!$A$5:$L$23,12,FALSE)","v":750},{"$f":"VLOOKUP($B$2,'Table 9'!$A$5:$L$23,12,FALSE)","v":750},{"$f":"VLOOKUP($B$2,'Table 10'!$A$5:$L$23,12,FALSE)","v":775},{"$f":"VLOOKUP($B$2,'Table 11'!$A$5:$L$23,12,FALSE)","v":840},{"$f":"VLOOKUP($B$2,'Table 12'!$A$5:$L$23,12,FALSE)","v":900},{"$f":"VLOOKUP($B$2,'Table 13'!$A$5:$L$23,12,FALSE)","v":925},{"$f":"VLOOKUP($B$2,'Table 14'!$A$5:$L$23,12,FALSE)","v":975},5.4054054054053946E-2,0.36363636363636354]
[]
[]
[]
[]
[]
[]
[]
[]
[]
[]
[]
[]
[]
[]
[]
[]
[null,"3 Bedroom Properties - Quartile Measures, years to end Sept, (£ monthly):",null,null,null,null,null,null,null,null,null,null,null,"4 Bedroom Properties - Quartile Measures, years to end Sept, (£ monthly):"]
[null,null,2010,2011,2012,2013,2014,2015,2016,2017,"2016 to 2017","2010 to 2017",null,null,2010,2011,2012,2013,2014,2015,2016,2017,"2016 to 2017","2010 to 2017"]
[null,"Lower Quartile",{"$f":"VLOOKUP($B$2,'Table 7'!$A$26:$L$44,3,FALSE)","v":750},{"$f":"VLOOKUP($B$2,'Table 8'!$A$26:$L$44,3,FALSE)","v":750},{"$f":"VLOOKUP($B$2,'Table 9'!$A$26:$L$44,3,FALSE)","v":795},{"$f":"VLOOKUP($B$2,'Table 10'!$A$26:$L$44,3,FALSE)","v":795},{"$f":"VLOOKUP($B$2,'Table 11'!$A$26:$L$44,3,FALSE)","v":800},{"$f":"VLOOKUP($B$2,'Table 12'!$A$26:$L$44,3,FALSE)","v":825},{"$f":"VLOOKUP($B$2,'Table 13'!$A$26:$L$44,3,FALSE)","v":860},{"$f":"VLOOKUP($B$2,'Table 14'!$A$26:$L$44,3,FALSE)","v":895},{"$f":"J48/I48-1","v":4.0697674418604723E-2},{"$f":"J48/C48-1","v":0.19333333333333336},null,"Lower Quartile",{"$f":"VLOOKUP($B$2,'Table 7'!$A$26:$L$44,9,FALSE)","v":1100},{"$f":"VLOOKUP($B$2,'Table 8'!$A$26:$L$44,9,FALSE)","v":1045},{"$f":"VLOOKUP($B$2,'Table 9'!$A$26:$L$44,9,FALSE)","v":1100},{"$f":"VLOOKUP($B$2,'Table 10'!$A$26:$L$44,9,FALSE)","v":1175},{"$f":"VLOOKUP($B$2,'Table 11'!$A$26:$L$44,9,FALSE)","v":1050},{"$f":"VLOOKUP($B$2,'Table 12'!$A$26:$L$44,9,FALSE)","v":1200},{"$f":"VLOOKUP($B$2,'Table 13'!$A$26:$L$44,9,FALSE)","v":1225},{"$f":"VLOOKUP($B$2,'Table 14'!$A$26:$L$44,9,FALSE)","v":1275},{"$f":"V48/U48-1","v":4.081632653061229E-2},{"$f":"V48/O48-1","v":0.15909090909090917}]
[null,"Median",{"$f":"VLOOKUP($B$2,'Table 7'!$A$26:$L$44,4,FALSE)","v":895},{"$f":"VLOOKUP($B$2,'Table 8'!$A$26:$L$44,4,FALSE)","v":895},{"$f":"VLOOKUP($B$2,'Table 9'!$A$26:$L$44,4,FALSE)","v":925},{"$f":"VLOOKUP($B$2,'Table 10'!$A$26:$L$44,4,FALSE)","v":920},{"$f":"VLOOKUP($B$2,'Table 11'!$A$26:$L$44,4,FALSE)","v":985},{"$f":"VLOOKUP($B$2,'Table 12'!$A$26:$L$44,4,FALSE)","v":1000},{"$f":"VLOOKUP($B$2,'Table 13'!$A$26:$L$44,4,FALSE)","v":1100},{"$f":"VLOOKUP($B$2,'Table 14'!$A$26:$L$44,4,FALSE)","v":1100},{"$f":"J49/I49-1","v":0},{"$f":"J49/C49-1","v":0.22905027932960897},null,"Median",{"$f":"VLOOKUP($B$2,'Table 7'!$A$26:$L$44,10,FALSE)","v":1280},{"$f":"VLOOKUP($B$2,'Table 8'!$A$26:$L$44,10,FALSE)","v":1300},{"$f":"VLOOKUP($B$2,'Table 9'!$A$26:$L$44,10,FALSE)","v":1300},{"$f":"VLOOKUP($B$2,'Table 10'!$A$26:$L$44,10,FALSE)","v":1400},{"$f":"VLOOKUP($B$2,'Table 11'!$A$26:$L$44,10,FALSE)","v":1395},{"$f":"VLOOKUP($B$2,'Table 12'!$A$26:$L$44,10,FALSE)","v":1500},{"$f":"VLOOKUP($B$2,'Table 13'!$A$26:$L$44,10,FALSE)","v":1500},{"$f":"VLOOKUP($B$2,'Table 14'!$A$26:$L$44,10,FALSE)","v":1600},{"$f":"V49/U49-1","v":6.6666666666666652E-2},{"$f":"V49/O49-1","v":0.25}]
[null,"Mean",{"$f":"VLOOKUP($B$2,'Table 7'!$A$26:$L$44,5,FALSE)","v":917.68},{"$f":"VLOOKUP($B$2,'Table 8'!$A$26:$L$44,5,FALSE)","v":924.64},{"$f":"VLOOKUP($B$2,'Table 9'!$A$26:$L$44,5,FALSE)","v":983.3},{"$f":"VLOOKUP($B$2,'Table 10'!$A$26:$L$44,5,FALSE)","v":970.95},{"$f":"VLOOKUP($B$2,'Table 11'!$A$26:$L$44,5,FALSE)","v":1065.8599999999999},{"$f":"VLOOKUP($B$2,'Table 12'!$A$26:$L$44,5,FALSE)","v":1097.1500000000001},{"$f":"VLOOKUP($B$2,'Table 13'!$A$26:$L$44,5,FALSE)","v":1111.6400000000001},{"$f":"VLOOKUP($B$2,'Table 14'!$A$26:$L$44,5,FALSE)","v":1143.78},2.8912237774818994E-2,0.24638218115247157,null,"Mean",{"$f":"VLOOKUP($B$2,'Table 7'!$A$26:$L$44,11,FALSE)","v":1290.68},{"$f":"VLOOKUP($B$2,'Table 8'!$A$26:$L$44,11,FALSE)","v":1321.2},{"$f":"VLOOKUP($B$2,'Table 9'!$A$26:$L$44,11,FALSE)","v":1341.31},{"$f":"VLOOKUP($B$2,'Table 10'!$A$26:$L$44,11,FALSE)","v":1416.47},{"$f":"VLOOKUP($B$2,'Table 11'!$A$26:$L$44,11,FALSE)","v":1428.27},{"$f":"VLOOKUP($B$2,'Table 12'!$A$26:$L$44,11,FALSE)","v":1510.64},{"$f":"VLOOKUP($B$2,'Table 13'!$A$26:$L$44,11,FALSE)","v":1512.32},{"$f":"VLOOKUP($B$2,'Table 14'!$A$26:$L$44,11,FALSE)","v":1592.26},5.2859183241642071E-2,0.23365977624198098]
[null,"Upper Quartile",{"$f":"VLOOKUP($B$2,'Table 7'!$A$26:$L$44,6,FALSE)","v":1005},{"$f":"VLOOKUP($B$2,'Table 8'!$A$26:$L$44,6,FALSE)","v":1050},{"$f":"VLOOKUP($B$2,'Table 9'!$A$26:$L$44,6,FALSE)","v":1100},{"$f":"VLOOKUP($B$2,'Table 10'!$A$26:$L$44,6,FALSE)","v":1100},{"$f":"VLOOKUP($B$2,'Table 11'!$A$26:$L$44,6,FALSE)","v":1215},{"$f":"VLOOKUP($B$2,'Table 12'!$A$26:$L$44,6,FALSE)","v":1300},{"$f":"VLOOKUP($B$2,'Table 13'!$A$26:$L$44,6,FALSE)","v":1300},{"$f":"VLOOKUP($B$2,'Table 14'!$A$26:$L$44,6,FALSE)","v":1350},3.8461538461538547E-2,0.34328358208955234,null,"Upper Quartile",{"$f":"VLOOKUP($B$2,'Table 7'!$A$26:$L$44,12,FALSE)","v":1400},{"$f":"VLOOKUP($B$2,'Table 8'!$A$26:$L$44,12,FALSE)","v":1500},{"$f":"VLOOKUP($B$2,'Table 9'!$A$26:$L$44,12,FALSE)","v":1500},{"$f":"VLOOKUP($B$2,'Table 10'!$A$26:$L$44,12,FALSE)","v":1600},{"$f":"VLOOKUP($B$2,'Table 11'!$A$26:$L$44,12,FALSE)","v":1695},{"$f":"VLOOKUP($B$2,'Table 12'!$A$26:$L$44,12,FALSE)","v":1730},{"$f":"VLOOKUP($B$2,'Table 13'!$A$26:$L$44,12,FALSE)","v":1800},{"$f":"VLOOKUP($B$2,'Table 14'!$A$26:$L$44,12,FALSE)","v":1850},2.7777777777777679E-2,0.3214285714285714]
[]
[]
[]
[]
[]
[]
[]
[]
[]
[]
[]
[]
[]
[]
[]
[]
[null,"1 Bedroom Shared Properties - Quartile Measures, years to end Sept, (£ monthly):",null,null,null,null,null,null,null,null,null,null,null,"Sample Sizes:",null,null,null,null,null,null,null,null,null,null,null,"Sample Sizes:"]
[null,null,2010,2011,2012,2013,2014,2015,2016,2017,"2016 to 2017","2010 to 2017",null,null,null,null,2010,2011,2012,2013,2014,2015,2016,2017,null,null,2010,2011,2012,2013,2014,2015,2016,2017]
[null,"Lower Quartile",{"$f":"VLOOKUP($B$2,'Table 7'!$A$47:$F$65,3,FALSE)","v":285},{"$f":"VLOOKUP($B$2,'Table 8'!$A$47:$F$65,3,FALSE)","v":285},{"$f":"VLOOKUP($B$2,'Table 9'!$A$47:$F$65,3,FALSE)","v":280},{"$f":"VLOOKUP($B$2,'Table 10'!$A$47:$F$65,3,FALSE)","v":285},{"$f":"VLOOKUP($B$2,'Table 11'!$A$47:$F$65,3,FALSE)","v":300},{"$f":"VLOOKUP($B$2,'Table 12'!$A$47:$F$65,3,FALSE)","v":305},{"$f":"VLOOKUP($B$2,'Table 13'!$A$47:$F$65,3,FALSE)","v":325},{"$f":"VLOOKUP($B$2,'Table 14'!$A$47:$F$65,3,FALSE)","v":325},{"$f":"J70/I70-1","v":0},{"$f":"J70/C70-1","v":0.14035087719298245},null,"1 Bedroom ",null,null,{"$f":"VLOOKUP($B$2,'Table 7'!$A$5:$L$23,2,FALSE)","v":1221},{"$f":"VLOOKUP($B$2,'Table 8'!$A$5:$L$23,2,FALSE)","v":987},{"$f":"VLOOKUP($B$2,'Table 9'!$A$5:$L$23,2,FALSE)","v":1276},{"$f":"VLOOKUP($B$2,'Table 10'!$A$5:$L$23,2,FALSE)","v":1049},{"$f":"VLOOKUP($B$2,'Table 11'!$A$5:$L$23,2,FALSE)","v":950},{"$f":"VLOOKUP($B$2,'Table 12'!$A$5:$L$23,2,FALSE)","v":939},{"$f":"VLOOKUP($B$2,'Table 13'!$A$5:$L$23,2,FALSE)","v":944},{"$f":"VLOOKUP($B$2,'Table 14'!$A$5:$L$23,2,FALSE)","v":1338},null,"1 Bedroom ",{"$f":"VLOOKUP($B$2,'Table 7'!$A$5:$L$23,2,FALSE)","v":1221},{"$f":"VLOOKUP($B$2,'Table 8'!$A$5:$L$23,2,FALSE)","v":987},{"$f":"VLOOKUP($B$2,'Table 9'!$A$5:$L$23,2,FALSE)","v":1276},{"$f":"VLOOKUP($B$2,'Table 10'!$A$5:$L$23,2,FALSE)","v":1049},{"$f":"VLOOKUP($B$2,'Table 11'!$A$5:$L$23,2,FALSE)","v":950},{"$f":"VLOOKUP($B$2,'Table 12'!$A$5:$L$23,2,FALSE)","v":939},{"$f":"VLOOKUP($B$2,'Table 13'!$A$5:$L$23,2,FALSE)","v":944},{"$f":"VLOOKUP($B$2,'Table 14'!$A$5:$L$23,2,FALSE)","v":1338}]
[null,"Median",{"$f":"VLOOKUP($B$2,'Table 7'!$A$47:$F$65,4,FALSE)","v":325},{"$f":"VLOOKUP($B$2,'Table 8'!$A$47:$F$65,4,FALSE)","v":320},{"$f":"VLOOKUP($B$2,'Table 9'!$A$47:$F$65,4,FALSE)","v":325},{"$f":"VLOOKUP($B$2,'Table 10'!$A$47:$F$65,4,FALSE)","v":325},{"$f":"VLOOKUP($B$2,'Table 11'!$A$47:$F$65,4,FALSE)","v":328},{"$f":"VLOOKUP($B$2,'Table 12'!$A$47:$F$65,4,FALSE)","v":350},{"$f":"VLOOKUP($B$2,'Table 13'!$A$47:$F$65,4,FALSE)","v":375},{"$f":"VLOOKUP($B$2,'Table 14'!$A$47:$F$65,4,FALSE)","v":385},{"$f":"J71/I71-1","v":2.6666666666666616E-2},{"$f":"J71/C71-1","v":0.18461538461538463},null,"2 Bedrooms",null,null,{"$f":"VLOOKUP($B$2,'Table 7'!$A$5:$L$23,8,FALSE)","v":1909},{"$f":"VLOOKUP($B$2,'Table 8'!$A$5:$L$23,8,FALSE)","v":1495},{"$f":"VLOOKUP($B$2,'Table 9'!$A$5:$L$23,8,FALSE)","v":1654},{"$f":"VLOOKUP($B$2,'Table 10'!$A$5:$L$23,8,FALSE)","v":1791},{"$f":"VLOOKUP($B$2,'Table 11'!$A$5:$L$23,8,FALSE)","v":1602},{"$f":"VLOOKUP($B$2,'Table 12'!$A$5:$L$23,8,FALSE)","v":1818},{"$f":"VLOOKUP($B$2,'Table 13'!$A$5:$L$23,8,FALSE)","v":1776},{"$f":"VLOOKUP($B$2,'Table 14'!$A$5:$L$23,8,FALSE)","v":2025},null,"2 Bedrooms",{"$f":"VLOOKUP($B$2,'Table 7'!$A$5:$L$23,8,FALSE)","v":1909},{"$f":"VLOOKUP($B$2,'Table 8'!$A$5:$L$23,8,FALSE)","v":1495},{"$f":"VLOOKUP($B$2,'Table 9'!$A$5:$L$23,8,FALSE)","v":1654},{"$f":"VLOOKUP($B$2,'Table 10'!$A$5:$L$23,8,FALSE)","v":1791},{"$f":"VLOOKUP($B$2,'Table 11'!$A$5:$L$23,8,FALSE)","v":1602},{"$f":"VLOOKUP($B$2,'Table 12'!$A$5:$L$23,8,FALSE)","v":1818},{"$f":"VLOOKUP($B$2,'Table 13'!$A$5:$L$23,8,FALSE)","v":1776},{"$f":"VLOOKUP($B$2,'Table 14'!$A$5:$L$23,8,FALSE)","v":2025}]
[null,"Mean",{"$f":"VLOOKUP($B$2,'Table 7'!$A$47:$F$65,5,FALSE)","v":319.85000000000002},{"$f":"VLOOKUP($B$2,'Table 8'!$A$47:$F$65,5,FALSE)","v":313.86},{"$f":"VLOOKUP($B$2,'Table 9'!$A$47:$F$65,5,FALSE)","v":316.18},{"$f":"VLOOKUP($B$2,'Table 10'!$A$47:$F$65,5,FALSE)","v":327.84},{"$f":"VLOOKUP($B$2,'Table 11'!$A$47:$F$65,5,FALSE)","v":338.41},{"$f":"VLOOKUP($B$2,'Table 12'!$A$47:$F$65,5,FALSE)","v":351.08},{"$f":"VLOOKUP($B$2,'Table 13'!$A$47:$F$65,5,FALSE)","v":367.86},{"$f":"VLOOKUP($B$2,'Table 14'!$A$47:$F$65,5,FALSE)","v":390.14},6.0566519871690261E-2,0.21975926215413466,null,"3 Bedrooms",null,null,{"$f":"VLOOKUP($B$2,'Table 7'!$A$26:$L$44,2,FALSE)","v":923},{"$f":"VLOOKUP($B$2,'Table 8'!$A$26:$L$44,2,FALSE)","v":737},{"$f":"VLOOKUP($B$2,'Table 9'!$A$26:$L$44,2,FALSE)","v":801},{"$f":"VLOOKUP($B$2,'Table 10'!$A$26:$L$44,2,FALSE)","v":666},{"$f":"VLOOKUP($B$2,'Table 11'!$A$26:$L$44,2,FALSE)","v":612},{"$f":"VLOOKUP($B$2,'Table 12'!$A$26:$L$44,2,FALSE)","v":698},{"$f":"VLOOKUP($B$2,'Table 13'!$A$26:$L$44,2,FALSE)","v":613},{"$f":"VLOOKUP($B$2,'Table 14'!$A$26:$L$44,2,FALSE)","v":642},null,"3 Bedrooms",{"$f":"VLOOKUP($B$2,'Table 7'!$A$26:$L$44,2,FALSE)","v":923},{"$f":"VLOOKUP($B$2,'Table 8'!$A$26:$L$44,2,FALSE)","v":737},{"$f":"VLOOKUP($B$2,'Table 9'!$A$26:$L$44,2,FALSE)","v":801},{"$f":"VLOOKUP($B$2,'Table 10'!$A$26:$L$44,2,FALSE)","v":666},{"$f":"VLOOKUP($B$2,'Table 11'!$A$26:$L$44,2,FALSE)","v":612},{"$f":"VLOOKUP($B$2,'Table 12'!$A$26:$L$44,2,FALSE)","v":698},{"$f":"VLOOKUP($B$2,'Table 13'!$A$26:$L$44,2,FALSE)","v":613},{"$f":"VLOOKUP($B$2,'Table 14'!$A$26:$L$44,2,FALSE)","v":642}]
[null,"Upper Quartile",{"$f":"VLOOKUP($B$2,'Table 7'!$A$47:$F$65,6,FALSE)","v":350},{"$f":"VLOOKUP($B$2,'Table 8'!$A$47:$F$65,6,FALSE)","v":341.47},{"$f":"VLOOKUP($B$2,'Table 9'!$A$47:$F$65,6,FALSE)","v":350},{"$f":"VLOOKUP($B$2,'Table 10'!$A$47:$F$65,6,FALSE)","v":366.33},{"$f":"VLOOKUP($B$2,'Table 11'!$A$47:$F$65,6,FALSE)","v":375},{"$f":"VLOOKUP($B$2,'Table 12'!$A$47:$F$65,6,FALSE)","v":395},{"$f":"VLOOKUP($B$2,'Table 13'!$A$47:$F$65,6,FALSE)","v":425},{"$f":"VLOOKUP($B$2,'Table 14'!$A$47:$F$65,6,FALSE)","v":446.43},5.0423529411764756E-2,0.27551428571428582,null,"4 Bedrooms",null,null,{"$f":"VLOOKUP($B$2,'Table 7'!$A$26:$L$44,8,FALSE)","v":473},{"$f":"VLOOKUP($B$2,'Table 8'!$A$26:$L$44,8,FALSE)","v":406},{"$f":"VLOOKUP($B$2,'Table 9'!$A$26:$L$44,8,FALSE)","v":442},{"$f":"VLOOKUP($B$2,'Table 10'!$A$26:$L$44,8,FALSE)","v":264},{"$f":"VLOOKUP($B$2,'Table 11'!$A$26:$L$44,8,FALSE)","v":242},{"$f":"VLOOKUP($B$2,'Table 12'!$A$26:$L$44,8,FALSE)","v":229},{"$f":"VLOOKUP($B$2,'Table 13'!$A$26:$L$44,8,FALSE)","v":194},{"$f":"VLOOKUP($B$2,'Table 14'!$A$26:$L$44,8,FALSE)","v":177},null,"4 Bedrooms",{"$f":"VLOOKUP($B$2,'Table 7'!$A$26:$L$44,8,FALSE)","v":473},{"$f":"VLOOKUP($B$2,'Table 8'!$A$26:$L$44,8,FALSE)","v":406},{"$f":"VLOOKUP($B$2,'Table 9'!$A$26:$L$44,8,FALSE)","v":442},{"$f":"VLOOKUP($B$2,'Table 10'!$A$26:$L$44,8,FALSE)","v":264},{"$f":"VLOOKUP($B$2,'Table 11'!$A$26:$L$44,8,FALSE)","v":242},{"$f":"VLOOKUP($B$2,'Table 12'!$A$26:$L$44,8,FALSE)","v":229},{"$f":"VLOOKUP($B$2,'Table 13'!$A$26:$L$44,8,FALSE)","v":194},{"$f":"VLOOKUP($B$2,'Table 14'!$A$26:$L$44,8,FALSE)","v":177}]
[null,null,null,null,null,null,null,null,null,null,null,null,null,"1 Bedroom Shared",null,null,{"$f":"VLOOKUP($B$2,'Table 7'!$A$47:$L$65,2,FALSE)","v":251},{"$f":"VLOOKUP($B$2,'Table 8'!$A$47:$L$65,2,FALSE)","v":243},{"$f":"VLOOKUP($B$2,'Table 9'!$A$47:$L$65,2,FALSE)","v":307},{"$f":"VLOOKUP($B$2,'Table 10'!$A$47:$L$65,2,FALSE)","v":329},{"$f":"VLOOKUP($B$2,'Table 11'!$A$47:$L$65,2,FALSE)","v":333},{"$f":"VLOOKUP($B$2,'Table 12'!$A$47:$L$65,2,FALSE)","v":339},{"$f":"VLOOKUP($B$2,'Table 13'!$A$47:$L$65,2,FALSE)","v":379},{"$f":"VLOOKUP($B$2,'Table 14'!$A$47:$L$65,2,FALSE)","v":397},null,"1 Bedroom Shared",{"$f":"VLOOKUP($B$2,'Table 7'!$A$47:$L$65,2,FALSE)","v":251},{"$f":"VLOOKUP($B$2,'Table 8'!$A$47:$L$65,2,FALSE)","v":243},{"$f":"VLOOKUP($B$2,'Table 9'!$A$47:$L$65,2,FALSE)","v":307},{"$f":"VLOOKUP($B$2,'Table 10'!$A$47:$L$65,2,FALSE)","v":329},{"$f":"VLOOKUP($B$2,'Table 11'!$A$47:$L$65,2,FALSE)","v":333},{"$f":"VLOOKUP($B$2,'Table 12'!$A$47:$L$65,2,FALSE)","v":339},{"$f":"VLOOKUP($B$2,'Table 13'!$A$47:$L$65,2,FALSE)","v":379},{"$f":"VLOOKUP($B$2,'Table 14'!$A$47:$L$65,2,FALSE)","v":397}]
[]
[]
[]
[]
[]
[]
[]
[]
[]
[]
[]
[]
[]
[]
[]
[]
[]
[null,null,null,null,null,null,null,null,null,null,null,null,null,null,null,null,null,null,null,null,null,null,null,null,null,null,null,null,null,null,null,null,null,null,null,2010,2011,2012,2013,2014,2015,2016,2017]
[null,null,null,null,null,null,null,null,null,null,null,null,null,null,null,null,null,null,null,null,null,null,null,null,null,null,null,null,null,null,null,null,null,null,"Scotland",{"$f":"'All years 2 bed'!B22","v":536.27},{"$f":"'All years 2 bed'!C22","v":546.41999999999996},{"$f":"'All years 2 bed'!D22","v":552.89},{"$f":"'All years 2 bed'!E22","v":575.84},{"$f":"'All years 2 bed'!F22","v":596.45000000000005},{"$f":"'All years 2 bed'!G22","v":609.52},{"$f":"'All years 2 bed'!H22","v":615.64},{"$f":"'All years 2 bed'!I22","v":642.79999999999995}]
[null,null,null,null,null,null,null,null,null,null,null,null,null,null,null,null,null,null,null,null,null,null,null,null,null,null,null,null,null,null,null,null,null,null,{"$f":"B2","v":"Lothian"},{"$f":"VLOOKUP($AI$94,'All years 2 bed'!$A$4:$I$21,2,FALSE)","v":664.51},{"$f":"VLOOKUP($AI$94,'All years 2 bed'!$A$4:$I$21,3,FALSE)","v":688.96},{"$f":"VLOOKUP($AI$94,'All years 2 bed'!$A$4:$I$21,4,FALSE)","v":699.53},{"$f":"VLOOKUP($AI$94,'All years 2 bed'!$A$4:$I$21,5,FALSE)","v":728.57},{"$f":"VLOOKUP($AI$94,'All years 2 bed'!$A$4:$I$21,6,FALSE)","v":779.12},{"$f":"VLOOKUP($AI$94,'All years 2 bed'!$A$4:$I$21,7,FALSE)","v":828.92},{"$f":"VLOOKUP($AI$94,'All years 2 bed'!$A$4:$I$21,8,FALSE)","v":830.97},{"$f":"VLOOKUP($AI$94,'All years 2 bed'!$A$4:$I$21,9,FALSE)","v":888.18}]

{"sheet":"North Lanarkshire","index":58,"n_rows":94,"n_cols":43,"rows_kept":94,"cut":false,"hidden":false,"merged":[[73,13,73,15],[1,1,1,3],[69,13,69,15],[70,13,70,15],[71,13,71,15],[72,13,72,15]]}
[null,"BRMA:"]
[null,"North Lanarkshire"]
[]
["Back to contents"]
[null,"Broad Rental Market Area Profile: North Lanarkshire"]
[]
[]
[]
[]
[]
[]
[]
[]
[]
[]
[]
[]
[]
[]
[]
[]
[]
[]
[null,"1 Bedroom Properties - Quartile Measures, years to end Sept, (£ monthly):",null,null,null,null,null,null,null,null,null,null,null,"2 Bedroom Properties - Quartile Measures, years to end Sept, (£ monthly):"]
[null,null,2010,2011,2012,2013,2014,2015,2016,2017,"2016 to 2017","2010 to 2017",null,null,2010,2011,2012,2013,2014,2015,2016,2017,"2016 to 2017","2010 to 2017"]
[null,"Lower Quartile",{"$f":"VLOOKUP($B$2,'Table 7'!$A$5:$L$23,3,FALSE)","v":350},{"$f":"VLOOKUP($B$2,'Table 8'!$A$5:$L$23,3,FALSE)","v":350},{"$f":"VLOOKUP($B$2,'Table 9'!$A$5:$L$23,3,FALSE)","v":350},{"$f":"VLOOKUP($B$2,'Table 10'!$A$5:$L$23,3,FALSE)","v":350},{"$f":"VLOOKUP($B$2,'Table 11'!$A$5:$L$23,3,FALSE)","v":350},{"$f":"VLOOKUP($B$2,'Table 12'!$A$5:$L$23,3,FALSE)","v":350},{"$f":"VLOOKUP($B$2,'Table 13'!$A$5:$L$23,3,FALSE)","v":350},{"$f":"VLOOKUP($B$2,'Table 14'!$A$5:$L$23,3,FALSE)","v":350},{"$f":"J26/I26-1","v":0},{"$f":"J26/C26-1","v":0},null,"Lower Quartile",{"$f":"VLOOKUP($B$2,'Table 7'!$A$5:$L$23,9,FALSE)","v":425},{"$f":"VLOOKUP($B$2,'Table 8'!$A$5:$L$23,9,FALSE)","v":425},{"$f":"VLOOKUP($B$2,'Table 9'!$A$5:$L$23,9,FALSE)","v":425},{"$f":"VLOOKUP($B$2,'Table 10'!$A$5:$L$23,9,FALSE)","v":425},{"$f":"VLOOKUP($B$2,'Table 11'!$A$5:$L$23,9,FALSE)","v":425},{"$f":"VLOOKUP($B$2,'Table 12'!$A$5:$L$23,9,FALSE)","v":425},{"$f":"VLOOKUP($B$2,'Table 13'!$A$5:$L$23,9,FALSE)","v":425},{"$f":"VLOOKUP($B$2,'Table 14'!$A$5:$L$23,9,FALSE)","v":425},{"$f":"V26/U26-1","v":0},{"$f":"V26/O26-1","v":0}]
[null,"Median",{"$f":"VLOOKUP($B$2,'Table 7'!$A$5:$L$23,4,FALSE)","v":375},{"$f":"VLOOKUP($B$2,'Table 8'!$A$5:$L$23,4,FALSE)","v":375},{"$f":"VLOOKUP($B$2,'Table 9'!$A$5:$L$23,4,FALSE)","v":375},{"$f":"VLOOKUP($B$2,'Table 10'!$A$5:$L$23,4,FALSE)","v":375},{"$f":"VLOOKUP($B$2,'Table 11'!$A$5:$L$23,4,FALSE)","v":375},{"$f":"VLOOKUP($B$2,'Table 12'!$A$5:$L$23,4,FALSE)","v":375},{"$f":"VLOOKUP($B$2,'Table 13'!$A$5:$L$23,4,FALSE)","v":375},{"$f":"VLOOKUP($B$2,'Table 14'!$A$5:$L$23,4,FALSE)","v":395},{"$f":"J27/I27-1","v":5.3333333333333233E-2},{"$f":"J27/C27-1","v":5.3333333333333233E-2},null,"Median",{"$f":"VLOOKUP($B$2,'Table 7'!$A$5:$L$23,10,FALSE)","v":450},{"$f":"VLOOKUP($B$2,'Table 8'!$A$5:$L$23,10,FALSE)","v":450},{"$f":"VLOOKUP($B$2,'Table 9'!$A$5:$L$23,10,FALSE)","v":450},{"$f":"VLOOKUP($B$2,'Table 10'!$A$5:$L$23,10,FALSE)","v":450},{"$f":"VLOOKUP($B$2,'Table 11'!$A$5:$L$23,10,FALSE)","v":450},{"$f":"VLOOKUP($B$2,'Table 12'!$A$5:$L$23,10,FALSE)","v":450},{"$f":"VLOOKUP($B$2,'Table 13'!$A$5:$L$23,10,FALSE)","v":475},{"$f":"VLOOKUP($B$2,'Table 14'!$A$5:$L$23,10,FALSE)","v":475},{"$f":"V27/U27-1","v":0},{"$f":"V27/O27-1","v":5.555555555555558E-2}]
[null,"Mean",{"$f":"VLOOKUP($B$2,'Table 7'!$A$5:$L$23,5,FALSE)","v":373.16},{"$f":"VLOOKUP($B$2,'Table 8'!$A$5:$L$23,5,FALSE)","v":378.99},{"$f":"VLOOKUP($B$2,'Table 9'!$A$5:$L$23,5,FALSE)","v":382.48},{"$f":"VLOOKUP($B$2,'Table 10'!$A$5:$L$23,5,FALSE)","v":382.66},{"$f":"VLOOKUP($B$2,'Table 11'!$A$5:$L$23,5,FALSE)","v":375.12},{"$f":"VLOOKUP($B$2,'Table 12'!$A$5:$L$23,5,FALSE)","v":383.63},{"$f":"VLOOKUP($B$2,'Table 13'!$A$5:$L$23,5,FALSE)","v":381.35},{"$f":"VLOOKUP($B$2,'Table 14'!$A$5:$L$23,5,FALSE)","v":389.89},2.23941261308509E-2,4.4833315467895707E-2,null,"Mean",{"$f":"VLOOKUP($B$2,'Table 7'!$A$5:$L$23,11,FALSE)","v":454.65},{"$f":"VLOOKUP($B$2,'Table 8'!$A$5:$L$23,11,FALSE)","v":463.08},{"$f":"VLOOKUP($B$2,'Table 9'!$A$5:$L$23,11,FALSE)","v":464.37},{"$f":"VLOOKUP($B$2,'Table 10'!$A$5:$L$23,11,FALSE)","v":463.09},{"$f":"VLOOKUP($B$2,'Table 11'!$A$5:$L$23,11,FALSE)","v":463.85},{"$f":"VLOOKUP($B$2,'Table 12'!$A$5:$L$23,11,FALSE)","v":474.83},{"$f":"VLOOKUP($B$2,'Table 13'!$A$5:$L$23,11,FALSE)","v":475.8},{"$f":"VLOOKUP($B$2,'Table 14'!$A$5:$L$23,11,FALSE)","v":480.25},9.3526691887346747E-3,5.6307049378643059E-2]
[null,"Upper Quartile",{"$f":"VLOOKUP($B$2,'Table 7'!$A$5:$L$23,6,FALSE)","v":400},{"$f":"VLOOKUP($B$2,'Table 8'!$A$5:$L$23,6,FALSE)","v":425},{"$f":"VLOOKUP($B$2,'Table 9'!$A$5:$L$23,6,FALSE)","v":400},{"$f":"VLOOKUP($B$2,'Table 10'!$A$5:$L$23,6,FALSE)","v":425},{"$f":"VLOOKUP($B$2,'Table 11'!$A$5:$L$23,6,FALSE)","v":395},{"$f":"VLOOKUP($B$2,'Table 12'!$A$5:$L$23,6,FALSE)","v":400},{"$f":"VLOOKUP($B$2,'Table 13'!$A$5:$L$23,6,FALSE)","v":425},{"$f":"VLOOKUP($B$2,'Table 14'!$A$5:$L$23,6,FALSE)","v":425},0,6.25E-2,null,"Upper Quartile",{"$f":"VLOOKUP($B$2,'Table 7'!$A$5:$L$23,12,FALSE)","v":495},{"$f":"VLOOKUP($B$2,'Table 8'!$A$5:$L$23,12,FALSE)","v":495},{"$f":"VLOOKUP($B$2,'Table 9'!$A$5:$L$23,12,FALSE)","v":500},{"$f":"VLOOKUP($B$2,'Table 10'!$A$5:$L$23,12,FALSE)","v":495},{"$f":"VLOOKUP($B$2,'Table 11'!$A$5:$L$23,12,FALSE)","v":497.5},{"$f":"VLOOKUP($B$2,'Table 12'!$A$5:$L$23,12,FALSE)","v":525},{"$f":"VLOOKUP($B$2,'Table 13'!$A$5:$L$23,12,FALSE)","v":525},{"$f":"VLOOKUP($B$2,'Table 14'!$A$5:$L$23,12,FALSE)","v":525},0,6.0606060606060552E-2]
[]
[]
[]
[]
[]
[]
[]
[]
[]
[]
[]
[]
[]
[]
[]
[]
[null,"3 Bedroom Properties - Quartile Measures, years to end Sept, (£ monthly):",null,null,null,null,null,null,null,null,null,null,null,"4 Bedroom Properties - Quartile Measures, years to end Sept, (£ monthly):"]
[null,null,2010,2011,2012,2013,2014,2015,2016,2017,"2016 to 2017","2010 to 2017",null,null,2010,2011,2012,2013,2014,2015,2016,2017,"2016 to 2017","2010 to 2017"]
[null,"Lower Quartile",{"$f":"VLOOKUP($B$2,'Table 7'!$A$26:$L$44,3,FALSE)","v":495},{"$f":"VLOOKUP($B$2,'Table 8'!$A$26:$L$44,3,FALSE)","v":475},{"$f":"VLOOKUP($B$2,'Table 9'!$A$26:$L$44,3,FALSE)","v":495},{"$f":"VLOOKUP($B$2,'Table 10'!$A$26:$L$44,3,FALSE)","v":475},{"$f":"VLOOKUP($B$2,'Table 11'!$A$26:$L$44,3,FALSE)","v":495},{"$f":"VLOOKUP($B$2,'Table 12'!$A$26:$L$44,3,FALSE)","v":479},{"$f":"VLOOKUP($B$2,'Table 13'!$A$26:$L$44,3,FALSE)","v":495},{"$f":"VLOOKUP($B$2,'Table 14'!$A$26:$L$44,3,FALSE)","v":475},{"$f":"J48/I48-1","v":-4.0404040404040442E-2},{"$f":"J48/C48-1","v":-4.0404040404040442E-2},null,"Lower Quartile",{"$f":"VLOOKUP($B$2,'Table 7'!$A$26:$L$44,9,FALSE)","v":695},{"$f":"VLOOKUP($B$2,'Table 8'!$A$26:$L$44,9,FALSE)","v":695},{"$f":"VLOOKUP($B$2,'Table 9'!$A$26:$L$44,9,FALSE)","v":725},{"$f":"VLOOKUP($B$2,'Table 10'!$A$26:$L$44,9,FALSE)","v":750},{"$f":"VLOOKUP($B$2,'Table 11'!$A$26:$L$44,9,FALSE)","v":695},{"$f":"VLOOKUP($B$2,'Table 12'!$A$26:$L$44,9,FALSE)","v":750},{"$f":"VLOOKUP($B$2,'Table 13'!$A$26:$L$44,9,FALSE)","v":695},{"$f":"VLOOKUP($B$2,'Table 14'!$A$26:$L$44,9,FALSE)","v":662.5},{"$f":"V48/U48-1","v":-4.6762589928057596E-2},{"$f":"V48/O48-1","v":-4.6762589928057596E-2}]
[null,"Median",{"$f":"VLOOKUP($B$2,'Table 7'!$A$26:$L$44,4,FALSE)","v":550},{"$f":"VLOOKUP($B$2,'Table 8'!$A$26:$L$44,4,FALSE)","v":550},{"$f":"VLOOKUP($B$2,'Table 9'!$A$26:$L$44,4,FALSE)","v":550},{"$f":"VLOOKUP($B$2,'Table 10'!$A$26:$L$44,4,FALSE)","v":550},{"$f":"VLOOKUP($B$2,'Table 11'!$A$26:$L$44,4,FALSE)","v":550},{"$f":"VLOOKUP($B$2,'Table 12'!$A$26:$L$44,4,FALSE)","v":550},{"$f":"VLOOKUP($B$2,'Table 13'!$A$26:$L$44,4,FALSE)","v":550},{"$f":"VLOOKUP($B$2,'Table 14'!$A$26:$L$44,4,FALSE)","v":550},{"$f":"J49/I49-1","v":0},{"$f":"J49/C49-1","v":0},null,"Median",{"$f":"VLOOKUP($B$2,'Table 7'!$A$26:$L$44,10,FALSE)","v":795},{"$f":"VLOOKUP($B$2,'Table 8'!$A$26:$L$44,10,FALSE)","v":750},{"$f":"VLOOKUP($B$2,'Table 9'!$A$26:$L$44,10,FALSE)","v":795},{"$f":"VLOOKUP($B$2,'Table 10'!$A$26:$L$44,10,FALSE)","v":800},{"$f":"VLOOKUP($B$2,'Table 11'!$A$26:$L$44,10,FALSE)","v":795},{"$f":"VLOOKUP($B$2,'Table 12'!$A$26:$L$44,10,FALSE)","v":850},{"$f":"VLOOKUP($B$2,'Table 13'!$A$26:$L$44,10,FALSE)","v":795},{"$f":"VLOOKUP($B$2,'Table 14'!$A$26:$L$44,10,FALSE)","v":850},{"$f":"V49/U49-1","v":6.9182389937106903E-2},{"$f":"V49/O49-1","v":6.9182389937106903E-2}]
[null,"Mean",{"$f":"VLOOKUP($B$2,'Table 7'!$A$26:$L$44,5,FALSE)","v":548.52},{"$f":"VLOOKUP($B$2,'Table 8'!$A$26:$L$44,5,FALSE)","v":545.82000000000005},{"$f":"VLOOKUP($B$2,'Table 9'!$A$26:$L$44,5,FALSE)","v":571.46},{"$f":"VLOOKUP($B$2,'Table 10'!$A$26:$L$44,5,FALSE)","v":540.87},{"$f":"VLOOKUP($B$2,'Table 11'!$A$26:$L$44,5,FALSE)","v":550.52},{"$f":"VLOOKUP($B$2,'Table 12'!$A$26:$L$44,5,FALSE)","v":564.87},{"$f":"VLOOKUP($B$2,'Table 13'!$A$26:$L$44,5,FALSE)","v":564.39},{"$f":"VLOOKUP($B$2,'Table 14'!$A$26:$L$44,5,FALSE)","v":555.36},-1.599957476213254E-2,1.2469919054911349E-2,null,"Mean",{"$f":"VLOOKUP($B$2,'Table 7'!$A$26:$L$44,11,FALSE)","v":776.25},{"$f":"VLOOKUP($B$2,'Table 8'!$A$26:$L$44,11,FALSE)","v":769.27},{"$f":"VLOOKUP($B$2,'Table 9'!$A$26:$L$44,11,FALSE)","v":793.22},{"$f":"VLOOKUP($B$2,'Table 10'!$A$26:$L$44,11,FALSE)","v":826.73},{"$f":"VLOOKUP($B$2,'Table 11'!$A$26:$L$44,11,FALSE)","v":791.64},{"$f":"VLOOKUP($B$2,'Table 12'!$A$26:$L$44,11,FALSE)","v":895.06},{"$f":"VLOOKUP($B$2,'Table 13'!$A$26:$L$44,11,FALSE)","v":823.4},{"$f":"VLOOKUP($B$2,'Table 14'!$A$26:$L$44,11,FALSE)","v":889.42},8.0179742530969156E-2,0.14579066022544285]
[null,"Upper Quartile",{"$f":"VLOOKUP($B$2,'Table 7'!$A$26:$L$44,6,FALSE)","v":600},{"$f":"VLOOKUP($B$2,'Table 8'!$A$26:$L$44,6,FALSE)","v":595},{"$f":"VLOOKUP($B$2,'Table 9'!$A$26:$L$44,6,FALSE)","v":650},{"$f":"VLOOKUP($B$2,'Table 10'!$A$26:$L$44,6,FALSE)","v":600},{"$f":"VLOOKUP($B$2,'Table 11'!$A$26:$L$44,6,FALSE)","v":597.5},{"$f":"VLOOKUP($B$2,'Table 12'!$A$26:$L$44,6,FALSE)","v":650},{"$f":"VLOOKUP($B$2,'Table 13'!$A$26:$L$44,6,FALSE)","v":600},{"$f":"VLOOKUP($B$2,'Table 14'!$A$26:$L$44,6,FALSE)","v":600},0,0,null,"Upper Quartile",{"$f":"VLOOKUP($B$2,'Table 7'!$A$26:$L$44,12,FALSE)","v":850},{"$f":"VLOOKUP($B$2,'Table 8'!$A$26:$L$44,12,FALSE)","v":850},{"$f":"VLOOKUP($B$2,'Table 9'!$A$26:$L$44,12,FALSE)","v":850},{"$f":"VLOOKUP($B$2,'Table 10'!$A$26:$L$44,12,FALSE)","v":895},{"$f":"VLOOKUP($B$2,'Table 11'!$A$26:$L$44,12,FALSE)","v":850},{"$f":"VLOOKUP($B$2,'Table 12'!$A$26:$L$44,12,FALSE)","v":950},{"$f":"VLOOKUP($B$2,'Table 13'!$A$26:$L$44,12,FALSE)","v":925},{"$f":"VLOOKUP($B$2,'Table 14'!$A$26:$L$44,12,FALSE)","v":1000},8.1081081081081141E-2,0.17647058823529416]
[]
[]
[]
[]
[]
[]
[]
[]
[]
[]
[]
[]
[]
[]
[]
[]
[null,"1 Bedroom Shared Properties - Quartile Measures, years to end Sept, (£ monthly):",null,null,null,null,null,null,null,null,null,null,null,"Sample Sizes:",null,null,null,null,null,null,null,null,null,null,null,"Sample Sizes:"]
[null,null,2010,2011,2012,2013,2014,2015,2016,2017,"2016 to 2017","2010 to 2017",null,null,null,null,2010,2011,2012,2013,2014,2015,2016,2017,null,null,2010,2011,2012,2013,2014,2015,2016,2017]
[null,"Lower Quartile",{"$f":"VLOOKUP($B$2,'Table 7'!$A$47:$F$65,3,FALSE)","v":260},{"$f":"VLOOKUP($B$2,'Table 8'!$A$47:$F$65,3,FALSE)","v":280},{"$f":"VLOOKUP($B$2,'Table 9'!$A$47:$F$65,3,FALSE)","v":255.5},{"$f":"VLOOKUP($B$2,'Table 10'!$A$47:$F$65,3,FALSE)","v":253},{"$f":"VLOOKUP($B$2,'Table 11'!$A$47:$F$65,3,FALSE)","v":260},{"$f":"VLOOKUP($B$2,'Table 12'!$A$47:$F$65,3,FALSE)","v":260.70999999999998},{"$f":"VLOOKUP($B$2,'Table 13'!$A$47:$F$65,3,FALSE)","v":260.70999999999998},{"$f":"VLOOKUP($B$2,'Table 14'!$A$47:$F$65,3,FALSE)","v":275},{"$f":"J70/I70-1","v":5.4811859920985029E-2},{"$f":"J70/C70-1","v":5.7692307692307709E-2},null,"1 Bedroom ",null,null,{"$f":"VLOOKUP($B$2,'Table 7'!$A$5:$L$23,2,FALSE)","v":153},{"$f":"VLOOKUP($B$2,'Table 8'!$A$5:$L$23,2,FALSE)","v":185},{"$f":"VLOOKUP($B$2,'Table 9'!$A$5:$L$23,2,FALSE)","v":162},{"$f":"VLOOKUP($B$2,'Table 10'!$A$5:$L$23,2,FALSE)","v":127},{"$f":"VLOOKUP($B$2,'Table 11'!$A$5:$L$23,2,FALSE)","v":164},{"$f":"VLOOKUP($B$2,'Table 12'!$A$5:$L$23,2,FALSE)","v":160},{"$f":"VLOOKUP($B$2,'Table 13'!$A$5:$L$23,2,FALSE)","v":181},{"$f":"VLOOKUP($B$2,'Table 14'!$A$5:$L$23,2,FALSE)","v":233},null,"1 Bedroom ",{"$f":"VLOOKUP($B$2,'Table 7'!$A$5:$L$23,2,FALSE)","v":153},{"$f":"VLOOKUP($B$2,'Table 8'!$A$5:$L$23,2,FALSE)","v":185},{"$f":"VLOOKUP($B$2,'Table 9'!$A$5:$L$23,2,FALSE)","v":162},{"$f":"VLOOKUP($B$2,'Table 10'!$A$5:$L$23,2,FALSE)","v":127},{"$f":"VLOOKUP($B$2,'Table 11'!$A$5:$L$23,2,FALSE)","v":164},{"$f":"VLOOKUP($B$2,'Table 12'!$A$5:$L$23,2,FALSE)","v":160},{"$f":"VLOOKUP($B$2,'Table 13'!$A$5:$L$23,2,FALSE)","v":181},{"$f":"VLOOKUP($B$2,'Table 14'!$A$5:$L$23,2,FALSE)","v":233}]
[null,"Median",{"$f":"VLOOKUP($B$2,'Table 7'!$A$47:$F$65,4,FALSE)","v":300},{"$f":"VLOOKUP($B$2,'Table 8'!$A$47:$F$65,4,FALSE)","v":300},{"$f":"VLOOKUP($B$2,'Table 9'!$A$47:$F$65,4,FALSE)","v":301.5},{"$f":"VLOOKUP($B$2,'Table 10'!$A$47:$F$65,4,FALSE)","v":275},{"$f":"VLOOKUP($B$2,'Table 11'!$A$47:$F$65,4,FALSE)","v":300},{"$f":"VLOOKUP($B$2,'Table 12'!$A$47:$F$65,4,FALSE)","v":300},{"$f":"VLOOKUP($B$2,'Table 13'!$A$47:$F$65,4,FALSE)","v":325},{"$f":"VLOOKUP($B$2,'Table 14'!$A$47:$F$65,4,FALSE)","v":334},{"$f":"J71/I71-1","v":2.7692307692307683E-2},{"$f":"J71/C71-1","v":0.11333333333333329},null,"2 Bedrooms",null,null,{"$f":"VLOOKUP($B$2,'Table 7'!$A$5:$L$23,8,FALSE)","v":468},{"$f":"VLOOKUP($B$2,'Table 8'!$A$5:$L$23,8,FALSE)","v":548},{"$f":"VLOOKUP($B$2,'Table 9'!$A$5:$L$23,8,FALSE)","v":430},{"$f":"VLOOKUP($B$2,'Table 10'!$A$5:$L$23,8,FALSE)","v":431},{"$f":"VLOOKUP($B$2,'Table 11'!$A$5:$L$23,8,FALSE)","v":468},{"$f":"VLOOKUP($B$2,'Table 12'!$A$5:$L$23,8,FALSE)","v":437},{"$f":"VLOOKUP($B$2,'Table 13'!$A$5:$L$23,8,FALSE)","v":505},{"$f":"VLOOKUP($B$2,'Table 14'!$A$5:$L$23,8,FALSE)","v":513},null,"2 Bedrooms",{"$f":"VLOOKUP($B$2,'Table 7'!$A$5:$L$23,8,FALSE)","v":468},{"$f":"VLOOKUP($B$2,'Table 8'!$A$5:$L$23,8,FALSE)","v":548},{"$f":"VLOOKUP($B$2,'Table 9'!$A$5:$L$23,8,FALSE)","v":430},{"$f":"VLOOKUP($B$2,'Table 10'!$A$5:$L$23,8,FALSE)","v":431},{"$f":"VLOOKUP($B$2,'Table 11'!$A$5:$L$23,8,FALSE)","v":468},{"$f":"VLOOKUP($B$2,'Table 12'!$A$5:$L$23,8,FALSE)","v":437},{"$f":"VLOOKUP($B$2,'Table 13'!$A$5:$L$23,8,FALSE)","v":505},{"$f":"VLOOKUP($B$2,'Table 14'!$A$5:$L$23,8,FALSE)","v":513}]
[null,"Mean",{"$f":"VLOOKUP($B$2,'Table 7'!$A$47:$F$65,5,FALSE)","v":296.88},{"$f":"VLOOKUP($B$2,'Table 8'!$A$47:$F$65,5,FALSE)","v":306.67},{"$f":"VLOOKUP($B$2,'Table 9'!$A$47:$F$65,5,FALSE)","v":297.25},{"$f":"VLOOKUP($B$2,'Table 10'!$A$47:$F$65,5,FALSE)","v":274.70999999999998},{"$f":"VLOOKUP($B$2,'Table 11'!$A$47:$F$65,5,FALSE)","v":296.10000000000002},{"$f":"VLOOKUP($B$2,'Table 12'!$A$47:$F$65,5,FALSE)","v":310.17},{"$f":"VLOOKUP($B$2,'Table 13'!$A$47:$F$65,5,FALSE)","v":319.95999999999998},{"$f":"VLOOKUP($B$2,'Table 14'!$A$47:$F$65,5,FALSE)","v":346.7},8.357294661832726E-2,0.16781191053624367,null,"3 Bedrooms",null,null,{"$f":"VLOOKUP($B$2,'Table 7'!$A$26:$L$44,2,FALSE)","v":180},{"$f":"VLOOKUP($B$2,'Table 8'!$A$26:$L$44,2,FALSE)","v":251},{"$f":"VLOOKUP($B$2,'Table 9'!$A$26:$L$44,2,FALSE)","v":229},{"$f":"VLOOKUP($B$2,'Table 10'!$A$26:$L$44,2,FALSE)","v":199},{"$f":"VLOOKUP($B$2,'Table 11'!$A$26:$L$44,2,FALSE)","v":200},{"$f":"VLOOKUP($B$2,'Table 12'!$A$26:$L$44,2,FALSE)","v":237},{"$f":"VLOOKUP($B$2,'Table 13'!$A$26:$L$44,2,FALSE)","v":215},{"$f":"VLOOKUP($B$2,'Table 14'!$A$26:$L$44,2,FALSE)","v":253},null,"3 Bedrooms",{"$f":"VLOOKUP($B$2,'Table 7'!$A$26:$L$44,2,FALSE)","v":180},{"$f":"VLOOKUP($B$2,'Table 8'!$A$26:$L$44,2,FALSE)","v":251},{"$f":"VLOOKUP($B$2,'Table 9'!$A$26:$L$44,2,FALSE)","v":229},{"$f":"VLOOKUP($B$2,'Table 10'!$A$26:$L$44,2,FALSE)","v":199},{"$f":"VLOOKUP($B$2,'Table 11'!$A$26:$L$44,2,FALSE)","v":200},{"$f":"VLOOKUP($B$2,'Table 12'!$A$26:$L$44,2,FALSE)","v":237},{"$f":"VLOOKUP($B$2,'Table 13'!$A$26:$L$44,2,FALSE)","v":215},{"$f":"VLOOKUP($B$2,'Table 14'!$A$26:$L$44,2,FALSE)","v":253}]
[null,"Upper Quartile",{"$f":"VLOOKUP($B$2,'Table 7'!$A$47:$F$65,6,FALSE)","v":320.33},{"$f":"VLOOKUP($B$2,'Table 8'!$A$47:$F$65,6,FALSE)","v":349},{"$f":"VLOOKUP($B$2,'Table 9'!$A$47:$F$65,6,FALSE)","v":329},{"$f":"VLOOKUP($B$2,'Table 10'!$A$47:$F$65,6,FALSE)","v":300},{"$f":"VLOOKUP($B$2,'Table 11'!$A$47:$F$65,6,FALSE)","v":325},{"$f":"VLOOKUP($B$2,'Table 12'!$A$47:$F$65,6,FALSE)","v":338.81},{"$f":"VLOOKUP($B$2,'Table 13'!$A$47:$F$65,6,FALSE)","v":359.52},{"$f":"VLOOKUP($B$2,'Table 14'!$A$47:$F$65,6,FALSE)","v":367.26},2.1528704939919985E-2,0.14650516654699852,null,"4 Bedrooms",null,null,{"$f":"VLOOKUP($B$2,'Table 7'!$A$26:$L$44,8,FALSE)","v":102},{"$f":"VLOOKUP($B$2,'Table 8'!$A$26:$L$44,8,FALSE)","v":97},{"$f":"VLOOKUP($B$2,'Table 9'!$A$26:$L$44,8,FALSE)","v":96},{"$f":"VLOOKUP($B$2,'Table 10'!$A$26:$L$44,8,FALSE)","v":66},{"$f":"VLOOKUP($B$2,'Table 11'!$A$26:$L$44,8,FALSE)","v":55},{"$f":"VLOOKUP($B$2,'Table 12'!$A$26:$L$44,8,FALSE)","v":62},{"$f":"VLOOKUP($B$2,'Table 13'!$A$26:$L$44,8,FALSE)","v":47},{"$f":"VLOOKUP($B$2,'Table 14'!$A$26:$L$44,8,FALSE)","v":60},null,"4 Bedrooms",{"$f":"VLOOKUP($B$2,'Table 7'!$A$26:$L$44,8,FALSE)","v":102},{"$f":"VLOOKUP($B$2,'Table 8'!$A$26:$L$44,8,FALSE)","v":97},{"$f":"VLOOKUP($B$2,'Table 9'!$A$26:$L$44,8,FALSE)","v":96},{"$f":"VLOOKUP($B$2,'Table 10'!$A$26:$L$44,8,FALSE)","v":66},{"$f":"VLOOKUP($B$2,'Table 11'!$A$26:$L$44,8,FALSE)","v":55},{"$f":"VLOOKUP($B$2,'Table 12'!$A$26:$L$44,8,FALSE)","v":62},{"$f":"VLOOKUP($B$2,'Table 13'!$A$26:$L$44,8,FALSE)","v":47},{"$f":"VLOOKUP($B$2,'Table 14'!$A$26:$L$44,8,FALSE)","v":60}]
[null,null,null,null,null,null,null,null,null,null,null,null,null,"1 Bedroom Shared",null,null,{"$f":"VLOOKUP($B$2,'Table 7'!$A$47:$L$65,2,FALSE)","v":44},{"$f":"VLOOKUP($B$2,'Table 8'!$A$47:$L$65,2,FALSE)","v":51},{"$f":"VLOOKUP($B$2,'Table 9'!$A$47:$L$65,2,FALSE)","v":64},{"$f":"VLOOKUP($B$2,'Table 10'!$A$47:$L$65,2,FALSE)","v":59},{"$f":"VLOOKUP($B$2,'Table 11'!$A$47:$L$65,2,FALSE)","v":51},{"$f":"VLOOKUP($B$2,'Table 12'!$A$47:$L$65,2,FALSE)","v":64},{"$f":"VLOOKUP($B$2,'Table 13'!$A$47:$L$65,2,FALSE)","v":69},{"$f":"VLOOKUP($B$2,'Table 14'!$A$47:$L$65,2,FALSE)","v":104},null,"1 Bedroom Shared",{"$f":"VLOOKUP($B$2,'Table 7'!$A$47:$L$65,2,FALSE)","v":44},{"$f":"VLOOKUP($B$2,'Table 8'!$A$47:$L$65,2,FALSE)","v":51},{"$f":"VLOOKUP($B$2,'Table 9'!$A$47:$L$65,2,FALSE)","v":64},{"$f":"VLOOKUP($B$2,'Table 10'!$A$47:$L$65,2,FALSE)","v":59},{"$f":"VLOOKUP($B$2,'Table 11'!$A$47:$L$65,2,FALSE)","v":51},{"$f":"VLOOKUP($B$2,'Table 12'!$A$47:$L$65,2,FALSE)","v":64},{"$f":"VLOOKUP($B$2,'Table 13'!$A$47:$L$65,2,FALSE)","v":69},{"$f":"VLOOKUP($B$2,'Table 14'!$A$47:$L$65,2,FALSE)","v":104}]
[]
[]
[]
[]
[]
[]
[]
[]
[]
[]
[]
[]
[]
[]
[]
[]
[]
[null,null,null,null,null,null,null,null,null,null,null,null,null,null,null,null,null,null,null,null,null,null,null,null,null,null,null,null,null,null,null,null,null,null,null,2010,2011,2012,2013,2014,2015,2016,2017]
[null,null,null,null,null,null,null,null,null,null,null,null,null,null,null,null,null,null,null,null,null,null,null,null,null,null,null,null,null,null,null,null,null,null,"Scotland",{"$f":"'All years 2 bed'!B22","v":536.27},{"$f":"'All years 2 bed'!C22","v":546.41999999999996},{"$f":"'All years 2 bed'!D22","v":552.89},{"$f":"'All years 2 bed'!E22","v":575.84},{"$f":"'All years 2 bed'!F22","v":596.45000000000005},{"$f":"'All years 2 bed'!G22","v":609.52},{"$f":"'All years 2 bed'!H22","v":615.64},{"$f":"'All years 2 bed'!I22","v":642.79999999999995}]
[null,null,null,null,null,null,null,null,null,null,null,null,null,null,null,null,null,null,null,null,null,null,null,null,null,null,null,null,null,null,null,null,null,null,{"$f":"B2","v":"North Lanarkshire"},{"$f":"VLOOKUP($AI$94,'All years 2 bed'!$A$4:$I$21,2,FALSE)","v":454.65},{"$f":"VLOOKUP($AI$94,'All years 2 bed'!$A$4:$I$21,3,FALSE)","v":463.08},{"$f":"VLOOKUP($AI$94,'All years 2 bed'!$A$4:$I$21,4,FALSE)","v":464.37},{"$f":"VLOOKUP($AI$94,'All years 2 bed'!$A$4:$I$21,5,FALSE)","v":463.09},{"$f":"VLOOKUP($AI$94,'All years 2 bed'!$A$4:$I$21,6,FALSE)","v":463.85},{"$f":"VLOOKUP($AI$94,'All years 2 bed'!$A$4:$I$21,7,FALSE)","v":474.83},{"$f":"VLOOKUP($AI$94,'All years 2 bed'!$A$4:$I$21,8,FALSE)","v":475.8},{"$f":"VLOOKUP($AI$94,'All years 2 bed'!$A$4:$I$21,9,FALSE)","v":480.25}]

{"sheet":"Perth & Kinross","index":59,"n_rows":94,"n_cols":43,"rows_kept":94,"cut":false,"hidden":false,"merged":[[73,13,73,15],[1,1,1,3],[69,13,69,15],[70,13,70,15],[71,13,71,15],[72,13,72,15]]}
[null,"BRMA:"]
[null,"Perth and Kinross"]
[]
["Back to contents"]
[null,"Broad Rental Market Area Profile: Perth and Kinross"]
[]
[]
[]
[]
[]
[]
[]
[]
[]
[]
[]
[]
[]
[]
[]
[]
[]
[]
[null,"1 Bedroom Properties - Quartile Measures, years to end Sept, (£ monthly):",null,null,null,null,null,null,null,null,null,null,null,"2 Bedroom Properties - Quartile Measures, years to end Sept, (£ monthly):"]
[null,null,2010,2011,2012,2013,2014,2015,2016,2017,"2016 to 2017","2010 to 2017",null,null,2010,2011,2012,2013,2014,2015,2016,2017,"2016 to 2017","2010 to 2017"]
[null,"Lower Quartile",{"$f":"VLOOKUP($B$2,'Table 7'!$A$5:$L$23,3,FALSE)","v":350},{"$f":"VLOOKUP($B$2,'Table 8'!$A$5:$L$23,3,FALSE)","v":350},{"$f":"VLOOKUP($B$2,'Table 9'!$A$5:$L$23,3,FALSE)","v":350},{"$f":"VLOOKUP($B$2,'Table 10'!$A$5:$L$23,3,FALSE)","v":365},{"$f":"VLOOKUP($B$2,'Table 11'!$A$5:$L$23,3,FALSE)","v":360},{"$f":"VLOOKUP($B$2,'Table 12'!$A$5:$L$23,3,FALSE)","v":375},{"$f":"VLOOKUP($B$2,'Table 13'!$A$5:$L$23,3,FALSE)","v":380},{"$f":"VLOOKUP($B$2,'Table 14'!$A$5:$L$23,3,FALSE)","v":395},{"$f":"J26/I26-1","v":3.9473684210526327E-2},{"$f":"J26/C26-1","v":0.12857142857142856},null,"Lower Quartile",{"$f":"VLOOKUP($B$2,'Table 7'!$A$5:$L$23,9,FALSE)","v":450},{"$f":"VLOOKUP($B$2,'Table 8'!$A$5:$L$23,9,FALSE)","v":452.5},{"$f":"VLOOKUP($B$2,'Table 9'!$A$5:$L$23,9,FALSE)","v":450},{"$f":"VLOOKUP($B$2,'Table 10'!$A$5:$L$23,9,FALSE)","v":460},{"$f":"VLOOKUP($B$2,'Table 11'!$A$5:$L$23,9,FALSE)","v":460},{"$f":"VLOOKUP($B$2,'Table 12'!$A$5:$L$23,9,FALSE)","v":475},{"$f":"VLOOKUP($B$2,'Table 13'!$A$5:$L$23,9,FALSE)","v":495},{"$f":"VLOOKUP($B$2,'Table 14'!$A$5:$L$23,9,FALSE)","v":495},{"$f":"V26/U26-1","v":0},{"$f":"V26/O26-1","v":0.10000000000000009}]
[null,"Median",{"$f":"VLOOKUP($B$2,'Table 7'!$A$5:$L$23,4,FALSE)","v":380},{"$f":"VLOOKUP($B$2,'Table 8'!$A$5:$L$23,4,FALSE)","v":380},{"$f":"VLOOKUP($B$2,'Table 9'!$A$5:$L$23,4,FALSE)","v":380},{"$f":"VLOOKUP($B$2,'Table 10'!$A$5:$L$23,4,FALSE)","v":395},{"$f":"VLOOKUP($B$2,'Table 11'!$A$5:$L$23,4,FALSE)","v":392.5},{"$f":"VLOOKUP($B$2,'Table 12'!$A$5:$L$23,4,FALSE)","v":400},{"$f":"VLOOKUP($B$2,'Table 13'!$A$5:$L$23,4,FALSE)","v":400},{"$f":"VLOOKUP($B$2,'Table 14'!$A$5:$L$23,4,FALSE)","v":400},{"$f":"J27/I27-1","v":0},{"$f":"J27/C27-1","v":5.2631578947368363E-2},null,"Median",{"$f":"VLOOKUP($B$2,'Table 7'!$A$5:$L$23,10,FALSE)","v":500},{"$f":"VLOOKUP($B$2,'Table 8'!$A$5:$L$23,10,FALSE)","v":500},{"$f":"VLOOKUP($B$2,'Table 9'!$A$5:$L$23,10,FALSE)","v":495},{"$f":"VLOOKUP($B$2,'Table 10'!$A$5:$L$23,10,FALSE)","v":500},{"$f":"VLOOKUP($B$2,'Table 11'!$A$5:$L$23,10,FALSE)","v":500},{"$f":"VLOOKUP($B$2,'Table 12'!$A$5:$L$23,10,FALSE)","v":525},{"$f":"VLOOKUP($B$2,'Table 13'!$A$5:$L$23,10,FALSE)","v":525},{"$f":"VLOOKUP($B$2,'Table 14'!$A$5:$L$23,10,FALSE)","v":550},{"$f":"V27/U27-1","v":4.7619047619047672E-2},{"$f":"V27/O27-1","v":0.10000000000000009}]
[null,"Mean",{"$f":"VLOOKUP($B$2,'Table 7'!$A$5:$L$23,5,FALSE)","v":377.44},{"$f":"VLOOKUP($B$2,'Table 8'!$A$5:$L$23,5,FALSE)","v":377.57},{"$f":"VLOOKUP($B$2,'Table 9'!$A$5:$L$23,5,FALSE)","v":380.4},{"$f":"VLOOKUP($B$2,'Table 10'!$A$5:$L$23,5,FALSE)","v":396.18},{"$f":"VLOOKUP($B$2,'Table 11'!$A$5:$L$23,5,FALSE)","v":388.83},{"$f":"VLOOKUP($B$2,'Table 12'!$A$5:$L$23,5,FALSE)","v":402.5},{"$f":"VLOOKUP($B$2,'Table 13'!$A$5:$L$23,5,FALSE)","v":408.15},{"$f":"VLOOKUP($B$2,'Table 14'!$A$5:$L$23,5,FALSE)","v":416.14},1.9576136224427332E-2,0.10253285290377279,null,"Mean",{"$f":"VLOOKUP($B$2,'Table 7'!$A$5:$L$23,11,FALSE)","v":506.44},{"$f":"VLOOKUP($B$2,'Table 8'!$A$5:$L$23,11,FALSE)","v":512.44000000000005},{"$f":"VLOOKUP($B$2,'Table 9'!$A$5:$L$23,11,FALSE)","v":504.82},{"$f":"VLOOKUP($B$2,'Table 10'!$A$5:$L$23,11,FALSE)","v":518.61},{"$f":"VLOOKUP($B$2,'Table 11'!$A$5:$L$23,11,FALSE)","v":520.45000000000005},{"$f":"VLOOKUP($B$2,'Table 12'!$A$5:$L$23,11,FALSE)","v":528.99},{"$f":"VLOOKUP($B$2,'Table 13'!$A$5:$L$23,11,FALSE)","v":539.95000000000005},{"$f":"VLOOKUP($B$2,'Table 14'!$A$5:$L$23,11,FALSE)","v":549.21},1.7149736086674583E-2,8.4452254956164596E-2]
[null,"Upper Quartile",{"$f":"VLOOKUP($B$2,'Table 7'!$A$5:$L$23,6,FALSE)","v":400},{"$f":"VLOOKUP($B$2,'Table 8'!$A$5:$L$23,6,FALSE)","v":400},{"$f":"VLOOKUP($B$2,'Table 9'!$A$5:$L$23,6,FALSE)","v":400},{"$f":"VLOOKUP($B$2,'Table 10'!$A$5:$L$23,6,FALSE)","v":420},{"$f":"VLOOKUP($B$2,'Table 11'!$A$5:$L$23,6,FALSE)","v":420},{"$f":"VLOOKUP($B$2,'Table 12'!$A$5:$L$23,6,FALSE)","v":425},{"$f":"VLOOKUP($B$2,'Table 13'!$A$5:$L$23,6,FALSE)","v":430},{"$f":"VLOOKUP($B$2,'Table 14'!$A$5:$L$23,6,FALSE)","v":435},1.1627906976744207E-2,8.7499999999999911E-2,null,"Upper Quartile",{"$f":"VLOOKUP($B$2,'Table 7'!$A$5:$L$23,12,FALSE)","v":550},{"$f":"VLOOKUP($B$2,'Table 8'!$A$5:$L$23,12,FALSE)","v":550},{"$f":"VLOOKUP($B$2,'Table 9'!$A$5:$L$23,12,FALSE)","v":550},{"$f":"VLOOKUP($B$2,'Table 10'!$A$5:$L$23,12,FALSE)","v":550},{"$f":"VLOOKUP($B$2,'Table 11'!$A$5:$L$23,12,FALSE)","v":575},{"$f":"VLOOKUP($B$2,'Table 12'!$A$5:$L$23,12,FALSE)","v":575},{"$f":"VLOOKUP($B$2,'Table 13'!$A$5:$L$23,12,FALSE)","v":595},{"$f":"VLOOKUP($B$2,'Table 14'!$A$5:$L$23,12,FALSE)","v":595},0,8.181818181818179E-2]
[]
[]
[]
[]
[]
[]
[]
[]
[]
[]
[]
[]
[]
[]
[]
[]
[null,"3 Bedroom Properties - Quartile Measures, years to end Sept, (£ monthly):",null,null,null,null,null,null,null,null,null,null,null,"4 Bedroom Properties - Quartile Measures, years to end Sept, (£ monthly):"]
[null,null,2010,2011,2012,2013,2014,2015,2016,2017,"2016 to 2017","2010 to 2017",null,null,2010,2011,2012,2013,2014,2015,2016,2017,"2016 to 2017","2010 to 2017"]
[null,"Lower Quartile",{"$f":"VLOOKUP($B$2,'Table 7'!$A$26:$L$44,3,FALSE)","v":595},{"$f":"VLOOKUP($B$2,'Table 8'!$A$26:$L$44,3,FALSE)","v":575},{"$f":"VLOOKUP($B$2,'Table 9'!$A$26:$L$44,3,FALSE)","v":575},{"$f":"VLOOKUP($B$2,'Table 10'!$A$26:$L$44,3,FALSE)","v":575},{"$f":"VLOOKUP($B$2,'Table 11'!$A$26:$L$44,3,FALSE)","v":550},{"$f":"VLOOKUP($B$2,'Table 12'!$A$26:$L$44,3,FALSE)","v":595},{"$f":"VLOOKUP($B$2,'Table 13'!$A$26:$L$44,3,FALSE)","v":600},{"$f":"VLOOKUP($B$2,'Table 14'!$A$26:$L$44,3,FALSE)","v":650},{"$f":"J48/I48-1","v":8.3333333333333259E-2},{"$f":"J48/C48-1","v":9.243697478991586E-2},null,"Lower Quartile",{"$f":"VLOOKUP($B$2,'Table 7'!$A$26:$L$44,9,FALSE)","v":750},{"$f":"VLOOKUP($B$2,'Table 8'!$A$26:$L$44,9,FALSE)","v":750},{"$f":"VLOOKUP($B$2,'Table 9'!$A$26:$L$44,9,FALSE)","v":725},{"$f":"VLOOKUP($B$2,'Table 10'!$A$26:$L$44,9,FALSE)","v":762.5},{"$f":"VLOOKUP($B$2,'Table 11'!$A$26:$L$44,9,FALSE)","v":725},{"$f":"VLOOKUP($B$2,'Table 12'!$A$26:$L$44,9,FALSE)","v":862.5},{"$f":"VLOOKUP($B$2,'Table 13'!$A$26:$L$44,9,FALSE)","v":850},{"$f":"VLOOKUP($B$2,'Table 14'!$A$26:$L$44,9,FALSE)","v":900},{"$f":"V48/U48-1","v":5.8823529411764719E-2},{"$f":"V48/O48-1","v":0.19999999999999996}]
[null,"Median",{"$f":"VLOOKUP($B$2,'Table 7'!$A$26:$L$44,4,FALSE)","v":650},{"$f":"VLOOKUP($B$2,'Table 8'!$A$26:$L$44,4,FALSE)","v":650},{"$f":"VLOOKUP($B$2,'Table 9'!$A$26:$L$44,4,FALSE)","v":650},{"$f":"VLOOKUP($B$2,'Table 10'!$A$26:$L$44,4,FALSE)","v":650},{"$f":"VLOOKUP($B$2,'Table 11'!$A$26:$L$44,4,FALSE)","v":625},{"$f":"VLOOKUP($B$2,'Table 12'!$A$26:$L$44,4,FALSE)","v":650},{"$f":"VLOOKUP($B$2,'Table 13'!$A$26:$L$44,4,FALSE)","v":675},{"$f":"VLOOKUP($B$2,'Table 14'!$A$26:$L$44,4,FALSE)","v":747.5},{"$f":"J49/I49-1","v":0.1074074074074074},{"$f":"J49/C49-1","v":0.14999999999999991},null,"Median",{"$f":"VLOOKUP($B$2,'Table 7'!$A$26:$L$44,10,FALSE)","v":850},{"$f":"VLOOKUP($B$2,'Table 8'!$A$26:$L$44,10,FALSE)","v":875},{"$f":"VLOOKUP($B$2,'Table 9'!$A$26:$L$44,10,FALSE)","v":850},{"$f":"VLOOKUP($B$2,'Table 10'!$A$26:$L$44,10,FALSE)","v":895},{"$f":"VLOOKUP($B$2,'Table 11'!$A$26:$L$44,10,FALSE)","v":885},{"$f":"VLOOKUP($B$2,'Table 12'!$A$26:$L$44,10,FALSE)","v":972.5},{"$f":"VLOOKUP($B$2,'Table 13'!$A$26:$L$44,10,FALSE)","v":950},{"$f":"VLOOKUP($B$2,'Table 14'!$A$26:$L$44,10,FALSE)","v":970},{"$f":"V49/U49-1","v":2.1052631578947434E-2},{"$f":"V49/O49-1","v":0.14117647058823524}]
[null,"Mean",{"$f":"VLOOKUP($B$2,'Table 7'!$A$26:$L$44,5,FALSE)","v":647.27},{"$f":"VLOOKUP($B$2,'Table 8'!$A$26:$L$44,5,FALSE)","v":646.58000000000004},{"$f":"VLOOKUP($B$2,'Table 9'!$A$26:$L$44,5,FALSE)","v":639.04999999999995},{"$f":"VLOOKUP($B$2,'Table 10'!$A$26:$L$44,5,FALSE)","v":665.03},{"$f":"VLOOKUP($B$2,'Table 11'!$A$26:$L$44,5,FALSE)","v":639.44000000000005},{"$f":"VLOOKUP($B$2,'Table 12'!$A$26:$L$44,5,FALSE)","v":679.55},{"$f":"VLOOKUP($B$2,'Table 13'!$A$26:$L$44,5,FALSE)","v":699.52},{"$f":"VLOOKUP($B$2,'Table 14'!$A$26:$L$44,5,FALSE)","v":754.41},7.8468092406221324E-2,0.16552597833979643,null,"Mean",{"$f":"VLOOKUP($B$2,'Table 7'!$A$26:$L$44,11,FALSE)","v":857.5},{"$f":"VLOOKUP($B$2,'Table 8'!$A$26:$L$44,11,FALSE)","v":865.06},{"$f":"VLOOKUP($B$2,'Table 9'!$A$26:$L$44,11,FALSE)","v":870.84},{"$f":"VLOOKUP($B$2,'Table 10'!$A$26:$L$44,11,FALSE)","v":972.7},{"$f":"VLOOKUP($B$2,'Table 11'!$A$26:$L$44,11,FALSE)","v":912.59},{"$f":"VLOOKUP($B$2,'Table 12'!$A$26:$L$44,11,FALSE)","v":992.12},{"$f":"VLOOKUP($B$2,'Table 13'!$A$26:$L$44,11,FALSE)","v":1018.04},{"$f":"VLOOKUP($B$2,'Table 14'!$A$26:$L$44,11,FALSE)","v":1018.42},3.7326627637424004E-4,0.18766180758017481]
[null,"Upper Quartile",{"$f":"VLOOKUP($B$2,'Table 7'!$A$26:$L$44,6,FALSE)","v":695},{"$f":"VLOOKUP($B$2,'Table 8'!$A$26:$L$44,6,FALSE)","v":700},{"$f":"VLOOKUP($B$2,'Table 9'!$A$26:$L$44,6,FALSE)","v":700},{"$f":"VLOOKUP($B$2,'Table 10'!$A$26:$L$44,6,FALSE)","v":700},{"$f":"VLOOKUP($B$2,'Table 11'!$A$26:$L$44,6,FALSE)","v":695},{"$f":"VLOOKUP($B$2,'Table 12'!$A$26:$L$44,6,FALSE)","v":750},{"$f":"VLOOKUP($B$2,'Table 13'!$A$26:$L$44,6,FALSE)","v":795},{"$f":"VLOOKUP($B$2,'Table 14'!$A$26:$L$44,6,FALSE)","v":850},6.9182389937106903E-2,0.2230215827338129,null,"Upper Quartile",{"$f":"VLOOKUP($B$2,'Table 7'!$A$26:$L$44,12,FALSE)","v":995},{"$f":"VLOOKUP($B$2,'Table 8'!$A$26:$L$44,12,FALSE)","v":975},{"$f":"VLOOKUP($B$2,'Table 9'!$A$26:$L$44,12,FALSE)","v":995},{"$f":"VLOOKUP($B$2,'Table 10'!$A$26:$L$44,12,FALSE)","v":1000},{"$f":"VLOOKUP($B$2,'Table 11'!$A$26:$L$44,12,FALSE)","v":1000},{"$f":"VLOOKUP($B$2,'Table 12'!$A$26:$L$44,12,FALSE)","v":1100},{"$f":"VLOOKUP($B$2,'Table 13'!$A$26:$L$44,12,FALSE)","v":1100},{"$f":"VLOOKUP($B$2,'Table 14'!$A$26:$L$44,12,FALSE)","v":1150},4.5454545454545414E-2,0.15577889447236171]
[]
[]
[]
[]
[]
[]
[]
[]
[]
[]
[]
[]
[]
[]
[]
[]
[null,"1 Bedroom Shared Properties - Quartile Measures, years to end Sept, (£ monthly):",null,null,null,null,null,null,null,null,null,null,null,"Sample Sizes:",null,null,null,null,null,null,null,null,null,null,null,"Sample Sizes:"]
[null,null,2010,2011,2012,2013,2014,2015,2016,2017,"2016 to 2017","2010 to 2017",null,null,null,null,2010,2011,2012,2013,2014,2015,2016,2017,null,null,2010,2011,2012,2013,2014,2015,2016,2017]
[null,"Lower Quartile",{"$f":"VLOOKUP($B$2,'Table 7'!$A$47:$F$65,3,FALSE)","v":235},{"$f":"VLOOKUP($B$2,'Table 8'!$A$47:$F$65,3,FALSE)","v":235},{"$f":"VLOOKUP($B$2,'Table 9'!$A$47:$F$65,3,FALSE)","v":236},{"$f":"VLOOKUP($B$2,'Table 10'!$A$47:$F$65,3,FALSE)","v":250},{"$f":"VLOOKUP($B$2,'Table 11'!$A$47:$F$65,3,FALSE)","v":250},{"$f":"VLOOKUP($B$2,'Table 12'!$A$47:$F$65,3,FALSE)","v":254.17},{"$f":"VLOOKUP($B$2,'Table 13'!$A$47:$F$65,3,FALSE)","v":250},{"$f":"VLOOKUP($B$2,'Table 14'!$A$47:$F$65,3,FALSE)","v":272.62},{"$f":"J70/I70-1","v":9.0480000000000116E-2},{"$f":"J70/C70-1","v":0.16008510638297868},null,"1 Bedroom ",null,null,{"$f":"VLOOKUP($B$2,'Table 7'!$A$5:$L$23,2,FALSE)","v":176},{"$f":"VLOOKUP($B$2,'Table 8'!$A$5:$L$23,2,FALSE)","v":212},{"$f":"VLOOKUP($B$2,'Table 9'!$A$5:$L$23,2,FALSE)","v":210},{"$f":"VLOOKUP($B$2,'Table 10'!$A$5:$L$23,2,FALSE)","v":165},{"$f":"VLOOKUP($B$2,'Table 11'!$A$5:$L$23,2,FALSE)","v":200},{"$f":"VLOOKUP($B$2,'Table 12'!$A$5:$L$23,2,FALSE)","v":201},{"$f":"VLOOKUP($B$2,'Table 13'!$A$5:$L$23,2,FALSE)","v":240},{"$f":"VLOOKUP($B$2,'Table 14'!$A$5:$L$23,2,FALSE)","v":241},null,"1 Bedroom ",{"$f":"VLOOKUP($B$2,'Table 7'!$A$5:$L$23,2,FALSE)","v":176},{"$f":"VLOOKUP($B$2,'Table 8'!$A$5:$L$23,2,FALSE)","v":212},{"$f":"VLOOKUP($B$2,'Table 9'!$A$5:$L$23,2,FALSE)","v":210},{"$f":"VLOOKUP($B$2,'Table 10'!$A$5:$L$23,2,FALSE)","v":165},{"$f":"VLOOKUP($B$2,'Table 11'!$A$5:$L$23,2,FALSE)","v":200},{"$f":"VLOOKUP($B$2,'Table 12'!$A$5:$L$23,2,FALSE)","v":201},{"$f":"VLOOKUP($B$2,'Table 13'!$A$5:$L$23,2,FALSE)","v":240},{"$f":"VLOOKUP($B$2,'Table 14'!$A$5:$L$23,2,FALSE)","v":241}]
[null,"Median",{"$f":"VLOOKUP($B$2,'Table 7'!$A$47:$F$65,4,FALSE)","v":260},{"$f":"VLOOKUP($B$2,'Table 8'!$A$47:$F$65,4,FALSE)","v":265},{"$f":"VLOOKUP($B$2,'Table 9'!$A$47:$F$65,4,FALSE)","v":253.33},{"$f":"VLOOKUP($B$2,'Table 10'!$A$47:$F$65,4,FALSE)","v":280},{"$f":"VLOOKUP($B$2,'Table 11'!$A$47:$F$65,4,FALSE)","v":256.67},{"$f":"VLOOKUP($B$2,'Table 12'!$A$47:$F$65,4,FALSE)","v":291.07},{"$f":"VLOOKUP($B$2,'Table 13'!$A$47:$F$65,4,FALSE)","v":291.07},{"$f":"VLOOKUP($B$2,'Table 14'!$A$47:$F$65,4,FALSE)","v":300},{"$f":"J71/I71-1","v":3.0679905177448674E-2},{"$f":"J71/C71-1","v":0.15384615384615374},null,"2 Bedrooms",null,null,{"$f":"VLOOKUP($B$2,'Table 7'!$A$5:$L$23,8,FALSE)","v":379},{"$f":"VLOOKUP($B$2,'Table 8'!$A$5:$L$23,8,FALSE)","v":472},{"$f":"VLOOKUP($B$2,'Table 9'!$A$5:$L$23,8,FALSE)","v":516},{"$f":"VLOOKUP($B$2,'Table 10'!$A$5:$L$23,8,FALSE)","v":419},{"$f":"VLOOKUP($B$2,'Table 11'!$A$5:$L$23,8,FALSE)","v":462},{"$f":"VLOOKUP($B$2,'Table 12'!$A$5:$L$23,8,FALSE)","v":442},{"$f":"VLOOKUP($B$2,'Table 13'!$A$5:$L$23,8,FALSE)","v":424},{"$f":"VLOOKUP($B$2,'Table 14'!$A$5:$L$23,8,FALSE)","v":422},null,"2 Bedrooms",{"$f":"VLOOKUP($B$2,'Table 7'!$A$5:$L$23,8,FALSE)","v":379},{"$f":"VLOOKUP($B$2,'Table 8'!$A$5:$L$23,8,FALSE)","v":472},{"$f":"VLOOKUP($B$2,'Table 9'!$A$5:$L$23,8,FALSE)","v":516},{"$f":"VLOOKUP($B$2,'Table 10'!$A$5:$L$23,8,FALSE)","v":419},{"$f":"VLOOKUP($B$2,'Table 11'!$A$5:$L$23,8,FALSE)","v":462},{"$f":"VLOOKUP($B$2,'Table 12'!$A$5:$L$23,8,FALSE)","v":442},{"$f":"VLOOKUP($B$2,'Table 13'!$A$5:$L$23,8,FALSE)","v":424},{"$f":"VLOOKUP($B$2,'Table 14'!$A$5:$L$23,8,FALSE)","v":422}]
[null,"Mean",{"$f":"VLOOKUP($B$2,'Table 7'!$A$47:$F$65,5,FALSE)","v":261.86},{"$f":"VLOOKUP($B$2,'Table 8'!$A$47:$F$65,5,FALSE)","v":267.89},{"$f":"VLOOKUP($B$2,'Table 9'!$A$47:$F$65,5,FALSE)","v":258.69},{"$f":"VLOOKUP($B$2,'Table 10'!$A$47:$F$65,5,FALSE)","v":275.49},{"$f":"VLOOKUP($B$2,'Table 11'!$A$47:$F$65,5,FALSE)","v":280.86},{"$f":"VLOOKUP($B$2,'Table 12'!$A$47:$F$65,5,FALSE)","v":294.54000000000002},{"$f":"VLOOKUP($B$2,'Table 13'!$A$47:$F$65,5,FALSE)","v":288.35000000000002},{"$f":"VLOOKUP($B$2,'Table 14'!$A$47:$F$65,5,FALSE)","v":307.91000000000003},6.7834229235304244E-2,0.17585732834338974,null,"3 Bedrooms",null,null,{"$f":"VLOOKUP($B$2,'Table 7'!$A$26:$L$44,2,FALSE)","v":161},{"$f":"VLOOKUP($B$2,'Table 8'!$A$26:$L$44,2,FALSE)","v":218},{"$f":"VLOOKUP($B$2,'Table 9'!$A$26:$L$44,2,FALSE)","v":213},{"$f":"VLOOKUP($B$2,'Table 10'!$A$26:$L$44,2,FALSE)","v":153},{"$f":"VLOOKUP($B$2,'Table 11'!$A$26:$L$44,2,FALSE)","v":179},{"$f":"VLOOKUP($B$2,'Table 12'!$A$26:$L$44,2,FALSE)","v":133},{"$f":"VLOOKUP($B$2,'Table 13'!$A$26:$L$44,2,FALSE)","v":138},{"$f":"VLOOKUP($B$2,'Table 14'!$A$26:$L$44,2,FALSE)","v":118},null,"3 Bedrooms",{"$f":"VLOOKUP($B$2,'Table 7'!$A$26:$L$44,2,FALSE)","v":161},{"$f":"VLOOKUP($B$2,'Table 8'!$A$26:$L$44,2,FALSE)","v":218},{"$f":"VLOOKUP($B$2,'Table 9'!$A$26:$L$44,2,FALSE)","v":213},{"$f":"VLOOKUP($B$2,'Table 10'!$A$26:$L$44,2,FALSE)","v":153},{"$f":"VLOOKUP($B$2,'Table 11'!$A$26:$L$44,2,FALSE)","v":179},{"$f":"VLOOKUP($B$2,'Table 12'!$A$26:$L$44,2,FALSE)","v":133},{"$f":"VLOOKUP($B$2,'Table 13'!$A$26:$L$44,2,FALSE)","v":138},{"$f":"VLOOKUP($B$2,'Table 14'!$A$26:$L$44,2,FALSE)","v":118}]
[null,"Upper Quartile",{"$f":"VLOOKUP($B$2,'Table 7'!$A$47:$F$65,6,FALSE)","v":285},{"$f":"VLOOKUP($B$2,'Table 8'!$A$47:$F$65,6,FALSE)","v":300},{"$f":"VLOOKUP($B$2,'Table 9'!$A$47:$F$65,6,FALSE)","v":283},{"$f":"VLOOKUP($B$2,'Table 10'!$A$47:$F$65,6,FALSE)","v":300},{"$f":"VLOOKUP($B$2,'Table 11'!$A$47:$F$65,6,FALSE)","v":300},{"$f":"VLOOKUP($B$2,'Table 12'!$A$47:$F$65,6,FALSE)","v":330},{"$f":"VLOOKUP($B$2,'Table 13'!$A$47:$F$65,6,FALSE)","v":300},{"$f":"VLOOKUP($B$2,'Table 14'!$A$47:$F$65,6,FALSE)","v":325},8.3333333333333259E-2,0.14035087719298245,null,"4 Bedrooms",null,null,{"$f":"VLOOKUP($B$2,'Table 7'!$A$26:$L$44,8,FALSE)","v":62},{"$f":"VLOOKUP($B$2,'Table 8'!$A$26:$L$44,8,FALSE)","v":78},{"$f":"VLOOKUP($B$2,'Table 9'!$A$26:$L$44,8,FALSE)","v":77},{"$f":"VLOOKUP($B$2,'Table 10'!$A$26:$L$44,8,FALSE)","v":76},{"$f":"VLOOKUP($B$2,'Table 11'!$A$26:$L$44,8,FALSE)","v":66},{"$f":"VLOOKUP($B$2,'Table 12'!$A$26:$L$44,8,FALSE)","v":52},{"$f":"VLOOKUP($B$2,'Table 13'!$A$26:$L$44,8,FALSE)","v":47},{"$f":"VLOOKUP($B$2,'Table 14'!$A$26:$L$44,8,FALSE)","v":38},null,"4 Bedrooms",{"$f":"VLOOKUP($B$2,'Table 7'!$A$26:$L$44,8,FALSE)","v":62},{"$f":"VLOOKUP($B$2,'Table 8'!$A$26:$L$44,8,FALSE)","v":78},{"$f":"VLOOKUP($B$2,'Table 9'!$A$26:$L$44,8,FALSE)","v":77},{"$f":"VLOOKUP($B$2,'Table 10'!$A$26:$L$44,8,FALSE)","v":76},{"$f":"VLOOKUP($B$2,'Table 11'!$A$26:$L$44,8,FALSE)","v":66},{"$f":"VLOOKUP($B$2,'Table 12'!$A$26:$L$44,8,FALSE)","v":52},{"$f":"VLOOKUP($B$2,'Table 13'!$A$26:$L$44,8,FALSE)","v":47},{"$f":"VLOOKUP($B$2,'Table 14'!$A$26:$L$44,8,FALSE)","v":38}]
[null,null,null,null,null,null,null,null,null,null,null,null,null,"1 Bedroom Shared",null,null,{"$f":"VLOOKUP($B$2,'Table 7'!$A$47:$L$65,2,FALSE)","v":49},{"$f":"VLOOKUP($B$2,'Table 8'!$A$47:$L$65,2,FALSE)","v":54},{"$f":"VLOOKUP($B$2,'Table 9'!$A$47:$L$65,2,FALSE)","v":69},{"$f":"VLOOKUP($B$2,'Table 10'!$A$47:$L$65,2,FALSE)","v":69},{"$f":"VLOOKUP($B$2,'Table 11'!$A$47:$L$65,2,FALSE)","v":54},{"$f":"VLOOKUP($B$2,'Table 12'!$A$47:$L$65,2,FALSE)","v":49},{"$f":"VLOOKUP($B$2,'Table 13'!$A$47:$L$65,2,FALSE)","v":64},{"$f":"VLOOKUP($B$2,'Table 14'!$A$47:$L$65,2,FALSE)","v":82},null,"1 Bedroom Shared",{"$f":"VLOOKUP($B$2,'Table 7'!$A$47:$L$65,2,FALSE)","v":49},{"$f":"VLOOKUP($B$2,'Table 8'!$A$47:$L$65,2,FALSE)","v":54},{"$f":"VLOOKUP($B$2,'Table 9'!$A$47:$L$65,2,FALSE)","v":69},{"$f":"VLOOKUP($B$2,'Table 10'!$A$47:$L$65,2,FALSE)","v":69},{"$f":"VLOOKUP($B$2,'Table 11'!$A$47:$L$65,2,FALSE)","v":54},{"$f":"VLOOKUP($B$2,'Table 12'!$A$47:$L$65,2,FALSE)","v":49},{"$f":"VLOOKUP($B$2,'Table 13'!$A$47:$L$65,2,FALSE)","v":64},{"$f":"VLOOKUP($B$2,'Table 14'!$A$47:$L$65,2,FALSE)","v":82}]
[]
[]
[]
[]
[]
[]
[]
[]
[]
[]
[]
[]
[]
[]
[]
[]
[]
[null,null,null,null,null,null,null,null,null,null,null,null,null,null,null,null,null,null,null,null,null,null,null,null,null,null,null,null,null,null,null,null,null,null,null,2010,2011,2012,2013,2014,2015,2016,2017]
[null,null,null,null,null,null,null,null,null,null,null,null,null,null,null,null,null,null,null,null,null,null,null,null,null,null,null,null,null,null,null,null,null,null,"Scotland",{"$f":"'All years 2 bed'!B22","v":536.27},{"$f":"'All years 2 bed'!C22","v":546.41999999999996},{"$f":"'All years 2 bed'!D22","v":552.89},{"$f":"'All years 2 bed'!E22","v":575.84},{"$f":"'All years 2 bed'!F22","v":596.45000000000005},{"$f":"'All years 2 bed'!G22","v":609.52},{"$f":"'All years 2 bed'!H22","v":615.64},{"$f":"'All years 2 bed'!I22","v":642.79999999999995}]
[null,null,null,null,null,null,null,null,null,null,null,null,null,null,null,null,null,null,null,null,null,null,null,null,null,null,null,null,null,null,null,null,null,null,{"$f":"B2","v":"Perth and Kinross"},{"$f":"VLOOKUP($AI$94,'All years 2 bed'!$A$4:$I$21,2,FALSE)","v":506.44},{"$f":"VLOOKUP($AI$94,'All years 2 bed'!$A$4:$I$21,3,FALSE)","v":512.44000000000005},{"$f":"VLOOKUP($AI$94,'All years 2 bed'!$A$4:$I$21,4,FALSE)","v":504.82},{"$f":"VLOOKUP($AI$94,'All years 2 bed'!$A$4:$I$21,5,FALSE)","v":518.61},{"$f":"VLOOKUP($AI$94,'All years 2 bed'!$A$4:$I$21,6,FALSE)","v":520.45000000000005},{"$f":"VLOOKUP($AI$94,'All years 2 bed'!$A$4:$I$21,7,FALSE)","v":528.99},{"$f":"VLOOKUP($AI$94,'All years 2 bed'!$A$4:$I$21,8,FALSE)","v":539.95000000000005},{"$f":"VLOOKUP($AI$94,'All years 2 bed'!$A$4:$I$21,9,FALSE)","v":549.21}]

{"sheet":"Renfrewshire Inverclyde","index":60,"n_rows":94,"n_cols":43,"rows_kept":94,"cut":false,"hidden":false,"merged":[[73,13,73,15],[1,1,1,3],[69,13,69,15],[70,13,70,15],[71,13,71,15],[72,13,72,15]]}
[null,"BRMA:"]
[null,"Renfrewshire / Inverclyde"]
[]
["Back to contents"]
[null,"Broad Rental Market Area Profile: Renfrewshire / Inverclyde"]
[]
[]
[]
[]
[]
[]
[]
[]
[]
[]
[]
[]
[]
[]
[]
[]
[]
[]
[null,"1 Bedroom Properties - Quartile Measures, years to end Sept, (£ monthly):",null,null,null,null,null,null,null,null,null,null,null,"2 Bedroom Properties - Quartile Measures, years to end Sept, (£ monthly):"]
[null,null,2010,2011,2012,2013,2014,2015,2016,2017,"2016 to 2017","2010 to 2017",null,null,2010,2011,2012,2013,2014,2015,2016,2017,"2016 to 2017","2010 to 2017"]
[null,"Lower Quartile",{"$f":"VLOOKUP($B$2,'Table 7'!$A$5:$L$23,3,FALSE)","v":350},{"$f":"VLOOKUP($B$2,'Table 8'!$A$5:$L$23,3,FALSE)","v":350},{"$f":"VLOOKUP($B$2,'Table 9'!$A$5:$L$23,3,FALSE)","v":330},{"$f":"VLOOKUP($B$2,'Table 10'!$A$5:$L$23,3,FALSE)","v":350},{"$f":"VLOOKUP($B$2,'Table 11'!$A$5:$L$23,3,FALSE)","v":350},{"$f":"VLOOKUP($B$2,'Table 12'!$A$5:$L$23,3,FALSE)","v":330},{"$f":"VLOOKUP($B$2,'Table 13'!$A$5:$L$23,3,FALSE)","v":350},{"$f":"VLOOKUP($B$2,'Table 14'!$A$5:$L$23,3,FALSE)","v":350},{"$f":"J26/I26-1","v":0},{"$f":"J26/C26-1","v":0},null,"Lower Quartile",{"$f":"VLOOKUP($B$2,'Table 7'!$A$5:$L$23,9,FALSE)","v":425},{"$f":"VLOOKUP($B$2,'Table 8'!$A$5:$L$23,9,FALSE)","v":425},{"$f":"VLOOKUP($B$2,'Table 9'!$A$5:$L$23,9,FALSE)","v":425},{"$f":"VLOOKUP($B$2,'Table 10'!$A$5:$L$23,9,FALSE)","v":425},{"$f":"VLOOKUP($B$2,'Table 11'!$A$5:$L$23,9,FALSE)","v":425},{"$f":"VLOOKUP($B$2,'Table 12'!$A$5:$L$23,9,FALSE)","v":425},{"$f":"VLOOKUP($B$2,'Table 13'!$A$5:$L$23,9,FALSE)","v":425},{"$f":"VLOOKUP($B$2,'Table 14'!$A$5:$L$23,9,FALSE)","v":450},{"$f":"V26/U26-1","v":5.8823529411764719E-2},{"$f":"V26/O26-1","v":5.8823529411764719E-2}]
[null,"Median",{"$f":"VLOOKUP($B$2,'Table 7'!$A$5:$L$23,4,FALSE)","v":375},{"$f":"VLOOKUP($B$2,'Table 8'!$A$5:$L$23,4,FALSE)","v":372.5},{"$f":"VLOOKUP($B$2,'Table 9'!$A$5:$L$23,4,FALSE)","v":365},{"$f":"VLOOKUP($B$2,'Table 10'!$A$5:$L$23,4,FALSE)","v":375},{"$f":"VLOOKUP($B$2,'Table 11'!$A$5:$L$23,4,FALSE)","v":375},{"$f":"VLOOKUP($B$2,'Table 12'!$A$5:$L$23,4,FALSE)","v":350},{"$f":"VLOOKUP($B$2,'Table 13'!$A$5:$L$23,4,FALSE)","v":375},{"$f":"VLOOKUP($B$2,'Table 14'!$A$5:$L$23,4,FALSE)","v":385},{"$f":"J27/I27-1","v":2.6666666666666616E-2},{"$f":"J27/C27-1","v":2.6666666666666616E-2},null,"Median",{"$f":"VLOOKUP($B$2,'Table 7'!$A$5:$L$23,10,FALSE)","v":450},{"$f":"VLOOKUP($B$2,'Table 8'!$A$5:$L$23,10,FALSE)","v":475},{"$f":"VLOOKUP($B$2,'Table 9'!$A$5:$L$23,10,FALSE)","v":475},{"$f":"VLOOKUP($B$2,'Table 10'!$A$5:$L$23,10,FALSE)","v":475},{"$f":"VLOOKUP($B$2,'Table 11'!$A$5:$L$23,10,FALSE)","v":475},{"$f":"VLOOKUP($B$2,'Table 12'!$A$5:$L$23,10,FALSE)","v":475},{"$f":"VLOOKUP($B$2,'Table 13'!$A$5:$L$23,10,FALSE)","v":475},{"$f":"VLOOKUP($B$2,'Table 14'!$A$5:$L$23,10,FALSE)","v":495},{"$f":"V27/U27-1","v":4.2105263157894646E-2},{"$f":"V27/O27-1","v":0.10000000000000009}]
[null,"Mean",{"$f":"VLOOKUP($B$2,'Table 7'!$A$5:$L$23,5,FALSE)","v":374.39},{"$f":"VLOOKUP($B$2,'Table 8'!$A$5:$L$23,5,FALSE)","v":373.37},{"$f":"VLOOKUP($B$2,'Table 9'!$A$5:$L$23,5,FALSE)","v":370.31},{"$f":"VLOOKUP($B$2,'Table 10'!$A$5:$L$23,5,FALSE)","v":377.76},{"$f":"VLOOKUP($B$2,'Table 11'!$A$5:$L$23,5,FALSE)","v":377.5},{"$f":"VLOOKUP($B$2,'Table 12'!$A$5:$L$23,5,FALSE)","v":372.21},{"$f":"VLOOKUP($B$2,'Table 13'!$A$5:$L$23,5,FALSE)","v":391.6},{"$f":"VLOOKUP($B$2,'Table 14'!$A$5:$L$23,5,FALSE)","v":386.61},-1.2742594484167591E-2,3.2639760677368512E-2,null,"Mean",{"$f":"VLOOKUP($B$2,'Table 7'!$A$5:$L$23,11,FALSE)","v":472.96},{"$f":"VLOOKUP($B$2,'Table 8'!$A$5:$L$23,11,FALSE)","v":477.94},{"$f":"VLOOKUP($B$2,'Table 9'!$A$5:$L$23,11,FALSE)","v":484.84},{"$f":"VLOOKUP($B$2,'Table 10'!$A$5:$L$23,11,FALSE)","v":480.45},{"$f":"VLOOKUP($B$2,'Table 11'!$A$5:$L$23,11,FALSE)","v":483},{"$f":"VLOOKUP($B$2,'Table 12'!$A$5:$L$23,11,FALSE)","v":488.37},{"$f":"VLOOKUP($B$2,'Table 13'!$A$5:$L$23,11,FALSE)","v":493.93},{"$f":"VLOOKUP($B$2,'Table 14'!$A$5:$L$23,11,FALSE)","v":507.56},2.7595003340554314E-2,7.3156292286874258E-2]
[null,"Upper Quartile",{"$f":"VLOOKUP($B$2,'Table 7'!$A$5:$L$23,6,FALSE)","v":395},{"$f":"VLOOKUP($B$2,'Table 8'!$A$5:$L$23,6,FALSE)","v":395},{"$f":"VLOOKUP($B$2,'Table 9'!$A$5:$L$23,6,FALSE)","v":395},{"$f":"VLOOKUP($B$2,'Table 10'!$A$5:$L$23,6,FALSE)","v":400},{"$f":"VLOOKUP($B$2,'Table 11'!$A$5:$L$23,6,FALSE)","v":395},{"$f":"VLOOKUP($B$2,'Table 12'!$A$5:$L$23,6,FALSE)","v":400},{"$f":"VLOOKUP($B$2,'Table 13'!$A$5:$L$23,6,FALSE)","v":400},{"$f":"VLOOKUP($B$2,'Table 14'!$A$5:$L$23,6,FALSE)","v":425},6.25E-2,7.5949367088607556E-2,null,"Upper Quartile",{"$f":"VLOOKUP($B$2,'Table 7'!$A$5:$L$23,12,FALSE)","v":525},{"$f":"VLOOKUP($B$2,'Table 8'!$A$5:$L$23,12,FALSE)","v":525},{"$f":"VLOOKUP($B$2,'Table 9'!$A$5:$L$23,12,FALSE)","v":550},{"$f":"VLOOKUP($B$2,'Table 10'!$A$5:$L$23,12,FALSE)","v":525},{"$f":"VLOOKUP($B$2,'Table 11'!$A$5:$L$23,12,FALSE)","v":525},{"$f":"VLOOKUP($B$2,'Table 12'!$A$5:$L$23,12,FALSE)","v":550},{"$f":"VLOOKUP($B$2,'Table 13'!$A$5:$L$23,12,FALSE)","v":550},{"$f":"VLOOKUP($B$2,'Table 14'!$A$5:$L$23,12,FALSE)","v":550},0,4.7619047619047672E-2]
[]
[]
[]
[]
[]
[]
[]
[]
[]
[]
[]
[]
[]
[]
[]
[]
[null,"3 Bedroom Properties - Quartile Measures, years to end Sept, (£ monthly):",null,null,null,null,null,null,null,null,null,null,null,"4 Bedroom Properties - Quartile Measures, years to end Sept, (£ monthly):"]
[null,null,2010,2011,2012,2013,2014,2015,2016,2017,"2016 to 2017","2010 to 2017",null,null,2010,2011,2012,2013,2014,2015,2016,2017,"2016 to 2017","2010 to 2017"]
[null,"Lower Quartile",{"$f":"VLOOKUP($B$2,'Table 7'!$A$26:$L$44,3,FALSE)","v":497.5},{"$f":"VLOOKUP($B$2,'Table 8'!$A$26:$L$44,3,FALSE)","v":500},{"$f":"VLOOKUP($B$2,'Table 9'!$A$26:$L$44,3,FALSE)","v":500},{"$f":"VLOOKUP($B$2,'Table 10'!$A$26:$L$44,3,FALSE)","v":525},{"$f":"VLOOKUP($B$2,'Table 11'!$A$26:$L$44,3,FALSE)","v":500},{"$f":"VLOOKUP($B$2,'Table 12'!$A$26:$L$44,3,FALSE)","v":500},{"$f":"VLOOKUP($B$2,'Table 13'!$A$26:$L$44,3,FALSE)","v":525},{"$f":"VLOOKUP($B$2,'Table 14'!$A$26:$L$44,3,FALSE)","v":525},{"$f":"J48/I48-1","v":0},{"$f":"J48/C48-1","v":5.5276381909547645E-2},null,"Lower Quartile",{"$f":"VLOOKUP($B$2,'Table 7'!$A$26:$L$44,9,FALSE)","v":675},{"$f":"VLOOKUP($B$2,'Table 8'!$A$26:$L$44,9,FALSE)","v":775},{"$f":"VLOOKUP($B$2,'Table 9'!$A$26:$L$44,9,FALSE)","v":795},{"$f":"VLOOKUP($B$2,'Table 10'!$A$26:$L$44,9,FALSE)","v":750},{"$f":"VLOOKUP($B$2,'Table 11'!$A$26:$L$44,9,FALSE)","v":800},{"$f":"VLOOKUP($B$2,'Table 12'!$A$26:$L$44,9,FALSE)","v":795},{"$f":"VLOOKUP($B$2,'Table 13'!$A$26:$L$44,9,FALSE)","v":800},{"$f":"VLOOKUP($B$2,'Table 14'!$A$26:$L$44,9,FALSE)","v":850},{"$f":"V48/U48-1","v":6.25E-2},{"$f":"V48/O48-1","v":0.2592592592592593}]
[null,"Median",{"$f":"VLOOKUP($B$2,'Table 7'!$A$26:$L$44,4,FALSE)","v":600},{"$f":"VLOOKUP($B$2,'Table 8'!$A$26:$L$44,4,FALSE)","v":595},{"$f":"VLOOKUP($B$2,'Table 9'!$A$26:$L$44,4,FALSE)","v":595},{"$f":"VLOOKUP($B$2,'Table 10'!$A$26:$L$44,4,FALSE)","v":625},{"$f":"VLOOKUP($B$2,'Table 11'!$A$26:$L$44,4,FALSE)","v":595},{"$f":"VLOOKUP($B$2,'Table 12'!$A$26:$L$44,4,FALSE)","v":625},{"$f":"VLOOKUP($B$2,'Table 13'!$A$26:$L$44,4,FALSE)","v":650},{"$f":"VLOOKUP($B$2,'Table 14'!$A$26:$L$44,4,FALSE)","v":645},{"$f":"J49/I49-1","v":-7.692307692307665E-3},{"$f":"J49/C49-1","v":7.4999999999999956E-2},null,"Median",{"$f":"VLOOKUP($B$2,'Table 7'!$A$26:$L$44,10,FALSE)","v":800},{"$f":"VLOOKUP($B$2,'Table 8'!$A$26:$L$44,10,FALSE)","v":875},{"$f":"VLOOKUP($B$2,'Table 9'!$A$26:$L$44,10,FALSE)","v":900},{"$f":"VLOOKUP($B$2,'Table 10'!$A$26:$L$44,10,FALSE)","v":875},{"$f":"VLOOKUP($B$2,'Table 11'!$A$26:$L$44,10,FALSE)","v":912.5},{"$f":"VLOOKUP($B$2,'Table 12'!$A$26:$L$44,10,FALSE)","v":895},{"$f":"VLOOKUP($B$2,'Table 13'!$A$26:$L$44,10,FALSE)","v":950},{"$f":"VLOOKUP($B$2,'Table 14'!$A$26:$L$44,10,FALSE)","v":995},{"$f":"V49/U49-1","v":4.7368421052631504E-2},{"$f":"V49/O49-1","v":0.24374999999999991}]
[null,"Mean",{"$f":"VLOOKUP($B$2,'Table 7'!$A$26:$L$44,5,FALSE)","v":611.61},{"$f":"VLOOKUP($B$2,'Table 8'!$A$26:$L$44,5,FALSE)","v":620.07000000000005},{"$f":"VLOOKUP($B$2,'Table 9'!$A$26:$L$44,5,FALSE)","v":609.26},{"$f":"VLOOKUP($B$2,'Table 10'!$A$26:$L$44,5,FALSE)","v":626.29},{"$f":"VLOOKUP($B$2,'Table 11'!$A$26:$L$44,5,FALSE)","v":621.87},{"$f":"VLOOKUP($B$2,'Table 12'!$A$26:$L$44,5,FALSE)","v":646.1},{"$f":"VLOOKUP($B$2,'Table 13'!$A$26:$L$44,5,FALSE)","v":643.1},{"$f":"VLOOKUP($B$2,'Table 14'!$A$26:$L$44,5,FALSE)","v":651.5},1.3061732234489254E-2,6.5221301155965472E-2,null,"Mean",{"$f":"VLOOKUP($B$2,'Table 7'!$A$26:$L$44,11,FALSE)","v":833.68},{"$f":"VLOOKUP($B$2,'Table 8'!$A$26:$L$44,11,FALSE)","v":954.19},{"$f":"VLOOKUP($B$2,'Table 9'!$A$26:$L$44,11,FALSE)","v":998.27},{"$f":"VLOOKUP($B$2,'Table 10'!$A$26:$L$44,11,FALSE)","v":915.1},{"$f":"VLOOKUP($B$2,'Table 11'!$A$26:$L$44,11,FALSE)","v":975.32},{"$f":"VLOOKUP($B$2,'Table 12'!$A$26:$L$44,11,FALSE)","v":977.39},{"$f":"VLOOKUP($B$2,'Table 13'!$A$26:$L$44,11,FALSE)","v":1014.72},{"$f":"VLOOKUP($B$2,'Table 14'!$A$26:$L$44,11,FALSE)","v":1095.42},7.9529328287606393E-2,0.31395739372421083]
[null,"Upper Quartile",{"$f":"VLOOKUP($B$2,'Table 7'!$A$26:$L$44,6,FALSE)","v":695},{"$f":"VLOOKUP($B$2,'Table 8'!$A$26:$L$44,6,FALSE)","v":695},{"$f":"VLOOKUP($B$2,'Table 9'!$A$26:$L$44,6,FALSE)","v":695},{"$f":"VLOOKUP($B$2,'Table 10'!$A$26:$L$44,6,FALSE)","v":700},{"$f":"VLOOKUP($B$2,'Table 11'!$A$26:$L$44,6,FALSE)","v":700},{"$f":"VLOOKUP($B$2,'Table 12'!$A$26:$L$44,6,FALSE)","v":725},{"$f":"VLOOKUP($B$2,'Table 13'!$A$26:$L$44,6,FALSE)","v":750},{"$f":"VLOOKUP($B$2,'Table 14'!$A$26:$L$44,6,FALSE)","v":750},0,7.9136690647481966E-2,null,"Upper Quartile",{"$f":"VLOOKUP($B$2,'Table 7'!$A$26:$L$44,12,FALSE)","v":995},{"$f":"VLOOKUP($B$2,'Table 8'!$A$26:$L$44,12,FALSE)","v":1000},{"$f":"VLOOKUP($B$2,'Table 9'!$A$26:$L$44,12,FALSE)","v":1000},{"$f":"VLOOKUP($B$2,'Table 10'!$A$26:$L$44,12,FALSE)","v":1000},{"$f":"VLOOKUP($B$2,'Table 11'!$A$26:$L$44,12,FALSE)","v":1200},{"$f":"VLOOKUP($B$2,'Table 12'!$A$26:$L$44,12,FALSE)","v":1100},{"$f":"VLOOKUP($B$2,'Table 13'!$A$26:$L$44,12,FALSE)","v":1200},{"$f":"VLOOKUP($B$2,'Table 14'!$A$26:$L$44,12,FALSE)","v":1200},0,0.20603015075376874]
[]
[]
[]
[]
[]
[]
[]
[]
[]
[]
[]
[]
[]
[]
[]
[]
[null,"1 Bedroom Shared Properties - Quartile Measures, years to end Sept, (£ monthly):",null,null,null,null,null,null,null,null,null,null,null,"Sample Sizes:",null,null,null,null,null,null,null,null,null,null,null,"Sample Sizes:"]
[null,null,2010,2011,2012,2013,2014,2015,2016,2017,"2016 to 2017","2010 to 2017",null,null,null,null,2010,2011,2012,2013,2014,2015,2016,2017,null,null,2010,2011,2012,2013,2014,2015,2016,2017]
[null,"Lower Quartile",{"$f":"VLOOKUP($B$2,'Table 7'!$A$47:$F$65,3,FALSE)","v":274},{"$f":"VLOOKUP($B$2,'Table 8'!$A$47:$F$65,3,FALSE)","v":265.5},{"$f":"VLOOKUP($B$2,'Table 9'!$A$47:$F$65,3,FALSE)","v":275},{"$f":"VLOOKUP($B$2,'Table 10'!$A$47:$F$65,3,FALSE)","v":250},{"$f":"VLOOKUP($B$2,'Table 11'!$A$47:$F$65,3,FALSE)","v":250},{"$f":"VLOOKUP($B$2,'Table 12'!$A$47:$F$65,3,FALSE)","v":250},{"$f":"VLOOKUP($B$2,'Table 13'!$A$47:$F$65,3,FALSE)","v":270},{"$f":"VLOOKUP($B$2,'Table 14'!$A$47:$F$65,3,FALSE)","v":265},{"$f":"J70/I70-1","v":-1.851851851851849E-2},{"$f":"J70/C70-1","v":-3.2846715328467169E-2},null,"1 Bedroom ",null,null,{"$f":"VLOOKUP($B$2,'Table 7'!$A$5:$L$23,2,FALSE)","v":346},{"$f":"VLOOKUP($B$2,'Table 8'!$A$5:$L$23,2,FALSE)","v":360},{"$f":"VLOOKUP($B$2,'Table 9'!$A$5:$L$23,2,FALSE)","v":257},{"$f":"VLOOKUP($B$2,'Table 10'!$A$5:$L$23,2,FALSE)","v":244},{"$f":"VLOOKUP($B$2,'Table 11'!$A$5:$L$23,2,FALSE)","v":232},{"$f":"VLOOKUP($B$2,'Table 12'!$A$5:$L$23,2,FALSE)","v":277},{"$f":"VLOOKUP($B$2,'Table 13'!$A$5:$L$23,2,FALSE)","v":352},{"$f":"VLOOKUP($B$2,'Table 14'!$A$5:$L$23,2,FALSE)","v":373},null,"1 Bedroom ",{"$f":"VLOOKUP($B$2,'Table 7'!$A$5:$L$23,2,FALSE)","v":346},{"$f":"VLOOKUP($B$2,'Table 8'!$A$5:$L$23,2,FALSE)","v":360},{"$f":"VLOOKUP($B$2,'Table 9'!$A$5:$L$23,2,FALSE)","v":257},{"$f":"VLOOKUP($B$2,'Table 10'!$A$5:$L$23,2,FALSE)","v":244},{"$f":"VLOOKUP($B$2,'Table 11'!$A$5:$L$23,2,FALSE)","v":232},{"$f":"VLOOKUP($B$2,'Table 12'!$A$5:$L$23,2,FALSE)","v":277},{"$f":"VLOOKUP($B$2,'Table 13'!$A$5:$L$23,2,FALSE)","v":352},{"$f":"VLOOKUP($B$2,'Table 14'!$A$5:$L$23,2,FALSE)","v":373}]
[null,"Median",{"$f":"VLOOKUP($B$2,'Table 7'!$A$47:$F$65,4,FALSE)","v":300},{"$f":"VLOOKUP($B$2,'Table 8'!$A$47:$F$65,4,FALSE)","v":300},{"$f":"VLOOKUP($B$2,'Table 9'!$A$47:$F$65,4,FALSE)","v":300},{"$f":"VLOOKUP($B$2,'Table 10'!$A$47:$F$65,4,FALSE)","v":287.5},{"$f":"VLOOKUP($B$2,'Table 11'!$A$47:$F$65,4,FALSE)","v":283.33},{"$f":"VLOOKUP($B$2,'Table 12'!$A$47:$F$65,4,FALSE)","v":294.35000000000002},{"$f":"VLOOKUP($B$2,'Table 13'!$A$47:$F$65,4,FALSE)","v":300},{"$f":"VLOOKUP($B$2,'Table 14'!$A$47:$F$65,4,FALSE)","v":300},{"$f":"J71/I71-1","v":0},{"$f":"J71/C71-1","v":0},null,"2 Bedrooms",null,null,{"$f":"VLOOKUP($B$2,'Table 7'!$A$5:$L$23,8,FALSE)","v":613},{"$f":"VLOOKUP($B$2,'Table 8'!$A$5:$L$23,8,FALSE)","v":653},{"$f":"VLOOKUP($B$2,'Table 9'!$A$5:$L$23,8,FALSE)","v":528},{"$f":"VLOOKUP($B$2,'Table 10'!$A$5:$L$23,8,FALSE)","v":478},{"$f":"VLOOKUP($B$2,'Table 11'!$A$5:$L$23,8,FALSE)","v":513},{"$f":"VLOOKUP($B$2,'Table 12'!$A$5:$L$23,8,FALSE)","v":493},{"$f":"VLOOKUP($B$2,'Table 13'!$A$5:$L$23,8,FALSE)","v":583},{"$f":"VLOOKUP($B$2,'Table 14'!$A$5:$L$23,8,FALSE)","v":551},null,"2 Bedrooms",{"$f":"VLOOKUP($B$2,'Table 7'!$A$5:$L$23,8,FALSE)","v":613},{"$f":"VLOOKUP($B$2,'Table 8'!$A$5:$L$23,8,FALSE)","v":653},{"$f":"VLOOKUP($B$2,'Table 9'!$A$5:$L$23,8,FALSE)","v":528},{"$f":"VLOOKUP($B$2,'Table 10'!$A$5:$L$23,8,FALSE)","v":478},{"$f":"VLOOKUP($B$2,'Table 11'!$A$5:$L$23,8,FALSE)","v":513},{"$f":"VLOOKUP($B$2,'Table 12'!$A$5:$L$23,8,FALSE)","v":493},{"$f":"VLOOKUP($B$2,'Table 13'!$A$5:$L$23,8,FALSE)","v":583},{"$f":"VLOOKUP($B$2,'Table 14'!$A$5:$L$23,8,FALSE)","v":551}]
[null,"Mean",{"$f":"VLOOKUP($B$2,'Table 7'!$A$47:$F$65,5,FALSE)","v":296.26},{"$f":"VLOOKUP($B$2,'Table 8'!$A$47:$F$65,5,FALSE)","v":299.05},{"$f":"VLOOKUP($B$2,'Table 9'!$A$47:$F$65,5,FALSE)","v":290.55},{"$f":"VLOOKUP($B$2,'Table 10'!$A$47:$F$65,5,FALSE)","v":292.81},{"$f":"VLOOKUP($B$2,'Table 11'!$A$47:$F$65,5,FALSE)","v":291.26},{"$f":"VLOOKUP($B$2,'Table 12'!$A$47:$F$65,5,FALSE)","v":286.83999999999997},{"$f":"VLOOKUP($B$2,'Table 13'!$A$47:$F$65,5,FALSE)","v":304.02999999999997},{"$f":"VLOOKUP($B$2,'Table 14'!$A$47:$F$65,5,FALSE)","v":304.20999999999998},5.9204683748315112E-4,2.6834537230810751E-2,null,"3 Bedrooms",null,null,{"$f":"VLOOKUP($B$2,'Table 7'!$A$26:$L$44,2,FALSE)","v":228},{"$f":"VLOOKUP($B$2,'Table 8'!$A$26:$L$44,2,FALSE)","v":269},{"$f":"VLOOKUP($B$2,'Table 9'!$A$26:$L$44,2,FALSE)","v":199},{"$f":"VLOOKUP($B$2,'Table 10'!$A$26:$L$44,2,FALSE)","v":195},{"$f":"VLOOKUP($B$2,'Table 11'!$A$26:$L$44,2,FALSE)","v":276},{"$f":"VLOOKUP($B$2,'Table 12'!$A$26:$L$44,2,FALSE)","v":227},{"$f":"VLOOKUP($B$2,'Table 13'!$A$26:$L$44,2,FALSE)","v":237},{"$f":"VLOOKUP($B$2,'Table 14'!$A$26:$L$44,2,FALSE)","v":203},null,"3 Bedrooms",{"$f":"VLOOKUP($B$2,'Table 7'!$A$26:$L$44,2,FALSE)","v":228},{"$f":"VLOOKUP($B$2,'Table 8'!$A$26:$L$44,2,FALSE)","v":269},{"$f":"VLOOKUP($B$2,'Table 9'!$A$26:$L$44,2,FALSE)","v":199},{"$f":"VLOOKUP($B$2,'Table 10'!$A$26:$L$44,2,FALSE)","v":195},{"$f":"VLOOKUP($B$2,'Table 11'!$A$26:$L$44,2,FALSE)","v":276},{"$f":"VLOOKUP($B$2,'Table 12'!$A$26:$L$44,2,FALSE)","v":227},{"$f":"VLOOKUP($B$2,'Table 13'!$A$26:$L$44,2,FALSE)","v":237},{"$f":"VLOOKUP($B$2,'Table 14'!$A$26:$L$44,2,FALSE)","v":203}]
[null,"Upper Quartile",{"$f":"VLOOKUP($B$2,'Table 7'!$A$47:$F$65,6,FALSE)","v":330},{"$f":"VLOOKUP($B$2,'Table 8'!$A$47:$F$65,6,FALSE)","v":324},{"$f":"VLOOKUP($B$2,'Table 9'!$A$47:$F$65,6,FALSE)","v":320},{"$f":"VLOOKUP($B$2,'Table 10'!$A$47:$F$65,6,FALSE)","v":315},{"$f":"VLOOKUP($B$2,'Table 11'!$A$47:$F$65,6,FALSE)","v":325},{"$f":"VLOOKUP($B$2,'Table 12'!$A$47:$F$65,6,FALSE)","v":320},{"$f":"VLOOKUP($B$2,'Table 13'!$A$47:$F$65,6,FALSE)","v":330},{"$f":"VLOOKUP($B$2,'Table 14'!$A$47:$F$65,6,FALSE)","v":337.79},2.360606060606063E-2,2.360606060606063E-2,null,"4 Bedrooms",null,null,{"$f":"VLOOKUP($B$2,'Table 7'!$A$26:$L$44,8,FALSE)","v":62},{"$f":"VLOOKUP($B$2,'Table 8'!$A$26:$L$44,8,FALSE)","v":100},{"$f":"VLOOKUP($B$2,'Table 9'!$A$26:$L$44,8,FALSE)","v":66},{"$f":"VLOOKUP($B$2,'Table 10'!$A$26:$L$44,8,FALSE)","v":81},{"$f":"VLOOKUP($B$2,'Table 11'!$A$26:$L$44,8,FALSE)","v":74},{"$f":"VLOOKUP($B$2,'Table 12'!$A$26:$L$44,8,FALSE)","v":95},{"$f":"VLOOKUP($B$2,'Table 13'!$A$26:$L$44,8,FALSE)","v":71},{"$f":"VLOOKUP($B$2,'Table 14'!$A$26:$L$44,8,FALSE)","v":59},null,"4 Bedrooms",{"$f":"VLOOKUP($B$2,'Table 7'!$A$26:$L$44,8,FALSE)","v":62},{"$f":"VLOOKUP($B$2,'Table 8'!$A$26:$L$44,8,FALSE)","v":100},{"$f":"VLOOKUP($B$2,'Table 9'!$A$26:$L$44,8,FALSE)","v":66},{"$f":"VLOOKUP($B$2,'Table 10'!$A$26:$L$44,8,FALSE)","v":81},{"$f":"VLOOKUP($B$2,'Table 11'!$A$26:$L$44,8,FALSE)","v":74},{"$f":"VLOOKUP($B$2,'Table 12'!$A$26:$L$44,8,FALSE)","v":95},{"$f":"VLOOKUP($B$2,'Table 13'!$A$26:$L$44,8,FALSE)","v":71},{"$f":"VLOOKUP($B$2,'Table 14'!$A$26:$L$44,8,FALSE)","v":59}]
[null,null,null,null,null,null,null,null,null,null,null,null,null,"1 Bedroom Shared",null,null,{"$f":"VLOOKUP($B$2,'Table 7'!$A$47:$L$65,2,FALSE)","v":46},{"$f":"VLOOKUP($B$2,'Table 8'!$A$47:$L$65,2,FALSE)","v":64},{"$f":"VLOOKUP($B$2,'Table 9'!$A$47:$L$65,2,FALSE)","v":65},{"$f":"VLOOKUP($B$2,'Table 10'!$A$47:$L$65,2,FALSE)","v":88},{"$f":"VLOOKUP($B$2,'Table 11'!$A$47:$L$65,2,FALSE)","v":92},{"$f":"VLOOKUP($B$2,'Table 12'!$A$47:$L$65,2,FALSE)","v":118},{"$f":"VLOOKUP($B$2,'Table 13'!$A$47:$L$65,2,FALSE)","v":105},{"$f":"VLOOKUP($B$2,'Table 14'!$A$47:$L$65,2,FALSE)","v":102},null,"1 Bedroom Shared",{"$f":"VLOOKUP($B$2,'Table 7'!$A$47:$L$65,2,FALSE)","v":46},{"$f":"VLOOKUP($B$2,'Table 8'!$A$47:$L$65,2,FALSE)","v":64},{"$f":"VLOOKUP($B$2,'Table 9'!$A$47:$L$65,2,FALSE)","v":65},{"$f":"VLOOKUP($B$2,'Table 10'!$A$47:$L$65,2,FALSE)","v":88},{"$f":"VLOOKUP($B$2,'Table 11'!$A$47:$L$65,2,FALSE)","v":92},{"$f":"VLOOKUP($B$2,'Table 12'!$A$47:$L$65,2,FALSE)","v":118},{"$f":"VLOOKUP($B$2,'Table 13'!$A$47:$L$65,2,FALSE)","v":105},{"$f":"VLOOKUP($B$2,'Table 14'!$A$47:$L$65,2,FALSE)","v":102}]
[]
[]
[]
[]
[]
[]
[]
[]
[]
[]
[]
[]
[]
[]
[]
[]
[]
[null,null,null,null,null,null,null,null,null,null,null,null,null,null,null,null,null,null,null,null,null,null,null,null,null,null,null,null,null,null,null,null,null,null,null,2010,2011,2012,2013,2014,2015,2016,2017]
[null,null,null,null,null,null,null,null,null,null,null,null,null,null,null,null,null,null,null,null,null,null,null,null,null,null,null,null,null,null,null,null,null,null,"Scotland",{"$f":"'All years 2 bed'!B22","v":536.27},{"$f":"'All years 2 bed'!C22","v":546.41999999999996},{"$f":"'All years 2 bed'!D22","v":552.89},{"$f":"'All years 2 bed'!E22","v":575.84},{"$f":"'All years 2 bed'!F22","v":596.45000000000005},{"$f":"'All years 2 bed'!G22","v":609.52},{"$f":"'All years 2 bed'!H22","v":615.64},{"$f":"'All years 2 bed'!I22","v":642.79999999999995}]
[null,null,null,null,null,null,null,null,null,null,null,null,null,null,null,null,null,null,null,null,null,null,null,null,null,null,null,null,null,null,null,null,null,null,{"$f":"B2","v":"Renfrewshire / Inverclyde"},{"$f":"VLOOKUP($AI$94,'All years 2 bed'!$A$4:$I$21,2,FALSE)","v":472.96},{"$f":"VLOOKUP($AI$94,'All years 2 bed'!$A$4:$I$21,3,FALSE)","v":477.94},{"$f":"VLOOKUP($AI$94,'All years 2 bed'!$A$4:$I$21,4,FALSE)","v":484.84},{"$f":"VLOOKUP($AI$94,'All years 2 bed'!$A$4:$I$21,5,FALSE)","v":480.45},{"$f":"VLOOKUP($AI$94,'All years 2 bed'!$A$4:$I$21,6,FALSE)","v":483},{"$f":"VLOOKUP($AI$94,'All years 2 bed'!$A$4:$I$21,7,FALSE)","v":488.37},{"$f":"VLOOKUP($AI$94,'All years 2 bed'!$A$4:$I$21,8,FALSE)","v":493.93},{"$f":"VLOOKUP($AI$94,'All years 2 bed'!$A$4:$I$21,9,FALSE)","v":507.56}]

{"sheet":"Scottish Borders","index":61,"n_rows":94,"n_cols":43,"rows_kept":94,"cut":false,"hidden":false,"merged":[[73,13,73,15],[1,1,1,3],[69,13,69,15],[70,13,70,15],[71,13,71,15],[72,13,72,15]]}
[null,"BRMA:"]
[null,"Scottish Borders"]
[]
["Back to contents"]
[null,"Broad Rental Market Area Profile: Scottish Borders"]
[]
[]
[]
[]
[]
[]
[]
[]
[]
[]
[]
[]
[]
[]
[]
[]
[]
[]
[null,"1 Bedroom Properties - Quartile Measures, years to end Sept, (£ monthly):",null,null,null,null,null,null,null,null,null,null,null,"2 Bedroom Properties - Quartile Measures, years to end Sept, (£ monthly):"]
[null,null,2010,2011,2012,2013,2014,2015,2016,2017,"2016 to 2017","2010 to 2017",null,null,2010,2011,2012,2013,2014,2015,2016,2017,"2016 to 2017","2010 to 2017"]
[null,"Lower Quartile",{"$f":"VLOOKUP($B$2,'Table 7'!$A$5:$L$23,3,FALSE)","v":300},{"$f":"VLOOKUP($B$2,'Table 8'!$A$5:$L$23,3,FALSE)","v":300},{"$f":"VLOOKUP($B$2,'Table 9'!$A$5:$L$23,3,FALSE)","v":300},{"$f":"VLOOKUP($B$2,'Table 10'!$A$5:$L$23,3,FALSE)","v":300},{"$f":"VLOOKUP($B$2,'Table 11'!$A$5:$L$23,3,FALSE)","v":300},{"$f":"VLOOKUP($B$2,'Table 12'!$A$5:$L$23,3,FALSE)","v":300},{"$f":"VLOOKUP($B$2,'Table 13'!$A$5:$L$23,3,FALSE)","v":310},{"$f":"VLOOKUP($B$2,'Table 14'!$A$5:$L$23,3,FALSE)","v":325},{"$f":"J26/I26-1","v":4.8387096774193505E-2},{"$f":"J26/C26-1","v":8.3333333333333259E-2},null,"Lower Quartile",{"$f":"VLOOKUP($B$2,'Table 7'!$A$5:$L$23,9,FALSE)","v":395},{"$f":"VLOOKUP($B$2,'Table 8'!$A$5:$L$23,9,FALSE)","v":400},{"$f":"VLOOKUP($B$2,'Table 9'!$A$5:$L$23,9,FALSE)","v":400},{"$f":"VLOOKUP($B$2,'Table 10'!$A$5:$L$23,9,FALSE)","v":395},{"$f":"VLOOKUP($B$2,'Table 11'!$A$5:$L$23,9,FALSE)","v":400},{"$f":"VLOOKUP($B$2,'Table 12'!$A$5:$L$23,9,FALSE)","v":400},{"$f":"VLOOKUP($B$2,'Table 13'!$A$5:$L$23,9,FALSE)","v":400},{"$f":"VLOOKUP($B$2,'Table 14'!$A$5:$L$23,9,FALSE)","v":400},{"$f":"V26/U26-1","v":0},{"$f":"V26/O26-1","v":1.2658227848101333E-2}]
[null,"Median",{"$f":"VLOOKUP($B$2,'Table 7'!$A$5:$L$23,4,FALSE)","v":335},{"$f":"VLOOKUP($B$2,'Table 8'!$A$5:$L$23,4,FALSE)","v":350},{"$f":"VLOOKUP($B$2,'Table 9'!$A$5:$L$23,4,FALSE)","v":340},{"$f":"VLOOKUP($B$2,'Table 10'!$A$5:$L$23,4,FALSE)","v":325},{"$f":"VLOOKUP($B$2,'Table 11'!$A$5:$L$23,4,FALSE)","v":350},{"$f":"VLOOKUP($B$2,'Table 12'!$A$5:$L$23,4,FALSE)","v":345},{"$f":"VLOOKUP($B$2,'Table 13'!$A$5:$L$23,4,FALSE)","v":325},{"$f":"VLOOKUP($B$2,'Table 14'!$A$5:$L$23,4,FALSE)","v":335},{"$f":"J27/I27-1","v":3.076923076923066E-2},{"$f":"J27/C27-1","v":0},null,"Median",{"$f":"VLOOKUP($B$2,'Table 7'!$A$5:$L$23,10,FALSE)","v":427.5},{"$f":"VLOOKUP($B$2,'Table 8'!$A$5:$L$23,10,FALSE)","v":450},{"$f":"VLOOKUP($B$2,'Table 9'!$A$5:$L$23,10,FALSE)","v":440},{"$f":"VLOOKUP($B$2,'Table 10'!$A$5:$L$23,10,FALSE)","v":450},{"$f":"VLOOKUP($B$2,'Table 11'!$A$5:$L$23,10,FALSE)","v":440},{"$f":"VLOOKUP($B$2,'Table 12'!$A$5:$L$23,10,FALSE)","v":435},{"$f":"VLOOKUP($B$2,'Table 13'!$A$5:$L$23,10,FALSE)","v":450},{"$f":"VLOOKUP($B$2,'Table 14'!$A$5:$L$23,10,FALSE)","v":450},{"$f":"V27/U27-1","v":0},{"$f":"V27/O27-1","v":5.2631578947368363E-2}]
[null,"Mean",{"$f":"VLOOKUP($B$2,'Table 7'!$A$5:$L$23,5,FALSE)","v":336.19},{"$f":"VLOOKUP($B$2,'Table 8'!$A$5:$L$23,5,FALSE)","v":344.54},{"$f":"VLOOKUP($B$2,'Table 9'!$A$5:$L$23,5,FALSE)","v":336.91},{"$f":"VLOOKUP($B$2,'Table 10'!$A$5:$L$23,5,FALSE)","v":331.99},{"$f":"VLOOKUP($B$2,'Table 11'!$A$5:$L$23,5,FALSE)","v":337.33},{"$f":"VLOOKUP($B$2,'Table 12'!$A$5:$L$23,5,FALSE)","v":339.71},{"$f":"VLOOKUP($B$2,'Table 13'!$A$5:$L$23,5,FALSE)","v":337.92},{"$f":"VLOOKUP($B$2,'Table 14'!$A$5:$L$23,5,FALSE)","v":344.95},2.0803740530302983E-2,2.6056694131294744E-2,null,"Mean",{"$f":"VLOOKUP($B$2,'Table 7'!$A$5:$L$23,11,FALSE)","v":441.58},{"$f":"VLOOKUP($B$2,'Table 8'!$A$5:$L$23,11,FALSE)","v":446.24},{"$f":"VLOOKUP($B$2,'Table 9'!$A$5:$L$23,11,FALSE)","v":444.92},{"$f":"VLOOKUP($B$2,'Table 10'!$A$5:$L$23,11,FALSE)","v":443.86},{"$f":"VLOOKUP($B$2,'Table 11'!$A$5:$L$23,11,FALSE)","v":444.22},{"$f":"VLOOKUP($B$2,'Table 12'!$A$5:$L$23,11,FALSE)","v":443.93},{"$f":"VLOOKUP($B$2,'Table 13'!$A$5:$L$23,11,FALSE)","v":452.23},{"$f":"VLOOKUP($B$2,'Table 14'!$A$5:$L$23,11,FALSE)","v":458.64},1.4174203392079088E-2,3.863399610489604E-2]
[null,"Upper Quartile",{"$f":"VLOOKUP($B$2,'Table 7'!$A$5:$L$23,6,FALSE)","v":370},{"$f":"VLOOKUP($B$2,'Table 8'!$A$5:$L$23,6,FALSE)","v":375},{"$f":"VLOOKUP($B$2,'Table 9'!$A$5:$L$23,6,FALSE)","v":355},{"$f":"VLOOKUP($B$2,'Table 10'!$A$5:$L$23,6,FALSE)","v":350},{"$f":"VLOOKUP($B$2,'Table 11'!$A$5:$L$23,6,FALSE)","v":370},{"$f":"VLOOKUP($B$2,'Table 12'!$A$5:$L$23,6,FALSE)","v":360},{"$f":"VLOOKUP($B$2,'Table 13'!$A$5:$L$23,6,FALSE)","v":360},{"$f":"VLOOKUP($B$2,'Table 14'!$A$5:$L$23,6,FALSE)","v":375},4.1666666666666741E-2,1.3513513513513598E-2,null,"Upper Quartile",{"$f":"VLOOKUP($B$2,'Table 7'!$A$5:$L$23,12,FALSE)","v":490},{"$f":"VLOOKUP($B$2,'Table 8'!$A$5:$L$23,12,FALSE)","v":495},{"$f":"VLOOKUP($B$2,'Table 9'!$A$5:$L$23,12,FALSE)","v":485},{"$f":"VLOOKUP($B$2,'Table 10'!$A$5:$L$23,12,FALSE)","v":495},{"$f":"VLOOKUP($B$2,'Table 11'!$A$5:$L$23,12,FALSE)","v":495},{"$f":"VLOOKUP($B$2,'Table 12'!$A$5:$L$23,12,FALSE)","v":490},{"$f":"VLOOKUP($B$2,'Table 13'!$A$5:$L$23,12,FALSE)","v":495},{"$f":"VLOOKUP($B$2,'Table 14'!$A$5:$L$23,12,FALSE)","v":500},1.0101010101010166E-2,2.0408163265306145E-2]
[]
[]
[]
[]
[]
[]
[]
[]
[]
[]
[]
[]
[]
[]
[]
[]
[null,"3 Bedroom Properties - Quartile Measures, years to end Sept, (£ monthly):",null,null,null,null,null,null,null,null,null,null,null,"4 Bedroom Properties - Quartile Measures, years to end Sept, (£ monthly):"]
[null,null,2010,2011,2012,2013,2014,2015,2016,2017,"2016 to 2017","2010 to 2017",null,null,2010,2011,2012,2013,2014,2015,2016,2017,"2016 to 2017","2010 to 2017"]
[null,"Lower Quartile",{"$f":"VLOOKUP($B$2,'Table 7'!$A$26:$L$44,3,FALSE)","v":440},{"$f":"VLOOKUP($B$2,'Table 8'!$A$26:$L$44,3,FALSE)","v":450},{"$f":"VLOOKUP($B$2,'Table 9'!$A$26:$L$44,3,FALSE)","v":475},{"$f":"VLOOKUP($B$2,'Table 10'!$A$26:$L$44,3,FALSE)","v":450},{"$f":"VLOOKUP($B$2,'Table 11'!$A$26:$L$44,3,FALSE)","v":450},{"$f":"VLOOKUP($B$2,'Table 12'!$A$26:$L$44,3,FALSE)","v":450},{"$f":"VLOOKUP($B$2,'Table 13'!$A$26:$L$44,3,FALSE)","v":475},{"$f":"VLOOKUP($B$2,'Table 14'!$A$26:$L$44,3,FALSE)","v":475},{"$f":"J48/I48-1","v":0},{"$f":"J48/C48-1","v":7.9545454545454586E-2},null,"Lower Quartile",{"$f":"VLOOKUP($B$2,'Table 7'!$A$26:$L$44,9,FALSE)","v":595},{"$f":"VLOOKUP($B$2,'Table 8'!$A$26:$L$44,9,FALSE)","v":615},{"$f":"VLOOKUP($B$2,'Table 9'!$A$26:$L$44,9,FALSE)","v":600},{"$f":"VLOOKUP($B$2,'Table 10'!$A$26:$L$44,9,FALSE)","v":595},{"$f":"VLOOKUP($B$2,'Table 11'!$A$26:$L$44,9,FALSE)","v":600},{"$f":"VLOOKUP($B$2,'Table 12'!$A$26:$L$44,9,FALSE)","v":675},{"$f":"VLOOKUP($B$2,'Table 13'!$A$26:$L$44,9,FALSE)","v":600},{"$f":"VLOOKUP($B$2,'Table 14'!$A$26:$L$44,9,FALSE)","v":600},{"$f":"V48/U48-1","v":0},{"$f":"V48/O48-1","v":8.4033613445377853E-3}]
[null,"Median",{"$f":"VLOOKUP($B$2,'Table 7'!$A$26:$L$44,4,FALSE)","v":500},{"$f":"VLOOKUP($B$2,'Table 8'!$A$26:$L$44,4,FALSE)","v":525},{"$f":"VLOOKUP($B$2,'Table 9'!$A$26:$L$44,4,FALSE)","v":550},{"$f":"VLOOKUP($B$2,'Table 10'!$A$26:$L$44,4,FALSE)","v":525},{"$f":"VLOOKUP($B$2,'Table 11'!$A$26:$L$44,4,FALSE)","v":515},{"$f":"VLOOKUP($B$2,'Table 12'!$A$26:$L$44,4,FALSE)","v":525},{"$f":"VLOOKUP($B$2,'Table 13'!$A$26:$L$44,4,FALSE)","v":525},{"$f":"VLOOKUP($B$2,'Table 14'!$A$26:$L$44,4,FALSE)","v":550},{"$f":"J49/I49-1","v":4.7619047619047672E-2},{"$f":"J49/C49-1","v":0.10000000000000009},null,"Median",{"$f":"VLOOKUP($B$2,'Table 7'!$A$26:$L$44,10,FALSE)","v":685},{"$f":"VLOOKUP($B$2,'Table 8'!$A$26:$L$44,10,FALSE)","v":700},{"$f":"VLOOKUP($B$2,'Table 9'!$A$26:$L$44,10,FALSE)","v":695},{"$f":"VLOOKUP($B$2,'Table 10'!$A$26:$L$44,10,FALSE)","v":665},{"$f":"VLOOKUP($B$2,'Table 11'!$A$26:$L$44,10,FALSE)","v":695},{"$f":"VLOOKUP($B$2,'Table 12'!$A$26:$L$44,10,FALSE)","v":755},{"$f":"VLOOKUP($B$2,'Table 13'!$A$26:$L$44,10,FALSE)","v":695},{"$f":"VLOOKUP($B$2,'Table 14'!$A$26:$L$44,10,FALSE)","v":700},{"$f":"V49/U49-1","v":7.194244604316502E-3},{"$f":"V49/O49-1","v":2.1897810218978186E-2}]
[null,"Mean",{"$f":"VLOOKUP($B$2,'Table 7'!$A$26:$L$44,5,FALSE)","v":514.96},{"$f":"VLOOKUP($B$2,'Table 8'!$A$26:$L$44,5,FALSE)","v":539.47},{"$f":"VLOOKUP($B$2,'Table 9'!$A$26:$L$44,5,FALSE)","v":553.24},{"$f":"VLOOKUP($B$2,'Table 10'!$A$26:$L$44,5,FALSE)","v":541.89},{"$f":"VLOOKUP($B$2,'Table 11'!$A$26:$L$44,5,FALSE)","v":528.23},{"$f":"VLOOKUP($B$2,'Table 12'!$A$26:$L$44,5,FALSE)","v":535.36},{"$f":"VLOOKUP($B$2,'Table 13'!$A$26:$L$44,5,FALSE)","v":545.97},{"$f":"VLOOKUP($B$2,'Table 14'!$A$26:$L$44,5,FALSE)","v":565.77},3.6265728886202497E-2,9.8667857697685157E-2,null,"Mean",{"$f":"VLOOKUP($B$2,'Table 7'!$A$26:$L$44,11,FALSE)","v":689.67},{"$f":"VLOOKUP($B$2,'Table 8'!$A$26:$L$44,11,FALSE)","v":724.63},{"$f":"VLOOKUP($B$2,'Table 9'!$A$26:$L$44,11,FALSE)","v":712.45},{"$f":"VLOOKUP($B$2,'Table 10'!$A$26:$L$44,11,FALSE)","v":700.65},{"$f":"VLOOKUP($B$2,'Table 11'!$A$26:$L$44,11,FALSE)","v":727.05},{"$f":"VLOOKUP($B$2,'Table 12'!$A$26:$L$44,11,FALSE)","v":746.42},{"$f":"VLOOKUP($B$2,'Table 13'!$A$26:$L$44,11,FALSE)","v":739.76},{"$f":"VLOOKUP($B$2,'Table 14'!$A$26:$L$44,11,FALSE)","v":750.14},1.4031577809019202E-2,8.7679614888279911E-2]
[null,"Upper Quartile",{"$f":"VLOOKUP($B$2,'Table 7'!$A$26:$L$44,6,FALSE)","v":595},{"$f":"VLOOKUP($B$2,'Table 8'!$A$26:$L$44,6,FALSE)","v":595},{"$f":"VLOOKUP($B$2,'Table 9'!$A$26:$L$44,6,FALSE)","v":600},{"$f":"VLOOKUP($B$2,'Table 10'!$A$26:$L$44,6,FALSE)","v":600},{"$f":"VLOOKUP($B$2,'Table 11'!$A$26:$L$44,6,FALSE)","v":580},{"$f":"VLOOKUP($B$2,'Table 12'!$A$26:$L$44,6,FALSE)","v":595},{"$f":"VLOOKUP($B$2,'Table 13'!$A$26:$L$44,6,FALSE)","v":600},{"$f":"VLOOKUP($B$2,'Table 14'!$A$26:$L$44,6,FALSE)","v":650},8.3333333333333259E-2,9.243697478991586E-2,null,"Upper Quartile",{"$f":"VLOOKUP($B$2,'Table 7'!$A$26:$L$44,12,FALSE)","v":800},{"$f":"VLOOKUP($B$2,'Table 8'!$A$26:$L$44,12,FALSE)","v":845},{"$f":"VLOOKUP($B$2,'Table 9'!$A$26:$L$44,12,FALSE)","v":800},{"$f":"VLOOKUP($B$2,'Table 10'!$A$26:$L$44,12,FALSE)","v":795},{"$f":"VLOOKUP($B$2,'Table 11'!$A$26:$L$44,12,FALSE)","v":800},{"$f":"VLOOKUP($B$2,'Table 12'!$A$26:$L$44,12,FALSE)","v":830},{"$f":"VLOOKUP($B$2,'Table 13'!$A$26:$L$44,12,FALSE)","v":850},{"$f":"VLOOKUP($B$2,'Table 14'!$A$26:$L$44,12,FALSE)","v":825},-2.9411764705882359E-2,3.125E-2]
[]
[]
[]
[]
[]
[]
[]
[]
[]
[]
[]
[]
[]
[]
[]
[]
[null,"1 Bedroom Shared Properties - Quartile Measures, years to end Sept, (£ monthly):",null,null,null,null,null,null,null,null,null,null,null,"Sample Sizes:",null,null,null,null,null,null,null,null,null,null,null,"Sample Sizes:"]
[null,null,2010,2011,2012,2013,2014,2015,2016,2017,"2016 to 2017","2010 to 2017",null,null,null,null,2010,2011,2012,2013,2014,2015,2016,2017,null,null,2010,2011,2012,2013,2014,2015,2016,2017]
[null,"Lower Quartile",{"$f":"VLOOKUP($B$2,'Table 7'!$A$47:$F$65,3,FALSE)","v":230},{"$f":"VLOOKUP($B$2,'Table 8'!$A$47:$F$65,3,FALSE)","v":220},{"$f":"VLOOKUP($B$2,'Table 9'!$A$47:$F$65,3,FALSE)","v":225},{"$f":"VLOOKUP($B$2,'Table 10'!$A$47:$F$65,3,FALSE)","v":245},{"$f":"VLOOKUP($B$2,'Table 11'!$A$47:$F$65,3,FALSE)","v":235},{"$f":"VLOOKUP($B$2,'Table 12'!$A$47:$F$65,3,FALSE)","v":250},{"$f":"VLOOKUP($B$2,'Table 13'!$A$47:$F$65,3,FALSE)","v":245},{"$f":"VLOOKUP($B$2,'Table 14'!$A$47:$F$65,3,FALSE)","v":242.5},{"$f":"J70/I70-1","v":-1.0204081632653073E-2},{"$f":"J70/C70-1","v":5.4347826086956541E-2},null,"1 Bedroom ",null,null,{"$f":"VLOOKUP($B$2,'Table 7'!$A$5:$L$23,2,FALSE)","v":95},{"$f":"VLOOKUP($B$2,'Table 8'!$A$5:$L$23,2,FALSE)","v":118},{"$f":"VLOOKUP($B$2,'Table 9'!$A$5:$L$23,2,FALSE)","v":138},{"$f":"VLOOKUP($B$2,'Table 10'!$A$5:$L$23,2,FALSE)","v":141},{"$f":"VLOOKUP($B$2,'Table 11'!$A$5:$L$23,2,FALSE)","v":126},{"$f":"VLOOKUP($B$2,'Table 12'!$A$5:$L$23,2,FALSE)","v":157},{"$f":"VLOOKUP($B$2,'Table 13'!$A$5:$L$23,2,FALSE)","v":179},{"$f":"VLOOKUP($B$2,'Table 14'!$A$5:$L$23,2,FALSE)","v":194},null,"1 Bedroom ",{"$f":"VLOOKUP($B$2,'Table 7'!$A$5:$L$23,2,FALSE)","v":95},{"$f":"VLOOKUP($B$2,'Table 8'!$A$5:$L$23,2,FALSE)","v":118},{"$f":"VLOOKUP($B$2,'Table 9'!$A$5:$L$23,2,FALSE)","v":138},{"$f":"VLOOKUP($B$2,'Table 10'!$A$5:$L$23,2,FALSE)","v":141},{"$f":"VLOOKUP($B$2,'Table 11'!$A$5:$L$23,2,FALSE)","v":126},{"$f":"VLOOKUP($B$2,'Table 12'!$A$5:$L$23,2,FALSE)","v":157},{"$f":"VLOOKUP($B$2,'Table 13'!$A$5:$L$23,2,FALSE)","v":179},{"$f":"VLOOKUP($B$2,'Table 14'!$A$5:$L$23,2,FALSE)","v":194}]
[null,"Median",{"$f":"VLOOKUP($B$2,'Table 7'!$A$47:$F$65,4,FALSE)","v":260},{"$f":"VLOOKUP($B$2,'Table 8'!$A$47:$F$65,4,FALSE)","v":250},{"$f":"VLOOKUP($B$2,'Table 9'!$A$47:$F$65,4,FALSE)","v":244.17},{"$f":"VLOOKUP($B$2,'Table 10'!$A$47:$F$65,4,FALSE)","v":250},{"$f":"VLOOKUP($B$2,'Table 11'!$A$47:$F$65,4,FALSE)","v":251.67},{"$f":"VLOOKUP($B$2,'Table 12'!$A$47:$F$65,4,FALSE)","v":250.89},{"$f":"VLOOKUP($B$2,'Table 13'!$A$47:$F$65,4,FALSE)","v":250},{"$f":"VLOOKUP($B$2,'Table 14'!$A$47:$F$65,4,FALSE)","v":275},{"$f":"J71/I71-1","v":0.10000000000000009},{"$f":"J71/C71-1","v":5.7692307692307709E-2},null,"2 Bedrooms",null,null,{"$f":"VLOOKUP($B$2,'Table 7'!$A$5:$L$23,8,FALSE)","v":244},{"$f":"VLOOKUP($B$2,'Table 8'!$A$5:$L$23,8,FALSE)","v":272},{"$f":"VLOOKUP($B$2,'Table 9'!$A$5:$L$23,8,FALSE)","v":301},{"$f":"VLOOKUP($B$2,'Table 10'!$A$5:$L$23,8,FALSE)","v":317},{"$f":"VLOOKUP($B$2,'Table 11'!$A$5:$L$23,8,FALSE)","v":325},{"$f":"VLOOKUP($B$2,'Table 12'!$A$5:$L$23,8,FALSE)","v":309},{"$f":"VLOOKUP($B$2,'Table 13'!$A$5:$L$23,8,FALSE)","v":303},{"$f":"VLOOKUP($B$2,'Table 14'!$A$5:$L$23,8,FALSE)","v":318},null,"2 Bedrooms",{"$f":"VLOOKUP($B$2,'Table 7'!$A$5:$L$23,8,FALSE)","v":244},{"$f":"VLOOKUP($B$2,'Table 8'!$A$5:$L$23,8,FALSE)","v":272},{"$f":"VLOOKUP($B$2,'Table 9'!$A$5:$L$23,8,FALSE)","v":301},{"$f":"VLOOKUP($B$2,'Table 10'!$A$5:$L$23,8,FALSE)","v":317},{"$f":"VLOOKUP($B$2,'Table 11'!$A$5:$L$23,8,FALSE)","v":325},{"$f":"VLOOKUP($B$2,'Table 12'!$A$5:$L$23,8,FALSE)","v":309},{"$f":"VLOOKUP($B$2,'Table 13'!$A$5:$L$23,8,FALSE)","v":303},{"$f":"VLOOKUP($B$2,'Table 14'!$A$5:$L$23,8,FALSE)","v":318}]
[null,"Mean",{"$f":"VLOOKUP($B$2,'Table 7'!$A$47:$F$65,5,FALSE)","v":255.63},{"$f":"VLOOKUP($B$2,'Table 8'!$A$47:$F$65,5,FALSE)","v":246.95},{"$f":"VLOOKUP($B$2,'Table 9'!$A$47:$F$65,5,FALSE)","v":244.81},{"$f":"VLOOKUP($B$2,'Table 10'!$A$47:$F$65,5,FALSE)","v":265.16000000000003},{"$f":"VLOOKUP($B$2,'Table 11'!$A$47:$F$65,5,FALSE)","v":262.89999999999998},{"$f":"VLOOKUP($B$2,'Table 12'!$A$47:$F$65,5,FALSE)","v":271.45},{"$f":"VLOOKUP($B$2,'Table 13'!$A$47:$F$65,5,FALSE)","v":270.22000000000003},{"$f":"VLOOKUP($B$2,'Table 14'!$A$47:$F$65,5,FALSE)","v":312.18},0.15528088224409742,0.22121816688182139,null,"3 Bedrooms",null,null,{"$f":"VLOOKUP($B$2,'Table 7'!$A$26:$L$44,2,FALSE)","v":182},{"$f":"VLOOKUP($B$2,'Table 8'!$A$26:$L$44,2,FALSE)","v":235},{"$f":"VLOOKUP($B$2,'Table 9'!$A$26:$L$44,2,FALSE)","v":250},{"$f":"VLOOKUP($B$2,'Table 10'!$A$26:$L$44,2,FALSE)","v":222},{"$f":"VLOOKUP($B$2,'Table 11'!$A$26:$L$44,2,FALSE)","v":218},{"$f":"VLOOKUP($B$2,'Table 12'!$A$26:$L$44,2,FALSE)","v":223},{"$f":"VLOOKUP($B$2,'Table 13'!$A$26:$L$44,2,FALSE)","v":175},{"$f":"VLOOKUP($B$2,'Table 14'!$A$26:$L$44,2,FALSE)","v":169},null,"3 Bedrooms",{"$f":"VLOOKUP($B$2,'Table 7'!$A$26:$L$44,2,FALSE)","v":182},{"$f":"VLOOKUP($B$2,'Table 8'!$A$26:$L$44,2,FALSE)","v":235},{"$f":"VLOOKUP($B$2,'Table 9'!$A$26:$L$44,2,FALSE)","v":250},{"$f":"VLOOKUP($B$2,'Table 10'!$A$26:$L$44,2,FALSE)","v":222},{"$f":"VLOOKUP($B$2,'Table 11'!$A$26:$L$44,2,FALSE)","v":218},{"$f":"VLOOKUP($B$2,'Table 12'!$A$26:$L$44,2,FALSE)","v":223},{"$f":"VLOOKUP($B$2,'Table 13'!$A$26:$L$44,2,FALSE)","v":175},{"$f":"VLOOKUP($B$2,'Table 14'!$A$26:$L$44,2,FALSE)","v":169}]
[null,"Upper Quartile",{"$f":"VLOOKUP($B$2,'Table 7'!$A$47:$F$65,6,FALSE)","v":280},{"$f":"VLOOKUP($B$2,'Table 8'!$A$47:$F$65,6,FALSE)","v":260},{"$f":"VLOOKUP($B$2,'Table 9'!$A$47:$F$65,6,FALSE)","v":268.67},{"$f":"VLOOKUP($B$2,'Table 10'!$A$47:$F$65,6,FALSE)","v":290},{"$f":"VLOOKUP($B$2,'Table 11'!$A$47:$F$65,6,FALSE)","v":300},{"$f":"VLOOKUP($B$2,'Table 12'!$A$47:$F$65,6,FALSE)","v":300},{"$f":"VLOOKUP($B$2,'Table 13'!$A$47:$F$65,6,FALSE)","v":294.35000000000002},{"$f":"VLOOKUP($B$2,'Table 14'!$A$47:$F$65,6,FALSE)","v":359.52},0.22140309155766924,0.28400000000000003,null,"4 Bedrooms",null,null,{"$f":"VLOOKUP($B$2,'Table 7'!$A$26:$L$44,8,FALSE)","v":82},{"$f":"VLOOKUP($B$2,'Table 8'!$A$26:$L$44,8,FALSE)","v":81},{"$f":"VLOOKUP($B$2,'Table 9'!$A$26:$L$44,8,FALSE)","v":94},{"$f":"VLOOKUP($B$2,'Table 10'!$A$26:$L$44,8,FALSE)","v":81},{"$f":"VLOOKUP($B$2,'Table 11'!$A$26:$L$44,8,FALSE)","v":73},{"$f":"VLOOKUP($B$2,'Table 12'!$A$26:$L$44,8,FALSE)","v":60},{"$f":"VLOOKUP($B$2,'Table 13'!$A$26:$L$44,8,FALSE)","v":41},{"$f":"VLOOKUP($B$2,'Table 14'!$A$26:$L$44,8,FALSE)","v":37},null,"4 Bedrooms",{"$f":"VLOOKUP($B$2,'Table 7'!$A$26:$L$44,8,FALSE)","v":82},{"$f":"VLOOKUP($B$2,'Table 8'!$A$26:$L$44,8,FALSE)","v":81},{"$f":"VLOOKUP($B$2,'Table 9'!$A$26:$L$44,8,FALSE)","v":94},{"$f":"VLOOKUP($B$2,'Table 10'!$A$26:$L$44,8,FALSE)","v":81},{"$f":"VLOOKUP($B$2,'Table 11'!$A$26:$L$44,8,FALSE)","v":73},{"$f":"VLOOKUP($B$2,'Table 12'!$A$26:$L$44,8,FALSE)","v":60},{"$f":"VLOOKUP($B$2,'Table 13'!$A$26:$L$44,8,FALSE)","v":41},{"$f":"VLOOKUP($B$2,'Table 14'!$A$26:$L$44,8,FALSE)","v":37}]
[null,null,null,null,null,null,null,null,null,null,null,null,null,"1 Bedroom Shared",null,null,{"$f":"VLOOKUP($B$2,'Table 7'!$A$47:$L$65,2,FALSE)","v":17},{"$f":"VLOOKUP($B$2,'Table 8'!$A$47:$L$65,2,FALSE)","v":22},{"$f":"VLOOKUP($B$2,'Table 9'!$A$47:$L$65,2,FALSE)","v":16},{"$f":"VLOOKUP($B$2,'Table 10'!$A$47:$L$65,2,FALSE)","v":32},{"$f":"VLOOKUP($B$2,'Table 11'!$A$47:$L$65,2,FALSE)","v":30},{"$f":"VLOOKUP($B$2,'Table 12'!$A$47:$L$65,2,FALSE)","v":37},{"$f":"VLOOKUP($B$2,'Table 13'!$A$47:$L$65,2,FALSE)","v":37},{"$f":"VLOOKUP($B$2,'Table 14'!$A$47:$L$65,2,FALSE)","v":44},null,"1 Bedroom Shared",{"$f":"VLOOKUP($B$2,'Table 7'!$A$47:$L$65,2,FALSE)","v":17},{"$f":"VLOOKUP($B$2,'Table 8'!$A$47:$L$65,2,FALSE)","v":22},{"$f":"VLOOKUP($B$2,'Table 9'!$A$47:$L$65,2,FALSE)","v":16},{"$f":"VLOOKUP($B$2,'Table 10'!$A$47:$L$65,2,FALSE)","v":32},{"$f":"VLOOKUP($B$2,'Table 11'!$A$47:$L$65,2,FALSE)","v":30},{"$f":"VLOOKUP($B$2,'Table 12'!$A$47:$L$65,2,FALSE)","v":37},{"$f":"VLOOKUP($B$2,'Table 13'!$A$47:$L$65,2,FALSE)","v":37},{"$f":"VLOOKUP($B$2,'Table 14'!$A$47:$L$65,2,FALSE)","v":44}]
[]
[]
[]
[]
[]
[]
[]
[]
[]
[]
[]
[]
[]
[]
[]
[]
[]
[null,null,null,null,null,null,null,null,null,null,null,null,null,null,null,null,null,null,null,null,null,null,null,null,null,null,null,null,null,null,null,null,null,null,null,2010,2011,2012,2013,2014,2015,2016,2017]
[null,null,null,null,null,null,null,null,null,null,null,null,null,null,null,null,null,null,null,null,null,null,null,null,null,null,null,null,null,null,null,null,null,null,"Scotland",{"$f":"'All years 2 bed'!B22","v":536.27},{"$f":"'All years 2 bed'!C22","v":546.41999999999996},{"$f":"'All years 2 bed'!D22","v":552.89},{"$f":"'All years 2 bed'!E22","v":575.84},{"$f":"'All years 2 bed'!F22","v":596.45000000000005},{"$f":"'All years 2 bed'!G22","v":609.52},{"$f":"'All years 2 bed'!H22","v":615.64},{"$f":"'All years 2 bed'!I22","v":642.79999999999995}]
[null,null,null,null,null,null,null,null,null,null,null,null,null,null,null,null,null,null,null,null,null,null,null,null,null,null,null,null,null,null,null,null,null,null,{"$f":"B2","v":"Scottish Borders"},{"$f":"VLOOKUP($AI$94,'All years 2 bed'!$A$4:$I$21,2,FALSE)","v":441.58},{"$f":"VLOOKUP($AI$94,'All years 2 bed'!$A$4:$I$21,3,FALSE)","v":446.24},{"$f":"VLOOKUP($AI$94,'All years 2 bed'!$A$4:$I$21,4,FALSE)","v":444.92},{"$f":"VLOOKUP($AI$94,'All years 2 bed'!$A$4:$I$21,5,FALSE)","v":443.86},{"$f":"VLOOKUP($AI$94,'All years 2 bed'!$A$4:$I$21,6,FALSE)","v":444.22},{"$f":"VLOOKUP($AI$94,'All years 2 bed'!$A$4:$I$21,7,FALSE)","v":443.93},{"$f":"VLOOKUP($AI$94,'All years 2 bed'!$A$4:$I$21,8,FALSE)","v":452.23},{"$f":"VLOOKUP($AI$94,'All years 2 bed'!$A$4:$I$21,9,FALSE)","v":458.64}]

{"sheet":"South Lanarkshire","index":62,"n_rows":94,"n_cols":43,"rows_kept":94,"cut":false,"hidden":false,"merged":[[73,13,73,15],[1,1,1,3],[69,13,69,15],[70,13,70,15],[71,13,71,15],[72,13,72,15]]}
[null,"BRMA:"]
[null,"South Lanarkshire"]
[]
["Back to contents"]
[null,"Broad Rental Market Area Profile: South Lanarkshire"]
[]
[]
[]
[]
[]
[]
[]
[]
[]
[]
[]
[]
[]
[]
[]
[]
[]
[]
[null,"1 Bedroom Properties - Quartile Measures, years to end Sept, (£ monthly):",null,null,null,null,null,null,null,null,null,null,null,"2 Bedroom Properties - Quartile Measures, years to end Sept, (£ monthly):"]
[null,null,2010,2011,2012,2013,2014,2015,2016,2017,"2016 to 2017","2010 to 2017",null,null,2010,2011,2012,2013,2014,2015,2016,2017,"2016 to 2017","2010 to 2017"]
[null,"Lower Quartile",{"$f":"VLOOKUP($B$2,'Table 7'!$A$5:$L$23,3,FALSE)","v":350},{"$f":"VLOOKUP($B$2,'Table 8'!$A$5:$L$23,3,FALSE)","v":350},{"$f":"VLOOKUP($B$2,'Table 9'!$A$5:$L$23,3,FALSE)","v":350},{"$f":"VLOOKUP($B$2,'Table 10'!$A$5:$L$23,3,FALSE)","v":350},{"$f":"VLOOKUP($B$2,'Table 11'!$A$5:$L$23,3,FALSE)","v":350},{"$f":"VLOOKUP($B$2,'Table 12'!$A$5:$L$23,3,FALSE)","v":350},{"$f":"VLOOKUP($B$2,'Table 13'!$A$5:$L$23,3,FALSE)","v":350},{"$f":"VLOOKUP($B$2,'Table 14'!$A$5:$L$23,3,FALSE)","v":365},{"$f":"J26/I26-1","v":4.2857142857142927E-2},{"$f":"J26/C26-1","v":4.2857142857142927E-2},null,"Lower Quartile",{"$f":"VLOOKUP($B$2,'Table 7'!$A$5:$L$23,9,FALSE)","v":425},{"$f":"VLOOKUP($B$2,'Table 8'!$A$5:$L$23,9,FALSE)","v":435},{"$f":"VLOOKUP($B$2,'Table 9'!$A$5:$L$23,9,FALSE)","v":425},{"$f":"VLOOKUP($B$2,'Table 10'!$A$5:$L$23,9,FALSE)","v":435},{"$f":"VLOOKUP($B$2,'Table 11'!$A$5:$L$23,9,FALSE)","v":447.5},{"$f":"VLOOKUP($B$2,'Table 12'!$A$5:$L$23,9,FALSE)","v":450},{"$f":"VLOOKUP($B$2,'Table 13'!$A$5:$L$23,9,FALSE)","v":450},{"$f":"VLOOKUP($B$2,'Table 14'!$A$5:$L$23,9,FALSE)","v":450},{"$f":"V26/U26-1","v":0},{"$f":"V26/O26-1","v":5.8823529411764719E-2}]
[null,"Median",{"$f":"VLOOKUP($B$2,'Table 7'!$A$5:$L$23,4,FALSE)","v":375},{"$f":"VLOOKUP($B$2,'Table 8'!$A$5:$L$23,4,FALSE)","v":375},{"$f":"VLOOKUP($B$2,'Table 9'!$A$5:$L$23,4,FALSE)","v":375},{"$f":"VLOOKUP($B$2,'Table 10'!$A$5:$L$23,4,FALSE)","v":375},{"$f":"VLOOKUP($B$2,'Table 11'!$A$5:$L$23,4,FALSE)","v":375},{"$f":"VLOOKUP($B$2,'Table 12'!$A$5:$L$23,4,FALSE)","v":380},{"$f":"VLOOKUP($B$2,'Table 13'!$A$5:$L$23,4,FALSE)","v":375},{"$f":"VLOOKUP($B$2,'Table 14'!$A$5:$L$23,4,FALSE)","v":395},{"$f":"J27/I27-1","v":5.3333333333333233E-2},{"$f":"J27/C27-1","v":5.3333333333333233E-2},null,"Median",{"$f":"VLOOKUP($B$2,'Table 7'!$A$5:$L$23,10,FALSE)","v":460},{"$f":"VLOOKUP($B$2,'Table 8'!$A$5:$L$23,10,FALSE)","v":475},{"$f":"VLOOKUP($B$2,'Table 9'!$A$5:$L$23,10,FALSE)","v":475},{"$f":"VLOOKUP($B$2,'Table 10'!$A$5:$L$23,10,FALSE)","v":475},{"$f":"VLOOKUP($B$2,'Table 11'!$A$5:$L$23,10,FALSE)","v":475},{"$f":"VLOOKUP($B$2,'Table 12'!$A$5:$L$23,10,FALSE)","v":475},{"$f":"VLOOKUP($B$2,'Table 13'!$A$5:$L$23,10,FALSE)","v":475},{"$f":"VLOOKUP($B$2,'Table 14'!$A$5:$L$23,10,FALSE)","v":495},{"$f":"V27/U27-1","v":4.2105263157894646E-2},{"$f":"V27/O27-1","v":7.6086956521739024E-2}]
[null,"Mean",{"$f":"VLOOKUP($B$2,'Table 7'!$A$5:$L$23,5,FALSE)","v":382.47},{"$f":"VLOOKUP($B$2,'Table 8'!$A$5:$L$23,5,FALSE)","v":384.89},{"$f":"VLOOKUP($B$2,'Table 9'!$A$5:$L$23,5,FALSE)","v":379},{"$f":"VLOOKUP($B$2,'Table 10'!$A$5:$L$23,5,FALSE)","v":375.26},{"$f":"VLOOKUP($B$2,'Table 11'!$A$5:$L$23,5,FALSE)","v":379.54},{"$f":"VLOOKUP($B$2,'Table 12'!$A$5:$L$23,5,FALSE)","v":384.36},{"$f":"VLOOKUP($B$2,'Table 13'!$A$5:$L$23,5,FALSE)","v":381},{"$f":"VLOOKUP($B$2,'Table 14'!$A$5:$L$23,5,FALSE)","v":391.49},2.7532808398950115E-2,2.3583549036525708E-2,null,"Mean",{"$f":"VLOOKUP($B$2,'Table 7'!$A$5:$L$23,11,FALSE)","v":480.55},{"$f":"VLOOKUP($B$2,'Table 8'!$A$5:$L$23,11,FALSE)","v":492.1},{"$f":"VLOOKUP($B$2,'Table 9'!$A$5:$L$23,11,FALSE)","v":485.26},{"$f":"VLOOKUP($B$2,'Table 10'!$A$5:$L$23,11,FALSE)","v":490.7},{"$f":"VLOOKUP($B$2,'Table 11'!$A$5:$L$23,11,FALSE)","v":494.06},{"$f":"VLOOKUP($B$2,'Table 12'!$A$5:$L$23,11,FALSE)","v":497.05},{"$f":"VLOOKUP($B$2,'Table 13'!$A$5:$L$23,11,FALSE)","v":500.05},{"$f":"VLOOKUP($B$2,'Table 14'!$A$5:$L$23,11,FALSE)","v":520.08000000000004},4.0055994400560069E-2,8.2259910519196788E-2]
[null,"Upper Quartile",{"$f":"VLOOKUP($B$2,'Table 7'!$A$5:$L$23,6,FALSE)","v":395},{"$f":"VLOOKUP($B$2,'Table 8'!$A$5:$L$23,6,FALSE)","v":395},{"$f":"VLOOKUP($B$2,'Table 9'!$A$5:$L$23,6,FALSE)","v":395},{"$f":"VLOOKUP($B$2,'Table 10'!$A$5:$L$23,6,FALSE)","v":395},{"$f":"VLOOKUP($B$2,'Table 11'!$A$5:$L$23,6,FALSE)","v":400},{"$f":"VLOOKUP($B$2,'Table 12'!$A$5:$L$23,6,FALSE)","v":400},{"$f":"VLOOKUP($B$2,'Table 13'!$A$5:$L$23,6,FALSE)","v":400},{"$f":"VLOOKUP($B$2,'Table 14'!$A$5:$L$23,6,FALSE)","v":420},5.0000000000000044E-2,6.3291139240506222E-2,null,"Upper Quartile",{"$f":"VLOOKUP($B$2,'Table 7'!$A$5:$L$23,12,FALSE)","v":525},{"$f":"VLOOKUP($B$2,'Table 8'!$A$5:$L$23,12,FALSE)","v":550},{"$f":"VLOOKUP($B$2,'Table 9'!$A$5:$L$23,12,FALSE)","v":550},{"$f":"VLOOKUP($B$2,'Table 10'!$A$5:$L$23,12,FALSE)","v":545},{"$f":"VLOOKUP($B$2,'Table 11'!$A$5:$L$23,12,FALSE)","v":550},{"$f":"VLOOKUP($B$2,'Table 12'!$A$5:$L$23,12,FALSE)","v":550},{"$f":"VLOOKUP($B$2,'Table 13'!$A$5:$L$23,12,FALSE)","v":550},{"$f":"VLOOKUP($B$2,'Table 14'!$A$5:$L$23,12,FALSE)","v":575},4.5454545454545414E-2,9.5238095238095344E-2]
[]
[]
[]
[]
[]
[]
[]
[]
[]
[]
[]
[]
[]
[]
[]
[]
[null,"3 Bedroom Properties - Quartile Measures, years to end Sept, (£ monthly):",null,null,null,null,null,null,null,null,null,null,null,"4 Bedroom Properties - Quartile Measures, years to end Sept, (£ monthly):"]
[null,null,2010,2011,2012,2013,2014,2015,2016,2017,"2016 to 2017","2010 to 2017",null,null,2010,2011,2012,2013,2014,2015,2016,2017,"2016 to 2017","2010 to 2017"]
[null,"Lower Quartile",{"$f":"VLOOKUP($B$2,'Table 7'!$A$26:$L$44,3,FALSE)","v":550},{"$f":"VLOOKUP($B$2,'Table 8'!$A$26:$L$44,3,FALSE)","v":550},{"$f":"VLOOKUP($B$2,'Table 9'!$A$26:$L$44,3,FALSE)","v":550},{"$f":"VLOOKUP($B$2,'Table 10'!$A$26:$L$44,3,FALSE)","v":525},{"$f":"VLOOKUP($B$2,'Table 11'!$A$26:$L$44,3,FALSE)","v":550},{"$f":"VLOOKUP($B$2,'Table 12'!$A$26:$L$44,3,FALSE)","v":550},{"$f":"VLOOKUP($B$2,'Table 13'!$A$26:$L$44,3,FALSE)","v":550},{"$f":"VLOOKUP($B$2,'Table 14'!$A$26:$L$44,3,FALSE)","v":550},{"$f":"J48/I48-1","v":0},{"$f":"J48/C48-1","v":0},null,"Lower Quartile",{"$f":"VLOOKUP($B$2,'Table 7'!$A$26:$L$44,9,FALSE)","v":750},{"$f":"VLOOKUP($B$2,'Table 8'!$A$26:$L$44,9,FALSE)","v":750},{"$f":"VLOOKUP($B$2,'Table 9'!$A$26:$L$44,9,FALSE)","v":795},{"$f":"VLOOKUP($B$2,'Table 10'!$A$26:$L$44,9,FALSE)","v":750},{"$f":"VLOOKUP($B$2,'Table 11'!$A$26:$L$44,9,FALSE)","v":800},{"$f":"VLOOKUP($B$2,'Table 12'!$A$26:$L$44,9,FALSE)","v":825},{"$f":"VLOOKUP($B$2,'Table 13'!$A$26:$L$44,9,FALSE)","v":812.5},{"$f":"VLOOKUP($B$2,'Table 14'!$A$26:$L$44,9,FALSE)","v":895},{"$f":"V48/U48-1","v":0.10153846153846158},{"$f":"V48/O48-1","v":0.19333333333333336}]
[null,"Median",{"$f":"VLOOKUP($B$2,'Table 7'!$A$26:$L$44,4,FALSE)","v":595},{"$f":"VLOOKUP($B$2,'Table 8'!$A$26:$L$44,4,FALSE)","v":595},{"$f":"VLOOKUP($B$2,'Table 9'!$A$26:$L$44,4,FALSE)","v":595},{"$f":"VLOOKUP($B$2,'Table 10'!$A$26:$L$44,4,FALSE)","v":595},{"$f":"VLOOKUP($B$2,'Table 11'!$A$26:$L$44,4,FALSE)","v":600},{"$f":"VLOOKUP($B$2,'Table 12'!$A$26:$L$44,4,FALSE)","v":600},{"$f":"VLOOKUP($B$2,'Table 13'!$A$26:$L$44,4,FALSE)","v":625},{"$f":"VLOOKUP($B$2,'Table 14'!$A$26:$L$44,4,FALSE)","v":650},{"$f":"J49/I49-1","v":4.0000000000000036E-2},{"$f":"J49/C49-1","v":9.243697478991586E-2},null,"Median",{"$f":"VLOOKUP($B$2,'Table 7'!$A$26:$L$44,10,FALSE)","v":849.5},{"$f":"VLOOKUP($B$2,'Table 8'!$A$26:$L$44,10,FALSE)","v":850},{"$f":"VLOOKUP($B$2,'Table 9'!$A$26:$L$44,10,FALSE)","v":885},{"$f":"VLOOKUP($B$2,'Table 10'!$A$26:$L$44,10,FALSE)","v":847.5},{"$f":"VLOOKUP($B$2,'Table 11'!$A$26:$L$44,10,FALSE)","v":925},{"$f":"VLOOKUP($B$2,'Table 12'!$A$26:$L$44,10,FALSE)","v":970},{"$f":"VLOOKUP($B$2,'Table 13'!$A$26:$L$44,10,FALSE)","v":900},{"$f":"VLOOKUP($B$2,'Table 14'!$A$26:$L$44,10,FALSE)","v":1100},{"$f":"V49/U49-1","v":0.22222222222222232},{"$f":"V49/O49-1","v":0.29487934078869915}]
[null,"Mean",{"$f":"VLOOKUP($B$2,'Table 7'!$A$26:$L$44,5,FALSE)","v":626.88},{"$f":"VLOOKUP($B$2,'Table 8'!$A$26:$L$44,5,FALSE)","v":618.54},{"$f":"VLOOKUP($B$2,'Table 9'!$A$26:$L$44,5,FALSE)","v":625.94000000000005},{"$f":"VLOOKUP($B$2,'Table 10'!$A$26:$L$44,5,FALSE)","v":615.73},{"$f":"VLOOKUP($B$2,'Table 11'!$A$26:$L$44,5,FALSE)","v":617.05999999999995},{"$f":"VLOOKUP($B$2,'Table 12'!$A$26:$L$44,5,FALSE)","v":634.01},{"$f":"VLOOKUP($B$2,'Table 13'!$A$26:$L$44,5,FALSE)","v":636.58000000000004},{"$f":"VLOOKUP($B$2,'Table 14'!$A$26:$L$44,5,FALSE)","v":661.52},3.9178108014703561E-2,5.5257784583971459E-2,null,"Mean",{"$f":"VLOOKUP($B$2,'Table 7'!$A$26:$L$44,11,FALSE)","v":924.21},{"$f":"VLOOKUP($B$2,'Table 8'!$A$26:$L$44,11,FALSE)","v":925.78},{"$f":"VLOOKUP($B$2,'Table 9'!$A$26:$L$44,11,FALSE)","v":956.99},{"$f":"VLOOKUP($B$2,'Table 10'!$A$26:$L$44,11,FALSE)","v":893.4},{"$f":"VLOOKUP($B$2,'Table 11'!$A$26:$L$44,11,FALSE)","v":976.84},{"$f":"VLOOKUP($B$2,'Table 12'!$A$26:$L$44,11,FALSE)","v":1042.67},{"$f":"VLOOKUP($B$2,'Table 13'!$A$26:$L$44,11,FALSE)","v":1022.17},{"$f":"VLOOKUP($B$2,'Table 14'!$A$26:$L$44,11,FALSE)","v":1096.76},7.2972206188794519E-2,0.1866999924259638]
[null,"Upper Quartile",{"$f":"VLOOKUP($B$2,'Table 7'!$A$26:$L$44,6,FALSE)","v":675},{"$f":"VLOOKUP($B$2,'Table 8'!$A$26:$L$44,6,FALSE)","v":675},{"$f":"VLOOKUP($B$2,'Table 9'!$A$26:$L$44,6,FALSE)","v":695},{"$f":"VLOOKUP($B$2,'Table 10'!$A$26:$L$44,6,FALSE)","v":695},{"$f":"VLOOKUP($B$2,'Table 11'!$A$26:$L$44,6,FALSE)","v":670},{"$f":"VLOOKUP($B$2,'Table 12'!$A$26:$L$44,6,FALSE)","v":695},{"$f":"VLOOKUP($B$2,'Table 13'!$A$26:$L$44,6,FALSE)","v":695},{"$f":"VLOOKUP($B$2,'Table 14'!$A$26:$L$44,6,FALSE)","v":725},4.3165467625899234E-2,7.4074074074074181E-2,null,"Upper Quartile",{"$f":"VLOOKUP($B$2,'Table 7'!$A$26:$L$44,12,FALSE)","v":900},{"$f":"VLOOKUP($B$2,'Table 8'!$A$26:$L$44,12,FALSE)","v":995},{"$f":"VLOOKUP($B$2,'Table 9'!$A$26:$L$44,12,FALSE)","v":995},{"$f":"VLOOKUP($B$2,'Table 10'!$A$26:$L$44,12,FALSE)","v":995},{"$f":"VLOOKUP($B$2,'Table 11'!$A$26:$L$44,12,FALSE)","v":1100},{"$f":"VLOOKUP($B$2,'Table 12'!$A$26:$L$44,12,FALSE)","v":1200},{"$f":"VLOOKUP($B$2,'Table 13'!$A$26:$L$44,12,FALSE)","v":1192.5},{"$f":"VLOOKUP($B$2,'Table 14'!$A$26:$L$44,12,FALSE)","v":1300},9.0146750524108921E-2,0.44444444444444442]
[]
[]
[]
[]
[]
[]
[]
[]
[]
[]
[]
[]
[]
[]
[]
[]
[null,"1 Bedroom Shared Properties - Quartile Measures, years to end Sept, (£ monthly):",null,null,null,null,null,null,null,null,null,null,null,"Sample Sizes:",null,null,null,null,null,null,null,null,null,null,null,"Sample Sizes:"]
[null,null,2010,2011,2012,2013,2014,2015,2016,2017,"2016 to 2017","2010 to 2017",null,null,null,null,2010,2011,2012,2013,2014,2015,2016,2017,null,null,2010,2011,2012,2013,2014,2015,2016,2017]
[null,"Lower Quartile",{"$f":"VLOOKUP($B$2,'Table 7'!$A$47:$F$65,3,FALSE)","v":299},{"$f":"VLOOKUP($B$2,'Table 8'!$A$47:$F$65,3,FALSE)","v":252.5},{"$f":"VLOOKUP($B$2,'Table 9'!$A$47:$F$65,3,FALSE)","v":260},{"$f":"VLOOKUP($B$2,'Table 10'!$A$47:$F$65,3,FALSE)","v":260},{"$f":"VLOOKUP($B$2,'Table 11'!$A$47:$F$65,3,FALSE)","v":271.66000000000003},{"$f":"VLOOKUP($B$2,'Table 12'!$A$47:$F$65,3,FALSE)","v":275},{"$f":"VLOOKUP($B$2,'Table 13'!$A$47:$F$65,3,FALSE)","v":275},{"$f":"VLOOKUP($B$2,'Table 14'!$A$47:$F$65,3,FALSE)","v":275},{"$f":"J70/I70-1","v":0},{"$f":"J70/C70-1","v":-8.026755852842804E-2},null,"1 Bedroom ",null,null,{"$f":"VLOOKUP($B$2,'Table 7'!$A$5:$L$23,2,FALSE)","v":302},{"$f":"VLOOKUP($B$2,'Table 8'!$A$5:$L$23,2,FALSE)","v":272},{"$f":"VLOOKUP($B$2,'Table 9'!$A$5:$L$23,2,FALSE)","v":246},{"$f":"VLOOKUP($B$2,'Table 10'!$A$5:$L$23,2,FALSE)","v":245},{"$f":"VLOOKUP($B$2,'Table 11'!$A$5:$L$23,2,FALSE)","v":188},{"$f":"VLOOKUP($B$2,'Table 12'!$A$5:$L$23,2,FALSE)","v":192},{"$f":"VLOOKUP($B$2,'Table 13'!$A$5:$L$23,2,FALSE)","v":223},{"$f":"VLOOKUP($B$2,'Table 14'!$A$5:$L$23,2,FALSE)","v":295},null,"1 Bedroom ",{"$f":"VLOOKUP($B$2,'Table 7'!$A$5:$L$23,2,FALSE)","v":302},{"$f":"VLOOKUP($B$2,'Table 8'!$A$5:$L$23,2,FALSE)","v":272},{"$f":"VLOOKUP($B$2,'Table 9'!$A$5:$L$23,2,FALSE)","v":246},{"$f":"VLOOKUP($B$2,'Table 10'!$A$5:$L$23,2,FALSE)","v":245},{"$f":"VLOOKUP($B$2,'Table 11'!$A$5:$L$23,2,FALSE)","v":188},{"$f":"VLOOKUP($B$2,'Table 12'!$A$5:$L$23,2,FALSE)","v":192},{"$f":"VLOOKUP($B$2,'Table 13'!$A$5:$L$23,2,FALSE)","v":223},{"$f":"VLOOKUP($B$2,'Table 14'!$A$5:$L$23,2,FALSE)","v":295}]
[null,"Median",{"$f":"VLOOKUP($B$2,'Table 7'!$A$47:$F$65,4,FALSE)","v":300},{"$f":"VLOOKUP($B$2,'Table 8'!$A$47:$F$65,4,FALSE)","v":285},{"$f":"VLOOKUP($B$2,'Table 9'!$A$47:$F$65,4,FALSE)","v":300},{"$f":"VLOOKUP($B$2,'Table 10'!$A$47:$F$65,4,FALSE)","v":300},{"$f":"VLOOKUP($B$2,'Table 11'!$A$47:$F$65,4,FALSE)","v":300},{"$f":"VLOOKUP($B$2,'Table 12'!$A$47:$F$65,4,FALSE)","v":325},{"$f":"VLOOKUP($B$2,'Table 13'!$A$47:$F$65,4,FALSE)","v":309.68},{"$f":"VLOOKUP($B$2,'Table 14'!$A$47:$F$65,4,FALSE)","v":325},{"$f":"J71/I71-1","v":4.9470421079824245E-2},{"$f":"J71/C71-1","v":8.3333333333333259E-2},null,"2 Bedrooms",null,null,{"$f":"VLOOKUP($B$2,'Table 7'!$A$5:$L$23,8,FALSE)","v":665},{"$f":"VLOOKUP($B$2,'Table 8'!$A$5:$L$23,8,FALSE)","v":657},{"$f":"VLOOKUP($B$2,'Table 9'!$A$5:$L$23,8,FALSE)","v":597},{"$f":"VLOOKUP($B$2,'Table 10'!$A$5:$L$23,8,FALSE)","v":565},{"$f":"VLOOKUP($B$2,'Table 11'!$A$5:$L$23,8,FALSE)","v":468},{"$f":"VLOOKUP($B$2,'Table 12'!$A$5:$L$23,8,FALSE)","v":503},{"$f":"VLOOKUP($B$2,'Table 13'!$A$5:$L$23,8,FALSE)","v":489},{"$f":"VLOOKUP($B$2,'Table 14'!$A$5:$L$23,8,FALSE)","v":458},null,"2 Bedrooms",{"$f":"VLOOKUP($B$2,'Table 7'!$A$5:$L$23,8,FALSE)","v":665},{"$f":"VLOOKUP($B$2,'Table 8'!$A$5:$L$23,8,FALSE)","v":657},{"$f":"VLOOKUP($B$2,'Table 9'!$A$5:$L$23,8,FALSE)","v":597},{"$f":"VLOOKUP($B$2,'Table 10'!$A$5:$L$23,8,FALSE)","v":565},{"$f":"VLOOKUP($B$2,'Table 11'!$A$5:$L$23,8,FALSE)","v":468},{"$f":"VLOOKUP($B$2,'Table 12'!$A$5:$L$23,8,FALSE)","v":503},{"$f":"VLOOKUP($B$2,'Table 13'!$A$5:$L$23,8,FALSE)","v":489},{"$f":"VLOOKUP($B$2,'Table 14'!$A$5:$L$23,8,FALSE)","v":458}]
[null,"Mean",{"$f":"VLOOKUP($B$2,'Table 7'!$A$47:$F$65,5,FALSE)","v":309.07},{"$f":"VLOOKUP($B$2,'Table 8'!$A$47:$F$65,5,FALSE)","v":290.62},{"$f":"VLOOKUP($B$2,'Table 9'!$A$47:$F$65,5,FALSE)","v":304},{"$f":"VLOOKUP($B$2,'Table 10'!$A$47:$F$65,5,FALSE)","v":292.51},{"$f":"VLOOKUP($B$2,'Table 11'!$A$47:$F$65,5,FALSE)","v":302.57},{"$f":"VLOOKUP($B$2,'Table 12'!$A$47:$F$65,5,FALSE)","v":325.39},{"$f":"VLOOKUP($B$2,'Table 13'!$A$47:$F$65,5,FALSE)","v":315.10000000000002},{"$f":"VLOOKUP($B$2,'Table 14'!$A$47:$F$65,5,FALSE)","v":371.17},0.17794350999682629,0.20092535671530731,null,"3 Bedrooms",null,null,{"$f":"VLOOKUP($B$2,'Table 7'!$A$26:$L$44,2,FALSE)","v":279},{"$f":"VLOOKUP($B$2,'Table 8'!$A$26:$L$44,2,FALSE)","v":374},{"$f":"VLOOKUP($B$2,'Table 9'!$A$26:$L$44,2,FALSE)","v":299},{"$f":"VLOOKUP($B$2,'Table 10'!$A$26:$L$44,2,FALSE)","v":251},{"$f":"VLOOKUP($B$2,'Table 11'!$A$26:$L$44,2,FALSE)","v":202},{"$f":"VLOOKUP($B$2,'Table 12'!$A$26:$L$44,2,FALSE)","v":181},{"$f":"VLOOKUP($B$2,'Table 13'!$A$26:$L$44,2,FALSE)","v":199},{"$f":"VLOOKUP($B$2,'Table 14'!$A$26:$L$44,2,FALSE)","v":247},null,"3 Bedrooms",{"$f":"VLOOKUP($B$2,'Table 7'!$A$26:$L$44,2,FALSE)","v":279},{"$f":"VLOOKUP($B$2,'Table 8'!$A$26:$L$44,2,FALSE)","v":374},{"$f":"VLOOKUP($B$2,'Table 9'!$A$26:$L$44,2,FALSE)","v":299},{"$f":"VLOOKUP($B$2,'Table 10'!$A$26:$L$44,2,FALSE)","v":251},{"$f":"VLOOKUP($B$2,'Table 11'!$A$26:$L$44,2,FALSE)","v":202},{"$f":"VLOOKUP($B$2,'Table 12'!$A$26:$L$44,2,FALSE)","v":181},{"$f":"VLOOKUP($B$2,'Table 13'!$A$26:$L$44,2,FALSE)","v":199},{"$f":"VLOOKUP($B$2,'Table 14'!$A$26:$L$44,2,FALSE)","v":247}]
[null,"Upper Quartile",{"$f":"VLOOKUP($B$2,'Table 7'!$A$47:$F$65,6,FALSE)","v":320.67},{"$f":"VLOOKUP($B$2,'Table 8'!$A$47:$F$65,6,FALSE)","v":303},{"$f":"VLOOKUP($B$2,'Table 9'!$A$47:$F$65,6,FALSE)","v":320},{"$f":"VLOOKUP($B$2,'Table 10'!$A$47:$F$65,6,FALSE)","v":317.5},{"$f":"VLOOKUP($B$2,'Table 11'!$A$47:$F$65,6,FALSE)","v":325},{"$f":"VLOOKUP($B$2,'Table 12'!$A$47:$F$65,6,FALSE)","v":359.52},{"$f":"VLOOKUP($B$2,'Table 13'!$A$47:$F$65,6,FALSE)","v":350},{"$f":"VLOOKUP($B$2,'Table 14'!$A$47:$F$65,6,FALSE)","v":405},0.15714285714285725,0.26298063429694074,null,"4 Bedrooms",null,null,{"$f":"VLOOKUP($B$2,'Table 7'!$A$26:$L$44,8,FALSE)","v":144},{"$f":"VLOOKUP($B$2,'Table 8'!$A$26:$L$44,8,FALSE)","v":121},{"$f":"VLOOKUP($B$2,'Table 9'!$A$26:$L$44,8,FALSE)","v":158},{"$f":"VLOOKUP($B$2,'Table 10'!$A$26:$L$44,8,FALSE)","v":92},{"$f":"VLOOKUP($B$2,'Table 11'!$A$26:$L$44,8,FALSE)","v":70},{"$f":"VLOOKUP($B$2,'Table 12'!$A$26:$L$44,8,FALSE)","v":60},{"$f":"VLOOKUP($B$2,'Table 13'!$A$26:$L$44,8,FALSE)","v":60},{"$f":"VLOOKUP($B$2,'Table 14'!$A$26:$L$44,8,FALSE)","v":91},null,"4 Bedrooms",{"$f":"VLOOKUP($B$2,'Table 7'!$A$26:$L$44,8,FALSE)","v":144},{"$f":"VLOOKUP($B$2,'Table 8'!$A$26:$L$44,8,FALSE)","v":121},{"$f":"VLOOKUP($B$2,'Table 9'!$A$26:$L$44,8,FALSE)","v":158},{"$f":"VLOOKUP($B$2,'Table 10'!$A$26:$L$44,8,FALSE)","v":92},{"$f":"VLOOKUP($B$2,'Table 11'!$A$26:$L$44,8,FALSE)","v":70},{"$f":"VLOOKUP($B$2,'Table 12'!$A$26:$L$44,8,FALSE)","v":60},{"$f":"VLOOKUP($B$2,'Table 13'!$A$26:$L$44,8,FALSE)","v":60},{"$f":"VLOOKUP($B$2,'Table 14'!$A$26:$L$44,8,FALSE)","v":91}]
[null,null,null,null,null,null,null,null,null,null,null,null,null,"1 Bedroom Shared",null,null,{"$f":"VLOOKUP($B$2,'Table 7'!$A$47:$L$65,2,FALSE)","v":47},{"$f":"VLOOKUP($B$2,'Table 8'!$A$47:$L$65,2,FALSE)","v":68},{"$f":"VLOOKUP($B$2,'Table 9'!$A$47:$L$65,2,FALSE)","v":66},{"$f":"VLOOKUP($B$2,'Table 10'!$A$47:$L$65,2,FALSE)","v":68},{"$f":"VLOOKUP($B$2,'Table 11'!$A$47:$L$65,2,FALSE)","v":74},{"$f":"VLOOKUP($B$2,'Table 12'!$A$47:$L$65,2,FALSE)","v":67},{"$f":"VLOOKUP($B$2,'Table 13'!$A$47:$L$65,2,FALSE)","v":66},{"$f":"VLOOKUP($B$2,'Table 14'!$A$47:$L$65,2,FALSE)","v":107},null,"1 Bedroom Shared",{"$f":"VLOOKUP($B$2,'Table 7'!$A$47:$L$65,2,FALSE)","v":47},{"$f":"VLOOKUP($B$2,'Table 8'!$A$47:$L$65,2,FALSE)","v":68},{"$f":"VLOOKUP($B$2,'Table 9'!$A$47:$L$65,2,FALSE)","v":66},{"$f":"VLOOKUP($B$2,'Table 10'!$A$47:$L$65,2,FALSE)","v":68},{"$f":"VLOOKUP($B$2,'Table 11'!$A$47:$L$65,2,FALSE)","v":74},{"$f":"VLOOKUP($B$2,'Table 12'!$A$47:$L$65,2,FALSE)","v":67},{"$f":"VLOOKUP($B$2,'Table 13'!$A$47:$L$65,2,FALSE)","v":66},{"$f":"VLOOKUP($B$2,'Table 14'!$A$47:$L$65,2,FALSE)","v":107}]
[]
[]
[]
[]
[]
[]
[]
[]
[]
[]
[]
[]
[]
[]
[]
[]
[]
[null,null,null,null,null,null,null,null,null,null,null,null,null,null,null,null,null,null,null,null,null,null,null,null,null,null,null,null,null,null,null,null,null,null,null,2010,2011,2012,2013,2014,2015,2016,2017]
[null,null,null,null,null,null,null,null,null,null,null,null,null,null,null,null,null,null,null,null,null,null,null,null,null,null,null,null,null,null,null,null,null,null,"Scotland",{"$f":"'All years 2 bed'!B22","v":536.27},{"$f":"'All years 2 bed'!C22","v":546.41999999999996},{"$f":"'All years 2 bed'!D22","v":552.89},{"$f":"'All years 2 bed'!E22","v":575.84},{"$f":"'All years 2 bed'!F22","v":596.45000000000005},{"$f":"'All years 2 bed'!G22","v":609.52},{"$f":"'All years 2 bed'!H22","v":615.64},{"$f":"'All years 2 bed'!I22","v":642.79999999999995}]
[null,null,null,null,null,null,null,null,null,null,null,null,null,null,null,null,null,null,null,null,null,null,null,null,null,null,null,null,null,null,null,null,null,null,{"$f":"B2","v":"South Lanarkshire"},{"$f":"VLOOKUP($AI$94,'All years 2 bed'!$A$4:$I$21,2,FALSE)","v":480.55},{"$f":"VLOOKUP($AI$94,'All years 2 bed'!$A$4:$I$21,3,FALSE)","v":492.1},{"$f":"VLOOKUP($AI$94,'All years 2 bed'!$A$4:$I$21,4,FALSE)","v":485.26},{"$f":"VLOOKUP($AI$94,'All years 2 bed'!$A$4:$I$21,5,FALSE)","v":490.7},{"$f":"VLOOKUP($AI$94,'All years 2 bed'!$A$4:$I$21,6,FALSE)","v":494.06},{"$f":"VLOOKUP($AI$94,'All years 2 bed'!$A$4:$I$21,7,FALSE)","v":497.05},{"$f":"VLOOKUP($AI$94,'All years 2 bed'!$A$4:$I$21,8,FALSE)","v":500.05},{"$f":"VLOOKUP($AI$94,'All years 2 bed'!$A$4:$I$21,9,FALSE)","v":520.08000000000004}]

{"sheet":"West Dunbartonshire","index":63,"n_rows":94,"n_cols":43,"rows_kept":94,"cut":false,"hidden":false,"merged":[[73,13,73,15],[1,1,1,3],[69,13,69,15],[70,13,70,15],[71,13,71,15],[72,13,72,15]]}
[null,"BRMA:"]
[null,"West Dunbartonshire"]
[]
["Back to contents"]
[null,"Broad Rental Market Area Profile: West Dunbartonshire"]
[]
[]
[]
[]
[]
[]
[]
[]
[]
[]
[]
[]
[]
[]
[]
[]
[]
[]
[null,"1 Bedroom Properties - Quartile Measures, years to end Sept, (£ monthly):",null,null,null,null,null,null,null,null,null,null,null,"2 Bedroom Properties - Quartile Measures, years to end Sept, (£ monthly):"]
[null,null,2010,2011,2012,2013,2014,2015,2016,2017,"2016 to 2017","2010 to 2017",null,null,2010,2011,2012,2013,2014,2015,2016,2017,"2016 to 2017","2010 to 2017"]
[null,"Lower Quartile",{"$f":"VLOOKUP($B$2,'Table 7'!$A$5:$L$23,3,FALSE)","v":370},{"$f":"VLOOKUP($B$2,'Table 8'!$A$5:$L$23,3,FALSE)","v":350},{"$f":"VLOOKUP($B$2,'Table 9'!$A$5:$L$23,3,FALSE)","v":357.5},{"$f":"VLOOKUP($B$2,'Table 10'!$A$5:$L$23,3,FALSE)","v":375},{"$f":"VLOOKUP($B$2,'Table 11'!$A$5:$L$23,3,FALSE)","v":360},{"$f":"VLOOKUP($B$2,'Table 12'!$A$5:$L$23,3,FALSE)","v":360},{"$f":"VLOOKUP($B$2,'Table 13'!$A$5:$L$23,3,FALSE)","v":360},{"$f":"VLOOKUP($B$2,'Table 14'!$A$5:$L$23,3,FALSE)","v":365},{"$f":"J26/I26-1","v":1.388888888888884E-2},{"$f":"J26/C26-1","v":-1.3513513513513487E-2},null,"Lower Quartile",{"$f":"VLOOKUP($B$2,'Table 7'!$A$5:$L$23,9,FALSE)","v":450},{"$f":"VLOOKUP($B$2,'Table 8'!$A$5:$L$23,9,FALSE)","v":450},{"$f":"VLOOKUP($B$2,'Table 9'!$A$5:$L$23,9,FALSE)","v":450},{"$f":"VLOOKUP($B$2,'Table 10'!$A$5:$L$23,9,FALSE)","v":425},{"$f":"VLOOKUP($B$2,'Table 11'!$A$5:$L$23,9,FALSE)","v":450},{"$f":"VLOOKUP($B$2,'Table 12'!$A$5:$L$23,9,FALSE)","v":425},{"$f":"VLOOKUP($B$2,'Table 13'!$A$5:$L$23,9,FALSE)","v":450},{"$f":"VLOOKUP($B$2,'Table 14'!$A$5:$L$23,9,FALSE)","v":450},{"$f":"V26/U26-1","v":0},{"$f":"V26/O26-1","v":0}]
[null,"Median",{"$f":"VLOOKUP($B$2,'Table 7'!$A$5:$L$23,4,FALSE)","v":395},{"$f":"VLOOKUP($B$2,'Table 8'!$A$5:$L$23,4,FALSE)","v":395},{"$f":"VLOOKUP($B$2,'Table 9'!$A$5:$L$23,4,FALSE)","v":395},{"$f":"VLOOKUP($B$2,'Table 10'!$A$5:$L$23,4,FALSE)","v":395},{"$f":"VLOOKUP($B$2,'Table 11'!$A$5:$L$23,4,FALSE)","v":395},{"$f":"VLOOKUP($B$2,'Table 12'!$A$5:$L$23,4,FALSE)","v":395},{"$f":"VLOOKUP($B$2,'Table 13'!$A$5:$L$23,4,FALSE)","v":395},{"$f":"VLOOKUP($B$2,'Table 14'!$A$5:$L$23,4,FALSE)","v":400},{"$f":"J27/I27-1","v":1.2658227848101333E-2},{"$f":"J27/C27-1","v":1.2658227848101333E-2},null,"Median",{"$f":"VLOOKUP($B$2,'Table 7'!$A$5:$L$23,10,FALSE)","v":495},{"$f":"VLOOKUP($B$2,'Table 8'!$A$5:$L$23,10,FALSE)","v":495},{"$f":"VLOOKUP($B$2,'Table 9'!$A$5:$L$23,10,FALSE)","v":495},{"$f":"VLOOKUP($B$2,'Table 10'!$A$5:$L$23,10,FALSE)","v":475},{"$f":"VLOOKUP($B$2,'Table 11'!$A$5:$L$23,10,FALSE)","v":475},{"$f":"VLOOKUP($B$2,'Table 12'!$A$5:$L$23,10,FALSE)","v":460},{"$f":"VLOOKUP($B$2,'Table 13'!$A$5:$L$23,10,FALSE)","v":475},{"$f":"VLOOKUP($B$2,'Table 14'!$A$5:$L$23,10,FALSE)","v":487.5},{"$f":"V27/U27-1","v":2.6315789473684292E-2},{"$f":"V27/O27-1","v":-1.5151515151515138E-2}]
[null,"Mean",{"$f":"VLOOKUP($B$2,'Table 7'!$A$5:$L$23,5,FALSE)","v":396.84},{"$f":"VLOOKUP($B$2,'Table 8'!$A$5:$L$23,5,FALSE)","v":390.11},{"$f":"VLOOKUP($B$2,'Table 9'!$A$5:$L$23,5,FALSE)","v":399.03},{"$f":"VLOOKUP($B$2,'Table 10'!$A$5:$L$23,5,FALSE)","v":392.2},{"$f":"VLOOKUP($B$2,'Table 11'!$A$5:$L$23,5,FALSE)","v":390},{"$f":"VLOOKUP($B$2,'Table 12'!$A$5:$L$23,5,FALSE)","v":390.14},{"$f":"VLOOKUP($B$2,'Table 13'!$A$5:$L$23,5,FALSE)","v":400.42},{"$f":"VLOOKUP($B$2,'Table 14'!$A$5:$L$23,5,FALSE)","v":398.63},-4.4703061785126286E-3,4.5106340086684682E-3,null,"Mean",{"$f":"VLOOKUP($B$2,'Table 7'!$A$5:$L$23,11,FALSE)","v":492.17},{"$f":"VLOOKUP($B$2,'Table 8'!$A$5:$L$23,11,FALSE)","v":493.6},{"$f":"VLOOKUP($B$2,'Table 9'!$A$5:$L$23,11,FALSE)","v":493.9},{"$f":"VLOOKUP($B$2,'Table 10'!$A$5:$L$23,11,FALSE)","v":486.03},{"$f":"VLOOKUP($B$2,'Table 11'!$A$5:$L$23,11,FALSE)","v":479},{"$f":"VLOOKUP($B$2,'Table 12'!$A$5:$L$23,11,FALSE)","v":476.44},{"$f":"VLOOKUP($B$2,'Table 13'!$A$5:$L$23,11,FALSE)","v":498.22},{"$f":"VLOOKUP($B$2,'Table 14'!$A$5:$L$23,11,FALSE)","v":495.63},-5.1985066837944016E-3,7.0300912286405115E-3]
[null,"Upper Quartile",{"$f":"VLOOKUP($B$2,'Table 7'!$A$5:$L$23,6,FALSE)","v":425},{"$f":"VLOOKUP($B$2,'Table 8'!$A$5:$L$23,6,FALSE)","v":425},{"$f":"VLOOKUP($B$2,'Table 9'!$A$5:$L$23,6,FALSE)","v":425},{"$f":"VLOOKUP($B$2,'Table 10'!$A$5:$L$23,6,FALSE)","v":425},{"$f":"VLOOKUP($B$2,'Table 11'!$A$5:$L$23,6,FALSE)","v":425},{"$f":"VLOOKUP($B$2,'Table 12'!$A$5:$L$23,6,FALSE)","v":417.5},{"$f":"VLOOKUP($B$2,'Table 13'!$A$5:$L$23,6,FALSE)","v":425},{"$f":"VLOOKUP($B$2,'Table 14'!$A$5:$L$23,6,FALSE)","v":425},0,0,null,"Upper Quartile",{"$f":"VLOOKUP($B$2,'Table 7'!$A$5:$L$23,12,FALSE)","v":550},{"$f":"VLOOKUP($B$2,'Table 8'!$A$5:$L$23,12,FALSE)","v":550},{"$f":"VLOOKUP($B$2,'Table 9'!$A$5:$L$23,12,FALSE)","v":550},{"$f":"VLOOKUP($B$2,'Table 10'!$A$5:$L$23,12,FALSE)","v":550},{"$f":"VLOOKUP($B$2,'Table 11'!$A$5:$L$23,12,FALSE)","v":525},{"$f":"VLOOKUP($B$2,'Table 12'!$A$5:$L$23,12,FALSE)","v":525},{"$f":"VLOOKUP($B$2,'Table 13'!$A$5:$L$23,12,FALSE)","v":550},{"$f":"VLOOKUP($B$2,'Table 14'!$A$5:$L$23,12,FALSE)","v":550},0,0]
[]
[]
[]
[]
[]
[]
[]
[]
[]
[]
[]
[]
[]
[]
[]
[]
[null,"3 Bedroom Properties - Quartile Measures, years to end Sept, (£ monthly):",null,null,null,null,null,null,null,null,null,null,null,"4 Bedroom Properties - Quartile Measures, years to end Sept, (£ monthly):"]
[null,null,2010,2011,2012,2013,2014,2015,2016,2017,"2016 to 2017","2010 to 2017",null,null,2010,2011,2012,2013,2014,2015,2016,2017,"2016 to 2017","2010 to 2017"]
[null,"Lower Quartile",{"$f":"VLOOKUP($B$2,'Table 7'!$A$26:$L$44,3,FALSE)","v":475},{"$f":"VLOOKUP($B$2,'Table 8'!$A$26:$L$44,3,FALSE)","v":495},{"$f":"VLOOKUP($B$2,'Table 9'!$A$26:$L$44,3,FALSE)","v":498},{"$f":"VLOOKUP($B$2,'Table 10'!$A$26:$L$44,3,FALSE)","v":495},{"$f":"VLOOKUP($B$2,'Table 11'!$A$26:$L$44,3,FALSE)","v":480},{"$f":"VLOOKUP($B$2,'Table 12'!$A$26:$L$44,3,FALSE)","v":495},{"$f":"VLOOKUP($B$2,'Table 13'!$A$26:$L$44,3,FALSE)","v":475},{"$f":"VLOOKUP($B$2,'Table 14'!$A$26:$L$44,3,FALSE)","v":525},{"$f":"J48/I48-1","v":0.10526315789473695},{"$f":"J48/C48-1","v":0.10526315789473695},null,"Lower Quartile",{"$f":"VLOOKUP($B$2,'Table 7'!$A$26:$L$44,9,FALSE)","v":695},{"$f":"VLOOKUP($B$2,'Table 8'!$A$26:$L$44,9,FALSE)","v":700},{"$f":"VLOOKUP($B$2,'Table 9'!$A$26:$L$44,9,FALSE)","v":700},{"$f":"VLOOKUP($B$2,'Table 10'!$A$26:$L$44,9,FALSE)","v":695},{"$f":"VLOOKUP($B$2,'Table 11'!$A$26:$L$44,9,FALSE)","v":750},{"$f":"VLOOKUP($B$2,'Table 12'!$A$26:$L$44,9,FALSE)","v":795},{"$f":"VLOOKUP($B$2,'Table 13'!$A$26:$L$44,9,FALSE)","v":771.5},{"$f":"VLOOKUP($B$2,'Table 14'!$A$26:$L$44,9,FALSE)","v":795},{"$f":"V48/U48-1","v":3.0460142579390892E-2},{"$f":"V48/O48-1","v":0.14388489208633093}]
[null,"Median",{"$f":"VLOOKUP($B$2,'Table 7'!$A$26:$L$44,4,FALSE)","v":575},{"$f":"VLOOKUP($B$2,'Table 8'!$A$26:$L$44,4,FALSE)","v":575},{"$f":"VLOOKUP($B$2,'Table 9'!$A$26:$L$44,4,FALSE)","v":575},{"$f":"VLOOKUP($B$2,'Table 10'!$A$26:$L$44,4,FALSE)","v":550},{"$f":"VLOOKUP($B$2,'Table 11'!$A$26:$L$44,4,FALSE)","v":550},{"$f":"VLOOKUP($B$2,'Table 12'!$A$26:$L$44,4,FALSE)","v":550},{"$f":"VLOOKUP($B$2,'Table 13'!$A$26:$L$44,4,FALSE)","v":562.5},{"$f":"VLOOKUP($B$2,'Table 14'!$A$26:$L$44,4,FALSE)","v":595},{"$f":"J49/I49-1","v":5.7777777777777706E-2},{"$f":"J49/C49-1","v":3.4782608695652195E-2},null,"Median",{"$f":"VLOOKUP($B$2,'Table 7'!$A$26:$L$44,10,FALSE)","v":795},{"$f":"VLOOKUP($B$2,'Table 8'!$A$26:$L$44,10,FALSE)","v":850},{"$f":"VLOOKUP($B$2,'Table 9'!$A$26:$L$44,10,FALSE)","v":795},{"$f":"VLOOKUP($B$2,'Table 10'!$A$26:$L$44,10,FALSE)","v":772.5},{"$f":"VLOOKUP($B$2,'Table 11'!$A$26:$L$44,10,FALSE)","v":795},{"$f":"VLOOKUP($B$2,'Table 12'!$A$26:$L$44,10,FALSE)","v":800},{"$f":"VLOOKUP($B$2,'Table 13'!$A$26:$L$44,10,FALSE)","v":872.5},{"$f":"VLOOKUP($B$2,'Table 14'!$A$26:$L$44,10,FALSE)","v":850},{"$f":"V49/U49-1","v":-2.5787965616045794E-2},{"$f":"V49/O49-1","v":6.9182389937106903E-2}]
[null,"Mean",{"$f":"VLOOKUP($B$2,'Table 7'!$A$26:$L$44,5,FALSE)","v":591.05999999999995},{"$f":"VLOOKUP($B$2,'Table 8'!$A$26:$L$44,5,FALSE)","v":592.34},{"$f":"VLOOKUP($B$2,'Table 9'!$A$26:$L$44,5,FALSE)","v":606.89},{"$f":"VLOOKUP($B$2,'Table 10'!$A$26:$L$44,5,FALSE)","v":573.74},{"$f":"VLOOKUP($B$2,'Table 11'!$A$26:$L$44,5,FALSE)","v":590.70000000000005},{"$f":"VLOOKUP($B$2,'Table 12'!$A$26:$L$44,5,FALSE)","v":571.15},{"$f":"VLOOKUP($B$2,'Table 13'!$A$26:$L$44,5,FALSE)","v":575.4},{"$f":"VLOOKUP($B$2,'Table 14'!$A$26:$L$44,5,FALSE)","v":603.98},4.966979492526935E-2,2.1859032923899457E-2,null,"Mean",{"$f":"VLOOKUP($B$2,'Table 7'!$A$26:$L$44,11,FALSE)","v":821.05},{"$f":"VLOOKUP($B$2,'Table 8'!$A$26:$L$44,11,FALSE)","v":821.4},{"$f":"VLOOKUP($B$2,'Table 9'!$A$26:$L$44,11,FALSE)","v":834.38},{"$f":"VLOOKUP($B$2,'Table 10'!$A$26:$L$44,11,FALSE)","v":774.17},{"$f":"VLOOKUP($B$2,'Table 11'!$A$26:$L$44,11,FALSE)","v":795.87},{"$f":"VLOOKUP($B$2,'Table 12'!$A$26:$L$44,11,FALSE)","v":861.7},{"$f":"VLOOKUP($B$2,'Table 13'!$A$26:$L$44,11,FALSE)","v":906.5},{"$f":"VLOOKUP($B$2,'Table 14'!$A$26:$L$44,11,FALSE)","v":886},-2.2614451185879791E-2,7.9106022775714102E-2]
[null,"Upper Quartile",{"$f":"VLOOKUP($B$2,'Table 7'!$A$26:$L$44,6,FALSE)","v":650},{"$f":"VLOOKUP($B$2,'Table 8'!$A$26:$L$44,6,FALSE)","v":650},{"$f":"VLOOKUP($B$2,'Table 9'!$A$26:$L$44,6,FALSE)","v":680},{"$f":"VLOOKUP($B$2,'Table 10'!$A$26:$L$44,6,FALSE)","v":635},{"$f":"VLOOKUP($B$2,'Table 11'!$A$26:$L$44,6,FALSE)","v":650},{"$f":"VLOOKUP($B$2,'Table 12'!$A$26:$L$44,6,FALSE)","v":625},{"$f":"VLOOKUP($B$2,'Table 13'!$A$26:$L$44,6,FALSE)","v":650},{"$f":"VLOOKUP($B$2,'Table 14'!$A$26:$L$44,6,FALSE)","v":650},0,0,null,"Upper Quartile",{"$f":"VLOOKUP($B$2,'Table 7'!$A$26:$L$44,12,FALSE)","v":850},{"$f":"VLOOKUP($B$2,'Table 8'!$A$26:$L$44,12,FALSE)","v":900},{"$f":"VLOOKUP($B$2,'Table 9'!$A$26:$L$44,12,FALSE)","v":912.5},{"$f":"VLOOKUP($B$2,'Table 10'!$A$26:$L$44,12,FALSE)","v":850},{"$f":"VLOOKUP($B$2,'Table 11'!$A$26:$L$44,12,FALSE)","v":850},{"$f":"VLOOKUP($B$2,'Table 12'!$A$26:$L$44,12,FALSE)","v":875},{"$f":"VLOOKUP($B$2,'Table 13'!$A$26:$L$44,12,FALSE)","v":997.5},{"$f":"VLOOKUP($B$2,'Table 14'!$A$26:$L$44,12,FALSE)","v":995},-2.5062656641604564E-3,0.17058823529411771]
[]
[]
[]
[]
[]
[]
[]
[]
[]
[]
[]
[]
[]
[]
[]
[]
[null,"1 Bedroom Shared Properties - Quartile Measures, years to end Sept, (£ monthly):",null,null,null,null,null,null,null,null,null,null,null,"Sample Sizes:",null,null,null,null,null,null,null,null,null,null,null,"Sample Sizes:"]
[null,null,2010,2011,2012,2013,2014,2015,2016,2017,"2016 to 2017","2010 to 2017",null,null,null,null,2010,2011,2012,2013,2014,2015,2016,2017,null,null,2010,2011,2012,2013,2014,2015,2016,2017]
[null,"Lower Quartile",{"$f":"VLOOKUP($B$2,'Table 7'!$A$47:$F$65,3,FALSE)","v":240},{"$f":"VLOOKUP($B$2,'Table 8'!$A$47:$F$65,3,FALSE)","v":277},{"$f":"VLOOKUP($B$2,'Table 9'!$A$47:$F$65,3,FALSE)","v":268},{"$f":"VLOOKUP($B$2,'Table 10'!$A$47:$F$65,3,FALSE)","v":275},{"$f":"VLOOKUP($B$2,'Table 11'!$A$47:$F$65,3,FALSE)","v":260},{"$f":"VLOOKUP($B$2,'Table 12'!$A$47:$F$65,3,FALSE)","v":272.61},{"$f":"VLOOKUP($B$2,'Table 13'!$A$47:$F$65,3,FALSE)","v":260.70999999999998},{"$f":"VLOOKUP($B$2,'Table 14'!$A$47:$F$65,3,FALSE)","v":275},{"$f":"J70/I70-1","v":5.4811859920985029E-2},{"$f":"J70/C70-1","v":0.14583333333333326},null,"1 Bedroom ",null,null,{"$f":"VLOOKUP($B$2,'Table 7'!$A$5:$L$23,2,FALSE)","v":74},{"$f":"VLOOKUP($B$2,'Table 8'!$A$5:$L$23,2,FALSE)","v":90},{"$f":"VLOOKUP($B$2,'Table 9'!$A$5:$L$23,2,FALSE)","v":72},{"$f":"VLOOKUP($B$2,'Table 10'!$A$5:$L$23,2,FALSE)","v":50},{"$f":"VLOOKUP($B$2,'Table 11'!$A$5:$L$23,2,FALSE)","v":56},{"$f":"VLOOKUP($B$2,'Table 12'!$A$5:$L$23,2,FALSE)","v":108},{"$f":"VLOOKUP($B$2,'Table 13'!$A$5:$L$23,2,FALSE)","v":118},{"$f":"VLOOKUP($B$2,'Table 14'!$A$5:$L$23,2,FALSE)","v":95},null,"1 Bedroom ",{"$f":"VLOOKUP($B$2,'Table 7'!$A$5:$L$23,2,FALSE)","v":74},{"$f":"VLOOKUP($B$2,'Table 8'!$A$5:$L$23,2,FALSE)","v":90},{"$f":"VLOOKUP($B$2,'Table 9'!$A$5:$L$23,2,FALSE)","v":72},{"$f":"VLOOKUP($B$2,'Table 10'!$A$5:$L$23,2,FALSE)","v":50},{"$f":"VLOOKUP($B$2,'Table 11'!$A$5:$L$23,2,FALSE)","v":56},{"$f":"VLOOKUP($B$2,'Table 12'!$A$5:$L$23,2,FALSE)","v":108},{"$f":"VLOOKUP($B$2,'Table 13'!$A$5:$L$23,2,FALSE)","v":118},{"$f":"VLOOKUP($B$2,'Table 14'!$A$5:$L$23,2,FALSE)","v":95}]
[null,"Median",{"$f":"VLOOKUP($B$2,'Table 7'!$A$47:$F$65,4,FALSE)","v":294},{"$f":"VLOOKUP($B$2,'Table 8'!$A$47:$F$65,4,FALSE)","v":294},{"$f":"VLOOKUP($B$2,'Table 9'!$A$47:$F$65,4,FALSE)","v":292.5},{"$f":"VLOOKUP($B$2,'Table 10'!$A$47:$F$65,4,FALSE)","v":285},{"$f":"VLOOKUP($B$2,'Table 11'!$A$47:$F$65,4,FALSE)","v":281.66000000000003},{"$f":"VLOOKUP($B$2,'Table 12'!$A$47:$F$65,4,FALSE)","v":305},{"$f":"VLOOKUP($B$2,'Table 13'!$A$47:$F$65,4,FALSE)","v":305},{"$f":"VLOOKUP($B$2,'Table 14'!$A$47:$F$65,4,FALSE)","v":325},{"$f":"J71/I71-1","v":6.5573770491803351E-2},{"$f":"J71/C71-1","v":0.10544217687074831},null,"2 Bedrooms",null,null,{"$f":"VLOOKUP($B$2,'Table 7'!$A$5:$L$23,8,FALSE)","v":160},{"$f":"VLOOKUP($B$2,'Table 8'!$A$5:$L$23,8,FALSE)","v":161},{"$f":"VLOOKUP($B$2,'Table 9'!$A$5:$L$23,8,FALSE)","v":165},{"$f":"VLOOKUP($B$2,'Table 10'!$A$5:$L$23,8,FALSE)","v":175},{"$f":"VLOOKUP($B$2,'Table 11'!$A$5:$L$23,8,FALSE)","v":145},{"$f":"VLOOKUP($B$2,'Table 12'!$A$5:$L$23,8,FALSE)","v":243},{"$f":"VLOOKUP($B$2,'Table 13'!$A$5:$L$23,8,FALSE)","v":197},{"$f":"VLOOKUP($B$2,'Table 14'!$A$5:$L$23,8,FALSE)","v":210},null,"2 Bedrooms",{"$f":"VLOOKUP($B$2,'Table 7'!$A$5:$L$23,8,FALSE)","v":160},{"$f":"VLOOKUP($B$2,'Table 8'!$A$5:$L$23,8,FALSE)","v":161},{"$f":"VLOOKUP($B$2,'Table 9'!$A$5:$L$23,8,FALSE)","v":165},{"$f":"VLOOKUP($B$2,'Table 10'!$A$5:$L$23,8,FALSE)","v":175},{"$f":"VLOOKUP($B$2,'Table 11'!$A$5:$L$23,8,FALSE)","v":145},{"$f":"VLOOKUP($B$2,'Table 12'!$A$5:$L$23,8,FALSE)","v":243},{"$f":"VLOOKUP($B$2,'Table 13'!$A$5:$L$23,8,FALSE)","v":197},{"$f":"VLOOKUP($B$2,'Table 14'!$A$5:$L$23,8,FALSE)","v":210}]
[null,"Mean",{"$f":"VLOOKUP($B$2,'Table 7'!$A$47:$F$65,5,FALSE)","v":288.89},{"$f":"VLOOKUP($B$2,'Table 8'!$A$47:$F$65,5,FALSE)","v":300.14999999999998},{"$f":"VLOOKUP($B$2,'Table 9'!$A$47:$F$65,5,FALSE)","v":291.19},{"$f":"VLOOKUP($B$2,'Table 10'!$A$47:$F$65,5,FALSE)","v":286.20999999999998},{"$f":"VLOOKUP($B$2,'Table 11'!$A$47:$F$65,5,FALSE)","v":283.39999999999998},{"$f":"VLOOKUP($B$2,'Table 12'!$A$47:$F$65,5,FALSE)","v":315.55},{"$f":"VLOOKUP($B$2,'Table 13'!$A$47:$F$65,5,FALSE)","v":322.08999999999997},{"$f":"VLOOKUP($B$2,'Table 14'!$A$47:$F$65,5,FALSE)","v":331.01},2.7694122760719031E-2,0.14579943923292604,null,"3 Bedrooms",null,null,{"$f":"VLOOKUP($B$2,'Table 7'!$A$26:$L$44,2,FALSE)","v":67},{"$f":"VLOOKUP($B$2,'Table 8'!$A$26:$L$44,2,FALSE)","v":92},{"$f":"VLOOKUP($B$2,'Table 9'!$A$26:$L$44,2,FALSE)","v":73},{"$f":"VLOOKUP($B$2,'Table 10'!$A$26:$L$44,2,FALSE)","v":79},{"$f":"VLOOKUP($B$2,'Table 11'!$A$26:$L$44,2,FALSE)","v":87},{"$f":"VLOOKUP($B$2,'Table 12'!$A$26:$L$44,2,FALSE)","v":103},{"$f":"VLOOKUP($B$2,'Table 13'!$A$26:$L$44,2,FALSE)","v":68},{"$f":"VLOOKUP($B$2,'Table 14'!$A$26:$L$44,2,FALSE)","v":60},null,"3 Bedrooms",{"$f":"VLOOKUP($B$2,'Table 7'!$A$26:$L$44,2,FALSE)","v":67},{"$f":"VLOOKUP($B$2,'Table 8'!$A$26:$L$44,2,FALSE)","v":92},{"$f":"VLOOKUP($B$2,'Table 9'!$A$26:$L$44,2,FALSE)","v":73},{"$f":"VLOOKUP($B$2,'Table 10'!$A$26:$L$44,2,FALSE)","v":79},{"$f":"VLOOKUP($B$2,'Table 11'!$A$26:$L$44,2,FALSE)","v":87},{"$f":"VLOOKUP($B$2,'Table 12'!$A$26:$L$44,2,FALSE)","v":103},{"$f":"VLOOKUP($B$2,'Table 13'!$A$26:$L$44,2,FALSE)","v":68},{"$f":"VLOOKUP($B$2,'Table 14'!$A$26:$L$44,2,FALSE)","v":60}]
[null,"Upper Quartile",{"$f":"VLOOKUP($B$2,'Table 7'!$A$47:$F$65,6,FALSE)","v":344},{"$f":"VLOOKUP($B$2,'Table 8'!$A$47:$F$65,6,FALSE)","v":315},{"$f":"VLOOKUP($B$2,'Table 9'!$A$47:$F$65,6,FALSE)","v":325},{"$f":"VLOOKUP($B$2,'Table 10'!$A$47:$F$65,6,FALSE)","v":303.33},{"$f":"VLOOKUP($B$2,'Table 11'!$A$47:$F$65,6,FALSE)","v":305},{"$f":"VLOOKUP($B$2,'Table 12'!$A$47:$F$65,6,FALSE)","v":359.52},{"$f":"VLOOKUP($B$2,'Table 13'!$A$47:$F$65,6,FALSE)","v":359.52},{"$f":"VLOOKUP($B$2,'Table 14'!$A$47:$F$65,6,FALSE)","v":375},4.3057409879839748E-2,9.011627906976738E-2,null,"4 Bedrooms",null,null,{"$f":"VLOOKUP($B$2,'Table 7'!$A$26:$L$44,8,FALSE)","v":19},{"$f":"VLOOKUP($B$2,'Table 8'!$A$26:$L$44,8,FALSE)","v":25},{"$f":"VLOOKUP($B$2,'Table 9'!$A$26:$L$44,8,FALSE)","v":16},{"$f":"VLOOKUP($B$2,'Table 10'!$A$26:$L$44,8,FALSE)","v":12},{"$f":"VLOOKUP($B$2,'Table 11'!$A$26:$L$44,8,FALSE)","v":15},{"$f":"VLOOKUP($B$2,'Table 12'!$A$26:$L$44,8,FALSE)","v":13},{"$f":"VLOOKUP($B$2,'Table 13'!$A$26:$L$44,8,FALSE)","v":12},{"$f":"VLOOKUP($B$2,'Table 14'!$A$26:$L$44,8,FALSE)","v":15},null,"4 Bedrooms",{"$f":"VLOOKUP($B$2,'Table 7'!$A$26:$L$44,8,FALSE)","v":19},{"$f":"VLOOKUP($B$2,'Table 8'!$A$26:$L$44,8,FALSE)","v":25},{"$f":"VLOOKUP($B$2,'Table 9'!$A$26:$L$44,8,FALSE)","v":16},{"$f":"VLOOKUP($B$2,'Table 10'!$A$26:$L$44,8,FALSE)","v":12},{"$f":"VLOOKUP($B$2,'Table 11'!$A$26:$L$44,8,FALSE)","v":15},{"$f":"VLOOKUP($B$2,'Table 12'!$A$26:$L$44,8,FALSE)","v":13},{"$f":"VLOOKUP($B$2,'Table 13'!$A$26:$L$44,8,FALSE)","v":12},{"$f":"VLOOKUP($B$2,'Table 14'!$A$26:$L$44,8,FALSE)","v":15}]
[null,null,null,null,null,null,null,null,null,null,null,null,null,"1 Bedroom Shared",null,null,{"$f":"VLOOKUP($B$2,'Table 7'!$A$47:$L$65,2,FALSE)","v":15},{"$f":"VLOOKUP($B$2,'Table 8'!$A$47:$L$65,2,FALSE)","v":20},{"$f":"VLOOKUP($B$2,'Table 9'!$A$47:$L$65,2,FALSE)","v":18},{"$f":"VLOOKUP($B$2,'Table 10'!$A$47:$L$65,2,FALSE)","v":30},{"$f":"VLOOKUP($B$2,'Table 11'!$A$47:$L$65,2,FALSE)","v":49},{"$f":"VLOOKUP($B$2,'Table 12'!$A$47:$L$65,2,FALSE)","v":69},{"$f":"VLOOKUP($B$2,'Table 13'!$A$47:$L$65,2,FALSE)","v":45},{"$f":"VLOOKUP($B$2,'Table 14'!$A$47:$L$65,2,FALSE)","v":51},null,"1 Bedroom Shared",{"$f":"VLOOKUP($B$2,'Table 7'!$A$47:$L$65,2,FALSE)","v":15},{"$f":"VLOOKUP($B$2,'Table 8'!$A$47:$L$65,2,FALSE)","v":20},{"$f":"VLOOKUP($B$2,'Table 9'!$A$47:$L$65,2,FALSE)","v":18},{"$f":"VLOOKUP($B$2,'Table 10'!$A$47:$L$65,2,FALSE)","v":30},{"$f":"VLOOKUP($B$2,'Table 11'!$A$47:$L$65,2,FALSE)","v":49},{"$f":"VLOOKUP($B$2,'Table 12'!$A$47:$L$65,2,FALSE)","v":69},{"$f":"VLOOKUP($B$2,'Table 13'!$A$47:$L$65,2,FALSE)","v":45},{"$f":"VLOOKUP($B$2,'Table 14'!$A$47:$L$65,2,FALSE)","v":51}]
[]
[]
[]
[]
[]
[]
[]
[]
[]
[]
[]
[]
[]
[]
[]
[]
[]
[null,null,null,null,null,null,null,null,null,null,null,null,null,null,null,null,null,null,null,null,null,null,null,null,null,null,null,null,null,null,null,null,null,null,null,2010,2011,2012,2013,2014,2015,2016,2017]
[null,null,null,null,null,null,null,null,null,null,null,null,null,null,null,null,null,null,null,null,null,null,null,null,null,null,null,null,null,null,null,null,null,null,"Scotland",{"$f":"'All years 2 bed'!B22","v":536.27},{"$f":"'All years 2 bed'!C22","v":546.41999999999996},{"$f":"'All years 2 bed'!D22","v":552.89},{"$f":"'All years 2 bed'!E22","v":575.84},{"$f":"'All years 2 bed'!F22","v":596.45000000000005},{"$f":"'All years 2 bed'!G22","v":609.52},{"$f":"'All years 2 bed'!H22","v":615.64},{"$f":"'All years 2 bed'!I22","v":642.79999999999995}]
[null,null,null,null,null,null,null,null,null,null,null,null,null,null,null,null,null,null,null,null,null,null,null,null,null,null,null,null,null,null,null,null,null,null,{"$f":"B2","v":"West Dunbartonshire"},{"$f":"VLOOKUP($AI$94,'All years 2 bed'!$A$4:$I$21,2,FALSE)","v":492.17},{"$f":"VLOOKUP($AI$94,'All years 2 bed'!$A$4:$I$21,3,FALSE)","v":493.6},{"$f":"VLOOKUP($AI$94,'All years 2 bed'!$A$4:$I$21,4,FALSE)","v":493.9},{"$f":"VLOOKUP($AI$94,'All years 2 bed'!$A$4:$I$21,5,FALSE)","v":486.03},{"$f":"VLOOKUP($AI$94,'All years 2 bed'!$A$4:$I$21,6,FALSE)","v":479},{"$f":"VLOOKUP($AI$94,'All years 2 bed'!$A$4:$I$21,7,FALSE)","v":476.44},{"$f":"VLOOKUP($AI$94,'All years 2 bed'!$A$4:$I$21,8,FALSE)","v":498.22},{"$f":"VLOOKUP($AI$94,'All years 2 bed'!$A$4:$I$21,9,FALSE)","v":495.63}]

{"sheet":"West Lothian","index":64,"n_rows":94,"n_cols":43,"rows_kept":94,"cut":false,"hidden":false,"merged":[[73,13,73,15],[1,1,1,3],[69,13,69,15],[70,13,70,15],[71,13,71,15],[72,13,72,15]]}
[null,"BRMA:"]
[null,"West Lothian"]
[]
["Back to contents"]
[null,"Broad Rental Market Area Profile: West Lothian"]
[]
[]
[]
[]
[]
[]
[]
[]
[]
[]
[]
[]
[]
[]
[]
[]
[]
[]
[null,"1 Bedroom Properties - Quartile Measures, years to end Sept, (£ monthly):",null,null,null,null,null,null,null,null,null,null,null,"2 Bedroom Properties - Quartile Measures, years to end Sept, (£ monthly):"]
[null,null,2010,2011,2012,2013,2014,2015,2016,2017,"2016 to 2017","2010 to 2017",null,null,2010,2011,2012,2013,2014,2015,2016,2017,"2016 to 2017","2010 to 2017"]
[null,"Lower Quartile",{"$f":"VLOOKUP($B$2,'Table 7'!$A$5:$L$23,3,FALSE)","v":400},{"$f":"VLOOKUP($B$2,'Table 8'!$A$5:$L$23,3,FALSE)","v":425},{"$f":"VLOOKUP($B$2,'Table 9'!$A$5:$L$23,3,FALSE)","v":425},{"$f":"VLOOKUP($B$2,'Table 10'!$A$5:$L$23,3,FALSE)","v":400},{"$f":"VLOOKUP($B$2,'Table 11'!$A$5:$L$23,3,FALSE)","v":425},{"$f":"VLOOKUP($B$2,'Table 12'!$A$5:$L$23,3,FALSE)","v":425},{"$f":"VLOOKUP($B$2,'Table 13'!$A$5:$L$23,3,FALSE)","v":450},{"$f":"VLOOKUP($B$2,'Table 14'!$A$5:$L$23,3,FALSE)","v":450},{"$f":"J26/I26-1","v":0},{"$f":"J26/C26-1","v":0.125},null,"Lower Quartile",{"$f":"VLOOKUP($B$2,'Table 7'!$A$5:$L$23,9,FALSE)","v":500},{"$f":"VLOOKUP($B$2,'Table 8'!$A$5:$L$23,9,FALSE)","v":495},{"$f":"VLOOKUP($B$2,'Table 9'!$A$5:$L$23,9,FALSE)","v":495},{"$f":"VLOOKUP($B$2,'Table 10'!$A$5:$L$23,9,FALSE)","v":500},{"$f":"VLOOKUP($B$2,'Table 11'!$A$5:$L$23,9,FALSE)","v":500},{"$f":"VLOOKUP($B$2,'Table 12'!$A$5:$L$23,9,FALSE)","v":525},{"$f":"VLOOKUP($B$2,'Table 13'!$A$5:$L$23,9,FALSE)","v":550},{"$f":"VLOOKUP($B$2,'Table 14'!$A$5:$L$23,9,FALSE)","v":560},{"$f":"V26/U26-1","v":1.8181818181818077E-2},{"$f":"V26/O26-1","v":0.12000000000000011}]
[null,"Median",{"$f":"VLOOKUP($B$2,'Table 7'!$A$5:$L$23,4,FALSE)","v":425},{"$f":"VLOOKUP($B$2,'Table 8'!$A$5:$L$23,4,FALSE)","v":435},{"$f":"VLOOKUP($B$2,'Table 9'!$A$5:$L$23,4,FALSE)","v":435},{"$f":"VLOOKUP($B$2,'Table 10'!$A$5:$L$23,4,FALSE)","v":435},{"$f":"VLOOKUP($B$2,'Table 11'!$A$5:$L$23,4,FALSE)","v":450},{"$f":"VLOOKUP($B$2,'Table 12'!$A$5:$L$23,4,FALSE)","v":450},{"$f":"VLOOKUP($B$2,'Table 13'!$A$5:$L$23,4,FALSE)","v":475},{"$f":"VLOOKUP($B$2,'Table 14'!$A$5:$L$23,4,FALSE)","v":480},{"$f":"J27/I27-1","v":1.0526315789473717E-2},{"$f":"J27/C27-1","v":0.12941176470588234},null,"Median",{"$f":"VLOOKUP($B$2,'Table 7'!$A$5:$L$23,10,FALSE)","v":525},{"$f":"VLOOKUP($B$2,'Table 8'!$A$5:$L$23,10,FALSE)","v":525},{"$f":"VLOOKUP($B$2,'Table 9'!$A$5:$L$23,10,FALSE)","v":525},{"$f":"VLOOKUP($B$2,'Table 10'!$A$5:$L$23,10,FALSE)","v":529},{"$f":"VLOOKUP($B$2,'Table 11'!$A$5:$L$23,10,FALSE)","v":542.5},{"$f":"VLOOKUP($B$2,'Table 12'!$A$5:$L$23,10,FALSE)","v":550},{"$f":"VLOOKUP($B$2,'Table 13'!$A$5:$L$23,10,FALSE)","v":575},{"$f":"VLOOKUP($B$2,'Table 14'!$A$5:$L$23,10,FALSE)","v":595},{"$f":"V27/U27-1","v":3.4782608695652195E-2},{"$f":"V27/O27-1","v":0.1333333333333333}]
[null,"Mean",{"$f":"VLOOKUP($B$2,'Table 7'!$A$5:$L$23,5,FALSE)","v":428.18},{"$f":"VLOOKUP($B$2,'Table 8'!$A$5:$L$23,5,FALSE)","v":435.58},{"$f":"VLOOKUP($B$2,'Table 9'!$A$5:$L$23,5,FALSE)","v":435.6},{"$f":"VLOOKUP($B$2,'Table 10'!$A$5:$L$23,5,FALSE)","v":433.11},{"$f":"VLOOKUP($B$2,'Table 11'!$A$5:$L$23,5,FALSE)","v":448.15},{"$f":"VLOOKUP($B$2,'Table 12'!$A$5:$L$23,5,FALSE)","v":445.29},{"$f":"VLOOKUP($B$2,'Table 13'!$A$5:$L$23,5,FALSE)","v":469.89},{"$f":"VLOOKUP($B$2,'Table 14'!$A$5:$L$23,5,FALSE)","v":477.15},1.5450424567452048E-2,0.11436778924751256,null,"Mean",{"$f":"VLOOKUP($B$2,'Table 7'!$A$5:$L$23,11,FALSE)","v":527.37},{"$f":"VLOOKUP($B$2,'Table 8'!$A$5:$L$23,11,FALSE)","v":525.86},{"$f":"VLOOKUP($B$2,'Table 9'!$A$5:$L$23,11,FALSE)","v":527.74},{"$f":"VLOOKUP($B$2,'Table 10'!$A$5:$L$23,11,FALSE)","v":536.71},{"$f":"VLOOKUP($B$2,'Table 11'!$A$5:$L$23,11,FALSE)","v":542.6},{"$f":"VLOOKUP($B$2,'Table 12'!$A$5:$L$23,11,FALSE)","v":559.54},{"$f":"VLOOKUP($B$2,'Table 13'!$A$5:$L$23,11,FALSE)","v":577.79999999999995},{"$f":"VLOOKUP($B$2,'Table 14'!$A$5:$L$23,11,FALSE)","v":598.79},3.6327448944271312E-2,0.13542674023930057]
[null,"Upper Quartile",{"$f":"VLOOKUP($B$2,'Table 7'!$A$5:$L$23,6,FALSE)","v":450},{"$f":"VLOOKUP($B$2,'Table 8'!$A$5:$L$23,6,FALSE)","v":450},{"$f":"VLOOKUP($B$2,'Table 9'!$A$5:$L$23,6,FALSE)","v":450},{"$f":"VLOOKUP($B$2,'Table 10'!$A$5:$L$23,6,FALSE)","v":450},{"$f":"VLOOKUP($B$2,'Table 11'!$A$5:$L$23,6,FALSE)","v":475},{"$f":"VLOOKUP($B$2,'Table 12'!$A$5:$L$23,6,FALSE)","v":475},{"$f":"VLOOKUP($B$2,'Table 13'!$A$5:$L$23,6,FALSE)","v":495},{"$f":"VLOOKUP($B$2,'Table 14'!$A$5:$L$23,6,FALSE)","v":500},1.0101010101010166E-2,0.11111111111111116,null,"Upper Quartile",{"$f":"VLOOKUP($B$2,'Table 7'!$A$5:$L$23,12,FALSE)","v":550},{"$f":"VLOOKUP($B$2,'Table 8'!$A$5:$L$23,12,FALSE)","v":550},{"$f":"VLOOKUP($B$2,'Table 9'!$A$5:$L$23,12,FALSE)","v":550},{"$f":"VLOOKUP($B$2,'Table 10'!$A$5:$L$23,12,FALSE)","v":558},{"$f":"VLOOKUP($B$2,'Table 11'!$A$5:$L$23,12,FALSE)","v":575},{"$f":"VLOOKUP($B$2,'Table 12'!$A$5:$L$23,12,FALSE)","v":595},{"$f":"VLOOKUP($B$2,'Table 13'!$A$5:$L$23,12,FALSE)","v":600},{"$f":"VLOOKUP($B$2,'Table 14'!$A$5:$L$23,12,FALSE)","v":642.5},7.0833333333333304E-2,0.16818181818181821]
[]
[]
[]
[]
[]
[]
[]
[]
[]
[]
[]
[]
[]
[]
[]
[]
[null,"3 Bedroom Properties - Quartile Measures, years to end Sept, (£ monthly):",null,null,null,null,null,null,null,null,null,null,null,"4 Bedroom Properties - Quartile Measures, years to end Sept, (£ monthly):"]
[null,null,2010,2011,2012,2013,2014,2015,2016,2017,"2016 to 2017","2010 to 2017",null,null,2010,2011,2012,2013,2014,2015,2016,2017,"2016 to 2017","2010 to 2017"]
[null,"Lower Quartile",{"$f":"VLOOKUP($B$2,'Table 7'!$A$26:$L$44,3,FALSE)","v":550},{"$f":"VLOOKUP($B$2,'Table 8'!$A$26:$L$44,3,FALSE)","v":575},{"$f":"VLOOKUP($B$2,'Table 9'!$A$26:$L$44,3,FALSE)","v":560},{"$f":"VLOOKUP($B$2,'Table 10'!$A$26:$L$44,3,FALSE)","v":558},{"$f":"VLOOKUP($B$2,'Table 11'!$A$26:$L$44,3,FALSE)","v":575},{"$f":"VLOOKUP($B$2,'Table 12'!$A$26:$L$44,3,FALSE)","v":600},{"$f":"VLOOKUP($B$2,'Table 13'!$A$26:$L$44,3,FALSE)","v":600},{"$f":"VLOOKUP($B$2,'Table 14'!$A$26:$L$44,3,FALSE)","v":625},{"$f":"J48/I48-1","v":4.1666666666666741E-2},{"$f":"J48/C48-1","v":0.13636363636363646},null,"Lower Quartile",{"$f":"VLOOKUP($B$2,'Table 7'!$A$26:$L$44,9,FALSE)","v":750},{"$f":"VLOOKUP($B$2,'Table 8'!$A$26:$L$44,9,FALSE)","v":745},{"$f":"VLOOKUP($B$2,'Table 9'!$A$26:$L$44,9,FALSE)","v":750},{"$f":"VLOOKUP($B$2,'Table 10'!$A$26:$L$44,9,FALSE)","v":795},{"$f":"VLOOKUP($B$2,'Table 11'!$A$26:$L$44,9,FALSE)","v":795},{"$f":"VLOOKUP($B$2,'Table 12'!$A$26:$L$44,9,FALSE)","v":810},{"$f":"VLOOKUP($B$2,'Table 13'!$A$26:$L$44,9,FALSE)","v":825},{"$f":"VLOOKUP($B$2,'Table 14'!$A$26:$L$44,9,FALSE)","v":862.5},{"$f":"V48/U48-1","v":4.5454545454545414E-2},{"$f":"V48/O48-1","v":0.14999999999999991}]
[null,"Median",{"$f":"VLOOKUP($B$2,'Table 7'!$A$26:$L$44,4,FALSE)","v":600},{"$f":"VLOOKUP($B$2,'Table 8'!$A$26:$L$44,4,FALSE)","v":600},{"$f":"VLOOKUP($B$2,'Table 9'!$A$26:$L$44,4,FALSE)","v":599},{"$f":"VLOOKUP($B$2,'Table 10'!$A$26:$L$44,4,FALSE)","v":608},{"$f":"VLOOKUP($B$2,'Table 11'!$A$26:$L$44,4,FALSE)","v":625},{"$f":"VLOOKUP($B$2,'Table 12'!$A$26:$L$44,4,FALSE)","v":650},{"$f":"VLOOKUP($B$2,'Table 13'!$A$26:$L$44,4,FALSE)","v":675},{"$f":"VLOOKUP($B$2,'Table 14'!$A$26:$L$44,4,FALSE)","v":695},{"$f":"J49/I49-1","v":2.9629629629629672E-2},{"$f":"J49/C49-1","v":0.15833333333333344},null,"Median",{"$f":"VLOOKUP($B$2,'Table 7'!$A$26:$L$44,10,FALSE)","v":825},{"$f":"VLOOKUP($B$2,'Table 8'!$A$26:$L$44,10,FALSE)","v":800},{"$f":"VLOOKUP($B$2,'Table 9'!$A$26:$L$44,10,FALSE)","v":850},{"$f":"VLOOKUP($B$2,'Table 10'!$A$26:$L$44,10,FALSE)","v":850},{"$f":"VLOOKUP($B$2,'Table 11'!$A$26:$L$44,10,FALSE)","v":862.5},{"$f":"VLOOKUP($B$2,'Table 12'!$A$26:$L$44,10,FALSE)","v":935},{"$f":"VLOOKUP($B$2,'Table 13'!$A$26:$L$44,10,FALSE)","v":895},{"$f":"VLOOKUP($B$2,'Table 14'!$A$26:$L$44,10,FALSE)","v":950},{"$f":"V49/U49-1","v":6.1452513966480549E-2},{"$f":"V49/O49-1","v":0.1515151515151516}]
[null,"Mean",{"$f":"VLOOKUP($B$2,'Table 7'!$A$26:$L$44,5,FALSE)","v":615.97},{"$f":"VLOOKUP($B$2,'Table 8'!$A$26:$L$44,5,FALSE)","v":619.26},{"$f":"VLOOKUP($B$2,'Table 9'!$A$26:$L$44,5,FALSE)","v":624.25},{"$f":"VLOOKUP($B$2,'Table 10'!$A$26:$L$44,5,FALSE)","v":623.23},{"$f":"VLOOKUP($B$2,'Table 11'!$A$26:$L$44,5,FALSE)","v":636.77},{"$f":"VLOOKUP($B$2,'Table 12'!$A$26:$L$44,5,FALSE)","v":673.9},{"$f":"VLOOKUP($B$2,'Table 13'!$A$26:$L$44,5,FALSE)","v":690.52},{"$f":"VLOOKUP($B$2,'Table 14'!$A$26:$L$44,5,FALSE)","v":708.53},2.6081793431037559E-2,0.15026705846063915,null,"Mean",{"$f":"VLOOKUP($B$2,'Table 7'!$A$26:$L$44,11,FALSE)","v":834.19},{"$f":"VLOOKUP($B$2,'Table 8'!$A$26:$L$44,11,FALSE)","v":796.42},{"$f":"VLOOKUP($B$2,'Table 9'!$A$26:$L$44,11,FALSE)","v":856.56},{"$f":"VLOOKUP($B$2,'Table 10'!$A$26:$L$44,11,FALSE)","v":870.95},{"$f":"VLOOKUP($B$2,'Table 11'!$A$26:$L$44,11,FALSE)","v":889.07},{"$f":"VLOOKUP($B$2,'Table 12'!$A$26:$L$44,11,FALSE)","v":936.17},{"$f":"VLOOKUP($B$2,'Table 13'!$A$26:$L$44,11,FALSE)","v":920.33},{"$f":"VLOOKUP($B$2,'Table 14'!$A$26:$L$44,11,FALSE)","v":975.1},5.9511262264622555E-2,0.16891835193421167]
[null,"Upper Quartile",{"$f":"VLOOKUP($B$2,'Table 7'!$A$26:$L$44,6,FALSE)","v":650},{"$f":"VLOOKUP($B$2,'Table 8'!$A$26:$L$44,6,FALSE)","v":650},{"$f":"VLOOKUP($B$2,'Table 9'!$A$26:$L$44,6,FALSE)","v":650},{"$f":"VLOOKUP($B$2,'Table 10'!$A$26:$L$44,6,FALSE)","v":675},{"$f":"VLOOKUP($B$2,'Table 11'!$A$26:$L$44,6,FALSE)","v":675},{"$f":"VLOOKUP($B$2,'Table 12'!$A$26:$L$44,6,FALSE)","v":725},{"$f":"VLOOKUP($B$2,'Table 13'!$A$26:$L$44,6,FALSE)","v":775},{"$f":"VLOOKUP($B$2,'Table 14'!$A$26:$L$44,6,FALSE)","v":775},0,0.19230769230769229,null,"Upper Quartile",{"$f":"VLOOKUP($B$2,'Table 7'!$A$26:$L$44,12,FALSE)","v":875},{"$f":"VLOOKUP($B$2,'Table 8'!$A$26:$L$44,12,FALSE)","v":875},{"$f":"VLOOKUP($B$2,'Table 9'!$A$26:$L$44,12,FALSE)","v":895},{"$f":"VLOOKUP($B$2,'Table 10'!$A$26:$L$44,12,FALSE)","v":940},{"$f":"VLOOKUP($B$2,'Table 11'!$A$26:$L$44,12,FALSE)","v":950},{"$f":"VLOOKUP($B$2,'Table 12'!$A$26:$L$44,12,FALSE)","v":1000},{"$f":"VLOOKUP($B$2,'Table 13'!$A$26:$L$44,12,FALSE)","v":1000},{"$f":"VLOOKUP($B$2,'Table 14'!$A$26:$L$44,12,FALSE)","v":1100},0.10000000000000009,0.25714285714285712]
[]
[]
[]
[]
[]
[]
[]
[]
[]
[]
[]
[]
[]
[]
[]
[]
[null,"1 Bedroom Shared Properties - Quartile Measures, years to end Sept, (£ monthly):",null,null,null,null,null,null,null,null,null,null,null,"Sample Sizes:",null,null,null,null,null,null,null,null,null,null,null,"Sample Sizes:"]
[null,null,2010,2011,2012,2013,2014,2015,2016,2017,"2016 to 2017","2010 to 2017",null,null,null,null,2010,2011,2012,2013,2014,2015,2016,2017,null,null,2010,2011,2012,2013,2014,2015,2016,2017]
[null,"Lower Quartile",{"$f":"VLOOKUP($B$2,'Table 7'!$A$47:$F$65,3,FALSE)","v":240},{"$f":"VLOOKUP($B$2,'Table 8'!$A$47:$F$65,3,FALSE)","v":235},{"$f":"VLOOKUP($B$2,'Table 9'!$A$47:$F$65,3,FALSE)","v":250},{"$f":"VLOOKUP($B$2,'Table 10'!$A$47:$F$65,3,FALSE)","v":250.47},{"$f":"VLOOKUP($B$2,'Table 11'!$A$47:$F$65,3,FALSE)","v":260},{"$f":"VLOOKUP($B$2,'Table 12'!$A$47:$F$65,3,FALSE)","v":250.89},{"$f":"VLOOKUP($B$2,'Table 13'!$A$47:$F$65,3,FALSE)","v":275},{"$f":"VLOOKUP($B$2,'Table 14'!$A$47:$F$65,3,FALSE)","v":275},{"$f":"J70/I70-1","v":0},{"$f":"J70/C70-1","v":0.14583333333333326},null,"1 Bedroom ",null,null,{"$f":"VLOOKUP($B$2,'Table 7'!$A$5:$L$23,2,FALSE)","v":107},{"$f":"VLOOKUP($B$2,'Table 8'!$A$5:$L$23,2,FALSE)","v":104},{"$f":"VLOOKUP($B$2,'Table 9'!$A$5:$L$23,2,FALSE)","v":67},{"$f":"VLOOKUP($B$2,'Table 10'!$A$5:$L$23,2,FALSE)","v":104},{"$f":"VLOOKUP($B$2,'Table 11'!$A$5:$L$23,2,FALSE)","v":96},{"$f":"VLOOKUP($B$2,'Table 12'!$A$5:$L$23,2,FALSE)","v":103},{"$f":"VLOOKUP($B$2,'Table 13'!$A$5:$L$23,2,FALSE)","v":93},{"$f":"VLOOKUP($B$2,'Table 14'!$A$5:$L$23,2,FALSE)","v":103},null,"1 Bedroom ",{"$f":"VLOOKUP($B$2,'Table 7'!$A$5:$L$23,2,FALSE)","v":107},{"$f":"VLOOKUP($B$2,'Table 8'!$A$5:$L$23,2,FALSE)","v":104},{"$f":"VLOOKUP($B$2,'Table 9'!$A$5:$L$23,2,FALSE)","v":67},{"$f":"VLOOKUP($B$2,'Table 10'!$A$5:$L$23,2,FALSE)","v":104},{"$f":"VLOOKUP($B$2,'Table 11'!$A$5:$L$23,2,FALSE)","v":96},{"$f":"VLOOKUP($B$2,'Table 12'!$A$5:$L$23,2,FALSE)","v":103},{"$f":"VLOOKUP($B$2,'Table 13'!$A$5:$L$23,2,FALSE)","v":93},{"$f":"VLOOKUP($B$2,'Table 14'!$A$5:$L$23,2,FALSE)","v":103}]
[null,"Median",{"$f":"VLOOKUP($B$2,'Table 7'!$A$47:$F$65,4,FALSE)","v":285},{"$f":"VLOOKUP($B$2,'Table 8'!$A$47:$F$65,4,FALSE)","v":281.67},{"$f":"VLOOKUP($B$2,'Table 9'!$A$47:$F$65,4,FALSE)","v":275},{"$f":"VLOOKUP($B$2,'Table 10'!$A$47:$F$65,4,FALSE)","v":275},{"$f":"VLOOKUP($B$2,'Table 11'!$A$47:$F$65,4,FALSE)","v":285},{"$f":"VLOOKUP($B$2,'Table 12'!$A$47:$F$65,4,FALSE)","v":300},{"$f":"VLOOKUP($B$2,'Table 13'!$A$47:$F$65,4,FALSE)","v":325},{"$f":"VLOOKUP($B$2,'Table 14'!$A$47:$F$65,4,FALSE)","v":325},{"$f":"J71/I71-1","v":0},{"$f":"J71/C71-1","v":0.14035087719298245},null,"2 Bedrooms",null,null,{"$f":"VLOOKUP($B$2,'Table 7'!$A$5:$L$23,8,FALSE)","v":417},{"$f":"VLOOKUP($B$2,'Table 8'!$A$5:$L$23,8,FALSE)","v":362},{"$f":"VLOOKUP($B$2,'Table 9'!$A$5:$L$23,8,FALSE)","v":265},{"$f":"VLOOKUP($B$2,'Table 10'!$A$5:$L$23,8,FALSE)","v":358},{"$f":"VLOOKUP($B$2,'Table 11'!$A$5:$L$23,8,FALSE)","v":338},{"$f":"VLOOKUP($B$2,'Table 12'!$A$5:$L$23,8,FALSE)","v":380},{"$f":"VLOOKUP($B$2,'Table 13'!$A$5:$L$23,8,FALSE)","v":385},{"$f":"VLOOKUP($B$2,'Table 14'!$A$5:$L$23,8,FALSE)","v":396},null,"2 Bedrooms",{"$f":"VLOOKUP($B$2,'Table 7'!$A$5:$L$23,8,FALSE)","v":417},{"$f":"VLOOKUP($B$2,'Table 8'!$A$5:$L$23,8,FALSE)","v":362},{"$f":"VLOOKUP($B$2,'Table 9'!$A$5:$L$23,8,FALSE)","v":265},{"$f":"VLOOKUP($B$2,'Table 10'!$A$5:$L$23,8,FALSE)","v":358},{"$f":"VLOOKUP($B$2,'Table 11'!$A$5:$L$23,8,FALSE)","v":338},{"$f":"VLOOKUP($B$2,'Table 12'!$A$5:$L$23,8,FALSE)","v":380},{"$f":"VLOOKUP($B$2,'Table 13'!$A$5:$L$23,8,FALSE)","v":385},{"$f":"VLOOKUP($B$2,'Table 14'!$A$5:$L$23,8,FALSE)","v":396}]
[null,"Mean",{"$f":"VLOOKUP($B$2,'Table 7'!$A$47:$F$65,5,FALSE)","v":278.75},{"$f":"VLOOKUP($B$2,'Table 8'!$A$47:$F$65,5,FALSE)","v":274.61},{"$f":"VLOOKUP($B$2,'Table 9'!$A$47:$F$65,5,FALSE)","v":274.07},{"$f":"VLOOKUP($B$2,'Table 10'!$A$47:$F$65,5,FALSE)","v":287.04000000000002},{"$f":"VLOOKUP($B$2,'Table 11'!$A$47:$F$65,5,FALSE)","v":293.83},{"$f":"VLOOKUP($B$2,'Table 12'!$A$47:$F$65,5,FALSE)","v":298.56},{"$f":"VLOOKUP($B$2,'Table 13'!$A$47:$F$65,5,FALSE)","v":318.32},{"$f":"VLOOKUP($B$2,'Table 14'!$A$47:$F$65,5,FALSE)","v":331.66},4.1907514450867156E-2,0.18981165919282517,null,"3 Bedrooms",null,null,{"$f":"VLOOKUP($B$2,'Table 7'!$A$26:$L$44,2,FALSE)","v":211},{"$f":"VLOOKUP($B$2,'Table 8'!$A$26:$L$44,2,FALSE)","v":219},{"$f":"VLOOKUP($B$2,'Table 9'!$A$26:$L$44,2,FALSE)","v":173},{"$f":"VLOOKUP($B$2,'Table 10'!$A$26:$L$44,2,FALSE)","v":183},{"$f":"VLOOKUP($B$2,'Table 11'!$A$26:$L$44,2,FALSE)","v":143},{"$f":"VLOOKUP($B$2,'Table 12'!$A$26:$L$44,2,FALSE)","v":173},{"$f":"VLOOKUP($B$2,'Table 13'!$A$26:$L$44,2,FALSE)","v":131},{"$f":"VLOOKUP($B$2,'Table 14'!$A$26:$L$44,2,FALSE)","v":133},null,"3 Bedrooms",{"$f":"VLOOKUP($B$2,'Table 7'!$A$26:$L$44,2,FALSE)","v":211},{"$f":"VLOOKUP($B$2,'Table 8'!$A$26:$L$44,2,FALSE)","v":219},{"$f":"VLOOKUP($B$2,'Table 9'!$A$26:$L$44,2,FALSE)","v":173},{"$f":"VLOOKUP($B$2,'Table 10'!$A$26:$L$44,2,FALSE)","v":183},{"$f":"VLOOKUP($B$2,'Table 11'!$A$26:$L$44,2,FALSE)","v":143},{"$f":"VLOOKUP($B$2,'Table 12'!$A$26:$L$44,2,FALSE)","v":173},{"$f":"VLOOKUP($B$2,'Table 13'!$A$26:$L$44,2,FALSE)","v":131},{"$f":"VLOOKUP($B$2,'Table 14'!$A$26:$L$44,2,FALSE)","v":133}]
[null,"Upper Quartile",{"$f":"VLOOKUP($B$2,'Table 7'!$A$47:$F$65,6,FALSE)","v":315},{"$f":"VLOOKUP($B$2,'Table 8'!$A$47:$F$65,6,FALSE)","v":304.17},{"$f":"VLOOKUP($B$2,'Table 9'!$A$47:$F$65,6,FALSE)","v":295},{"$f":"VLOOKUP($B$2,'Table 10'!$A$47:$F$65,6,FALSE)","v":325},{"$f":"VLOOKUP($B$2,'Table 11'!$A$47:$F$65,6,FALSE)","v":325},{"$f":"VLOOKUP($B$2,'Table 12'!$A$47:$F$65,6,FALSE)","v":355},{"$f":"VLOOKUP($B$2,'Table 13'!$A$47:$F$65,6,FALSE)","v":359.52},{"$f":"VLOOKUP($B$2,'Table 14'!$A$47:$F$65,6,FALSE)","v":359.52},0,0.14133333333333331,null,"4 Bedrooms",null,null,{"$f":"VLOOKUP($B$2,'Table 7'!$A$26:$L$44,8,FALSE)","v":80},{"$f":"VLOOKUP($B$2,'Table 8'!$A$26:$L$44,8,FALSE)","v":74},{"$f":"VLOOKUP($B$2,'Table 9'!$A$26:$L$44,8,FALSE)","v":62},{"$f":"VLOOKUP($B$2,'Table 10'!$A$26:$L$44,8,FALSE)","v":63},{"$f":"VLOOKUP($B$2,'Table 11'!$A$26:$L$44,8,FALSE)","v":54},{"$f":"VLOOKUP($B$2,'Table 12'!$A$26:$L$44,8,FALSE)","v":60},{"$f":"VLOOKUP($B$2,'Table 13'!$A$26:$L$44,8,FALSE)","v":46},{"$f":"VLOOKUP($B$2,'Table 14'!$A$26:$L$44,8,FALSE)","v":48},null,"4 Bedrooms",{"$f":"VLOOKUP($B$2,'Table 7'!$A$26:$L$44,8,FALSE)","v":80},{"$f":"VLOOKUP($B$2,'Table 8'!$A$26:$L$44,8,FALSE)","v":74},{"$f":"VLOOKUP($B$2,'Table 9'!$A$26:$L$44,8,FALSE)","v":62},{"$f":"VLOOKUP($B$2,'Table 10'!$A$26:$L$44,8,FALSE)","v":63},{"$f":"VLOOKUP($B$2,'Table 11'!$A$26:$L$44,8,FALSE)","v":54},{"$f":"VLOOKUP($B$2,'Table 12'!$A$26:$L$44,8,FALSE)","v":60},{"$f":"VLOOKUP($B$2,'Table 13'!$A$26:$L$44,8,FALSE)","v":46},{"$f":"VLOOKUP($B$2,'Table 14'!$A$26:$L$44,8,FALSE)","v":48}]
[null,null,null,null,null,null,null,null,null,null,null,null,null,"1 Bedroom Shared",null,null,{"$f":"VLOOKUP($B$2,'Table 7'!$A$47:$L$65,2,FALSE)","v":41},{"$f":"VLOOKUP($B$2,'Table 8'!$A$47:$L$65,2,FALSE)","v":64},{"$f":"VLOOKUP($B$2,'Table 9'!$A$47:$L$65,2,FALSE)","v":39},{"$f":"VLOOKUP($B$2,'Table 10'!$A$47:$L$65,2,FALSE)","v":65},{"$f":"VLOOKUP($B$2,'Table 11'!$A$47:$L$65,2,FALSE)","v":65},{"$f":"VLOOKUP($B$2,'Table 12'!$A$47:$L$65,2,FALSE)","v":70},{"$f":"VLOOKUP($B$2,'Table 13'!$A$47:$L$65,2,FALSE)","v":70},{"$f":"VLOOKUP($B$2,'Table 14'!$A$47:$L$65,2,FALSE)","v":75},null,"1 Bedroom Shared",{"$f":"VLOOKUP($B$2,'Table 7'!$A$47:$L$65,2,FALSE)","v":41},{"$f":"VLOOKUP($B$2,'Table 8'!$A$47:$L$65,2,FALSE)","v":64},{"$f":"VLOOKUP($B$2,'Table 9'!$A$47:$L$65,2,FALSE)","v":39},{"$f":"VLOOKUP($B$2,'Table 10'!$A$47:$L$65,2,FALSE)","v":65},{"$f":"VLOOKUP($B$2,'Table 11'!$A$47:$L$65,2,FALSE)","v":65},{"$f":"VLOOKUP($B$2,'Table 12'!$A$47:$L$65,2,FALSE)","v":70},{"$f":"VLOOKUP($B$2,'Table 13'!$A$47:$L$65,2,FALSE)","v":70},{"$f":"VLOOKUP($B$2,'Table 14'!$A$47:$L$65,2,FALSE)","v":75}]
[]
[]
[]
[]
[]
[]
[]
[]
[]
[]
[]
[]
[]
[]
[]
[]
[]
[null,null,null,null,null,null,null,null,null,null,null,null,null,null,null,null,null,null,null,null,null,null,null,null,null,null,null,null,null,null,null,null,null,null,null,2010,2011,2012,2013,2014,2015,2016,2017]
[null,null,null,null,null,null,null,null,null,null,null,null,null,null,null,null,null,null,null,null,null,null,null,null,null,null,null,null,null,null,null,null,null,null,"Scotland",{"$f":"'All years 2 bed'!B22","v":536.27},{"$f":"'All years 2 bed'!C22","v":546.41999999999996},{"$f":"'All years 2 bed'!D22","v":552.89},{"$f":"'All years 2 bed'!E22","v":575.84},{"$f":"'All years 2 bed'!F22","v":596.45000000000005},{"$f":"'All years 2 bed'!G22","v":609.52},{"$f":"'All years 2 bed'!H22","v":615.64},{"$f":"'All years 2 bed'!I22","v":642.79999999999995}]
[null,null,null,null,null,null,null,null,null,null,null,null,null,null,null,null,null,null,null,null,null,null,null,null,null,null,null,null,null,null,null,null,null,null,{"$f":"B2","v":"West Lothian"},{"$f":"VLOOKUP($AI$94,'All years 2 bed'!$A$4:$I$21,2,FALSE)","v":527.37},{"$f":"VLOOKUP($AI$94,'All years 2 bed'!$A$4:$I$21,3,FALSE)","v":525.86},{"$f":"VLOOKUP($AI$94,'All years 2 bed'!$A$4:$I$21,4,FALSE)","v":527.74},{"$f":"VLOOKUP($AI$94,'All years 2 bed'!$A$4:$I$21,5,FALSE)","v":536.71},{"$f":"VLOOKUP($AI$94,'All years 2 bed'!$A$4:$I$21,6,FALSE)","v":542.6},{"$f":"VLOOKUP($AI$94,'All years 2 bed'!$A$4:$I$21,7,FALSE)","v":559.54},{"$f":"VLOOKUP($AI$94,'All years 2 bed'!$A$4:$I$21,8,FALSE)","v":577.79999999999995},{"$f":"VLOOKUP($AI$94,'All years 2 bed'!$A$4:$I$21,9,FALSE)","v":598.79}]